Workbook

Sheet Dvr 
A3: Week Commencing Sunday | B3: 45921 | J3: Riyadh Drivers
B5: Sunday | F5: Monday | J5: Tuesday | N5: Wednesday | R5: Thursday | V5: Friday | Z5: Saturday
B6: Shift | C6: On | D6: Off | E6: Hours | F6: Shift | G6: On | H6: Off | I6: Hours | J6: Shift | K6: On | L6: Off | M6: Hours | N6: Shift | O6: On | P6: Off | Q6: Hours | R6: Shift | S6: On | T6: Off | U6: Hours | V6: Shift | W6: On | X6: Off | Y6: Hours | Z6: Shift | AA6: On | AB6: Off | AC6: Hours | AD6: Hr | AE6: Av | AF6: RD
A7: Aqeel bin Khalid Al-Melifi | C7: Rest | D7: Day | G7: Rest | H7: Day | K7: Rest | L7: Day | N7: MLD4&7 | O7: 0.19722222 | P7: 0.67916667 | Q7: =P7-O7 -> 0.48194444 | R7: RST1 | S7: 0.20833333 | T7: 0.60069444 | U7: =T7-S7 -> 0.39236111 | V7: MLD4&7 | W7: 0.19722222 | X7: 0.67916667 | Y7: =X7-W7 -> 0.48194444 | Z7: MLD6 | AA7: 0.28333333 | AB7: 0.49166667 | AC7: =AB7-AA7 -> 0.20833333 | AD7: =E7+I7+M7+Q7+U7+Y7+AC7 -> 1.5645833 | AE7: =AVERAGE(AD29+AD28+AD27)/3 -> 1.5847222 | AF7: 3
A8: Saad K Al O taibi | B8: MLD1 | C8: 0.15486111 | D8: 0.36319444 | E8: =D8-C8 -> 0.20833333 | G8: Rest | H8: Day | K8: Rest | L8: Day | N8: Q Path | O8: 0.27083333 | P8: 0.75347222 | Q8: =P8-O8 -> 0.48263889 | R8: SP | S8: 0.27986111 | T8: 0.61319444 | U8: =T8-S8 -> 0.33333333 | V8: SP | W8: 0.27986111 | X8: 0.61319444 | Y8: =X8-W8 -> 0.33333333 | Z8: SP | AA8: 0.27986111 | AB8: 0.61319444 | AC8: =AB8-AA8 -> 0.33333333 | AD8: =E8+I8+M8+Q8+U8+Y8+AC8 -> 1.6909722 | AE8: =AVERAGE(AD7+AD29+AD28)/3 -> 1.5310185 | AF8: 2
A9: Abdulrahman Mohammed Al-Juhani | B9: SP | C9: 0.27986111 | D9: 0.61319444 | E9: =D9-C9 -> 0.33333333 | F9: MLD4&7 | G9: 0.19722222 | H9: 0.67916667 | I9: =H9-G9 -> 0.48194444 | K9: Rest | L9: Day | O9: Rest | P9: Day | R9: MLD6 | S9: 0.28333333 | T9: 0.49166667 | U9: =T9-S9 -> 0.20833333 | V9: MLD1 | W9: 0.15486111 | X9: 0.36319444 | Y9: =X9-W9 -> 0.20833333 | Z9: RST1 | AA9: 0.20833333 | AB9: 0.60069444 | AC9: =AB9-AA9 -> 0.39236111 | AD9: =E9+I9+M9+Q9+U9+Y9+AC9 -> 1.6243056 | AE9: =AVERAGE(AD8+AD7+AD29)/3 -> 1.6643519 | AF9: 2
A10: Suhayb Al Muzaini | B10: Q Path | C10: 0.27083333 | D10: 0.75347222 | E10: =D10-C10 -> 0.48263889 | F10: MLD6 | G10: 0.28333333 | H10: 0.49166667 | I10: =H10-G10 -> 0.20833333 | J10: MLD1 | K10: 0.15486111 | L10: 0.36319444 | M10: =L10-K10 -> 0.20833333 | O10: Rest | P10: Day | S10: Rest | T10: Day | V10: RDD2 | W10: 0.58333333 | X10: 0.91666667 | Y10: =X10-W10 -> 0.33333333 | Z10: RDD2 | AA10: 0.58333333 | AB10: 0.91666667 | AC10: =AB10-AA10 -> 0.33333333 | AD10: =E10+I10+M10+Q10+U10+Y10+AC10 -> 1.5659722 | AE10: =AVERAGE(AD9+AD8+AD7)/3 -> 1.6266204 | AF10: 2
A11: Abdullah Yahya Sahari | B11: SP | C11: 0.58333333 | D11: 0.91666667 | E11: =D11-C11 -> 0.33333333 | F11: SP | G11: 0.58333333 | H11: 0.91666667 | I11: =H11-G11 -> 0.33333333 | J11: SP | K11: 0.58333333 | L11: 0.91666667 | M11: =L11-K11 -> 0.33333333 | N11: SP | O11: 0.58333333 | P11: 0.91666667 | Q11: =P11-O11 -> 0.33333333 | S11: Rest | T11: Day | W11: Rest | X11: Day | Z11: MLD16 | AA11: 0.75902778 | AB11: 0.96736111 | AC11: =AB11-AA11 -> 0.20833333 | AD11: =E11+I11+M11+Q11+U11+Y11+AC11 -> 1.5416667 | AE11: =AVERAGE(AD10+AD9+AD8)/3 -> 1.6270833 | AF11: 2
A12: Hussam D Al-Hajji | B12: MLD17 | C12: 0.79305556 | D12: 1.0013889 | E12: =D12-C12 -> 0.20833333 | F12: SP | G12: 0.75 | H12: 1.0833333 | I12: =H12-G12 -> 0.33333333 | J12: SP | K12: 0.75 | L12: 1.0833333 | M12: =L12-K12 -> 0.33333333 | N12: MLD16 | O12: 0.75902778 | P12: 0.96736111 | Q12: =P12-O12 -> 0.20833333 | R12: MLD17 | S12: 0.79305556 | T12: 1.0013889 | U12: =T12-S12 -> 0.20833333 | W12: Rest | X12: Day | AA12: Rest | AB12: Day | AD12: =E12+I12+M12+Q12+U12+Y12+AC12 -> 1.2916667 | AE12: =AVERAGE(AD11+AD10+AD9)/3 -> 1.5773148 | AF12: 2
A13: Abdulaziz bin Nasser Marghalani | C13: Rest | D13: Day | F13: SP | G13: 0.22916667 | H13: 0.5625 | I13: =H13-G13 -> 0.33333333 | J13: SP | K13: 0.22916667 | L13: 0.5625 | M13: =L13-K13 -> 0.33333333 | N13: SP | O13: 0.22916667 | P13: 0.5625 | Q13: =P13-O13 -> 0.33333333 | R13: SP | S13: 0.22916667 | T13: 0.5625 | U13: =T13-S13 -> 0.33333333 | W13: Rest | X13: Day | AA13: Rest | AB13: Day | AD13: =E13+I13+M13+Q13+U13+Y13+AC13 -> 1.3333333 | AE13: =AVERAGE(AD12+AD11+AD10)/3 -> 1.4664352 | AF13: 3
A14: Abdulah M. Yahya | C14: Rest | D14: Day | G14: Rest | H14: Day | J14: MLD4&7 | K14: 0.19722222 | L14: 0.67916667 | M14: =L14-K14 -> 0.48194444 | N14: SP | O14: 0.19722222 | P14: 0.53055556 | Q14: =P14-O14 -> 0.33333333 | R14: SP | S14: 0.19722222 | T14: 0.53055556 | U14: =T14-S14 -> 0.33333333 | V14: SP | W14: 0.22916667 | X14: 0.5625 | Y14: =X14-W14 -> 0.33333333 | AA14: Rest | AB14: Day | AD14: =E14+I14+M14+Q14+U14+Y14+AC14 -> 1.4819444 | AE14: =AVERAGE(AD13+AD12+AD11)/3 -> 1.3888889 | AF14: 3
A15: Shalan Al Qarni | C15: Rest | D15: Day | G15: Rest | H15: Day | K15: Rest | L15: Day | N15: MLD6 | O15: 0.28333333 | P15: 0.49166667 | Q15: =P15-O15 -> 0.20833333 | R15: MLD1 | S15: 0.15486111 | T15: 0.36319444 | U15: =T15-S15 -> 0.20833333 | V15: Q Path | W15: 0.27083333 | X15: 0.75347222 | Y15: =X15-W15 -> 0.48263889 | Z15: Q Path | AA15: 0.27083333 | AB15: 0.75347222 | AC15: =AB15-AA15 -> 0.48263889 | AD15: =E15+I15+M15+Q15+U15+Y15+AC15 -> 1.3819444 | AE15: =AVERAGE(AD14+AD13+AD12)/3 -> 1.3689815 | AF15: 3
A16: Tariq Ahmed Alhamrani | B16: SP | C16: 0.27986111 | D16: 0.61319444 | E16: =D16-C16 -> 0.33333333 | F16: SP | G16: 0.27986111 | H16: 0.61319444 | I16: =H16-G16 -> 0.33333333 | K16: Rest | L16: Day | O16: Rest | P16: Day | S16: Rest | T16: Day | V16: RST1 | W16: 0.20833333 | X16: 0.60069444 | Y16: =X16-W16 -> 0.39236111 | Z16: MLD4&7 | AA16: 0.19722222 | AB16: 0.67916667 | AC16: =AB16-AA16 -> 0.48194444 | AD16: =E16+I16+M16+Q16+U16+Y16+AC16 -> 1.5409722 | AE16: =AVERAGE(AD15+AD14+AD13)/3 -> 1.3990741 | AF16: 3
A17: Rakan Asiri | B17: MLD6 | C17: 0.28333333 | D17: 0.49166667 | E17: =D17-C17 -> 0.20833333 | F17: MLD1 | G17: 0.15486111 | H17: 0.36319444 | I17: =H17-G17 -> 0.20833333 | J17: Q Path | K17: 0.27083333 | L17: 0.75347222 | M17: =L17-K17 -> 0.48263889 | O17: Rest | P17: Day | S17: Rest | T17: Day | V17: RST2 | W17: 0.60069444 | X17: 0.99305556 | Y17: =X17-W17 -> 0.39236111 | Z17: RST2 | AA17: 0.60069444 | AB17: 0.99305556 | AC17: =AB17-AA17 -> 0.39236111 | AD17: =E17+I17+M17+Q17+U17+Y17+AC17 -> 1.6840278 | AE17: =AVERAGE(AD16+AD15+AD14)/3 -> 1.468287 | AF17: 2
A18: Vacancy 1 | B18: MLD16 | C18: 0.75902778 | D18: 0.96736111 | E18: =D18-C18 -> 0.20833333 | F18: MLD17 | G18: 0.79305556 | H18: 1.0013889 | I18: =H18-G18 -> 0.20833333 | K18: Rest | L18: Day | O18: Rest | P18: Day | S18: Rest | T18: Day | V18: RDD3 | W18: 0.91666667 | X18: 1.25 | Y18: =X18-W18 -> 0.33333333 | Z18: RDD3 | AA18: 0.91666667 | AB18: 1.25 | AC18: =AB18-AA18 -> 0.33333333 | AD18: =E18+I18+M18+Q18+U18+Y18+AC18 -> 1.0833333 | AE18: =AVERAGE(AD17+AD16+AD15)/3 -> 1.5356481 | AF18: 2
A19: Ayoub Mobarak Al-Lajhar | B19: RDD3 | C19: 0.91666667 | D19: 1.25 | E19: =D19-C19 -> 0.33333333 | F19: RDD3 | G19: 0.91666667 | H19: 1.25 | I19: =H19-G19 -> 0.33333333 | J19: RDD3 | K19: 0.91666667 | L19: 1.25 | M19: =L19-K19 -> 0.33333333 | N19: RDD3 | O19: 0.91666667 | P19: 1.25 | Q19: =P19-O19 -> 0.33333333 | R19: RDD3 | S19: 0.91666667 | T19: 1.25 | U19: =T19-S19 -> 0.33333333 | W19: Rest | X19: Day | AA19: Rest | AB19: Day | AD19: =E19+I19+M19+Q19+U19+Y19+AC19 -> 1.6666667 | AE19: =AVERAGE(AD18+AD17+AD16)/3 -> 1.4361111 | AF19: 2 | AG19: 35 SP
A20: Faisal Al Nemry | B20: SP | C20: 0.19722222 | D20: 0.53055556 | E20: =D20-C20 -> 0.33333333 | F20: SP | G20: 0.19722222 | H20: 0.53055556 | I20: =H20-G20 -> 0.33333333 | J20: SP | K20: 0.19722222 | L20: 0.53055556 | M20: =L20-K20 -> 0.33333333 | N20: SP | O20: 0.19722222 | P20: 0.53055556 | Q20: =P20-O20 -> 0.33333333 | R20: Q Path | S20: 0.27083333 | T20: 0.75347222 | U20: =T20-S20 -> 0.48263889 | W20: Rest | X20: Day | AA20: Rest | AB20: Day | AD20: =E20+I20+M20+Q20+U20+Y20+AC20 -> 1.8159722 | AE20: =AVERAGE(AD19+AD18+AD17)/3 -> 1.4780093 | AF20: 3
A21: Abdullah M Al Harbi | C21: Rest | D21: Day | G21: Rest | H21: Day | K21: Rest | L21: Day | N21: SP | O21: 0.75 | P21: 1.0833333 | Q21: =P21-O21 -> 0.33333333 | R21: MLD16 | S21: 0.75902778 | T21: 0.96736111 | U21: =T21-S21 -> 0.20833333 | V21: MLD17 | W21: 0.79305556 | X21: 1.0013889 | Y21: =X21-W21 -> 0.20833333 | Z21: SP | AA21: 0.58333333 | AB21: 0.91666667 | AC21: =AB21-AA21 -> 0.33333333 | AD21: =E21+I21+M21+Q21+U21+Y21+AC21 -> 1.0833333 | AE21: =AVERAGE(AD19+AD18+AD17)/3 -> 1.4780093 | AF21: 3
A22: Vacancy 2 | C22: Rest | D22: Day | G22: Rest | H22: Day | J22: MLD6 | K22: 0.28333333 | L22: 0.49166667 | M22: =L22-K22 -> 0.20833333 | N22: MLD1 | O22: 0.15486111 | P22: 0.36319444 | Q22: =P22-O22 -> 0.20833333 | R22: SP | S22: 0.19722222 | T22: 0.53055556 | U22: =T22-S22 -> 0.33333333 | V22: SP | W22: 0.19722222 | X22: 0.53055556 | Y22: =X22-W22 -> 0.33333333 | Z22: SP | AA22: 0.19722222 | AB22: 0.53055556 | AC22: =AB22-AA22 -> 0.33333333 | AD22: =E22+I22+M22+Q22+U22+Y22+AC22 -> 1.4166667 | AE22: =AVERAGE(AD21+AD20+AD19)/3 -> 1.5219907 | AF22: 2
A23: Ziad Marawan Seif | B23: SP | C23: 0.22916667 | D23: 0.5625 | E23: =D23-C23 -> 0.33333333 | F23: SP | G23: 0.22916667 | H23: 0.5625 | I23: =H23-G23 -> 0.33333333 | K23: Rest | L23: Day | O23: Rest | P23: Day | S23: Rest | T23: Day | V23: SP | W23: 0.27986111 | X23: 0.61319444 | Y23: =X23-W23 -> 0.33333333 | Z23: SP | AA23: 0.27986111 | AB23: 0.61319444 | AC23: =AB23-AA23 -> 0.33333333 | AD23: =E23+I23+M23+Q23+U23+Y23+AC23 -> 1.3333333 | AE23: =AVERAGE(AD22+AD21+AD20)/3 -> 1.4386574 | AF23: 2
A24: Ryan Al Hijri | B24: MLD4&7 | C24: 0.19722222 | D24: 0.67916667 | E24: =D24-C24 -> 0.48194444 | F24: RST1 | G24: 0.20833333 | H24: 0.60069444 | I24: =H24-G24 -> 0.39236111 | K24: Rest | L24: Day | O24: Rest | P24: Day | R24: SP | S24: 0.58333333 | T24: 0.91666667 | U24: =T24-S24 -> 0.33333333 | V24: MLD16 | W24: 0.75902778 | X24: 0.96736111 | Y24: =X24-W24 -> 0.20833333 | Z24: MLD17 | AA24: 0.79305556 | AB24: 1.0013889 | AC24: =AB24-AA24 -> 0.20833333 | AD24: =E24+I24+M24+Q24+U24+Y24+AC24 -> 1.6243056 | AE24: =AVERAGE(AD23+AD22+AD21)/3 -> 1.2777778 | AF24: 2
A25: Nouh T Al Sharif | B25: SP | C25: 0.58333333 | D25: 0.91666667 | E25: =D25-C25 -> 0.33333333 | F25: SP | G25: 0.58333333 | H25: 0.91666667 | I25: =H25-G25 -> 0.33333333 | J25: SP | K25: 0.58333333 | L25: 0.91666667 | M25: =L25-K25 -> 0.33333333 | O25: Rest | P25: Day | S25: Rest | T25: Day | V25: SP | W25: 0.91666667 | X25: 1.25 | Y25: =X25-W25 -> 0.33333333 | Z25: SP | AA25: 0.91666667 | AB25: 1.25 | AC25: =AB25-AA25 -> 0.33333333 | AD25: =E25+I25+M25+Q25+U25+Y25+AC25 -> 1.6666667 | AE25: =AVERAGE(AD24+AD23+AD22)/3 -> 1.4581019 | AF25: 2
A26: Hazem Alghamdi | B26: SP | C26: 0.91666667 | D26: 1.25 | E26: =D26-C26 -> 0.33333333 | F26: SP | G26: 0.91666667 | H26: 1.25 | I26: =H26-G26 -> 0.33333333 | J26: SP | K26: 0.91666667 | L26: 1.25 | M26: =L26-K26 -> 0.33333333 | N26: SP | O26: 0.91666667 | P26: 1.25 | Q26: =P26-O26 -> 0.33333333 | R26: SP | S26: 0.91666667 | T26: 1.25 | U26: =T26-S26 -> 0.33333333 | W26: Rest | X26: Day | AA26: Rest | AB26: Day | AD26: =E26+I26+M26+Q26+U26+Y26+AC26 -> 1.6666667 | AE26: =AVERAGE(AD25+AD24+AD23)/3 -> 1.5414352 | AF26: 2
A27: Mohammed A Al Raddadi | B27: SP | C27: 0.19722222 | D27: 0.53055556 | E27: =D27-C27 -> 0.33333333 | F27: SP | G27: 0.19722222 | H27: 0.53055556 | I27: =H27-G27 -> 0.33333333 | J27: RST1 | K27: 0.20833333 | L27: 0.60069444 | M27: =L27-K27 -> 0.39236111 | N27: SP | O27: 0.27986111 | P27: 0.61319444 | Q27: =P27-O27 -> 0.33333333 | R27: SP | S27: 0.27986111 | T27: 0.61319444 | U27: =T27-S27 -> 0.33333333 | W27: Rest | X27: Day | AA27: Rest | AB27: Day | AD27: =E27+I27+M27+Q27+U27+Y27+AC27 -> 1.7256944 | AE27: =AVERAGE(AD26+AD25+AD24)/3 -> 1.6525463 | AF27: 2
A28: Mubarak Abdul Latif Al-Ghamdi | C28: Rest | D28: Day | G28: Rest | H28: Day | K28: Rest | L28: Day | N28: RST1 | O28: 0.20833333 | P28: 0.60069444 | Q28: =P28-O28 -> 0.39236111 | R28: MLD4&7 | S28: 0.19722222 | T28: 0.67916667 | U28: =T28-S28 -> 0.48194444 | V28: MLD6 | W28: 0.28333333 | X28: 0.49166667 | Y28: =X28-W28 -> 0.20833333 | Z28: MLD1 | AA28: 0.15486111 | AB28: 0.36319444 | AC28: =AB28-AA28 -> 0.20833333 | AD28: =E28+I28+M28+Q28+U28+Y28+AC28 -> 1.2909722 | AE28: =AVERAGE(AD27+AD26+AD25)/3 -> 1.6863426 | AF28: 3
A29: Turki M Al Qabli | B29: RST1 | C29: 0.20833333 | D29: 0.60069444 | E29: =D29-C29 -> 0.39236111 | F29: Q Path | G29: 0.27083333 | H29: 0.75347222 | I29: =H29-G29 -> 0.48263889 | K29: Rest | L29: Day | O29: Rest | P29: Day | S29: Rest | T29: Day | V29: MLD10&15 | W29: 0.49375 | X29: 0.925 | Y29: =X29-W29 -> 0.43125 | Z29: MLD10&15 | AA29: 0.49375 | AB29: 0.925 | AC29: =AB29-AA29 -> 0.43125 | AD29: =E29+I29+M29+Q29+U29+Y29+AC29 -> 1.7375 | AE29: =AVERAGE(AD28+AD27+AD26)/3 -> 1.5611111 | AF29: 2
A30: Badr Saeed Al-Zahrani | B30: RDD2 | C30: 0.58333333 | D30: 0.91666667 | E30: =D30-C30 -> 0.33333333 | F30: RDD2 | G30: 0.58333333 | H30: 0.91666667 | I30: =H30-G30 -> 0.33333333 | J30: RDD2 | K30: 0.58333333 | L30: 0.91666667 | M30: =L30-K30 -> 0.33333333 | N30: RDD2 | O30: 0.58333333 | P30: 0.91666667 | Q30: =P30-O30 -> 0.33333333 | R30: RDD2 | S30: 0.58333333 | T30: 0.91666667 | U30: =T30-S30 -> 0.33333333 | W30: Rest | X30: Day | AA30: Rest | AB30: Day | AD30: =AVERAGE(AD7:AD29) -> 1.513587 | AF30: =AVERAGE(AF7:AF29) -> 2.3478261
A31: Faisal Muhammad Al-Saad | C31: Rest | D31: Day | G31: Rest | H31: Day | J31: MLD16 | K31: 0.75902778 | L31: 0.96736111 | M31: =L31-K31 -> 0.20833333 | N31: MLD17 | O31: 0.79305556 | P31: 1.0013889 | Q31: =P31-O31 -> 0.20833333 | R31: SP | S31: 0.75 | T31: 1.0833333 | U31: =T31-S31 -> 0.33333333 | V31: SP | W31: 0.75 | X31: 1.0833333 | Y31: =X31-W31 -> 0.33333333 | Z31: SP | AA31: 0.75 | AB31: 1.0833333 | AC31: =AB31-AA31 -> 0.33333333
A32: Mishary Abdel Qader Al-Maghoudi | B32: SP | C32: 0.75 | D32: 1.0833333 | E32: =D32-C32 -> 0.33333333 | F32: MLD16 | G32: 0.75902778 | H32: 0.96736111 | I32: =H32-G32 -> 0.20833333 | J32: MLD17 | K32: 0.79305556 | L32: 1.0013889 | M32: =L32-K32 -> 0.20833333 | O32: Rest | P32: Day | S32: Rest | T32: Day | V32: RDD1 | W32: 0.25 | X32: 0.58333333 | Y32: =X32-W32 -> 0.33333333 | Z32: RDD1 | AA32: 0.25 | AB32: 0.58333333 | AC32: =AB32-AA32 -> 0.33333333
A33: Khaled Mohammed Al-Ghamdi | B33: SP | C33: 0.27986111 | D33: 0.61319444 | E33: =D33-C33 -> 0.33333333 | F33: SP | G33: 0.27986111 | H33: 0.61319444 | I33: =H33-G33 -> 0.33333333 | K33: Rest | L33: Day | O33: Rest | P33: Day | R33: RST2 | S33: 0.60069444 | T33: 0.99305556 | U33: =T33-S33 -> 0.39236111 | V33: SP | W33: 0.49375 | X33: 0.82708333 | Y33: =X33-W33 -> 0.33333333 | Z33: SP | AA33: 0.49375 | AB33: 0.82708333 | AC33: =AB33-AA33 -> 0.33333333
A34: Faisal Saleh Saad Al-Mutairi | B34: RST2 | C34: 0.60069444 | D34: 0.99305556 | E34: =D34-C34 -> 0.39236111 | F34: RST2 | G34: 0.60069444 | H34: 0.99305556 | I34: =H34-G34 -> 0.39236111 | J34: RST2 | K34: 0.60069444 | L34: 0.99305556 | M34: =L34-K34 -> 0.39236111 | N34: RST2 | O34: 0.60069444 | P34: 0.99305556 | Q34: =P34-O34 -> 0.39236111 | S34: Rest | T34: Day | W34: Rest | X34: Day | AA34: Rest | AB34: Day | AD34: =E34+I34+M34+Q34+U34+Y34+AC34 -> 1.5694444
B37: Sunday | F37: Monday | J37: Tuesday | N37: Wednesday | R37: Thursday | V37: Friday | Z37: Saturday
B38: Shift | C38: On | D38: Off | E38: Hours | F38: Shift | G38: On | H38: Off | I38: Hours | J38: Shift | K38: On | L38: Off | M38: Hours | N38: Shift | O38: On | P38: Off | Q38: Hours | R38: Shift | S38: On | T38: Off | U38: Hours | V38: Shift | W38: On | X38: Off | Y38: Hours | Z38: Shift | AA38: On | AB38: Off | AC38: Hours
A39: Ibrahim Abdullah Al-Suhaimi | B39: RDD1 | C39: 0.25 | D39: 0.58333333 | E39: =D39-C39 -> 0.33333333 | F39: RDD1 | G39: 0.25 | H39: 0.58333333 | I39: =H39-G39 -> 0.33333333 | J39: RDD1 | K39: 0.25 | L39: 0.58333333 | M39: =L39-K39 -> 0.33333333 | N39: RDD1 | O39: 0.25 | P39: 0.58333333 | Q39: =P39-O39 -> 0.33333333 | R39: RDD1 | S39: 0.25 | T39: 0.58333333 | U39: =T39-S39 -> 0.33333333 | W39: Rest | X39: Day | AA39: Rest | AB39: Day
B42: It is your responsibility to consult the Daily Alteration Sheet to ensure that you are aware of your shifts and any changes that may have taken place.
B44: All leave, sick, training, off roster etc. is shown on the Daily Sheets

Sheet DAS Sun
D2: Daily Alteration Sheet
B4: Sunday | D4: ='Dvr '!B3 -> 45921
B5: Driver | K5: Riyadh
B8: Shift ID | C8: On Duty | D8: Off Duty | E8: Hours | F8: Name | J8: Comments
O9: =E9 -> 0 | P9: =B9 -> 0 | Q9: =C9 -> 0 | R9: =D9 -> 0
B10: MLD1 | C10: 0.15486111 | D10: 0.36319444 | E10: 0.20833333 | F10: ='Dvr '!A8 -> Saad K Al O taibi | O10: =E10 -> 0.20833333 | P10: =B10 -> MLD1 | Q10: =C10 -> 0.15486111 | R10: =D10 -> 0.36319444
O11: =E11 -> 0 | P11: =B11 -> 0 | Q11: =C11 -> 0 | R11: =D11 -> 0
B12: SP-R | C12: 0.19722222 | D12: 0.53055556 | E12: 0.33333333 | F12: ='Dvr '!A20 -> Faisal Al Nemry | O12: =E12 -> 0.33333333 | P12: =B12 -> SP-R | Q12: =C12 -> 0.19722222 | R12: =D12 -> 0.53055556
O13: =E13 -> 0 | P13: =B13 -> 0 | Q13: =C13 -> 0 | R13: =D13 -> 0
B14: MLD4&7 | C14: 0.19722222 | D14: 0.67916667 | E14: 0.48194444 | F14: ='Dvr '!A27 -> Mohammed A Al Raddadi | J14: Rayan TRG | O14: =E14 -> 0.48194444 | P14: =B14 -> MLD4&7 | Q14: =C14 -> 0.19722222 | R14: =D14 -> 0.67916667
O15: =E15 -> 0 | P15: =B15 -> 0 | Q15: =C15 -> 0 | R15: =D15 -> 0
B16: RST1 | C16: 0.20833333 | D16: 0.60069444 | E16: 0.39236111 | F16: ='Dvr '!A32 -> Mishary Abdel Qader Al-Maghoudi | J16: Turki AL | O16: =E16 -> 0.39236111 | P16: =B16 -> RST1 | Q16: =C16 -> 0.20833333 | R16: =D16 -> 0.60069444
O17: =E17 -> 0 | P17: =B17 -> 0 | Q17: =C17 -> 0 | R17: =D17 -> 0
B18: RDD1 | C18: 0.25 | D18: 0.58333333 | E18: =D18-C18 -> 0.33333333 | F18: ='Dvr '!A39 -> Ibrahim Abdullah Al-Suhaimi | O18: =E18 -> 0.33333333 | P18: =B18 -> RDD1 | Q18: =C18 -> 0.25 | R18: =D18 -> 0.58333333
O19: =E19 -> 0 | P19: =B19 -> 0 | Q19: =C19 -> 0 | R19: =D19 -> 0
B20: Q Path | C20: 0.27083333 | D20: 0.75347222 | E20: =D20-C20 -> 0.48263889 | F20: ='Dvr '!A10 -> Suhayb Al Muzaini | O20: =E20 -> 0.48263889 | P20: =B20 -> Q Path | Q20: =C20 -> 0.27083333 | R20: =D20 -> 0.75347222
O21: =E21 -> 0 | P21: =B21 -> 0 | Q21: =C21 -> 0 | R21: =D21 -> 0
B22: MLD6 | C22: 0.28333333 | D22: 0.49166667 | E22: 0.20833333 | F22: ='Dvr '!A16 -> Tariq Ahmed Alhamrani | J22: Rakan SL | O22: =E22 -> 0.20833333 | P22: =B22 -> MLD6 | Q22: =C22 -> 0.28333333 | R22: =D22 -> 0.49166667
O23: =E23 -> 0 | P23: =B23 -> 0 | Q23: =C23 -> 0 | R23: =D23 -> 0
B24: RDD2 | C24: 0.58333333 | D24: 0.91666667 | E24: 0.33333333 | F24: ='Dvr '!A30 -> Badr Saeed Al-Zahrani | O24: =E24 -> 0.33333333 | P24: =B24 -> RDD2 | Q24: =C24 -> 0.58333333 | R24: =D24 -> 0.91666667
O25: =E25 -> 0 | P25: =B25 -> 0 | Q25: =C25 -> 0 | R25: =D25 -> 0
B26: RST2 | C26: 0.60069444 | D26: 0.99305556 | E26: 0.39236111 | F26: ='Dvr '!A25 -> Nouh T Al Sharif | J26: Faisal AL | O26: =E26 -> 0.39236111 | P26: =B26 -> RST2 | Q26: =C26 -> 0.60069444 | R26: =D26 -> 0.99305556
O27: =E27 -> 0 | P27: =B27 -> 0 | Q27: =C27 -> 0 | R27: =D27 -> 0
B28: SP-R | C28: 0.75 | D28: 1.0833333 | E28: 0.33333333 | F28: ='Dvr '!A11 -> Abdullah Yahya Sahari | J28: Mishry | O28: =E28 -> 0.33333333 | P28: =B28 -> SP-R | Q28: =C28 -> 0.75 | R28: =D28 -> 1.0833333
O29: =E29 -> 0 | P29: =B29 -> 0 | Q29: =C29 -> 0 | R29: =D29 -> 0
B30: MLD16 | C30: 0.75902778 | D30: 0.96736111 | E30: 0.20833333 | F30: ='Dvr '!A26 -> Hazem Alghamdi | J30: ='Dvr '!A18 -> Vacancy 1 | O30: =E30 -> 0.20833333 | P30: =B30 -> MLD16 | Q30: =C30 -> 0.75902778 | R30: =D30 -> 0.96736111
O31: =E31 -> 0 | P31: =B31 -> 0 | Q31: =C31 -> 0 | R31: =D31 -> 0
B32: MLD17 | C32: 0.79305556 | D32: 1.0013889 | E32: 0.20833333 | F32: ='Dvr '!A12 -> Hussam D Al-Hajji | O32: =E32 -> 0.20833333 | P32: =B32 -> MLD17 | Q32: =C32 -> 0.79305556 | R32: =D32 -> 1.0013889
O33: =E33 -> 0 | P33: =B33 -> 0 | Q33: =C33 -> 0 | R33: =D33 -> 0
B34: RDD3 | C34: 0.91666667 | D34: 1.25 | E34: 0.33333333 | F34: ='Dvr '!A19 -> Ayoub Mobarak Al-Lajhar | O34: =E34 -> 0.33333333 | P34: =B34 -> RDD3 | Q34: =C34 -> 0.91666667 | R34: =D34 -> 1.25
O35: =E35 -> 0 | P35: =B35 -> 0 | Q35: =C35 -> 0 | R35: =D35 -> 0
B37: Off Roster
B38: Activity | C38: On Duty | D38: Off Duty | E38: Hours | F38: Name | J38: Comments
B39: TRG | C39: 0.375 | D39: 0.70833333 | E39: 0.33333333 | F39: ='Dvr '!A24 -> Ryan Al Hijri
B40: TRG | C40: 0.375 | D40: 0.70833333 | E40: 0.33333333 | F40: ='Dvr '!A33 -> Khaled Mohammed Al-Ghamdi
B41: TRG | C41: 0.375 | D41: 0.70833333 | E41: 0.33333333 | F41: ='Dvr '!A23 -> Ziad Marawan Seif
B45: Other (Leave, Sick etc.) | I45: Rest Day Off
B46: Type | C46: Name | I46: Name
B47: AL | C47: ='Dvr '!A34 -> Faisal Saleh Saad Al-Mutairi | I47: ='Dvr '!A22 -> Vacancy 2
B48: AL | C48: ='Dvr '!A29 -> Turki M Al Qabli | I48: ='Dvr '!A7 -> Aqeel bin Khalid Al-Melifi
...

Sheet DAS Mon
D2: Daily Alteration Sheet
B4: Monday | D4: ='DAS Sun'!D4+1 -> 45922
B5: Driver | K5: Riyadh
B8: Shift ID | C8: On Duty | D8: Off Duty | E8: Hours | F8: Name | J8: Comments
O9: =E9 -> 0 | P9: =B9 -> 0 | Q9: =C9 -> 0 | R9: =D9 -> 0
B10: MLD1 | C10: 0.15486111 | D10: 0.36319444 | E10: 0.20833333 | F10: ='Dvr '!A16 -> Tariq Ahmed Alhamrani | J10: Rakan SL | O10: =E10 -> 0.20833333 | P10: =B10 -> MLD1 | Q10: =C10 -> 0.15486111 | R10: =D10 -> 0.36319444
O11: =E11 -> 0 | P11: =B11 -> 0 | Q11: =C11 -> 0 | R11: =D11 -> 0
B12: SP-R | C12: 0.19722222 | D12: 0.53055556 | E12: 0.33333333 | F12: ='Dvr '!A20 -> Faisal Al Nemry | O12: =E12 -> 0.33333333 | P12: =B12 -> SP-R | Q12: =C12 -> 0.19722222 | R12: =D12 -> 0.53055556
O13: =E13 -> 0 | P13: =B13 -> 0 | Q13: =C13 -> 0 | R13: =D13 -> 0
B14: SP-R | C14: 0.19722222 | D14: 0.53055556 | E14: 0.33333333 | F14: ='Dvr '!A27 -> Mohammed A Al Raddadi | O14: =E14 -> 0.33333333 | P14: =B14 -> SP-R | Q14: =C14 -> 0.19722222 | R14: =D14 -> 0.53055556
O15: =E15 -> 0 | P15: =B15 -> 0 | Q15: =C15 -> 0 | R15: =D15 -> 0
B16: MLD4&7 | C16: 0.19722222 | D16: 0.67916667 | E16: 0.48194444 | F16: ='Dvr '!A9 -> Abdulrahman Mohammed Al-Juhani | O16: =E16 -> 0.48194444 | P16: =B16 -> MLD4&7 | Q16: =C16 -> 0.19722222 | R16: =D16 -> 0.67916667
O17: =E17 -> 0 | P17: =B17 -> 0 | Q17: =C17 -> 0 | R17: =D17 -> 0
B18: RST1 | C18: 0.20833333 | D18: 0.60069444 | E18: 0.39236111 | F18: ='Dvr '!A32 -> Mishary Abdel Qader Al-Maghoudi | J18: Rayan TRG | O18: =E18 -> 0.39236111 | P18: =B18 -> RST1 | Q18: =C18 -> 0.20833333 | R18: =D18 -> 0.60069444
O19: =E19 -> 0 | P19: =B19 -> 0 | Q19: =C19 -> 0 | R19: =D19 -> 0
B20: RDD1 | C20: 0.25 | D20: 0.58333333 | E20: =D20-C20 -> 0.33333333 | F20: ='Dvr '!A39 -> Ibrahim Abdullah Al-Suhaimi | O20: =E20 -> 0.33333333 | P20: =B20 -> RDD1 | Q20: =C20 -> 0.25 | R20: =D20 -> 0.58333333
O21: =E21 -> 0 | P21: =B21 -> 0 | Q21: =C21 -> 0 | R21: =D21 -> 0
B22: Q Path | C22: 0.27083333 | D22: 0.75347222 | E22: 0.48263889 | F22: ='Dvr '!A13 -> Abdulaziz bin Nasser Marghalani | J22: Turki AL | O22: =E22 -> 0.48263889 | P22: =B22 -> Q Path | Q22: =C22 -> 0.27083333 | R22: =D22 -> 0.75347222
O23: =E23 -> 0 | P23: =B23 -> 0 | Q23: =C23 -> 0 | R23: =D23 -> 0
B24: MLD6 | C24: 0.28333333 | D24: 0.49166667 | E24: 0.20833333 | F24: ='Dvr '!A10 -> Suhayb Al Muzaini | O24: =E24 -> 0.20833333 | P24: =B24 -> MLD6 | Q24: =C24 -> 0.28333333 | R24: =D24 -> 0.49166667
O25: =E25 -> 0 | P25: =B25 -> 0 | Q25: =C25 -> 0 | R25: =D25 -> 0
B26: RDD2 | C26: 0.58333333 | D26: 0.91666667 | E26: =D26-C26 -> 0.33333333 | F26: ='Dvr '!A30 -> Badr Saeed Al-Zahrani | O26: =E26 -> 0.33333333 | P26: =B26 -> RDD2 | Q26: =C26 -> 0.58333333 | R26: =D26 -> 0.91666667
O27: =E27 -> 0 | P27: =B27 -> 0 | Q27: =C27 -> 0 | R27: =D27 -> 0
B28: RST2 | C28: 0.60069444 | D28: 0.99305556 | E28: =D28-C28 -> 0.39236111 | F28: ='Dvr '!A25 -> Nouh T Al Sharif | J28: Faisal AL | O28: =E28 -> 0.39236111 | P28: =B28 -> RST2 | Q28: =C28 -> 0.60069444 | R28: =D28 -> 0.99305556
O29: =E29 -> 0 | P29: =B29 -> 0 | Q29: =C29 -> 0 | R29: =D29 -> 0
B30: SP-R | C30: 0.75 | D30: 1.0833333 | E30: 0.33333333 | F30: ='Dvr '!A12 -> Hussam D Al-Hajji | O30: =E30 -> 0.33333333 | P30: =B30 -> SP-R | Q30: =C30 -> 0.75 | R30: =D30 -> 1.0833333
O31: =E31 -> 0 | P31: =B31 -> 0 | Q31: =C31 -> 0 | R31: =D31 -> 0
B32: MLD16 | C32: 0.75902778 | D32: 0.96736111 | E32: 0.20833333 | F32: ='Dvr '!A11 -> Abdullah Yahya Sahari | J32: Mishary | O32: =E32 -> 0.20833333 | P32: =B32 -> MLD16 | Q32: =C32 -> 0.75902778 | R32: =D32 -> 0.96736111
O33: =E33 -> 0 | P33: =B33 -> 0 | Q33: =C33 -> 0 | R33: =D33 -> 0
B34: MLD17 | C34: 0.79305556 | D34: 1.0013889 | E34: 0.20833333 | F34: ='Dvr '!A26 -> Hazem Alghamdi | J34: ='Dvr '!A18 -> Vacancy 1 | O34: =E34 -> 0.20833333 | P34: =B34 -> MLD17 | Q34: =C34 -> 0.79305556 | R34: =D34 -> 1.0013889
O35: =E35 -> 0 | P35: =B35 -> 0 | Q35: =C35 -> 0 | R35: =D35 -> 0
B36: RDD3 | C36: 0.91666667 | D36: 1.25 | E36: 0.33333333 | F36: ='Dvr '!A19 -> Ayoub Mobarak Al-Lajhar | O36: =E36 -> 0.33333333 | P36: =B36 -> RDD3 | Q36: =C36 -> 0.91666667 | R36: =D36 -> 1.25
O37: =E37 -> 0 | P37: =B37 -> 0 | Q37: =C37 -> 0 | R37: =D37 -> 0
C38: =E14 -> 0.33333333 | D38: =B14 -> SP-R | E38: =C14 -> 0.19722222 | F38: =D14 -> 0.53055556
B40: Off Roster
B41: Activity | C41: On Duty | D41: Off Duty | E41: Hours | F41: Name | J41: Comments
B42: TRG | C42: 0.375 | D42: 0.70833333 | E42: 0.33333333 | F42: ='Dvr '!A24 -> Ryan Al Hijri
B43: TRG | C43: 0.375 | D43: 0.70833333 | E43: 0.33333333 | F43: ='Dvr '!A33 -> Khaled Mohammed Al-Ghamdi
B44: TRG | C44: 0.375 | D44: 0.70833333 | E44: 0.33333333 | F44: ='Dvr '!A23 -> Ziad Marawan Seif
B48: Other (Leave, Sick etc.) | I48: Rest Day Off
...

Sheet DAS Tue
D2: Daily Alteration Sheet
B4: Tuesday | D4: ='DAS Mon'!D4+1 -> 45923
B5: Driver | K5: Riyadh
B8: Shift ID | C8: On Duty | D8: Off Duty | E8: Hours | F8: Name | J8: Comments
O9: =E9 -> 0 | P9: =B9 -> 0 | Q9: =C9 -> 0 | R9: =D9 -> 0
B10: MLD1 | C10: 0.15486111 | D10: 0.36319444 | E10: 0.20833333 | F10: ='Dvr '!A10 -> Suhayb Al Muzaini | O10: =E10 -> 0.20833333 | P10: =B10 -> MLD1 | Q10: =C10 -> 0.15486111 | R10: =D10 -> 0.36319444
O11: =E11 -> 0 | P11: =B11 -> 0 | Q11: =C11 -> 0 | R11: =D11 -> 0
B12: SP-R | C12: 0.19722222 | D12: 0.53055556 | E12: 0.33333333 | F12: ='Dvr '!A20 -> Faisal Al Nemry | O12: =E12 -> 0.33333333 | P12: =B12 -> SP-R | Q12: =C12 -> 0.19722222 | R12: =D12 -> 0.53055556
O13: =E13 -> 0 | P13: =B13 -> 0 | Q13: =C13 -> 0 | R13: =D13 -> 0
B14: MLD4&7 | C14: 0.19722222 | D14: 0.67916667 | E14: 0.48194444 | F14: ='Dvr '!A14 -> Abdulah M. Yahya | O14: =E14 -> 0.48194444 | P14: =B14 -> MLD4&7 | Q14: =C14 -> 0.19722222 | R14: =D14 -> 0.67916667
O15: =E15 -> 0 | P15: =B15 -> 0 | Q15: =C15 -> 0 | R15: =D15 -> 0
B16: RST1 | C16: 0.20833333 | D16: 0.60069444 | E16: 0.39236111 | F16: ='Dvr '!A32 -> Mishary Abdel Qader Al-Maghoudi | O16: =E16 -> 0.39236111 | P16: =B16 -> RST1 | Q16: =C16 -> 0.20833333 | R16: =D16 -> 0.60069444
O17: =E17 -> 0 | P17: =B17 -> 0 | Q17: =C17 -> 0 | R17: =D17 -> 0
B18: RDD1 | C18: 0.25 | D18: 0.58333333 | E18: =D18-C18 -> 0.33333333 | F18: ='Dvr '!A39 -> Ibrahim Abdullah Al-Suhaimi | O18: =E18 -> 0.33333333 | P18: =B18 -> RDD1 | Q18: =C18 -> 0.25 | R18: =D18 -> 0.58333333
O19: =E19 -> 0 | P19: =B19 -> 0 | Q19: =C19 -> 0 | R19: =D19 -> 0
B20: Q Path | C20: 0.27083333 | D20: 0.75347222 | E20: 0.48263889 | F20: ='Dvr '!A13 -> Abdulaziz bin Nasser Marghalani | J20: Rakan SL | O20: =E20 -> 0.48263889 | P20: =B20 -> Q Path | Q20: =C20 -> 0.27083333 | R20: =D20 -> 0.75347222
O21: =E21 -> 0 | P21: =B21 -> 0 | Q21: =C21 -> 0 | R21: =D21 -> 0
B22: MLD6 | C22: 0.28333333 | D22: 0.49166667 | E22: 0.20833333 | F22: ='Dvr '!A27 -> Mohammed A Al Raddadi | J22: ='Dvr '!A22 -> Vacancy 2 | O22: =E22 -> 0.20833333 | P22: =B22 -> MLD6 | Q22: =C22 -> 0.28333333 | R22: =D22 -> 0.49166667
O23: =E23 -> 0 | P23: =B23 -> 0 | Q23: =C23 -> 0 | R23: =D23 -> 0
B24: SP-R | C24: 0.58333333 | D24: 0.91666667 | E24: 0.33333333 | F24: ='Dvr '!A25 -> Nouh T Al Sharif | O24: =E24 -> 0.33333333 | P24: =B24 -> SP-R | Q24: =C24 -> 0.58333333 | R24: =D24 -> 0.91666667
O25: =E25 -> 0 | P25: =B25 -> 0 | Q25: =C25 -> 0 | R25: =D25 -> 0
B26: DD2 | C26: 0.58333333 | D26: 0.91666667 | E26: 0.33333333 | F26: ='Dvr '!A30 -> Badr Saeed Al-Zahrani | O26: =E26 -> 0.33333333 | P26: =B26 -> DD2 | Q26: =C26 -> 0.58333333 | R26: =D26 -> 0.91666667
O27: =E27 -> 0 | P27: =B27 -> 0 | Q27: =C27 -> 0 | R27: =D27 -> 0
B28: RST2 | C28: 0.60069444 | D28: 0.99305556 | E28: =D28-C28 -> 0.39236111 | F28: ='Dvr '!A26 -> Hazem Alghamdi | J28: Faisal AL | O28: =E28 -> 0.39236111 | P28: =B28 -> RST2 | Q28: =C28 -> 0.60069444 | R28: =D28 -> 0.99305556
O29: =E29 -> 0 | P29: =B29 -> 0 | Q29: =C29 -> 0 | R29: =D29 -> 0
B30: SP-R | C30: 0.75 | D30: 1.0833333 | E30: 0.33333333 | F30: ='Dvr '!A12 -> Hussam D Al-Hajji | O30: =E30 -> 0.33333333 | P30: =B30 -> SP-R | Q30: =C30 -> 0.75 | R30: =D30 -> 1.0833333
O31: =E31 -> 0 | P31: =B31 -> 0 | Q31: =C31 -> 0 | R31: =D31 -> 0
B32: MLD16 | C32: 0.75902778 | D32: 0.96736111 | E32: 0.20833333 | F32: ='Dvr '!A31 -> Faisal Muhammad Al-Saad | O32: =E32 -> 0.20833333 | P32: =B32 -> MLD16 | Q32: =C32 -> 0.75902778 | R32: =D32 -> 0.96736111
O33: =E33 -> 0 | P33: =B33 -> 0 | Q33: =C33 -> 0 | R33: =D33 -> 0
B34: MLD17 | C34: 0.79305556 | D34: 1.0013889 | E34: 0.20833333 | F34: ='Dvr '!A11 -> Abdullah Yahya Sahari | J34: Mishary | O34: =E34 -> 0.20833333 | P34: =B34 -> MLD17 | Q34: =C34 -> 0.79305556 | R34: =D34 -> 1.0013889
O35: =E35 -> 0 | P35: =B35 -> 0 | Q35: =C35 -> 0 | R35: =D35 -> 0
B36: DD3 | C36: 0.91666667 | D36: 1.25 | E36: 0.33333333 | F36: ='Dvr '!A19 -> Ayoub Mobarak Al-Lajhar | O36: =E36 -> 0.33333333 | P36: =B36 -> DD3 | Q36: =C36 -> 0.91666667 | R36: =D36 -> 1.25
O37: =E37 -> 0 | P37: =B37 -> 0 | Q37: =C37 -> 0 | R37: =D37 -> 0
B39: Off Roster
B40: Activity | C40: On Duty | D40: Off Duty | E40: Hours | F40: Name | J40: Comments
B47: Other (Leave, Sick etc.) | I47: Rest Day Off
B48: Type | C48: Name | I48: Name
B49: AL | C49: ='Dvr '!A34 -> Faisal Saleh Saad Al-Mutairi | I49: ='Dvr '!A8 -> Saad K Al O taibi
B50: SL | C50: ='Dvr '!A17 -> Rakan Asiri | I50: ='Dvr '!A9 -> Abdulrahman Mohammed Al-Juhani
I51: ='Dvr '!A15 -> Shalan Al Qarni
...

Sheet DAS Wed
D2: Daily Alteration Sheet
B4: Wednesday | D4: ='DAS Tue'!D4+1 -> 45924
B5: Driver | K5: Riyadh
B8: Shift ID | C8: On Duty | D8: Off Duty | E8: Hours | F8: Name | J8: Comments
O9: =E9 -> 0 | P9: =B9 -> 0 | Q9: =C9 -> 0 | R9: =D9 -> 0
B10: MLD1 | C10: 0.15486111 | D10: 0.36319444 | E10: 0.20833333 | F10: ='Dvr '!A27 -> Mohammed A Al Raddadi | J10: ='Dvr '!A22 -> Vacancy 2 | O10: =E10 -> 0.20833333 | P10: =B10 -> MLD1 | Q10: =C10 -> 0.15486111 | R10: =D10 -> 0.36319444
O11: =E11 -> 0 | P11: =B11 -> 0 | Q11: =C11 -> 0 | R11: =D11 -> 0
B12: SP-R | C12: 0.19722222 | D12: 0.53055556 | E12: 0.33333333 | F12: ='Dvr '!A14 -> Abdulah M. Yahya | O12: =E12 -> 0.33333333 | P12: =B12 -> SP-R | Q12: =C12 -> 0.19722222 | R12: =D12 -> 0.53055556
O13: =E13 -> 0 | P13: =B13 -> 0 | Q13: =C13 -> 0 | R13: =D13 -> 0
B14: SP-R | C14: 0.19722222 | D14: 0.53055556 | E14: 0.33333333 | F14: ='Dvr '!A20 -> Faisal Al Nemry | O14: =E14 -> 0.33333333 | P14: =B14 -> SP-R | Q14: =C14 -> 0.19722222 | R14: =D14 -> 0.53055556
O15: =E15 -> 0 | P15: =B15 -> 0 | Q15: =C15 -> 0 | R15: =D15 -> 0
B16: MLD4&7 | C16: 0.19722222 | D16: 0.67916667 | E16: 0.48194444 | F16: ='Dvr '!A7 -> Aqeel bin Khalid Al-Melifi | O16: =E16 -> 0.48194444 | P16: =B16 -> MLD4&7 | Q16: =C16 -> 0.19722222 | R16: =D16 -> 0.67916667
O17: =E17 -> 0 | P17: =B17 -> 0 | Q17: =C17 -> 0 | R17: =D17 -> 0
B18: RST1 | C18: 0.20833333 | D18: 0.60069444 | E18: 0.39236111 | F18: ='Dvr '!A32 -> Mishary Abdel Qader Al-Maghoudi | O18: =E18 -> 0.39236111 | P18: =B18 -> RST1 | Q18: =C18 -> 0.20833333 | R18: =D18 -> 0.60069444
O19: =E19 -> 0 | P19: =B19 -> 0 | Q19: =C19 -> 0 | R19: =D19 -> 0
B20: SP-R | C20: 0.25347222 | D20: 0.5625 | E20: 0.33333333 | F20: ='Dvr '!A13 -> Abdulaziz bin Nasser Marghalani | O20: =E20 -> 0.33333333 | P20: =B20 -> SP-R | Q20: =C20 -> 0.25347222 | R20: =D20 -> 0.5625
O21: =E21 -> 0 | P21: =B21 -> 0 | Q21: =C21 -> 0 | R21: =D21 -> 0
B22: RDD1 | C22: 0.25 | D22: 0.58333333 | E22: =D22-C22 -> 0.33333333 | F22: ='Dvr '!A39 -> Ibrahim Abdullah Al-Suhaimi | O22: =E22 -> 0.33333333 | P22: =B22 -> RDD1 | Q22: =C22 -> 0.25 | R22: =D22 -> 0.58333333
O23: =E23 -> 0 | P23: =B23 -> 0 | Q23: =C23 -> 0 | R23: =D23 -> 0
B24: Q Path | C24: 0.27083333 | D24: 0.75347222 | E24: 0.48263889 | F24: ='Dvr '!A8 -> Saad K Al O taibi | O24: =E24 -> 0.48263889 | P24: =B24 -> Q Path | Q24: =C24 -> 0.27083333 | R24: =D24 -> 0.75347222
O25: =E25 -> 0 | P25: =B25 -> 0 | Q25: =C25 -> 0 | R25: =D25 -> 0
B26: SP-R | C26: 0.27986111 | D26: 0.61319444 | E26: 0.33333333 | F26: ='Dvr '!A28 -> Mubarak Abdul Latif Al-Ghamdi | O26: =E26 -> 0.33333333 | P26: =B26 -> SP-R | Q26: =C26 -> 0.27986111 | R26: =D26 -> 0.61319444
O27: =E27 -> 0 | P27: =B27 -> 0 | Q27: =C27 -> 0 | R27: =D27 -> 0
B28: MLD6 | C28: 0.28333333 | D28: 0.49166667 | E28: 0.20833333 | F28: ='Dvr '!A15 -> Shalan Al Qarni | O28: =E28 -> 0.20833333 | P28: =B28 -> MLD6 | Q28: =C28 -> 0.28333333 | R28: =D28 -> 0.49166667
O29: =E29 -> 0 | P29: =B29 -> 0 | Q29: =C29 -> 0 | R29: =D29 -> 0
B30: RDD2 | C30: 0.58333333 | D30: 0.91666667 | E30: 0.33333333 | F30: ='Dvr '!A30 -> Badr Saeed Al-Zahrani | O30: =E30 -> 0.33333333 | P30: =B30 -> RDD2 | Q30: =C30 -> 0.58333333 | R30: =D30 -> 0.91666667
O31: =E31 -> 0 | P31: =B31 -> 0 | Q31: =C31 -> 0 | R31: =D31 -> 0
B32: RST2 | C32: 0.60069444 | D32: 0.99305556 | E32: =D32-C32 -> 0.39236111 | F32: ='Dvr '!A21 -> Abdullah M Al Harbi | J32: Faisal AL | O32: =E32 -> 0.39236111 | P32: =B32 -> RST2 | Q32: =C32 -> 0.60069444 | R32: =D32 -> 0.99305556
O33: =E33 -> 0 | P33: =B33 -> 0 | Q33: =C33 -> 0 | R33: =D33 -> 0
B34: SP-R | C34: 0.75 | D34: 1.0833333 | E34: 0.33333333 | F34: ='Dvr '!A11 -> Abdullah Yahya Sahari | O34: =E34 -> 0.33333333 | P34: =B34 -> SP-R | Q34: =C34 -> 0.75 | R34: =D34 -> 1.0833333
O35: =E35 -> 0 | P35: =B35 -> 0 | Q35: =C35 -> 0 | R35: =D35 -> 0
B36: MLD16 | C36: 0.75902778 | D36: 0.96736111 | E36: 0.20833333 | F36: ='Dvr '!A12 -> Hussam D Al-Hajji | O36: =E36 -> 0.20833333 | P36: =B36 -> MLD16 | Q36: =C36 -> 0.75902778 | R36: =D36 -> 0.96736111
O37: =E37 -> 0 | P37: =B37 -> 0 | Q37: =C37 -> 0 | R37: =D37 -> 0
B38: MLD17 | C38: 0.79305556 | D38: 1.0013889 | E38: 0.20833333 | F38: ='Dvr '!A31 -> Faisal Muhammad Al-Saad | O38: =E38 -> 0.20833333 | P38: =B38 -> MLD17 | Q38: =C38 -> 0.79305556 | R38: =D38 -> 1.0013889
O39: =E39 -> 0 | P39: =B39 -> 0 | Q39: =C39 -> 0 | R39: =D39 -> 0
B40: SP-R | C40: 0.91666667 | D40: 1.25 | E40: 0.33333333 | F40: ='Dvr '!A26 -> Hazem Alghamdi | O40: =E40 -> 0.33333333 | P40: =B40 -> SP-R | Q40: =C40 -> 0.91666667 | R40: =D40 -> 1.25
O41: =E41 -> 0 | P41: =B41 -> 0 | Q41: =C41 -> 0 | R41: =D41 -> 0
B42: RDD3 | C42: 0.91666667 | D42: 1.25 | E42: 0.33333333 | F42: ='Dvr '!A19 -> Ayoub Mobarak Al-Lajhar | O42: =E42 -> 0.33333333 | P42: =B42 -> RDD3 | Q42: =C42 -> 0.91666667 | R42: =D42 -> 1.25
O43: =E43 -> 0 | P43: =B43 -> 0 | Q43: =C43 -> 0 | R43: =D43 -> 0
B45: Off Roster
...

Sheet DAS Thu
D2: Daily Alteration Sheet
B4: Thursday | D4: ='DAS Wed'!D4+1 -> 45925
B5: Driver | K5: Riyadh
B8: Shift ID | C8: On Duty | D8: Off Duty | E8: Hours | F8: Name | J8: Comments
O9: =E9 -> 0 | P9: =B9 -> 0 | Q9: =C9 -> 0 | R9: =D9 -> 0
B10: MLD1 | C10: 0.15486111 | D10: 0.36319444 | E10: 0.20833333 | F10: ='Dvr '!A15 -> Shalan Al Qarni | O10: =E10 -> 0.20833333 | P10: =B10 -> MLD1 | Q10: =C10 -> 0.15486111 | R10: =D10 -> 0.36319444
O11: =E11 -> 0 | P11: =B11 -> 0 | Q11: =C11 -> 0 | R11: =D11 -> 0
B12: SP-R | C12: 0.19722222 | D12: 0.53055556 | E12: 0.33333333 | F12: ='Dvr '!A7 -> Aqeel bin Khalid Al-Melifi | O12: =E12 -> 0.33333333 | P12: =B12 -> SP-R | Q12: =C12 -> 0.19722222 | R12: =D12 -> 0.53055556
O13: =E13 -> 0 | P13: =B13 -> 0 | Q13: =C13 -> 0 | R13: =D13 -> 0
B14: MLD4&7 | C14: 0.19722222 | D14: 0.67916667 | E14: 0.48194444 | F14: ='Dvr '!A28 -> Mubarak Abdul Latif Al-Ghamdi | O14: =E14 -> 0.48194444 | P14: =B14 -> MLD4&7 | Q14: =C14 -> 0.19722222 | R14: =D14 -> 0.67916667
O15: =E15 -> 0 | P15: =B15 -> 0 | Q15: =C15 -> 0 | R15: =D15 -> 0
B16: RST1 | C16: 0.20833333 | D16: 0.60069444 | E16: 0.39236111 | F16: ='Dvr '!A14 -> Abdulah M. Yahya | O16: =E16 -> 0.39236111 | P16: =B16 -> RST1 | Q16: =C16 -> 0.20833333 | R16: =D16 -> 0.60069444
O17: =E17 -> 0 | P17: =B17 -> 0 | Q17: =C17 -> 0 | R17: =D17 -> 0
B18: SP-R | C18: 0.22916667 | D18: 0.5625 | E18: 0.33333333 | F18: ='Dvr '!A13 -> Abdulaziz bin Nasser Marghalani | O18: =E18 -> 0.33333333 | P18: =B18 -> SP-R | Q18: =C18 -> 0.22916667 | R18: =D18 -> 0.5625
O19: =E19 -> 0 | P19: =B19 -> 0 | Q19: =C19 -> 0 | R19: =D19 -> 0
B20: RDD1 | C20: 0.25 | D20: 0.58333333 | E20: =D20-C20 -> 0.33333333 | F20: ='Dvr '!A27 -> Mohammed A Al Raddadi | J20: Ibrahim RD | O20: =E20 -> 0.33333333 | P20: =B20 -> RDD1 | Q20: =C20 -> 0.25 | R20: =D20 -> 0.58333333
O21: =E21 -> 0 | P21: =B21 -> 0 | Q21: =C21 -> 0 | R21: =D21 -> 0
B22: Q Path | C22: 0.27083333 | D22: 0.75347222 | E22: 0.48263889 | F22: ='Dvr '!A20 -> Faisal Al Nemry | O22: =E22 -> 0.48263889 | P22: =B22 -> Q Path | Q22: =C22 -> 0.27083333 | R22: =D22 -> 0.75347222
O23: =E23 -> 0 | P23: =B23 -> 0 | Q23: =C23 -> 0 | R23: =D23 -> 0
B24: SP-R | C24: 0.27986111 | D24: 0.61319444 | E24: 0.33333333 | F24: ='Dvr '!A8 -> Saad K Al O taibi | O24: =E24 -> 0.33333333 | P24: =B24 -> SP-R | Q24: =C24 -> 0.27986111 | R24: =D24 -> 0.61319444
O25: =E25 -> 0 | P25: =B25 -> 0 | Q25: =C25 -> 0 | R25: =D25 -> 0
B26: MLD6 | C26: 0.28333333 | D26: 0.49166667 | E26: 0.20833333 | F26: ='Dvr '!A9 -> Abdulrahman Mohammed Al-Juhani | O26: =E26 -> 0.20833333 | P26: =B26 -> MLD6 | Q26: =C26 -> 0.28333333 | R26: =D26 -> 0.49166667
O27: =E27 -> 0 | P27: =B27 -> 0 | Q27: =C27 -> 0 | R27: =D27 -> 0
B28: SP-R | C28: 0.58333333 | D28: 0.91666667 | E28: 0.33333333 | F28: ='Dvr '!A24 -> Ryan Al Hijri | O28: =E28 -> 0.33333333 | P28: =B28 -> SP-R | Q28: =C28 -> 0.58333333 | R28: =D28 -> 0.91666667
O29: =E29 -> 0 | P29: =B29 -> 0 | Q29: =C29 -> 0 | R29: =D29 -> 0
B30: RDD2 | C30: 0.58333333 | D30: 0.91666667 | E30: 0.33333333 | F30: ='Dvr '!A30 -> Badr Saeed Al-Zahrani | O30: =E30 -> 0.33333333 | P30: =B30 -> RDD2 | Q30: =C30 -> 0.58333333 | R30: =D30 -> 0.91666667
O31: =E31 -> 0 | P31: =B31 -> 0 | Q31: =C31 -> 0 | R31: =D31 -> 0
B32: RST2 | C32: 0.60069444 | D32: 0.99305556 | E32: 0.39236111 | F32: ='Dvr '!A33 -> Khaled Mohammed Al-Ghamdi | O32: =E32 -> 0.39236111 | P32: =B32 -> RST2 | Q32: =C32 -> 0.60069444 | R32: =D32 -> 0.99305556
O33: =E33 -> 0 | P33: =B33 -> 0 | Q33: =C33 -> 0 | R33: =D33 -> 0
B34: SP-R | C34: 0.75 | D34: 1.0833333 | E34: 0.33333333 | F34: ='Dvr '!A31 -> Faisal Muhammad Al-Saad | O34: =E34 -> 0.33333333 | P34: =B34 -> SP-R | Q34: =C34 -> 0.75 | R34: =D34 -> 1.0833333
O35: =E35 -> 0 | P35: =B35 -> 0 | Q35: =C35 -> 0 | R35: =D35 -> 0
B36: MLD16 | C36: 0.75902778 | D36: 0.96736111 | E36: 0.20833333 | F36: ='Dvr '!A21 -> Abdullah M Al Harbi | O36: =E36 -> 0.20833333 | P36: =B36 -> MLD16 | Q36: =C36 -> 0.75902778 | R36: =D36 -> 0.96736111
O37: =E37 -> 0 | P37: =B37 -> 0 | Q37: =C37 -> 0 | R37: =D37 -> 0
B38: MLD17 | C38: 0.79305556 | D38: 1.0013889 | E38: 0.20833333 | F38: ='Dvr '!A12 -> Hussam D Al-Hajji | O38: =E38 -> 0.20833333 | P38: =B38 -> MLD17 | Q38: =C38 -> 0.79305556 | R38: =D38 -> 1.0013889
O39: =E39 -> 0 | P39: =B39 -> 0 | Q39: =C39 -> 0 | R39: =D39 -> 0
B40: SP-R | C40: 0.91666667 | D40: 1.25 | E40: 0.33333333 | F40: ='Dvr '!A26 -> Hazem Alghamdi | O40: =E40 -> 0.33333333 | P40: =B40 -> SP-R | Q40: =C40 -> 0.91666667 | R40: =D40 -> 1.25
O41: =E41 -> 0 | P41: =B41 -> 0 | Q41: =C41 -> 0 | R41: =D41 -> 0
B42: RDD3 | C42: 0.91666667 | D42: 1.25 | E42: 0.33333333 | F42: ='Dvr '!A19 -> Ayoub Mobarak Al-Lajhar | O42: =E42 -> 0.33333333 | P42: =B42 -> RDD3 | Q42: =C42 -> 0.91666667 | R42: =D42 -> 1.25
O43: =E43 -> 0 | P43: =B43 -> 0 | Q43: =C43 -> 0 | R43: =D43 -> 0
B46: Off Roster
...

Sheet DAS Fri
D2: Daily Alteration Sheet
B4: Friday | D4: ='DAS Thu'!D4+1 -> 45926
B5: Driver | K5: Riyadh
B8: Shift ID | C8: On Duty | D8: Off Duty | E8: Hours | F8: Name | J8: Comments
O9: =E9 -> 0 | P9: =B9 -> 0 | Q9: =C9 -> 0 | R9: =D9 -> 0
B10: MLD1 | C10: 0.15486111 | D10: 0.36319444 | E10: 0.20833333 | F10: ='Dvr '!A9 -> Abdulrahman Mohammed Al-Juhani | O10: =E10 -> 0.20833333 | P10: =B10 -> MLD1 | Q10: =C10 -> 0.15486111 | R10: =D10 -> 0.36319444
O11: =E11 -> 0 | P11: =B11 -> 0 | Q11: =C11 -> 0 | R11: =D11 -> 0
B12: SP-R | C12: 0.19722222 | D12: 0.53055556 | E12: 0.33333333 | F12: ='Dvr '!A14 -> Abdulah M. Yahya | J12: ='Dvr '!A22 -> Vacancy 2 | O12: =E12 -> 0.33333333 | P12: =B12 -> SP-R | Q12: =C12 -> 0.19722222 | R12: =D12 -> 0.53055556
O13: =E13 -> 0 | P13: =B13 -> 0 | Q13: =C13 -> 0 | R13: =D13 -> 0
B14: MLD4&7 | C14: 0.19722222 | D14: 0.67916667 | E14: 0.48194444 | F14: ='Dvr '!A7 -> Aqeel bin Khalid Al-Melifi | O14: =E14 -> 0.48194444 | P14: =B14 -> MLD4&7 | Q14: =C14 -> 0.19722222 | R14: =D14 -> 0.67916667
O15: =E15 -> 0 | P15: =B15 -> 0 | Q15: =C15 -> 0 | R15: =D15 -> 0
B16: RST1 | C16: 0.20833333 | D16: 0.60069444 | E16: 0.39236111 | F16: ='Dvr '!A16 -> Tariq Ahmed Alhamrani | O16: =E16 -> 0.39236111 | P16: =B16 -> RST1 | Q16: =C16 -> 0.20833333 | R16: =D16 -> 0.60069444
O17: =E17 -> 0 | P17: =B17 -> 0 | Q17: =C17 -> 0 | R17: =D17 -> 0
B18: RDD1 | C18: 0.25 | D18: 0.58333333 | E18: 0.33333333 | F18: ='Dvr '!A23 -> Ziad Marawan Seif | J18: Mishary RD | O18: =E18 -> 0.33333333 | P18: =B18 -> RDD1 | Q18: =C18 -> 0.25 | R18: =D18 -> 0.58333333
O19: =E19 -> 0 | P19: =B19 -> 0 | Q19: =C19 -> 0 | R19: =D19 -> 0
B20: Q Path | C20: 0.27083333 | D20: 0.75347222 | E20: 0.48263889 | F20: ='Dvr '!A15 -> Shalan Al Qarni | O20: =E20 -> 0.48263889 | P20: =B20 -> Q Path | Q20: =C20 -> 0.27083333 | R20: =D20 -> 0.75347222
O21: =E21 -> 0 | P21: =B21 -> 0 | Q21: =C21 -> 0 | R21: =D21 -> 0
B22: MLD6 | C22: 0.28333333 | D22: 0.49166667 | E22: 0.20833333 | F22: ='Dvr '!A28 -> Mubarak Abdul Latif Al-Ghamdi | O22: =E22 -> 0.20833333 | P22: =B22 -> MLD6 | Q22: =C22 -> 0.28333333 | R22: =D22 -> 0.49166667
O23: =E23 -> 0 | P23: =B23 -> 0 | Q23: =C23 -> 0 | R23: =D23 -> 0
B24: SP-R | C24: 0.49375 | D24: 0.75 | E24: 0.33333333 | F24: ='Dvr '!A8 -> Saad K Al O taibi | O24: =E24 -> 0.33333333 | P24: =B24 -> SP-R | Q24: =C24 -> 0.49375 | R24: =D24 -> 0.75
O25: =E25 -> 0 | P25: =B25 -> 0 | Q25: =C25 -> 0 | R25: =D25 -> 0
B26: MLD10&15 | C26: 0.49375 | D26: 0.925 | E26: 0.43125 | F26: ='Dvr '!A29 -> Turki M Al Qabli | O26: =E26 -> 0.43125 | P26: =B26 -> MLD10&15 | Q26: =C26 -> 0.49375 | R26: =D26 -> 0.925
O27: =E27 -> 0 | P27: =B27 -> 0 | Q27: =C27 -> 0 | R27: =D27 -> 0
B28: RDD2 | C28: 0.58333333 | D28: 0.91666667 | E28: 0.33333333 | F28: ='Dvr '!A10 -> Suhayb Al Muzaini | O28: =E28 -> 0.33333333 | P28: =B28 -> RDD2 | Q28: =C28 -> 0.58333333 | R28: =D28 -> 0.91666667
O29: =E29 -> 0 | P29: =B29 -> 0 | Q29: =C29 -> 0 | R29: =D29 -> 0
B30: RST2 | C30: 0.60069444 | D30: 0.99305556 | E30: 0.39236111 | F30: ='Dvr '!A33 -> Khaled Mohammed Al-Ghamdi | J30: Rakan SL | O30: =E30 -> 0.39236111 | P30: =B30 -> RST2 | Q30: =C30 -> 0.60069444 | R30: =D30 -> 0.99305556
O31: =E31 -> 0 | P31: =B31 -> 0 | Q31: =C31 -> 0 | R31: =D31 -> 0
B32: SP-R | C32: 0.75 | D32: 1.0833333 | E32: 0.33333333 | F32: ='Dvr '!A31 -> Faisal Muhammad Al-Saad | O32: =E32 -> 0.33333333 | P32: =B32 -> SP-R | Q32: =C32 -> 0.75 | R32: =D32 -> 1.0833333
O33: =E33 -> 0 | P33: =B33 -> 0 | Q33: =C33 -> 0 | R33: =D33 -> 0
B34: MLD16 | C34: 0.75902778 | D34: 0.96736111 | E34: 0.20833333 | F34: ='Dvr '!A24 -> Ryan Al Hijri | O34: =E34 -> 0.20833333 | P34: =B34 -> MLD16 | Q34: =C34 -> 0.75902778 | R34: =D34 -> 0.96736111
O35: =E35 -> 0 | P35: =B35 -> 0 | Q35: =C35 -> 0 | R35: =D35 -> 0
B36: MLD17 | C36: 0.79305556 | D36: 1.0013889 | E36: 0.20833333 | F36: ='Dvr '!A21 -> Abdullah M Al Harbi | O36: =E36 -> 0.20833333 | P36: =B36 -> MLD17 | Q36: =C36 -> 0.79305556 | R36: =D36 -> 1.0013889
O37: =E37 -> 0 | P37: =B37 -> 0 | Q37: =C37 -> 0 | R37: =D37 -> 0
B38: RDD3 | C38: 0.91666667 | D38: 1.25 | E38: 0.33333333 | F38: ='Dvr '!A25 -> Nouh T Al Sharif | J38: ='Dvr '!A18 -> Vacancy 1 | O38: =E38 -> 0.33333333 | P38: =B38 -> RDD3 | Q38: =C38 -> 0.91666667 | R38: =D38 -> 1.25
O39: =E39 -> 0 | P39: =B39 -> 0 | Q39: =C39 -> 0 | R39: =D39 -> 0
B42: Off Roster
B43: Activity | C43: On Duty | D43: Off Duty | E43: Hours | F43: Name | J43: Comments
B50: Other (Leave, Sick etc.) | I50: Rest Day Off
B51: Type | C51: Name | I51: Name
B52: SL | C52: ='Dvr '!A17 -> Rakan Asiri | I52: ='Dvr '!A34 -> Faisal Saleh Saad Al-Mutairi
...

Sheet DAS Sat
D2: Daily Alteration Sheet
B4: Saturday | D4: ='DAS Fri'!D4+1 -> 45927
B5: Driver | K5: Riyadh
B8: Shift ID | C8: On Duty | D8: Off Duty | E8: Hours | F8: Name | J8: Comments
O9: =E9 -> 0 | P9: =B9 -> 0 | Q9: =C9 -> 0 | R9: =D9 -> 0
B10: MLD1 | C10: 0.15486111 | D10: 0.36319444 | E10: 0.20833333 | F10: ='Dvr '!A28 -> Mubarak Abdul Latif Al-Ghamdi | O10: =E10 -> 0.20833333 | P10: =B10 -> MLD1 | Q10: =C10 -> 0.15486111 | R10: =D10 -> 0.36319444
O11: =E11 -> 0 | P11: =B11 -> 0 | Q11: =C11 -> 0 | R11: =D11 -> 0
B12: SP-R | C12: 0.19722222 | D12: 0.53055556 | E12: 0.33333333 | F12: ='Dvr '!A23 -> Ziad Marawan Seif | J12: ='Dvr '!A22 -> Vacancy 2 | O12: =E12 -> 0.33333333 | P12: =B12 -> SP-R | Q12: =C12 -> 0.19722222 | R12: =D12 -> 0.53055556
O13: =E13 -> 0 | P13: =B13 -> 0 | Q13: =C13 -> 0 | R13: =D13 -> 0
B14: MLD4&7 | C14: 0.19722222 | D14: 0.67916667 | E14: 0.48194444 | F14: ='Dvr '!A16 -> Tariq Ahmed Alhamrani | O14: =E14 -> 0.48194444 | P14: =B14 -> MLD4&7 | Q14: =C14 -> 0.19722222 | R14: =D14 -> 0.67916667
O15: =E15 -> 0 | P15: =B15 -> 0 | Q15: =C15 -> 0 | R15: =D15 -> 0
B16: RST1 | C16: 0.20833333 | D16: 0.60069444 | E16: 0.39236111 | F16: ='Dvr '!A9 -> Abdulrahman Mohammed Al-Juhani | O16: =E16 -> 0.39236111 | P16: =B16 -> RST1 | Q16: =C16 -> 0.20833333 | R16: =D16 -> 0.60069444
O17: =E17 -> 0 | P17: =B17 -> 0 | Q17: =C17 -> 0 | R17: =D17 -> 0
B18: RDD1 | C18: 0.25 | D18: 0.58333333 | E18: 0.33333333 | F18: ='Dvr '!A8 -> Saad K Al O taibi | J18: Mishry RD | O18: =E18 -> 0.33333333 | P18: =B18 -> RDD1 | Q18: =C18 -> 0.25 | R18: =D18 -> 0.58333333
O19: =E19 -> 0 | P19: =B19 -> 0 | Q19: =C19 -> 0 | R19: =D19 -> 0
B20: Q Path | C20: 0.27083333 | D20: 0.75347222 | E20: 0.48263889 | F20: ='Dvr '!A15 -> Shalan Al Qarni | O20: =E20 -> 0.48263889 | P20: =B20 -> Q Path | Q20: =C20 -> 0.27083333 | R20: =D20 -> 0.75347222
O21: =E21 -> 0 | P21: =B21 -> 0 | Q21: =C21 -> 0 | R21: =D21 -> 0
B22: MLD6 | C22: 0.28333333 | D22: 0.49166667 | E22: 0.20833333 | F22: ='Dvr '!A7 -> Aqeel bin Khalid Al-Melifi | O22: =E22 -> 0.20833333 | P22: =B22 -> MLD6 | Q22: =C22 -> 0.28333333 | R22: =D22 -> 0.49166667
O23: =E23 -> 0 | P23: =B23 -> 0 | Q23: =C23 -> 0 | R23: =D23 -> 0
B24: SP-R | C24: 0.49375 | D24: 0.82708333 | E24: 0.33333333 | F24: ='Dvr '!A33 -> Khaled Mohammed Al-Ghamdi | O24: =E24 -> 0.33333333 | P24: =B24 -> SP-R | Q24: =C24 -> 0.49375 | R24: =D24 -> 0.82708333
O25: =E25 -> 0 | P25: =B25 -> 0 | Q25: =C25 -> 0 | R25: =D25 -> 0
B26: MLD10&15 | C26: 0.49375 | D26: 0.925 | E26: 0.43125 | F26: ='Dvr '!A29 -> Turki M Al Qabli | O26: =E26 -> 0.43125 | P26: =B26 -> MLD10&15 | Q26: =C26 -> 0.49375 | R26: =D26 -> 0.925
O27: =E27 -> 0 | P27: =B27 -> 0 | Q27: =C27 -> 0 | R27: =D27 -> 0
B28: RDD2 | C28: 0.58333333 | D28: 0.91666667 | E28: 0.33333333 | F28: ='Dvr '!A10 -> Suhayb Al Muzaini | O28: =E28 -> 0.33333333 | P28: =B28 -> RDD2 | Q28: =C28 -> 0.58333333 | R28: =D28 -> 0.91666667
O29: =E29 -> 0 | P29: =B29 -> 0 | Q29: =C29 -> 0 | R29: =D29 -> 0
B30: RST2 | C30: 0.60069444 | D30: 0.99305556 | E30: 0.39236111 | F30: ='Dvr '!A21 -> Abdullah M Al Harbi | J30: Rakan SL | O30: =E30 -> 0.39236111 | P30: =B30 -> RST2 | Q30: =C30 -> 0.60069444 | R30: =D30 -> 0.99305556
O31: =E31 -> 0 | P31: =B31 -> 0 | Q31: =C31 -> 0 | R31: =D31 -> 0
B32: SP-R | C32: 0.75 | D32: 1.0833333 | E32: =D32-C32 -> 0.33333333 | F32: ='Dvr '!A31 -> Faisal Muhammad Al-Saad | O32: =E32 -> 0.33333333 | P32: =B32 -> SP-R | Q32: =C32 -> 0.75 | R32: =D32 -> 1.0833333
O33: =E33 -> 0 | P33: =B33 -> 0 | Q33: =C33 -> 0 | R33: =D33 -> 0
B34: MLD16 | C34: 0.75902778 | D34: 0.96736111 | E34: 0.20833333 | F34: ='Dvr '!A11 -> Abdullah Yahya Sahari | O34: =E34 -> 0.20833333 | P34: =B34 -> MLD16 | Q34: =C34 -> 0.75902778 | R34: =D34 -> 0.96736111
O35: =E35 -> 0 | P35: =B35 -> 0 | Q35: =C35 -> 0 | R35: =D35 -> 0
B36: MLD17 | C36: 0.79305556 | D36: 1.0013889 | E36: 0.20833333 | F36: ='Dvr '!A24 -> Ryan Al Hijri | O36: =E36 -> 0.20833333 | P36: =B36 -> MLD17 | Q36: =C36 -> 0.79305556 | R36: =D36 -> 1.0013889
O37: =E37 -> 0 | P37: =B37 -> 0 | Q37: =C37 -> 0 | R37: =D37 -> 0
B38: RDD3 | C38: 0.91666667 | D38: 1.25 | E38: 0.33333333 | F38: ='Dvr '!A25 -> Nouh T Al Sharif | J38: ='Dvr '!A18 -> Vacancy 1 | O38: =E38 -> 0.33333333 | P38: =B38 -> RDD3 | Q38: =C38 -> 0.91666667 | R38: =D38 -> 1.25
O39: =E39 -> 0 | P39: =B39 -> 0 | Q39: =C39 -> 0 | R39: =D39 -> 0
B42: Off Roster
B43: Activity | C43: On Duty | D43: Off Duty | E43: Hours | F43: Name | J43: Comments
B50: Other (Leave, Sick etc.) | I50: Rest Day Off
B51: Type | C51: Name | I51: Name
B52: SL | C52: ='Dvr '!A17 -> Rakan Asiri | I52: ='Dvr '!A34 -> Faisal Saleh Saad Al-Mutairi
...

Sheet Tng & Det
A2: Training & Detachments
A6: Riyadh | B6: Driver
C9: ='Dvr '!B3 -> 45921 | D9: =C9+1 -> 45922 | E9: =D9+1 -> 45923 | F9: =E9+1 -> 45924 | G9: =F9+1 -> 45925 | H9: =G9+1 -> 45926 | I9: =H9+1 -> 45927
A10: Name | B10: Description | C10: =C9 -> 45921 | D10: =D9 -> 45922 | E10: =E9 -> 45923 | F10: =F9 -> 45924 | G10: =G9 -> 45925 | H10: =H9 -> 45926 | I10: =I9 -> 45927

Sheet Phone#
A2: Contact Numbers
C6: Name | D6: Mobile #
C7: Khaled Ibrahim Al-Otaibi | D7: 054 101 9099
C8: Omar Ali Al-Fifi | D8: 055 355 4004
C9: Mubarak Abdul Latif Al-Ghamdi | D9: 054 453 0027
C10: Faisal Muhammad Al-Saad | D10: 050 025 5935
C11: Badr Saeed Al-Zahrani | D11: 055 779 3889
C12: Ibrahim Abdullah Al-Suhaimi | D12: 055 016 0221
C13: Abdullah Yahya Sahari | D13: 055 186 6692
C14: Khaled Mohammed Al-Ghamdi | D14: 056 037 4611
C15: Aqeel bin Khalid Al-Melifi | D15: 055 731 6015
C16: Mishary Abdel Qader Al-Maghoudi | D16: 055 179 8880
C17: Abdulaziz bin Nasser Marghalani | D17: 054 247 5767
... C27: Ryan Al Hijri | D27: 050 423 7725
A29: Operation Train Crew Office Ext: +966 (0) 11 525 0000 Ext:

Sheet Hours
C1: Dutty Hours | V1: Mainline & Depot Hours
C2: ='Dvr '!B3 -> 45921 | E2: =C2+1 -> 45922 | G2: =E2+1 -> 45923 | I2: =G2+1 -> 45924 | K2: =I2+1 -> 45925 | M2: =K2+1 -> 45926 | O2: =M2+1 -> 45927 | V2: ='Dvr '!B3 -> 45921 | AA2: =V2+1 -> 45922 | AF2: =AA2+1 -> 45923 | AK2: =AF2+1 -> 45924 | AP2: =AK2+1 -> 45925 | AU2: =AP2+1 -> 45926 | AZ2: =AU2+1 -> 45927 | BL2: =BM2-1 -> 45920 | BM2: ='Dvr '!B3 -> 45921 | BQ2: =BM2+1 -> 45922 | BU2: =BQ2+1 -> 45923 | BY2: =BU2+1 -> 45924 | CC2: =BY2+1 -> 45925 | CG2: =CC2+1 -> 45926 | CK2: =CG2+1 -> 45927
C3: Sun | E3: Mon | G3: Tue | I3: Wed | K3: Thu | M3: Fri | O3: Sat | V3: Sunday | AA3: Monday | AF3: Tuesday | AK3: Wednesday | AP3: Thursday | AU3: Friday | AZ3: Saturday | BL3: Sat | BM3: Sun | BO3: 1 | BQ3: Mon | BU3: Tue | BY3: Wed | CC3: Thu | CG3: Fri | CK3: Sat
C4: Actual | D4: BaseRoster | E4: Actual | F4: BaseRoster | G4: Actual | H4: BaseRoster | I4: Actual | J4: BaseRoster | K4: Actual | L4: BaseRoster | M4: Actual | N4: BaseRoster | O4: Actual | P4: BaseRoster | Q4: Actual Hours | R4: BaseRoster Hours | S4: Off | V4: Shift | W4: Mainline | X4: Depot | Y4: Location | Z4: Km | AA4: Shift | AB4: Mainline | AC4: Depot | AD4: Location | AE4: Km | AF4: Shift | AG4: Mainline | AH4: Depot | AI4: Location | AJ4: Km | AK4: Shift | AL4: Mainline | AM4: Depot | AN4: Location | AO4: Km | AP4: Shift | AQ4: Mainline | AR4: Depot | AS4: Location | AT4: Km | AU4: Shift | AV4: Mainline | AW4: Depot | AX4: Location | AY4: Km | AZ4: Shift | BA4: Mainline | BB4: Depot | BC4: Location | BD4: Km | BE4: Actual Mainline Hours | BF4: BaseRoster Mainline Hours | BG4: Actual depot Hours | BH4: BaseRoster depot Hours | BI4: Km | BL4: Off Duty | BM4: in | BN4: out | BP4: Hours Rest | BQ4: in | BR4: out | BT4: Hours Rest | BU4: in | BV4: out | BX4: Hours Rest | BY4: in | BZ4: out | CB4: Hours Rest | CC4: in | CD4: out | CF4: Hours Rest | CG4: in | CH4: out | CJ4: Hours Rest | CK4: in | CL4: out | CM4: Off Duty | CN4: Hours Rest
