Workbook

Sheet Dvr 
A3: Week Commencing Sunday | B3: 45921 | J3: Riyadh Drivers
B5: Sunday | F5: Monday | J5: Tuesday | N5: Wednesday | R5: Thursday | V5: Friday | Z5: Saturday
B6: Shift | C6: On | D6: Off | E6: Hours | F6: Shift | G6: On | H6: Off | I6: Hours | J6: Shift | K6: On | L6: Off | M6: Hours | N6: Shift | O6: On | P6: Off | Q6: Hours | R6: Shift | S6: On | T6: Off | U6: Hours | V6: Shift | W6: On | X6: Off | Y6: Hours | Z6: Shift | AA6: On | AB6: Off | AC6: Hours | AD6: Hr | AE6: Av | AF6: RD
A7: Aqeel bin Khalid Al-Melifi | C7: Rest | D7: Day | G7: Rest | H7: Day | K7: Rest | L7: Day | N7: MLD4&7 | O7: 0.19722222 | P7: 0.67916667 | Q7: =P7-O7 -> 0.48194444 | R7: RST1 | S7: 0.20833333 | T7: 0.60069444 | U7: =T7-S7 -> 0.39236111 | V7: MLD4&7 | W7: 0.19722222 | X7: 0.67916667 | Y7: =X7-W7 -> 0.48194444 | Z7: MLD6 | AA7: 0.28333333 | AB7: 0.49166667 | AC7: =AB7-AA7 -> 0.20833333 | AD7: =E7+I7+M7+Q7+U7+Y7+AC7 -> 1.5645833 | AE7: =AVERAGE(AD29+AD28+AD27)/3 -> 1.5847222 | AF7: 3
A8: Saad K Al O taibi | B8: MLD1 | C8: 0.15486111 | D8: 0.36319444 | E8: =D8-C8 -> 0.20833333 | G8: Rest | H8: Day | K8: Rest | L8: Day | N8: Q Path | O8: 0.27083333 | P8: 0.75347222 | Q8: =P8-O8 -> 0.48263889 | R8: SP | S8: 0.27986111 | T8: 0.61319444 | U8: =T8-S8 -> 0.33333333 | V8: SP | W8: 0.27986111 | X8: 0.61319444 | Y8: =X8-W8 -> 0.33333333 | Z8: SP | AA8: 0.27986111 | AB8: 0.61319444 | AC8: =AB8-AA8 -> 0.33333333 | AD8: =E8+I8+M8+Q8+U8+Y8+AC8 -> 1.6909722 | AE8: =AVERAGE(AD7+AD29+AD28)/3 -> 1.5310185 | AF8: 2
A9: Abdulrahman Mohammed Al-Juhani | B9: SP | C9: 0.27986111 | D9: 0.61319444 | E9: =D9-C9 -> 0.33333333 | F9: MLD4&7 | G9: 0.19722222 | H9: 0.67916667 | I9: =H9-G9 -> 0.48194444 | K9: Rest | L9: Day | O9: Rest | P9: Day | R9: MLD6 | S9: 0.28333333 | T9: 0.49166667 | U9: =T9-S9 -> 0.20833333 | V9: MLD1 | W9: 0.15486111 | X9: 0.36319444 | Y9: =X9-W9 -> 0.20833333 | Z9: RST1 | AA9: 0.20833333 | AB9: 0.60069444 | AC9: =AB9-AA9 -> 0.39236111 | AD9: =E9+I9+M9+Q9+U9+Y9+AC9 -> 1.6243056 | AE9: =AVERAGE(AD8+AD7+AD29)/3 -> 1.6643519 | AF9: 2
A10: Suhayb Al Muzaini | B10: Q Path | C10: 0.27083333 | D10: 0.75347222 | E10: =D10-C10 -> 0.48263889 | F10: MLD6 | G10: 0.28333333 | H10: 0.49166667 | I10: =H10-G10 -> 0.20833333 | J10: MLD1 | K10: 0.15486111 | L10: 0.36319444 | M10: =L10-K10 -> 0.20833333 | O10: Rest | P10: Day | S10: Rest | T10: Day | V10: RDD2 | W10: 0.58333333 | X10: 0.91666667 | Y10: =X10-W10 -> 0.33333333 | Z10: RDD2 | AA10: 0.58333333 | AB10: 0.91666667 | AC10: =AB10-AA10 -> 0.33333333 | AD10: =E10+I10+M10+Q10+U10+Y10+AC10 -> 1.5659722 | AE10: =AVERAGE(AD9+AD8+AD7)/3 -> 1.6266204 | AF10: 2
A11: Abdullah Yahya Sahari | B11: SP | C11: 0.58333333 | D11: 0.91666667 | E11: =D11-C11 -> 0.33333333 | F11: SP | G11: 0.58333333 | H11: 0.91666667 | I11: =H11-G11 -> 0.33333333 | J11: SP | K11: 0.58333333 | L11: 0.91666667 | M11: =L11-K11 -> 0.33333333 | N11: SP | O11: 0.58333333 | P11: 0.91666667 | Q11: =P11-O11 -> 0.33333333 | S11: Rest | T11: Day | W11: Rest | X11: Day | Z11: MLD16 | AA11: 0.75902778 | AB11: 0.96736111 | AC11: =AB11-AA11 -> 0.20833333 | AD11: =E11+I11+M11+Q11+U11+Y11+AC11 -> 1.5416667 | AE11: =AVERAGE(AD10+AD9+AD8)/3 -> 1.6270833 | AF11: 2
A12: Hussam D Al-Hajji | B12: MLD17 | C12: 0.79305556 | D12: 1.0013889 | E12: =D12-C12 -> 0.20833333 | F12: SP | G12: 0.75 | H12: 1.0833333 | I12: =H12-G12 -> 0.33333333 | J12: SP | K12: 0.75 | L12: 1.0833333 | M12: =L12-K12 -> 0.33333333 | N12: MLD16 | O12: 0.75902778 | P12: 0.96736111 | Q12: =P12-O12 -> 0.20833333 | R12: MLD17 | S12: 0.79305556 | T12: 1.0013889 | U12: =T12-S12 -> 0.20833333 | W12: Rest | X12: Day | AA12: Rest | AB12: Day | AD12: =E12+I12+M12+Q12+U12+Y12+AC12 -> 1.2916667 | AE12: =AVERAGE(AD11+AD10+AD9)/3 -> 1.5773148 | AF12: 2
A13: Abdulaziz bin Nasser Marghalani | C13: Rest | D13: Day | F13: SP | G13: 0.22916667 | H13: 0.5625 | I13: =H13-G13 -> 0.33333333 | J13: SP | K13: 0.22916667 | L13: 0.5625 | M13: =L13-K13 -> 0.33333333 | N13: SP | O13: 0.22916667 | P13: 0.5625 | Q13: =P13-O13 -> 0.33333333 | R13: SP | S13: 0.22916667 | T13: 0.5625 | U13: =T13-S13 -> 0.33333333 | W13: Rest | X13: Day | AA13: Rest | AB13: Day | AD13: =E13+I13+M13+Q13+U13+Y13+AC13 -> 1.3333333 | AE13: =AVERAGE(AD12+AD11+AD10)/3 -> 1.4664352 | AF13: 3
A14: Abdulah M. Yahya | C14: Rest | D14: Day | G14: Rest | H14: Day | J14: MLD4&7 | K14: 0.19722222 | L14: 0.67916667 | M14: =L14-K14 -> 0.48194444 | N14: SP | O14: 0.19722222 | P14: 0.53055556 | Q14: =P14-O14 -> 0.33333333 | R14: SP | S14: 0.19722222 | T14: 0.53055556 | U14: =T14-S14 -> 0.33333333 | V14: SP | W14: 0.22916667 | X14: 0.5625 | Y14: =X14-W14 -> 0.33333333 | AA14: Rest | AB14: Day | AD14: =E14+I14+M14+Q14+U14+Y14+AC14 -> 1.4819444 | AE14: =AVERAGE(AD13+AD12+AD11)/3 -> 1.3888889 | AF14: 3
A15: Shalan Al Qarni | C15: Rest | D15: Day | G15: Rest | H15: Day | K15: Rest | L15: Day | N15: MLD6 | O15: 0.28333333 | P15: 0.49166667 | Q15: =P15-O15 -> 0.20833333 | R15: MLD1 | S15: 0.15486111 | T15: 0.36319444 | U15: =T15-S15 -> 0.20833333 | V15: Q Path | W15: 0.27083333 | X15: 0.75347222 | Y15: =X15-W15 -> 0.48263889 | Z15: Q Path | AA15: 0.27083333 | AB15: 0.75347222 | AC15: =AB15-AA15 -> 0.48263889 | AD15: =E15+I15+M15+Q15+U15+Y15+AC15 -> 1.3819444 | AE15: =AVERAGE(AD14+AD13+AD12)/3 -> 1.3689815 | AF15: 3
A16: Tariq Ahmed Alhamrani | B16: SP | C16: 0.27986111 | D16: 0.61319444 | E16: =D16-C16 -> 0.33333333 | F16: SP | G16: 0.27986111 | H16: 0.61319444 | I16: =H16-G16 -> 0.33333333 | K16: Rest | L16: Day | O16: Rest | P16: Day | S16: Rest | T16: Day | V16: RST1 | W16: 0.20833333 | X16: 0.60069444 | Y16: =X16-W16 -> 0.39236111 | Z16: MLD4&7 | AA16: 0.19722222 | AB16: 0.67916667 | AC16: =AB16-AA16 -> 0.48194444 | AD16: =E16+I16+M16+Q16+U16+Y16+AC16 -> 1.5409722 | AE16: =AVERAGE(AD15+AD14+AD13)/3 -> 1.3990741 | AF16: 3
A17: Rakan Asiri | B17: MLD6 | C17: 0.28333333 | D17: 0.49166667 | E17: =D17-C17 -> 0.20833333 | F17: MLD1 | G17: 0.15486111 | H17: 0.36319444 | I17: =H17-G17 -> 0.20833333 | J17: Q Path | K17: 0.27083333 | L17: 0.75347222 | M17: =L17-K17 -> 0.48263889 | O17: Rest | P17: Day | S17: Rest | T17: Day | V17: RST2 | W17: 0.60069444 | X17: 0.99305556 | Y17: =X17-W17 -> 0.39236111 | Z17: RST2 | AA17: 0.60069444 | AB17: 0.99305556 | AC17: =AB17-AA17 -> 0.39236111 | AD17: =E17+I17+M17+Q17+U17+Y17+AC17 -> 1.6840278 | AE17: =AVERAGE(AD16+AD15+AD14)/3 -> 1.468287 | AF17: 2
A18: Vacancy 1 | B18: MLD16 | C18: 0.75902778 | D18: 0.96736111 | E18: =D18-C18 -> 0.20833333 | F18: MLD17 | G18: 0.79305556 | H18: 1.0013889 | I18: =H18-G18 -> 0.20833333 | K18: Rest | L18: Day | O18: Rest | P18: Day | S18: Rest | T18: Day | V18: RDD3 | W18: 0.91666667 | X18: 1.25 | Y18: =X18-W18 -> 0.33333333 | Z18: RDD3 | AA18: 0.91666667 | AB18: 1.25 | AC18: =AB18-AA18 -> 0.33333333 | AD18: =E18+I18+M18+Q18+U18+Y18+AC18 -> 1.0833333 | AE18: =AVERAGE(AD17+AD16+AD15)/3 -> 1.5356481 | AF18: 2
A19: Ayoub Mobarak Al-Lajhar | B19: RDD3 | C19: 0.91666667 | D19: 1.25 | E19: =D19-C19 -> 0.33333333 | F19: RDD3 | G19: 0.91666667 | H19: 1.25 | I19: =H19-G19 -> 0.33333333 | J19: RDD3 | K19: 0.91666667 | L19: 1.25 | M19: =L19-K19 -> 0.33333333 | N19: RDD3 | O19: 0.91666667 | P19: 1.25 | Q19: =P19-O19 -> 0.33333333 | R19: RDD3 | S19: 0.91666667 | T19: 1.25 | U19: =T19-S19 -> 0.33333333 | W19: Rest | X19: Day | AA19: Rest | AB19: Day | AD19: =E19+I19+M19+Q19+U19+Y19+AC19 -> 1.6666667 | AE19: =AVERAGE(AD18+AD17+AD16)/3 -> 1.4361111 | AF19: 2 | AG19: 35 SP
A20: Faisal Al Nemry | B20: SP | C20: 0.19722222 | D20: 0.53055556 | E20: =D20-C20 -> 0.33333333 | F20: SP | G20: 0.19722222 | H20: 0.53055556 | I20: =H20-G20 -> 0.33333333 | J20: SP | K20: 0.19722222 | L20: 0.53055556 | M20: =L20-K20 -> 0.33333333 | N20: SP | O20: 0.19722222 | P20: 0.53055556 | Q20: =P20-O20 -> 0.33333333 | R20: Q Path | S20: 0.27083333 | T20: 0.75347222 | U20: =T20-S20 -> 0.48263889 | W20: Rest | X20: Day | AA20: Rest | AB20: Day | AD20: =E20+I20+M20+Q20+U20+Y20+AC20 -> 1.8159722 | AE20: =AVERAGE(AD19+AD18+AD17)/3 -> 1.4780093 | AF20: 3
A21: Abdullah M Al Harbi | C21: Rest | D21: Day | G21: Rest | H21: Day | K21: Rest | L21: Day | N21: SP | O21: 0.75 | P21: 1.0833333 | Q21: =P21-O21 -> 0.33333333 | R21: MLD16 | S21: 0.75902778 | T21: 0.96736111 | U21: =T21-S21 -> 0.20833333 | V21: MLD17 | W21: 0.79305556 | X21: 1.0013889 | Y21: =X21-W21 -> 0.20833333 | Z21: SP | AA21: 0.58333333 | AB21: 0.91666667 | AC21: =AB21-AA21 -> 0.33333333 | AD21: =E21+I21+M21+Q21+U21+Y21+AC21 -> 1.0833333 | AE21: =AVERAGE(AD19+AD18+AD17)/3 -> 1.4780093 | AF21: 3
A22: Vacancy 2 | C22: Rest | D22: Day | G22: Rest | H22: Day | J22: MLD6 | K22: 0.28333333 | L22: 0.49166667 | M22: =L22-K22 -> 0.20833333 | N22: MLD1 | O22: 0.15486111 | P22: 0.36319444 | Q22: =P22-O22 -> 0.20833333 | R22: SP | S22: 0.19722222 | T22: 0.53055556 | U22: =T22-S22 -> 0.33333333 | V22: SP | W22: 0.19722222 | X22: 0.53055556 | Y22: =X22-W22 -> 0.33333333 | Z22: SP | AA22: 0.19722222 | AB22: 0.53055556 | AC22: =AB22-AA22 -> 0.33333333 | AD22: =E22+I22+M22+Q22+U22+Y22+AC22 -> 1.4166667 | AE22: =AVERAGE(AD21+AD20+AD19)/3 -> 1.5219907 | AF22: 2
A23: Ziad Marawan Seif | B23: SP | C23: 0.22916667 | D23: 0.5625 | E23: =D23-C23 -> 0.33333333 | F23: SP | G23: 0.22916667 | H23: 0.5625 | I23: =H23-G23 -> 0.33333333 | K23: Rest | L23: Day | O23: Rest | P23: Day | S23: Rest | T23: Day | V23: SP | W23: 0.27986111 | X23: 0.61319444 | Y23: =X23-W23 -> 0.33333333 | Z23: SP | AA23: 0.27986111 | AB23: 0.61319444 | AC23: =AB23-AA23 -> 0.33333333 | AD23: =E23+I23+M23+Q23+U23+Y23+AC23 -> 1.3333333 | AE23: =AVERAGE(AD22+AD21+AD20)/3 -> 1.4386574 | AF23: 2
A24: Ryan Al Hijri | B24: MLD4&7 | C24: 0.19722222 | D24: 0.67916667 | E24: =D24-C24 -> 0.48194444 | F24: RST1 | G24: 0.20833333 | H24: 0.60069444 | I24: =H24-G24 -> 0.39236111 | K24: Rest | L24: Day | O24: Rest | P24: Day | R24: SP | S24: 0.58333333 | T24: 0.91666667 | U24: =T24-S24 -> 0.33333333 | V24: MLD16 | W24: 0.75902778 | X24: 0.96736111 | Y24: =X24-W24 -> 0.20833333 | Z24: MLD17 | AA24: 0.79305556 | AB24: 1.0013889 | AC24: =AB24-AA24 -> 0.20833333 | AD24: =E24+I24+M24+Q24+U24+Y24+AC24 -> 1.6243056 | AE24: =AVERAGE(AD23+AD22+AD21)/3 -> 1.2777778 | AF24: 2
A25: Nouh T Al Sharif | B25: SP | C25: 0.58333333 | D25: 0.91666667 | E25: =D25-C25 -> 0.33333333 | F25: SP | G25: 0.58333333 | H25: 0.91666667 | I25: =H25-G25 -> 0.33333333 | J25: SP | K25: 0.58333333 | L25: 0.91666667 | M25: =L25-K25 -> 0.33333333 | O25: Rest | P25: Day | S25: Rest | T25: Day | V25: SP | W25: 0.91666667 | X25: 1.25 | Y25: =X25-W25 -> 0.33333333 | Z25: SP | AA25: 0.91666667 | AB25: 1.25 | AC25: =AB25-AA25 -> 0.33333333 | AD25: =E25+I25+M25+Q25+U25+Y25+AC25 -> 1.6666667 | AE25: =AVERAGE(AD24+AD23+AD22)/3 -> 1.4581019 | AF25: 2
A26: Hazem Alghamdi | B26: SP | C26: 0.91666667 | D26: 1.25 | E26: =D26-C26 -> 0.33333333 | F26: SP | G26: 0.91666667 | H26: 1.25 | I26: =H26-G26 -> 0.33333333 | J26: SP | K26: 0.91666667 | L26: 1.25 | M26: =L26-K26 -> 0.33333333 | N26: SP | O26: 0.91666667 | P26: 1.25 | Q26: =P26-O26 -> 0.33333333 | R26: SP | S26: 0.91666667 | T26: 1.25 | U26: =T26-S26 -> 0.33333333 | W26: Rest | X26: Day | AA26: Rest | AB26: Day | AD26: =E26+I26+M26+Q26+U26+Y26+AC26 -> 1.6666667 | AE26: =AVERAGE(AD25+AD24+AD23)/3 -> 1.5414352 | AF26: 2
A27: Mohammed A Al Raddadi | B27: SP | C27: 0.19722222 | D27: 0.53055556 | E27: =D27-C27 -> 0.33333333 | F27: SP | G27: 0.19722222 | H27: 0.53055556 | I27: =H27-G27 -> 0.33333333 | J27: RST1 | K27: 0.20833333 | L27: 0.60069444 | M27: =L27-K27 -> 0.39236111 | N27: SP | O27: 0.27986111 | P27: 0.61319444 | Q27: =P27-O27 -> 0.33333333 | R27: SP | S27: 0.27986111 | T27: 0.61319444 | U27: =T27-S27 -> 0.33333333 | W27: Rest | X27: Day | AA27: Rest | AB27: Day | AD27: =E27+I27+M27+Q27+U27+Y27+AC27 -> 1.7256944 | AE27: =AVERAGE(AD26+AD25+AD24)/3 -> 1.6525463 | AF27: 2
A28: Mubarak Abdul Latif Al-Ghamdi | C28: Rest | D28: Day | G28: Rest | H28: Day | K28: Rest | L28: Day | N28: RST1 | O28: 0.20833333 | P28: 0.60069444 | Q28: =P28-O28 -> 0.39236111 | R28: MLD4&7 | S28: 0.19722222 | T28: 0.67916667 | U28: =T28-S28 -> 0.48194444 | V28: MLD6 | W28: 0.28333333 | X28: 0.49166667 | Y28: =X28-W28 -> 0.20833333 | Z28: MLD1 | AA28: 0.15486111 | AB28: 0.36319444 | AC28: =AB28-AA28 -> 0.20833333 | AD28: =E28+I28+M28+Q28+U28+Y28+AC28 -> 1.2909722 | AE28: =AVERAGE(AD27+AD26+AD25)/3 -> 1.6863426 | AF28: 3
A29: Turki M Al Qabli | B29: RST1 | C29: 0.20833333 | D29: 0.60069444 | E29: =D29-C29 -> 0.39236111 | F29: Q Path | G29: 0.27083333 | H29: 0.75347222 | I29: =H29-G29 -> 0.48263889 | K29: Rest | L29: Day | O29: Rest | P29: Day | S29: Rest | T29: Day | V29: MLD10&15 | W29: 0.49375 | X29: 0.925 | Y29: =X29-W29 -> 0.43125 | Z29: MLD10&15 | AA29: 0.49375 | AB29: 0.925 | AC29: =AB29-AA29 -> 0.43125 | AD29: =E29+I29+M29+Q29+U29+Y29+AC29 -> 1.7375 | AE29: =AVERAGE(AD28+AD27+AD26)/3 -> 1.5611111 | AF29: 2
A30: Badr Saeed Al-Zahrani | B30: RDD2 | C30: 0.58333333 | D30: 0.91666667 | E30: =D30-C30 -> 0.33333333 | F30: RDD2 | G30: 0.58333333 | H30: 0.91666667 | I30: =H30-G30 -> 0.33333333 | J30: RDD2 | K30: 0.58333333 | L30: 0.91666667 | M30: =L30-K30 -> 0.33333333 | N30: RDD2 | O30: 0.58333333 | P30: 0.91666667 | Q30: =P30-O30 -> 0.33333333 | R30: RDD2 | S30: 0.58333333 | T30: 0.91666667 | U30: =T30-S30 -> 0.33333333 | W30: Rest | X30: Day | AA30: Rest | AB30: Day | AD30: =AVERAGE(AD7:AD29) -> 1.513587 | AF30: =AVERAGE(AF7:AF29) -> 2.3478261
A31: Faisal Muhammad Al-Saad | C31: Rest | D31: Day | G31: Rest | H31: Day | J31: MLD16 | K31: 0.75902778 | L31: 0.96736111 | M31: =L31-K31 -> 0.20833333 | N31: MLD17 | O31: 0.79305556 | P31: 1.0013889 | Q31: =P31-O31 -> 0.20833333 | R31: SP | S31: 0.75 | T31: 1.0833333 | U31: =T31-S31 -> 0.33333333 | V31: SP | W31: 0.75 | X31: 1.0833333 | Y31: =X31-W31 -> 0.33333333 | Z31: SP | AA31: 0.75 | AB31: 1.0833333 | AC31: =AB31-AA31 -> 0.33333333
A32: Mishary Abdel Qader Al-Maghoudi | B32: SP | C32: 0.75 | D32: 1.0833333 | E32: =D32-C32 -> 0.33333333 | F32: MLD16 | G32: 0.75902778 | H32: 0.96736111 | I32: =H32-G32 -> 0.20833333 | J32: MLD17 | K32: 0.79305556 | L32: 1.0013889 | M32: =L32-K32 -> 0.20833333 | O32: Rest | P32: Day | S32: Rest | T32: Day | V32: RDD1 | W32: 0.25 | X32: 0.58333333 | Y32: =X32-W32 -> 0.33333333 | Z32: RDD1 | AA32: 0.25 | AB32: 0.58333333 | AC32: =AB32-AA32 -> 0.33333333
A33: Khaled Mohammed Al-Ghamdi | B33: SP | C33: 0.27986111 | D33: 0.61319444 | E33: =D33-C33 -> 0.33333333 | F33: SP | G33: 0.27986111 | H33: 0.61319444 | I33: =H33-G33 -> 0.33333333 | K33: Rest | L33: Day | O33: Rest | P33: Day | R33: RST2 | S33: 0.60069444 | T33: 0.99305556 | U33: =T33-S33 -> 0.39236111 | V33: SP | W33: 0.49375 | X33: 0.82708333 | Y33: =X33-W33 -> 0.33333333 | Z33: SP | AA33: 0.49375 | AB33: 0.82708333 | AC33: =AB33-AA33 -> 0.33333333
A34: Faisal Saleh Saad Al-Mutairi | B34: RST2 | C34: 0.60069444 | D34: 0.99305556 | E34: =D34-C34 -> 0.39236111 | F34: RST2 | G34: 0.60069444 | H34: 0.99305556 | I34: =H34-G34 -> 0.39236111 | J34: RST2 | K34: 0.60069444 | L34: 0.99305556 | M34: =L34-K34 -> 0.39236111 | N34: RST2 | O34: 0.60069444 | P34: 0.99305556 | Q34: =P34-O34 -> 0.39236111 | S34: Rest | T34: Day | W34: Rest | X34: Day | AA34: Rest | AB34: Day | AD34: =E34+I34+M34+Q34+U34+Y34+AC34 -> 1.5694444
B37: Sunday | F37: Monday | J37: Tuesday | N37: Wednesday | R37: Thursday | V37: Friday | Z37: Saturday
B38: Shift | C38: On | D38: Off | E38: Hours | F38: Shift | G38: On | H38: Off | I38: Hours | J38: Shift | K38: On | L38: Off | M38: Hours | N38: Shift | O38: On | P38: Off | Q38: Hours | R38: Shift | S38: On | T38: Off | U38: Hours | V38: Shift | W38: On | X38: Off | Y38: Hours | Z38: Shift | AA38: On | AB38: Off | AC38: Hours
A39: Ibrahim Abdullah Al-Suhaimi | B39: RDD1 | C39: 0.25 | D39: 0.58333333 | E39: =D39-C39 -> 0.33333333 | F39: RDD1 | G39: 0.25 | H39: 0.58333333 | I39: =H39-G39 -> 0.33333333 | J39: RDD1 | K39: 0.25 | L39: 0.58333333 | M39: =L39-K39 -> 0.33333333 | N39: RDD1 | O39: 0.25 | P39: 0.58333333 | Q39: =P39-O39 -> 0.33333333 | R39: RDD1 | S39: 0.25 | T39: 0.58333333 | U39: =T39-S39 -> 0.33333333 | W39: Rest | X39: Day | AA39: Rest | AB39: Day
B42: It is your responsibility to consult the Daily Alteration Sheet to ensure that you are aware of your shifts and any changes that may have taken place.
B44: All leave, sick, training, off roster etc. is shown on the Daily Sheets

Sheet DAS Sun
D2: Daily Alteration Sheet
B4: Sunday | D4: ='Dvr '!B3 -> 45921
B5: Driver | K5: Riyadh
B8: Shift ID | C8: On Duty | D8: Off Duty | E8: Hours | F8: Name | J8: Comments
O9: =E9 -> 0 | P9: =B9 -> 0 | Q9: =C9 -> 0 | R9: =D9 -> 0
B10: MLD1 | C10: 0.15486111 | D10: 0.36319444 | E10: 0.20833333 | F10: ='Dvr '!A8 -> Saad K Al O taibi | O10: =E10 -> 0.20833333 | P10: =B10 -> MLD1 | Q10: =C10 -> 0.15486111 | R10: =D10 -> 0.36319444
O11: =E11 -> 0 | P11: =B11 -> 0 | Q11: =C11 -> 0 | R11: =D11 -> 0
B12: SP-R | C12: 0.19722222 | D12: 0.53055556 | E12: 0.33333333 | F12: ='Dvr '!A20 -> Faisal Al Nemry | O12: =E12 -> 0.33333333 | P12: =B12 -> SP-R | Q12: =C12 -> 0.19722222 | R12: =D12 -> 0.53055556
O13: =E13 -> 0 | P13: =B13 -> 0 | Q13: =C13 -> 0 | R13: =D13 -> 0
B14: MLD4&7 | C14: 0.19722222 | D14: 0.67916667 | E14: 0.48194444 | F14: ='Dvr '!A27 -> Mohammed A Al Raddadi | J14: Rayan TRG | O14: =E14 -> 0.48194444 | P14: =B14 -> MLD4&7 | Q14: =C14 -> 0.19722222 | R14: =D14 -> 0.67916667
O15: =E15 -> 0 | P15: =B15 -> 0 | Q15: =C15 -> 0 | R15: =D15 -> 0
B16: RST1 | C16: 0.20833333 | D16: 0.60069444 | E16: 0.39236111 | F16: ='Dvr '!A32 -> Mishary Abdel Qader Al-Maghoudi | J16: Turki AL | O16: =E16 -> 0.39236111 | P16: =B16 -> RST1 | Q16: =C16 -> 0.20833333 | R16: =D16 -> 0.60069444
O17: =E17 -> 0 | P17: =B17 -> 0 | Q17: =C17 -> 0 | R17: =D17 -> 0
B18: RDD1 | C18: 0.25 | D18: 0.58333333 | E18: =D18-C18 -> 0.33333333 | F18: ='Dvr '!A39 -> Ibrahim Abdullah Al-Suhaimi | O18: =E18 -> 0.33333333 | P18: =B18 -> RDD1 | Q18: =C18 -> 0.25 | R18: =D18 -> 0.58333333
O19: =E19 -> 0 | P19: =B19 -> 0 | Q19: =C19 -> 0 | R19: =D19 -> 0
B20: Q Path | C20: 0.27083333 | D20: 0.75347222 | E20: =D20-C20 -> 0.48263889 | F20: ='Dvr '!A10 -> Suhayb Al Muzaini | O20: =E20 -> 0.48263889 | P20: =B20 -> Q Path | Q20: =C20 -> 0.27083333 | R20: =D20 -> 0.75347222
O21: =E21 -> 0 | P21: =B21 -> 0 | Q21: =C21 -> 0 | R21: =D21 -> 0
B22: MLD6 | C22: 0.28333333 | D22: 0.49166667 | E22: 0.20833333 | F22: ='Dvr '!A16 -> Tariq Ahmed Alhamrani | J22: Rakan SL | O22: =E22 -> 0.20833333 | P22: =B22 -> MLD6 | Q22: =C22 -> 0.28333333 | R22: =D22 -> 0.49166667
O23: =E23 -> 0 | P23: =B23 -> 0 | Q23: =C23 -> 0 | R23: =D23 -> 0
B24: RDD2 | C24: 0.58333333 | D24: 0.91666667 | E24: 0.33333333 | F24: ='Dvr '!A30 -> Badr Saeed Al-Zahrani | O24: =E24 -> 0.33333333 | P24: =B24 -> RDD2 | Q24: =C24 -> 0.58333333 | R24: =D24 -> 0.91666667
O25: =E25 -> 0 | P25: =B25 -> 0 | Q25: =C25 -> 0 | R25: =D25 -> 0
B26: RST2 | C26: 0.60069444 | D26: 0.99305556 | E26: 0.39236111 | F26: ='Dvr '!A25 -> Nouh T Al Sharif | J26: Faisal AL | O26: =E26 -> 0.39236111 | P26: =B26 -> RST2 | Q26: =C26 -> 0.60069444 | R26: =D26 -> 0.99305556
O27: =E27 -> 0 | P27: =B27 -> 0 | Q27: =C27 -> 0 | R27: =D27 -> 0
B28: SP-R | C28: 0.75 | D28: 1.0833333 | E28: 0.33333333 | F28: ='Dvr '!A11 -> Abdullah Yahya Sahari | J28: Mishry | O28: =E28 -> 0.33333333 | P28: =B28 -> SP-R | Q28: =C28 -> 0.75 | R28: =D28 -> 1.0833333
O29: =E29 -> 0 | P29: =B29 -> 0 | Q29: =C29 -> 0 | R29: =D29 -> 0
B30: MLD16 | C30: 0.75902778 | D30: 0.96736111 | E30: 0.20833333 | F30: ='Dvr '!A26 -> Hazem Alghamdi | J30: ='Dvr '!A18 -> Vacancy 1 | O30: =E30 -> 0.20833333 | P30: =B30 -> MLD16 | Q30: =C30 -> 0.75902778 | R30: =D30 -> 0.96736111
O31: =E31 -> 0 | P31: =B31 -> 0 | Q31: =C31 -> 0 | R31: =D31 -> 0
B32: MLD17 | C32: 0.79305556 | D32: 1.0013889 | E32: 0.20833333 | F32: ='Dvr '!A12 -> Hussam D Al-Hajji | O32: =E32 -> 0.20833333 | P32: =B32 -> MLD17 | Q32: =C32 -> 0.79305556 | R32: =D32 -> 1.0013889
O33: =E33 -> 0 | P33: =B33 -> 0 | Q33: =C33 -> 0 | R33: =D33 -> 0
B34: RDD3 | C34: 0.91666667 | D34: 1.25 | E34: 0.33333333 | F34: ='Dvr '!A19 -> Ayoub Mobarak Al-Lajhar | O34: =E34 -> 0.33333333 | P34: =B34 -> RDD3 | Q34: =C34 -> 0.91666667 | R34: =D34 -> 1.25
O35: =E35 -> 0 | P35: =B35 -> 0 | Q35: =C35 -> 0 | R35: =D35 -> 0
B37: Off Roster
B38: Activity | C38: On Duty | D38: Off Duty | E38: Hours | F38: Name | J38: Comments
B39: TRG | C39: 0.375 | D39: 0.70833333 | E39: 0.33333333 | F39: ='Dvr '!A24 -> Ryan Al Hijri
B40: TRG | C40: 0.375 | D40: 0.70833333 | E40: 0.33333333 | F40: ='Dvr '!A33 -> Khaled Mohammed Al-Ghamdi
B41: TRG | C41: 0.375 | D41: 0.70833333 | E41: 0.33333333 | F41: ='Dvr '!A23 -> Ziad Marawan Seif
B45: Other (Leave, Sick etc.) | I45: Rest Day Off
B46: Type | C46: Name | I46: Name
B47: AL | C47: ='Dvr '!A34 -> Faisal Saleh Saad Al-Mutairi | I47: ='Dvr '!A22 -> Vacancy 2
B48: AL | C48: ='Dvr '!A29 -> Turki M Al Qabli | I48: ='Dvr '!A7 -> Aqeel bin Khalid Al-Melifi
B49: SL | C49: ='Dvr '!A17 -> Rakan Asiri | I49: ='Dvr '!A13 -> Abdulaziz bin Nasser Marghalani
I50: ='Dvr '!A14 -> Abdulah M. Yahya
I51: ='Dvr '!A15 -> Shalan Al Qarni
I52: ='Dvr '!A31 -> Faisal Muhammad Al-Saad
I53: ='Dvr '!A21 -> Abdullah M Al Harbi
I54: ='Dvr '!A28 -> Mubarak Abdul Latif Al-Ghamdi
I55: ='Dvr '!A9 -> Abdulrahman Mohammed Al-Juhani

Sheet DAS Mon
D2: Daily Alteration Sheet
B4: Monday | D4: ='DAS Sun'!D4+1 -> 45922
B5: Driver | K5: Riyadh
B8: Shift ID | C8: On Duty | D8: Off Duty | E8: Hours | F8: Name | J8: Comments
O9: =E9 -> 0 | P9: =B9 -> 0 | Q9: =C9 -> 0 | R9: =D9 -> 0
B10: MLD1 | C10: 0.15486111 | D10: 0.36319444 | E10: 0.20833333 | F10: ='Dvr '!A16 -> Tariq Ahmed Alhamrani | J10: Rakan SL | O10: =E10 -> 0.20833333 | P10: =B10 -> MLD1 | Q10: =C10 -> 0.15486111 | R10: =D10 -> 0.36319444
O11: =E11 -> 0 | P11: =B11 -> 0 | Q11: =C11 -> 0 | R11: =D11 -> 0
B12: SP-R | C12: 0.19722222 | D12: 0.53055556 | E12: 0.33333333 | F12: ='Dvr '!A20 -> Faisal Al Nemry | O12: =E12 -> 0.33333333 | P12: =B12 -> SP-R | Q12: =C12 -> 0.19722222 | R12: =D12 -> 0.53055556
O13: =E13 -> 0 | P13: =B13 -> 0 | Q13: =C13 -> 0 | R13: =D13 -> 0
B14: SP-R | C14: 0.19722222 | D14: 0.53055556 | E14: 0.33333333 | F14: ='Dvr '!A27 -> Mohammed A Al Raddadi | O14: =E14 -> 0.33333333 | P14: =B14 -> SP-R | Q14: =C14 -> 0.19722222 | R14: =D14 -> 0.53055556
O15: =E15 -> 0 | P15: =B15 -> 0 | Q15: =C15 -> 0 | R15: =D15 -> 0
B16: MLD4&7 | C16: 0.19722222 | D16: 0.67916667 | E16: 0.48194444 | F16: ='Dvr '!A9 -> Abdulrahman Mohammed Al-Juhani | O16: =E16 -> 0.48194444 | P16: =B16 -> MLD4&7 | Q16: =C16 -> 0.19722222 | R16: =D16 -> 0.67916667
O17: =E17 -> 0 | P17: =B17 -> 0 | Q17: =C17 -> 0 | R17: =D17 -> 0
B18: RST1 | C18: 0.20833333 | D18: 0.60069444 | E18: 0.39236111 | F18: ='Dvr '!A32 -> Mishary Abdel Qader Al-Maghoudi | J18: Rayan TRG | O18: =E18 -> 0.39236111 | P18: =B18 -> RST1 | Q18: =C18 -> 0.20833333 | R18: =D18 -> 0.60069444
O19: =E19 -> 0 | P19: =B19 -> 0 | Q19: =C19 -> 0 | R19: =D19 -> 0
B20: RDD1 | C20: 0.25 | D20: 0.58333333 | E20: =D20-C20 -> 0.33333333 | F20: ='Dvr '!A39 -> Ibrahim Abdullah Al-Suhaimi | O20: =E20 -> 0.33333333 | P20: =B20 -> RDD1 | Q20: =C20 -> 0.25 | R20: =D20 -> 0.58333333
O21: =E21 -> 0 | P21: =B21 -> 0 | Q21: =C21 -> 0 | R21: =D21 -> 0
B22: Q Path | C22: 0.27083333 | D22: 0.75347222 | E22: 0.48263889 | F22: ='Dvr '!A13 -> Abdulaziz bin Nasser Marghalani | J22: Turki AL | O22: =E22 -> 0.48263889 | P22: =B22 -> Q Path | Q22: =C22 -> 0.27083333 | R22: =D22 -> 0.75347222
O23: =E23 -> 0 | P23: =B23 -> 0 | Q23: =C23 -> 0 | R23: =D23 -> 0
B24: MLD6 | C24: 0.28333333 | D24: 0.49166667 | E24: 0.20833333 | F24: ='Dvr '!A10 -> Suhayb Al Muzaini | O24: =E24 -> 0.20833333 | P24: =B24 -> MLD6 | Q24: =C24 -> 0.28333333 | R24: =D24 -> 0.49166667
O25: =E25 -> 0 | P25: =B25 -> 0 | Q25: =C25 -> 0 | R25: =D25 -> 0
B26: RDD2 | C26: 0.58333333 | D26: 0.91666667 | E26: =D26-C26 -> 0.33333333 | F26: ='Dvr '!A30 -> Badr Saeed Al-Zahrani | O26: =E26 -> 0.33333333 | P26: =B26 -> RDD2 | Q26: =C26 -> 0.58333333 | R26: =D26 -> 0.91666667
O27: =E27 -> 0 | P27: =B27 -> 0 | Q27: =C27 -> 0 | R27: =D27 -> 0
B28: RST2 | C28: 0.60069444 | D28: 0.99305556 | E28: =D28-C28 -> 0.39236111 | F28: ='Dvr '!A25 -> Nouh T Al Sharif | J28: Faisal AL | O28: =E28 -> 0.39236111 | P28: =B28 -> RST2 | Q28: =C28 -> 0.60069444 | R28: =D28 -> 0.99305556
O29: =E29 -> 0 | P29: =B29 -> 0 | Q29: =C29 -> 0 | R29: =D29 -> 0
B30: SP-R | C30: 0.75 | D30: 1.0833333 | E30: 0.33333333 | F30: ='Dvr '!A12 -> Hussam D Al-Hajji | O30: =E30 -> 0.33333333 | P30: =B30 -> SP-R | Q30: =C30 -> 0.75 | R30: =D30 -> 1.0833333
O31: =E31 -> 0 | P31: =B31 -> 0 | Q31: =C31 -> 0 | R31: =D31 -> 0
B32: MLD16 | C32: 0.75902778 | D32: 0.96736111 | E32: 0.20833333 | F32: ='Dvr '!A11 -> Abdullah Yahya Sahari | J32: Mishary | O32: =E32 -> 0.20833333 | P32: =B32 -> MLD16 | Q32: =C32 -> 0.75902778 | R32: =D32 -> 0.96736111
O33: =E33 -> 0 | P33: =B33 -> 0 | Q33: =C33 -> 0 | R33: =D33 -> 0
B34: MLD17 | C34: 0.79305556 | D34: 1.0013889 | E34: 0.20833333 | F34: ='Dvr '!A26 -> Hazem Alghamdi | J34: ='Dvr '!A18 -> Vacancy 1 | O34: =E34 -> 0.20833333 | P34: =B34 -> MLD17 | Q34: =C34 -> 0.79305556 | R34: =D34 -> 1.0013889
O35: =E35 -> 0 | P35: =B35 -> 0 | Q35: =C35 -> 0 | R35: =D35 -> 0
B36: RDD3 | C36: 0.91666667 | D36: 1.25 | E36: 0.33333333 | F36: ='Dvr '!A19 -> Ayoub Mobarak Al-Lajhar | O36: =E36 -> 0.33333333 | P36: =B36 -> RDD3 | Q36: =C36 -> 0.91666667 | R36: =D36 -> 1.25
O37: =E37 -> 0 | P37: =B37 -> 0 | Q37: =C37 -> 0 | R37: =D37 -> 0
C38: =E14 -> 0.33333333 | D38: =B14 -> SP-R | E38: =C14 -> 0.19722222 | F38: =D14 -> 0.53055556
B40: Off Roster
B41: Activity | C41: On Duty | D41: Off Duty | E41: Hours | F41: Name | J41: Comments
B42: TRG | C42: 0.375 | D42: 0.70833333 | E42: 0.33333333 | F42: ='Dvr '!A24 -> Ryan Al Hijri
B43: TRG | C43: 0.375 | D43: 0.70833333 | E43: 0.33333333 | F43: ='Dvr '!A33 -> Khaled Mohammed Al-Ghamdi
B44: TRG | C44: 0.375 | D44: 0.70833333 | E44: 0.33333333 | F44: ='Dvr '!A23 -> Ziad Marawan Seif
B48: Other (Leave, Sick etc.) | I48: Rest Day Off
B49: Type | C49: Name | I49: Name
B50: AL | C50: ='Dvr '!A34 -> Faisal Saleh Saad Al-Mutairi | I50: ='Dvr '!A7 -> Aqeel bin Khalid Al-Melifi
B51: AL | C51: ='Dvr '!A29 -> Turki M Al Qabli | I51: ='Dvr '!A8 -> Saad K Al O taibi
B52: SL | C52: ='Dvr '!A17 -> Rakan Asiri | I52: ='Dvr '!A14 -> Abdulah M. Yahya
I53: ='Dvr '!A15 -> Shalan Al Qarni
I54: ='Dvr '!A21 -> Abdullah M Al Harbi
I55: ='Dvr '!A22 -> Vacancy 2
I56: ='Dvr '!A31 -> Faisal Muhammad Al-Saad
I57: ='Dvr '!A28 -> Mubarak Abdul Latif Al-Ghamdi

Sheet DAS Tue
D2: Daily Alteration Sheet
B4: Tuesday | D4: ='DAS Mon'!D4+1 -> 45923
B5: Driver | K5: Riyadh
B8: Shift ID | C8: On Duty | D8: Off Duty | E8: Hours | F8: Name | J8: Comments
O9: =E9 -> 0 | P9: =B9 -> 0 | Q9: =C9 -> 0 | R9: =D9 -> 0
B10: MLD1 | C10: 0.15486111 | D10: 0.36319444 | E10: 0.20833333 | F10: ='Dvr '!A10 -> Suhayb Al Muzaini | O10: =E10 -> 0.20833333 | P10: =B10 -> MLD1 | Q10: =C10 -> 0.15486111 | R10: =D10 -> 0.36319444
O11: =E11 -> 0 | P11: =B11 -> 0 | Q11: =C11 -> 0 | R11: =D11 -> 0
B12: SP-R | C12: 0.19722222 | D12: 0.53055556 | E12: 0.33333333 | F12: ='Dvr '!A20 -> Faisal Al Nemry | O12: =E12 -> 0.33333333 | P12: =B12 -> SP-R | Q12: =C12 -> 0.19722222 | R12: =D12 -> 0.53055556
O13: =E13 -> 0 | P13: =B13 -> 0 | Q13: =C13 -> 0 | R13: =D13 -> 0
B14: MLD4&7 | C14: 0.19722222 | D14: 0.67916667 | E14: 0.48194444 | F14: ='Dvr '!A14 -> Abdulah M. Yahya | O14: =E14 -> 0.48194444 | P14: =B14 -> MLD4&7 | Q14: =C14 -> 0.19722222 | R14: =D14 -> 0.67916667
O15: =E15 -> 0 | P15: =B15 -> 0 | Q15: =C15 -> 0 | R15: =D15 -> 0
B16: RST1 | C16: 0.20833333 | D16: 0.60069444 | E16: 0.39236111 | F16: ='Dvr '!A32 -> Mishary Abdel Qader Al-Maghoudi | O16: =E16 -> 0.39236111 | P16: =B16 -> RST1 | Q16: =C16 -> 0.20833333 | R16: =D16 -> 0.60069444
O17: =E17 -> 0 | P17: =B17 -> 0 | Q17: =C17 -> 0 | R17: =D17 -> 0
B18: RDD1 | C18: 0.25 | D18: 0.58333333 | E18: =D18-C18 -> 0.33333333 | F18: ='Dvr '!A39 -> Ibrahim Abdullah Al-Suhaimi | O18: =E18 -> 0.33333333 | P18: =B18 -> RDD1 | Q18: =C18 -> 0.25 | R18: =D18 -> 0.58333333
O19: =E19 -> 0 | P19: =B19 -> 0 | Q19: =C19 -> 0 | R19: =D19 -> 0
B20: Q Path | C20: 0.27083333 | D20: 0.75347222 | E20: 0.48263889 | F20: ='Dvr '!A13 -> Abdulaziz bin Nasser Marghalani | J20: Rakan SL | O20: =E20 -> 0.48263889 | P20: =B20 -> Q Path | Q20: =C20 -> 0.27083333 | R20: =D20 -> 0.75347222
O21: =E21 -> 0 | P21: =B21 -> 0 | Q21: =C21 -> 0 | R21: =D21 -> 0
B22: MLD6 | C22: 0.28333333 | D22: 0.49166667 | E22: 0.20833333 | F22: ='Dvr '!A27 -> Mohammed A Al Raddadi | J22: ='Dvr '!A22 -> Vacancy 2 | O22: =E22 -> 0.20833333 | P22: =B22 -> MLD6 | Q22: =C22 -> 0.28333333 | R22: =D22 -> 0.49166667
O23: =E23 -> 0 | P23: =B23 -> 0 | Q23: =C23 -> 0 | R23: =D23 -> 0
B24: SP-R | C24: 0.58333333 | D24: 0.91666667 | E24: 0.33333333 | F24: ='Dvr '!A25 -> Nouh T Al Sharif | O24: =E24 -> 0.33333333 | P24: =B24 -> SP-R | Q24: =C24 -> 0.58333333 | R24: =D24 -> 0.91666667
O25: =E25 -> 0 | P25: =B25 -> 0 | Q25: =C25 -> 0 | R25: =D25 -> 0
B26: DD2 | C26: 0.58333333 | D26: 0.91666667 | E26: 0.33333333 | F26: ='Dvr '!A30 -> Badr Saeed Al-Zahrani | O26: =E26 -> 0.33333333 | P26: =B26 -> DD2 | Q26: =C26 -> 0.58333333 | R26: =D26 -> 0.91666667
O27: =E27 -> 0 | P27: =B27 -> 0 | Q27: =C27 -> 0 | R27: =D27 -> 0
B28: RST2 | C28: 0.60069444 | D28: 0.99305556 | E28: =D28-C28 -> 0.39236111 | F28: ='Dvr '!A26 -> Hazem Alghamdi | J28: Faisal AL | O28: =E28 -> 0.39236111 | P28: =B28 -> RST2 | Q28: =C28 -> 0.60069444 | R28: =D28 -> 0.99305556
O29: =E29 -> 0 | P29: =B29 -> 0 | Q29: =C29 -> 0 | R29: =D29 -> 0
B30: SP-R | C30: 0.75 | D30: 1.0833333 | E30: 0.33333333 | F30: ='Dvr '!A12 -> Hussam D Al-Hajji | O30: =E30 -> 0.33333333 | P30: =B30 -> SP-R | Q30: =C30 -> 0.75 | R30: =D30 -> 1.0833333
O31: =E31 -> 0 | P31: =B31 -> 0 | Q31: =C31 -> 0 | R31: =D31 -> 0
B32: MLD16 | C32: 0.75902778 | D32: 0.96736111 | E32: 0.20833333 | F32: ='Dvr '!A31 -> Faisal Muhammad Al-Saad | O32: =E32 -> 0.20833333 | P32: =B32 -> MLD16 | Q32: =C32 -> 0.75902778 | R32: =D32 -> 0.96736111
O33: =E33 -> 0 | P33: =B33 -> 0 | Q33: =C33 -> 0 | R33: =D33 -> 0
B34: MLD17 | C34: 0.79305556 | D34: 1.0013889 | E34: 0.20833333 | F34: ='Dvr '!A11 -> Abdullah Yahya Sahari | J34: Mishary | O34: =E34 -> 0.20833333 | P34: =B34 -> MLD17 | Q34: =C34 -> 0.79305556 | R34: =D34 -> 1.0013889
O35: =E35 -> 0 | P35: =B35 -> 0 | Q35: =C35 -> 0 | R35: =D35 -> 0
B36: DD3 | C36: 0.91666667 | D36: 1.25 | E36: 0.33333333 | F36: ='Dvr '!A19 -> Ayoub Mobarak Al-Lajhar | O36: =E36 -> 0.33333333 | P36: =B36 -> DD3 | Q36: =C36 -> 0.91666667 | R36: =D36 -> 1.25
O37: =E37 -> 0 | P37: =B37 -> 0 | Q37: =C37 -> 0 | R37: =D37 -> 0
B39: Off Roster
B40: Activity | C40: On Duty | D40: Off Duty | E40: Hours | F40: Name | J40: Comments
B47: Other (Leave, Sick etc.) | I47: Rest Day Off
B48: Type | C48: Name | I48: Name
B49: AL | C49: ='Dvr '!A34 -> Faisal Saleh Saad Al-Mutairi | I49: ='Dvr '!A8 -> Saad K Al O taibi
B50: SL | C50: ='Dvr '!A17 -> Rakan Asiri | I50: ='Dvr '!A9 -> Abdulrahman Mohammed Al-Juhani
I51: ='Dvr '!A15 -> Shalan Al Qarni
I52: ='Dvr '!A16 -> Tariq Ahmed Alhamrani
I53: ='Dvr '!A21 -> Abdullah M Al Harbi
I54: ='Dvr '!A7 -> Aqeel bin Khalid Al-Melifi
I55: ='Dvr '!A23 -> Ziad Marawan Seif
I56: ='Dvr '!A28 -> Mubarak Abdul Latif Al-Ghamdi
I57: ='Dvr '!A18 -> Vacancy 1
I58: ='Dvr '!A24 -> Ryan Al Hijri
I59: ='Dvr '!A29 -> Turki M Al Qabli
I60: ='Dvr '!A33 -> Khaled Mohammed Al-Ghamdi

Sheet DAS Wed
D2: Daily Alteration Sheet
B4: Wednesday | D4: ='DAS Tue'!D4+1 -> 45924
B5: Driver | K5: Riyadh
B8: Shift ID | C8: On Duty | D8: Off Duty | E8: Hours | F8: Name | J8: Comments
O9: =E9 -> 0 | P9: =B9 -> 0 | Q9: =C9 -> 0 | R9: =D9 -> 0
B10: MLD1 | C10: 0.15486111 | D10: 0.36319444 | E10: 0.20833333 | F10: ='Dvr '!A27 -> Mohammed A Al Raddadi | J10: ='Dvr '!A22 -> Vacancy 2 | O10: =E10 -> 0.20833333 | P10: =B10 -> MLD1 | Q10: =C10 -> 0.15486111 | R10: =D10 -> 0.36319444
O11: =E11 -> 0 | P11: =B11 -> 0 | Q11: =C11 -> 0 | R11: =D11 -> 0
B12: SP-R | C12: 0.19722222 | D12: 0.53055556 | E12: 0.33333333 | F12: ='Dvr '!A14 -> Abdulah M. Yahya | O12: =E12 -> 0.33333333 | P12: =B12 -> SP-R | Q12: =C12 -> 0.19722222 | R12: =D12 -> 0.53055556
O13: =E13 -> 0 | P13: =B13 -> 0 | Q13: =C13 -> 0 | R13: =D13 -> 0
B14: SP-R | C14: 0.19722222 | D14: 0.53055556 | E14: 0.33333333 | F14: ='Dvr '!A20 -> Faisal Al Nemry | O14: =E14 -> 0.33333333 | P14: =B14 -> SP-R | Q14: =C14 -> 0.19722222 | R14: =D14 -> 0.53055556
O15: =E15 -> 0 | P15: =B15 -> 0 | Q15: =C15 -> 0 | R15: =D15 -> 0
B16: MLD4&7 | C16: 0.19722222 | D16: 0.67916667 | E16: 0.48194444 | F16: ='Dvr '!A7 -> Aqeel bin Khalid Al-Melifi | O16: =E16 -> 0.48194444 | P16: =B16 -> MLD4&7 | Q16: =C16 -> 0.19722222 | R16: =D16 -> 0.67916667
O17: =E17 -> 0 | P17: =B17 -> 0 | Q17: =C17 -> 0 | R17: =D17 -> 0
B18: RST1 | C18: 0.20833333 | D18: 0.60069444 | E18: 0.39236111 | F18: ='Dvr '!A32 -> Mishary Abdel Qader Al-Maghoudi | O18: =E18 -> 0.39236111 | P18: =B18 -> RST1 | Q18: =C18 -> 0.20833333 | R18: =D18 -> 0.60069444
O19: =E19 -> 0 | P19: =B19 -> 0 | Q19: =C19 -> 0 | R19: =D19 -> 0
B20: SP-R | C20: 0.25347222 | D20: 0.5625 | E20: 0.33333333 | F20: ='Dvr '!A13 -> Abdulaziz bin Nasser Marghalani | O20: =E20 -> 0.33333333 | P20: =B20 -> SP-R | Q20: =C20 -> 0.25347222 | R20: =D20 -> 0.5625
O21: =E21 -> 0 | P21: =B21 -> 0 | Q21: =C21 -> 0 | R21: =D21 -> 0
B22: RDD1 | C22: 0.25 | D22: 0.58333333 | E22: =D22-C22 -> 0.33333333 | F22: ='Dvr '!A39 -> Ibrahim Abdullah Al-Suhaimi | O22: =E22 -> 0.33333333 | P22: =B22 -> RDD1 | Q22: =C22 -> 0.25 | R22: =D22 -> 0.58333333
O23: =E23 -> 0 | P23: =B23 -> 0 | Q23: =C23 -> 0 | R23: =D23 -> 0
B24: Q Path | C24: 0.27083333 | D24: 0.75347222 | E24: 0.48263889 | F24: ='Dvr '!A8 -> Saad K Al O taibi | O24: =E24 -> 0.48263889 | P24: =B24 -> Q Path | Q24: =C24 -> 0.27083333 | R24: =D24 -> 0.75347222
O25: =E25 -> 0 | P25: =B25 -> 0 | Q25: =C25 -> 0 | R25: =D25 -> 0
B26: SP-R | C26: 0.27986111 | D26: 0.61319444 | E26: 0.33333333 | F26: ='Dvr '!A28 -> Mubarak Abdul Latif Al-Ghamdi | O26: =E26 -> 0.33333333 | P26: =B26 -> SP-R | Q26: =C26 -> 0.27986111 | R26: =D26 -> 0.61319444
O27: =E27 -> 0 | P27: =B27 -> 0 | Q27: =C27 -> 0 | R27: =D27 -> 0
B28: MLD6 | C28: 0.28333333 | D28: 0.49166667 | E28: 0.20833333 | F28: ='Dvr '!A15 -> Shalan Al Qarni | O28: =E28 -> 0.20833333 | P28: =B28 -> MLD6 | Q28: =C28 -> 0.28333333 | R28: =D28 -> 0.49166667
O29: =E29 -> 0 | P29: =B29 -> 0 | Q29: =C29 -> 0 | R29: =D29 -> 0
B30: RDD2 | C30: 0.58333333 | D30: 0.91666667 | E30: 0.33333333 | F30: ='Dvr '!A30 -> Badr Saeed Al-Zahrani | O30: =E30 -> 0.33333333 | P30: =B30 -> RDD2 | Q30: =C30 -> 0.58333333 | R30: =D30 -> 0.91666667
O31: =E31 -> 0 | P31: =B31 -> 0 | Q31: =C31 -> 0 | R31: =D31 -> 0
B32: RST2 | C32: 0.60069444 | D32: 0.99305556 | E32: =D32-C32 -> 0.39236111 | F32: ='Dvr '!A21 -> Abdullah M Al Harbi | J32: Faisal AL | O32: =E32 -> 0.39236111 | P32: =B32 -> RST2 | Q32: =C32 -> 0.60069444 | R32: =D32 -> 0.99305556
O33: =E33 -> 0 | P33: =B33 -> 0 | Q33: =C33 -> 0 | R33: =D33 -> 0
B34: SP-R | C34: 0.75 | D34: 1.0833333 | E34: 0.33333333 | F34: ='Dvr '!A11 -> Abdullah Yahya Sahari | O34: =E34 -> 0.33333333 | P34: =B34 -> SP-R | Q34: =C34 -> 0.75 | R34: =D34 -> 1.0833333
O35: =E35 -> 0 | P35: =B35 -> 0 | Q35: =C35 -> 0 | R35: =D35 -> 0
B36: MLD16 | C36: 0.75902778 | D36: 0.96736111 | E36: 0.20833333 | F36: ='Dvr '!A12 -> Hussam D Al-Hajji | O36: =E36 -> 0.20833333 | P36: =B36 -> MLD16 | Q36: =C36 -> 0.75902778 | R36: =D36 -> 0.96736111
O37: =E37 -> 0 | P37: =B37 -> 0 | Q37: =C37 -> 0 | R37: =D37 -> 0
B38: MLD17 | C38: 0.79305556 | D38: 1.0013889 | E38: 0.20833333 | F38: ='Dvr '!A31 -> Faisal Muhammad Al-Saad | O38: =E38 -> 0.20833333 | P38: =B38 -> MLD17 | Q38: =C38 -> 0.79305556 | R38: =D38 -> 1.0013889
O39: =E39 -> 0 | P39: =B39 -> 0 | Q39: =C39 -> 0 | R39: =D39 -> 0
B40: SP-R | C40: 0.91666667 | D40: 1.25 | E40: 0.33333333 | F40: ='Dvr '!A26 -> Hazem Alghamdi | O40: =E40 -> 0.33333333 | P40: =B40 -> SP-R | Q40: =C40 -> 0.91666667 | R40: =D40 -> 1.25
O41: =E41 -> 0 | P41: =B41 -> 0 | Q41: =C41 -> 0 | R41: =D41 -> 0
B42: RDD3 | C42: 0.91666667 | D42: 1.25 | E42: 0.33333333 | F42: ='Dvr '!A19 -> Ayoub Mobarak Al-Lajhar | O42: =E42 -> 0.33333333 | P42: =B42 -> RDD3 | Q42: =C42 -> 0.91666667 | R42: =D42 -> 1.25
O43: =E43 -> 0 | P43: =B43 -> 0 | Q43: =C43 -> 0 | R43: =D43 -> 0
B45: Off Roster
B46: Activity | C46: On Duty | D46: Off Duty | E46: Hours | F46: Name | J46: Comments
B53: Other (Leave, Sick etc.) | I53: Rest Day Off
B54: Type | C54: Name | I54: Name
B55: AL | C55: ='Dvr '!A34 -> Faisal Saleh Saad Al-Mutairi | I55: ='Dvr '!A9 -> Abdulrahman Mohammed Al-Juhani
I56: ='Dvr '!A10 -> Suhayb Al Muzaini
I57: ='Dvr '!A16 -> Tariq Ahmed Alhamrani
I58: ='Dvr '!A17 -> Rakan Asiri
I59: ='Dvr '!A18 -> Vacancy 1
I60: ='Dvr '!A25 -> Nouh T Al Sharif
I61: ='Dvr '!A24 -> Ryan Al Hijri
I62: ='Dvr '!A29 -> Turki M Al Qabli
I63: ='Dvr '!A23 -> Ziad Marawan Seif
I64: ='Dvr '!A33 -> Khaled Mohammed Al-Ghamdi

Sheet DAS Thu
D2: Daily Alteration Sheet
B4: Thursday | D4: ='DAS Wed'!D4+1 -> 45925
B5: Driver | K5: Riyadh
B8: Shift ID | C8: On Duty | D8: Off Duty | E8: Hours | F8: Name | J8: Comments
O9: =E9 -> 0 | P9: =B9 -> 0 | Q9: =C9 -> 0 | R9: =D9 -> 0
B10: MLD1 | C10: 0.15486111 | D10: 0.36319444 | E10: 0.20833333 | F10: ='Dvr '!A15 -> Shalan Al Qarni | O10: =E10 -> 0.20833333 | P10: =B10 -> MLD1 | Q10: =C10 -> 0.15486111 | R10: =D10 -> 0.36319444
O11: =E11 -> 0 | P11: =B11 -> 0 | Q11: =C11 -> 0 | R11: =D11 -> 0
B12: SP-R | C12: 0.19722222 | D12: 0.53055556 | E12: 0.33333333 | F12: ='Dvr '!A7 -> Aqeel bin Khalid Al-Melifi | O12: =E12 -> 0.33333333 | P12: =B12 -> SP-R | Q12: =C12 -> 0.19722222 | R12: =D12 -> 0.53055556
O13: =E13 -> 0 | P13: =B13 -> 0 | Q13: =C13 -> 0 | R13: =D13 -> 0
B14: MLD4&7 | C14: 0.19722222 | D14: 0.67916667 | E14: 0.48194444 | F14: ='Dvr '!A28 -> Mubarak Abdul Latif Al-Ghamdi | O14: =E14 -> 0.48194444 | P14: =B14 -> MLD4&7 | Q14: =C14 -> 0.19722222 | R14: =D14 -> 0.67916667
O15: =E15 -> 0 | P15: =B15 -> 0 | Q15: =C15 -> 0 | R15: =D15 -> 0
B16: RST1 | C16: 0.20833333 | D16: 0.60069444 | E16: 0.39236111 | F16: ='Dvr '!A14 -> Abdulah M. Yahya | O16: =E16 -> 0.39236111 | P16: =B16 -> RST1 | Q16: =C16 -> 0.20833333 | R16: =D16 -> 0.60069444
O17: =E17 -> 0 | P17: =B17 -> 0 | Q17: =C17 -> 0 | R17: =D17 -> 0
B18: SP-R | C18: 0.22916667 | D18: 0.5625 | E18: 0.33333333 | F18: ='Dvr '!A13 -> Abdulaziz bin Nasser Marghalani | O18: =E18 -> 0.33333333 | P18: =B18 -> SP-R | Q18: =C18 -> 0.22916667 | R18: =D18 -> 0.5625
O19: =E19 -> 0 | P19: =B19 -> 0 | Q19: =C19 -> 0 | R19: =D19 -> 0
B20: RDD1 | C20: 0.25 | D20: 0.58333333 | E20: =D20-C20 -> 0.33333333 | F20: ='Dvr '!A27 -> Mohammed A Al Raddadi | J20: Ibrahim RD | O20: =E20 -> 0.33333333 | P20: =B20 -> RDD1 | Q20: =C20 -> 0.25 | R20: =D20 -> 0.58333333
O21: =E21 -> 0 | P21: =B21 -> 0 | Q21: =C21 -> 0 | R21: =D21 -> 0
B22: Q Path | C22: 0.27083333 | D22: 0.75347222 | E22: 0.48263889 | F22: ='Dvr '!A20 -> Faisal Al Nemry | O22: =E22 -> 0.48263889 | P22: =B22 -> Q Path | Q22: =C22 -> 0.27083333 | R22: =D22 -> 0.75347222
O23: =E23 -> 0 | P23: =B23 -> 0 | Q23: =C23 -> 0 | R23: =D23 -> 0
B24: SP-R | C24: 0.27986111 | D24: 0.61319444 | E24: 0.33333333 | F24: ='Dvr '!A8 -> Saad K Al O taibi | O24: =E24 -> 0.33333333 | P24: =B24 -> SP-R | Q24: =C24 -> 0.27986111 | R24: =D24 -> 0.61319444
O25: =E25 -> 0 | P25: =B25 -> 0 | Q25: =C25 -> 0 | R25: =D25 -> 0
B26: MLD6 | C26: 0.28333333 | D26: 0.49166667 | E26: 0.20833333 | F26: ='Dvr '!A9 -> Abdulrahman Mohammed Al-Juhani | O26: =E26 -> 0.20833333 | P26: =B26 -> MLD6 | Q26: =C26 -> 0.28333333 | R26: =D26 -> 0.49166667
O27: =E27 -> 0 | P27: =B27 -> 0 | Q27: =C27 -> 0 | R27: =D27 -> 0
B28: SP-R | C28: 0.58333333 | D28: 0.91666667 | E28: 0.33333333 | F28: ='Dvr '!A24 -> Ryan Al Hijri | O28: =E28 -> 0.33333333 | P28: =B28 -> SP-R | Q28: =C28 -> 0.58333333 | R28: =D28 -> 0.91666667
O29: =E29 -> 0 | P29: =B29 -> 0 | Q29: =C29 -> 0 | R29: =D29 -> 0
B30: RDD2 | C30: 0.58333333 | D30: 0.91666667 | E30: 0.33333333 | F30: ='Dvr '!A30 -> Badr Saeed Al-Zahrani | O30: =E30 -> 0.33333333 | P30: =B30 -> RDD2 | Q30: =C30 -> 0.58333333 | R30: =D30 -> 0.91666667
O31: =E31 -> 0 | P31: =B31 -> 0 | Q31: =C31 -> 0 | R31: =D31 -> 0
B32: RST2 | C32: 0.60069444 | D32: 0.99305556 | E32: 0.39236111 | F32: ='Dvr '!A33 -> Khaled Mohammed Al-Ghamdi | O32: =E32 -> 0.39236111 | P32: =B32 -> RST2 | Q32: =C32 -> 0.60069444 | R32: =D32 -> 0.99305556
O33: =E33 -> 0 | P33: =B33 -> 0 | Q33: =C33 -> 0 | R33: =D33 -> 0
B34: SP-R | C34: 0.75 | D34: 1.0833333 | E34: 0.33333333 | F34: ='Dvr '!A31 -> Faisal Muhammad Al-Saad | O34: =E34 -> 0.33333333 | P34: =B34 -> SP-R | Q34: =C34 -> 0.75 | R34: =D34 -> 1.0833333
O35: =E35 -> 0 | P35: =B35 -> 0 | Q35: =C35 -> 0 | R35: =D35 -> 0
B36: MLD16 | C36: 0.75902778 | D36: 0.96736111 | E36: 0.20833333 | F36: ='Dvr '!A21 -> Abdullah M Al Harbi | O36: =E36 -> 0.20833333 | P36: =B36 -> MLD16 | Q36: =C36 -> 0.75902778 | R36: =D36 -> 0.96736111
O37: =E37 -> 0 | P37: =B37 -> 0 | Q37: =C37 -> 0 | R37: =D37 -> 0
B38: MLD17 | C38: 0.79305556 | D38: 1.0013889 | E38: 0.20833333 | F38: ='Dvr '!A12 -> Hussam D Al-Hajji | O38: =E38 -> 0.20833333 | P38: =B38 -> MLD17 | Q38: =C38 -> 0.79305556 | R38: =D38 -> 1.0013889
O39: =E39 -> 0 | P39: =B39 -> 0 | Q39: =C39 -> 0 | R39: =D39 -> 0
B40: SP-R | C40: 0.91666667 | D40: 1.25 | E40: 0.33333333 | F40: ='Dvr '!A26 -> Hazem Alghamdi | O40: =E40 -> 0.33333333 | P40: =B40 -> SP-R | Q40: =C40 -> 0.91666667 | R40: =D40 -> 1.25
O41: =E41 -> 0 | P41: =B41 -> 0 | Q41: =C41 -> 0 | R41: =D41 -> 0
B42: RDD3 | C42: 0.91666667 | D42: 1.25 | E42: 0.33333333 | F42: ='Dvr '!A19 -> Ayoub Mobarak Al-Lajhar | O42: =E42 -> 0.33333333 | P42: =B42 -> RDD3 | Q42: =C42 -> 0.91666667 | R42: =D42 -> 1.25
O43: =E43 -> 0 | P43: =B43 -> 0 | Q43: =C43 -> 0 | R43: =D43 -> 0
B46: Off Roster
B47: Activity | C47: On Duty | D47: Off Duty | E47: Hours | F47: Name | J47: Comments
B54: Other (Leave, Sick etc.) | I54: Rest Day Off
B55: Type | C55: Name | I55: Name
I56: ='Dvr '!A25 -> Nouh T Al Sharif
I57: ='Dvr '!A10 -> Suhayb Al Muzaini
I58: ='Dvr '!A11 -> Abdullah Yahya Sahari
I59: ='Dvr '!A16 -> Tariq Ahmed Alhamrani
I60: ='Dvr '!A17 -> Rakan Asiri
I61: ='Dvr '!A18 -> Vacancy 1
I62: ='Dvr '!A32 -> Mishary Abdel Qader Al-Maghoudi
I63: ='Dvr '!A29 -> Turki M Al Qabli
I64: ='Dvr '!A23 -> Ziad Marawan Seif
I65: ='Dvr '!A34 -> Faisal Saleh Saad Al-Mutairi
I66: ='Dvr '!A39 -> Ibrahim Abdullah Al-Suhaimi

Sheet DAS Fri
D2: Daily Alteration Sheet
B4: Friday | D4: ='DAS Thu'!D4+1 -> 45926
B5: Driver | K5: Riyadh
B8: Shift ID | C8: On Duty | D8: Off Duty | E8: Hours | F8: Name | J8: Comments
O9: =E9 -> 0 | P9: =B9 -> 0 | Q9: =C9 -> 0 | R9: =D9 -> 0
B10: MLD1 | C10: 0.15486111 | D10: 0.36319444 | E10: 0.20833333 | F10: ='Dvr '!A9 -> Abdulrahman Mohammed Al-Juhani | O10: =E10 -> 0.20833333 | P10: =B10 -> MLD1 | Q10: =C10 -> 0.15486111 | R10: =D10 -> 0.36319444
O11: =E11 -> 0 | P11: =B11 -> 0 | Q11: =C11 -> 0 | R11: =D11 -> 0
B12: SP-R | C12: 0.19722222 | D12: 0.53055556 | E12: 0.33333333 | F12: ='Dvr '!A14 -> Abdulah M. Yahya | J12: ='Dvr '!A22 -> Vacancy 2 | O12: =E12 -> 0.33333333 | P12: =B12 -> SP-R | Q12: =C12 -> 0.19722222 | R12: =D12 -> 0.53055556
O13: =E13 -> 0 | P13: =B13 -> 0 | Q13: =C13 -> 0 | R13: =D13 -> 0
B14: MLD4&7 | C14: 0.19722222 | D14: 0.67916667 | E14: 0.48194444 | F14: ='Dvr '!A7 -> Aqeel bin Khalid Al-Melifi | O14: =E14 -> 0.48194444 | P14: =B14 -> MLD4&7 | Q14: =C14 -> 0.19722222 | R14: =D14 -> 0.67916667
O15: =E15 -> 0 | P15: =B15 -> 0 | Q15: =C15 -> 0 | R15: =D15 -> 0
B16: RST1 | C16: 0.20833333 | D16: 0.60069444 | E16: 0.39236111 | F16: ='Dvr '!A16 -> Tariq Ahmed Alhamrani | O16: =E16 -> 0.39236111 | P16: =B16 -> RST1 | Q16: =C16 -> 0.20833333 | R16: =D16 -> 0.60069444
O17: =E17 -> 0 | P17: =B17 -> 0 | Q17: =C17 -> 0 | R17: =D17 -> 0
B18: RDD1 | C18: 0.25 | D18: 0.58333333 | E18: 0.33333333 | F18: ='Dvr '!A23 -> Ziad Marawan Seif | J18: Mishary RD | O18: =E18 -> 0.33333333 | P18: =B18 -> RDD1 | Q18: =C18 -> 0.25 | R18: =D18 -> 0.58333333
O19: =E19 -> 0 | P19: =B19 -> 0 | Q19: =C19 -> 0 | R19: =D19 -> 0
B20: Q Path | C20: 0.27083333 | D20: 0.75347222 | E20: 0.48263889 | F20: ='Dvr '!A15 -> Shalan Al Qarni | O20: =E20 -> 0.48263889 | P20: =B20 -> Q Path | Q20: =C20 -> 0.27083333 | R20: =D20 -> 0.75347222
O21: =E21 -> 0 | P21: =B21 -> 0 | Q21: =C21 -> 0 | R21: =D21 -> 0
B22: MLD6 | C22: 0.28333333 | D22: 0.49166667 | E22: 0.20833333 | F22: ='Dvr '!A28 -> Mubarak Abdul Latif Al-Ghamdi | O22: =E22 -> 0.20833333 | P22: =B22 -> MLD6 | Q22: =C22 -> 0.28333333 | R22: =D22 -> 0.49166667
O23: =E23 -> 0 | P23: =B23 -> 0 | Q23: =C23 -> 0 | R23: =D23 -> 0
B24: SP-R | C24: 0.49375 | D24: 0.75 | E24: 0.33333333 | F24: ='Dvr '!A8 -> Saad K Al O taibi | O24: =E24 -> 0.33333333 | P24: =B24 -> SP-R | Q24: =C24 -> 0.49375 | R24: =D24 -> 0.75
O25: =E25 -> 0 | P25: =B25 -> 0 | Q25: =C25 -> 0 | R25: =D25 -> 0
B26: MLD10&15 | C26: 0.49375 | D26: 0.925 | E26: 0.43125 | F26: ='Dvr '!A29 -> Turki M Al Qabli | O26: =E26 -> 0.43125 | P26: =B26 -> MLD10&15 | Q26: =C26 -> 0.49375 | R26: =D26 -> 0.925
O27: =E27 -> 0 | P27: =B27 -> 0 | Q27: =C27 -> 0 | R27: =D27 -> 0
B28: RDD2 | C28: 0.58333333 | D28: 0.91666667 | E28: 0.33333333 | F28: ='Dvr '!A10 -> Suhayb Al Muzaini | O28: =E28 -> 0.33333333 | P28: =B28 -> RDD2 | Q28: =C28 -> 0.58333333 | R28: =D28 -> 0.91666667
O29: =E29 -> 0 | P29: =B29 -> 0 | Q29: =C29 -> 0 | R29: =D29 -> 0
B30: RST2 | C30: 0.60069444 | D30: 0.99305556 | E30: 0.39236111 | F30: ='Dvr '!A33 -> Khaled Mohammed Al-Ghamdi | J30: Rakan SL | O30: =E30 -> 0.39236111 | P30: =B30 -> RST2 | Q30: =C30 -> 0.60069444 | R30: =D30 -> 0.99305556
O31: =E31 -> 0 | P31: =B31 -> 0 | Q31: =C31 -> 0 | R31: =D31 -> 0
B32: SP-R | C32: 0.75 | D32: 1.0833333 | E32: 0.33333333 | F32: ='Dvr '!A31 -> Faisal Muhammad Al-Saad | O32: =E32 -> 0.33333333 | P32: =B32 -> SP-R | Q32: =C32 -> 0.75 | R32: =D32 -> 1.0833333
O33: =E33 -> 0 | P33: =B33 -> 0 | Q33: =C33 -> 0 | R33: =D33 -> 0
B34: MLD16 | C34: 0.75902778 | D34: 0.96736111 | E34: 0.20833333 | F34: ='Dvr '!A24 -> Ryan Al Hijri | O34: =E34 -> 0.20833333 | P34: =B34 -> MLD16 | Q34: =C34 -> 0.75902778 | R34: =D34 -> 0.96736111
O35: =E35 -> 0 | P35: =B35 -> 0 | Q35: =C35 -> 0 | R35: =D35 -> 0
B36: MLD17 | C36: 0.79305556 | D36: 1.0013889 | E36: 0.20833333 | F36: ='Dvr '!A21 -> Abdullah M Al Harbi | O36: =E36 -> 0.20833333 | P36: =B36 -> MLD17 | Q36: =C36 -> 0.79305556 | R36: =D36 -> 1.0013889
O37: =E37 -> 0 | P37: =B37 -> 0 | Q37: =C37 -> 0 | R37: =D37 -> 0
B38: RDD3 | C38: 0.91666667 | D38: 1.25 | E38: 0.33333333 | F38: ='Dvr '!A25 -> Nouh T Al Sharif | J38: ='Dvr '!A18 -> Vacancy 1 | O38: =E38 -> 0.33333333 | P38: =B38 -> RDD3 | Q38: =C38 -> 0.91666667 | R38: =D38 -> 1.25
O39: =E39 -> 0 | P39: =B39 -> 0 | Q39: =C39 -> 0 | R39: =D39 -> 0
B42: Off Roster
B43: Activity | C43: On Duty | D43: Off Duty | E43: Hours | F43: Name | J43: Comments
B50: Other (Leave, Sick etc.) | I50: Rest Day Off
B51: Type | C51: Name | I51: Name
B52: SL | C52: ='Dvr '!A17 -> Rakan Asiri | I52: ='Dvr '!A34 -> Faisal Saleh Saad Al-Mutairi
I53: ='Dvr '!A26 -> Hazem Alghamdi
I54: ='Dvr '!A13 -> Abdulaziz bin Nasser Marghalani
I55: ='Dvr '!A11 -> Abdullah Yahya Sahari
I56: ='Dvr '!A12 -> Hussam D Al-Hajji
I57: ='Dvr '!A19 -> Ayoub Mobarak Al-Lajhar
I58: ='Dvr '!A20 -> Faisal Al Nemry
I59: ='Dvr '!A27 -> Mohammed A Al Raddadi
I60: ='Dvr '!A30 -> Badr Saeed Al-Zahrani
I61: ='Dvr '!A39 -> Ibrahim Abdullah Al-Suhaimi
I62: ='Dvr '!A32 -> Mishary Abdel Qader Al-Maghoudi

Sheet DAS Sat
D2: Daily Alteration Sheet
B4: Saturday | D4: ='DAS Fri'!D4+1 -> 45927
B5: Driver | K5: Riyadh
B8: Shift ID | C8: On Duty | D8: Off Duty | E8: Hours | F8: Name | J8: Comments
O9: =E9 -> 0 | P9: =B9 -> 0 | Q9: =C9 -> 0 | R9: =D9 -> 0
B10: MLD1 | C10: 0.15486111 | D10: 0.36319444 | E10: 0.20833333 | F10: ='Dvr '!A28 -> Mubarak Abdul Latif Al-Ghamdi | O10: =E10 -> 0.20833333 | P10: =B10 -> MLD1 | Q10: =C10 -> 0.15486111 | R10: =D10 -> 0.36319444
O11: =E11 -> 0 | P11: =B11 -> 0 | Q11: =C11 -> 0 | R11: =D11 -> 0
B12: SP-R | C12: 0.19722222 | D12: 0.53055556 | E12: 0.33333333 | F12: ='Dvr '!A23 -> Ziad Marawan Seif | J12: ='Dvr '!A22 -> Vacancy 2 | O12: =E12 -> 0.33333333 | P12: =B12 -> SP-R | Q12: =C12 -> 0.19722222 | R12: =D12 -> 0.53055556
O13: =E13 -> 0 | P13: =B13 -> 0 | Q13: =C13 -> 0 | R13: =D13 -> 0
B14: MLD4&7 | C14: 0.19722222 | D14: 0.67916667 | E14: 0.48194444 | F14: ='Dvr '!A16 -> Tariq Ahmed Alhamrani | O14: =E14 -> 0.48194444 | P14: =B14 -> MLD4&7 | Q14: =C14 -> 0.19722222 | R14: =D14 -> 0.67916667
O15: =E15 -> 0 | P15: =B15 -> 0 | Q15: =C15 -> 0 | R15: =D15 -> 0
B16: RST1 | C16: 0.20833333 | D16: 0.60069444 | E16: 0.39236111 | F16: ='Dvr '!A9 -> Abdulrahman Mohammed Al-Juhani | O16: =E16 -> 0.39236111 | P16: =B16 -> RST1 | Q16: =C16 -> 0.20833333 | R16: =D16 -> 0.60069444
O17: =E17 -> 0 | P17: =B17 -> 0 | Q17: =C17 -> 0 | R17: =D17 -> 0
B18: RDD1 | C18: 0.25 | D18: 0.58333333 | E18: 0.33333333 | F18: ='Dvr '!A8 -> Saad K Al O taibi | J18: Mishry RD | O18: =E18 -> 0.33333333 | P18: =B18 -> RDD1 | Q18: =C18 -> 0.25 | R18: =D18 -> 0.58333333
O19: =E19 -> 0 | P19: =B19 -> 0 | Q19: =C19 -> 0 | R19: =D19 -> 0
B20: Q Path | C20: 0.27083333 | D20: 0.75347222 | E20: 0.48263889 | F20: ='Dvr '!A15 -> Shalan Al Qarni | O20: =E20 -> 0.48263889 | P20: =B20 -> Q Path | Q20: =C20 -> 0.27083333 | R20: =D20 -> 0.75347222
O21: =E21 -> 0 | P21: =B21 -> 0 | Q21: =C21 -> 0 | R21: =D21 -> 0
B22: MLD6 | C22: 0.28333333 | D22: 0.49166667 | E22: 0.20833333 | F22: ='Dvr '!A7 -> Aqeel bin Khalid Al-Melifi | O22: =E22 -> 0.20833333 | P22: =B22 -> MLD6 | Q22: =C22 -> 0.28333333 | R22: =D22 -> 0.49166667
O23: =E23 -> 0 | P23: =B23 -> 0 | Q23: =C23 -> 0 | R23: =D23 -> 0
B24: SP-R | C24: 0.49375 | D24: 0.82708333 | E24: 0.33333333 | F24: ='Dvr '!A33 -> Khaled Mohammed Al-Ghamdi | O24: =E24 -> 0.33333333 | P24: =B24 -> SP-R | Q24: =C24 -> 0.49375 | R24: =D24 -> 0.82708333
O25: =E25 -> 0 | P25: =B25 -> 0 | Q25: =C25 -> 0 | R25: =D25 -> 0
B26: MLD10&15 | C26: 0.49375 | D26: 0.925 | E26: 0.43125 | F26: ='Dvr '!A29 -> Turki M Al Qabli | O26: =E26 -> 0.43125 | P26: =B26 -> MLD10&15 | Q26: =C26 -> 0.49375 | R26: =D26 -> 0.925
O27: =E27 -> 0 | P27: =B27 -> 0 | Q27: =C27 -> 0 | R27: =D27 -> 0
B28: RDD2 | C28: 0.58333333 | D28: 0.91666667 | E28: 0.33333333 | F28: ='Dvr '!A10 -> Suhayb Al Muzaini | O28: =E28 -> 0.33333333 | P28: =B28 -> RDD2 | Q28: =C28 -> 0.58333333 | R28: =D28 -> 0.91666667
O29: =E29 -> 0 | P29: =B29 -> 0 | Q29: =C29 -> 0 | R29: =D29 -> 0
B30: RST2 | C30: 0.60069444 | D30: 0.99305556 | E30: 0.39236111 | F30: ='Dvr '!A21 -> Abdullah M Al Harbi | J30: Rakan SL | O30: =E30 -> 0.39236111 | P30: =B30 -> RST2 | Q30: =C30 -> 0.60069444 | R30: =D30 -> 0.99305556
O31: =E31 -> 0 | P31: =B31 -> 0 | Q31: =C31 -> 0 | R31: =D31 -> 0
B32: SP-R | C32: 0.75 | D32: 1.0833333 | E32: =D32-C32 -> 0.33333333 | F32: ='Dvr '!A31 -> Faisal Muhammad Al-Saad | O32: =E32 -> 0.33333333 | P32: =B32 -> SP-R | Q32: =C32 -> 0.75 | R32: =D32 -> 1.0833333
O33: =E33 -> 0 | P33: =B33 -> 0 | Q33: =C33 -> 0 | R33: =D33 -> 0
B34: MLD16 | C34: 0.75902778 | D34: 0.96736111 | E34: 0.20833333 | F34: ='Dvr '!A11 -> Abdullah Yahya Sahari | O34: =E34 -> 0.20833333 | P34: =B34 -> MLD16 | Q34: =C34 -> 0.75902778 | R34: =D34 -> 0.96736111
O35: =E35 -> 0 | P35: =B35 -> 0 | Q35: =C35 -> 0 | R35: =D35 -> 0
B36: MLD17 | C36: 0.79305556 | D36: 1.0013889 | E36: 0.20833333 | F36: ='Dvr '!A24 -> Ryan Al Hijri | O36: =E36 -> 0.20833333 | P36: =B36 -> MLD17 | Q36: =C36 -> 0.79305556 | R36: =D36 -> 1.0013889
O37: =E37 -> 0 | P37: =B37 -> 0 | Q37: =C37 -> 0 | R37: =D37 -> 0
B38: RDD3 | C38: 0.91666667 | D38: 1.25 | E38: 0.33333333 | F38: ='Dvr '!A25 -> Nouh T Al Sharif | J38: ='Dvr '!A18 -> Vacancy 1 | O38: =E38 -> 0.33333333 | P38: =B38 -> RDD3 | Q38: =C38 -> 0.91666667 | R38: =D38 -> 1.25
O39: =E39 -> 0 | P39: =B39 -> 0 | Q39: =C39 -> 0 | R39: =D39 -> 0
B42: Off Roster
B43: Activity | C43: On Duty | D43: Off Duty | E43: Hours | F43: Name | J43: Comments
B50: Other (Leave, Sick etc.) | I50: Rest Day Off
B51: Type | C51: Name | I51: Name
B52: SL | C52: ='Dvr '!A17 -> Rakan Asiri | I52: ='Dvr '!A34 -> Faisal Saleh Saad Al-Mutairi
I53: ='Dvr '!A26 -> Hazem Alghamdi
I54: ='Dvr '!A20 -> Faisal Al Nemry
I55: ='Dvr '!A12 -> Hussam D Al-Hajji
I56: ='Dvr '!A13 -> Abdulaziz bin Nasser Marghalani
I57: ='Dvr '!A19 -> Ayoub Mobarak Al-Lajhar
I58: ='Dvr '!A14 -> Abdulah M. Yahya
I59: ='Dvr '!A27 -> Mohammed A Al Raddadi
I60: ='Dvr '!A30 -> Badr Saeed Al-Zahrani
I61: ='Dvr '!A39 -> Ibrahim Abdullah Al-Suhaimi
I62: ='Dvr '!A32 -> Mishary Abdel Qader Al-Maghoudi

Sheet Tng & Det
A2: Training & Detachments
A6: Riyadh | B6: Driver
C9: ='Dvr '!B3 -> 45921 | D9: =C9+1 -> 45922 | E9: =D9+1 -> 45923 | F9: =E9+1 -> 45924 | G9: =F9+1 -> 45925 | H9: =G9+1 -> 45926 | I9: =H9+1 -> 45927
A10: Name | B10: Description | C10: =C9 -> 45921 | D10: =D9 -> 45922 | E10: =E9 -> 45923 | F10: =F9 -> 45924 | G10: =G9 -> 45925 | H10: =H9 -> 45926 | I10: =I9 -> 45927

Sheet Phone#
A2: Contact Numbers
C6: Name | D6: Mobile #
C7: Khaled Ibrahim Al-Otaibi | D7: 054 101 9099
C8: Omar Ali Al-Fifi | D8: 055 355 4004
C9: Mubarak Abdul Latif Al-Ghamdi | D9: 054 453 0027
C10: Faisal Muhammad Al-Saad | D10: 050 025 5935
C11: Badr Saeed Al-Zahrani | D11: 055 779 3889
C12: Ibrahim Abdullah Al-Suhaimi | D12: 055 016 0221
C13: Abdullah Yahya Sahari | D13: 055 186 6692
C14: Khaled Mohammed Al-Ghamdi | D14: 056 037 4611
C15: Aqeel bin Khalid Al-Melifi | D15: 055 731 6015
C16: Mishary Abdel Qader Al-Maghoudi | D16: 055 179 8880
C17: Abdulaziz bin Nasser Marghalani | D17: 054 247 5767
... C27: Ryan Al Hijri | D27: 050 423 7725
A29: Operation Train Crew Office Ext: +966 (0) 11 525 0000 Ext:

Sheet Hours
C1: Dutty Hours | V1: Mainline & Depot Hours
C2: ='Dvr '!B3 -> 45921 | E2: =C2+1 -> 45922 | G2: =E2+1 -> 45923 | I2: =G2+1 -> 45924 | K2: =I2+1 -> 45925 | M2: =K2+1 -> 45926 | O2: =M2+1 -> 45927 | V2: ='Dvr '!B3 -> 45921 | AA2: =V2+1 -> 45922 | AF2: =AA2+1 -> 45923 | AK2: =AF2+1 -> 45924 | AP2: =AK2+1 -> 45925 | AU2: =AP2+1 -> 45926 | AZ2: =AU2+1 -> 45927 | BL2: =BM2-1 -> 45920 | BM2: ='Dvr '!B3 -> 45921 | BQ2: =BM2+1 -> 45922 | BU2: =BQ2+1 -> 45923 | BY2: =BU2+1 -> 45924 | CC2: =BY2+1 -> 45925 | CG2: =CC2+1 -> 45926 | CK2: =CG2+1 -> 45927
C3: Sun | E3: Mon | G3: Tue | I3: Wed | K3: Thu | M3: Fri | O3: Sat | V3: Sunday | AA3: Monday | AF3: Tuesday | AK3: Wednesday | AP3: Thursday | AU3: Friday | AZ3: Saturday | BL3: Sat | BM3: Sun | BO3: 1 | BQ3: Mon | BU3: Tue | BY3: Wed | CC3: Thu | CG3: Fri | CK3: Sat
C4: Actual | D4: BaseRoster | E4: Actual | F4: BaseRoster | G4: Actual | H4: BaseRoster | I4: Actual | J4: BaseRoster | K4: Actual | L4: BaseRoster | M4: Actual | N4: BaseRoster | O4: Actual | P4: BaseRoster | Q4: Actual Hours | R4: BaseRoster Hours | S4: Off | V4: Shift | W4: Mainline | X4: Depot | Y4: Location | Z4: Km | AA4: Shift | AB4: Mainline | AC4: Depot | AD4: Location | AE4: Km | AF4: Shift | AG4: Mainline | AH4: Depot | AI4: Location | AJ4: Km | AK4: Shift | AL4: Mainline | AM4: Depot | AN4: Location | AO4: Km | AP4: Shift | AQ4: Mainline | AR4: Depot | AS4: Location | AT4: Km | AU4: Shift | AV4: Mainline | AW4: Depot | AX4: Location | AY4: Km | AZ4: Shift | BA4: Mainline | BB4: Depot | BC4: Location | BD4: Km | BE4: Actual Mainline Hours | BF4: BaseRoster Mainline Hours | BG4: Actual depot Hours | BH4: BaseRoster depot Hours | BI4: Km | BL4: Off Duty | BM4: in | BN4: out | BP4: Hours Rest | BQ4: in | BR4: out | BT4: Hours Rest | BU4: in | BV4: out | BX4: Hours Rest | BY4: in | BZ4: out | CB4: Hours Rest | CC4: in | CD4: out | CF4: Hours Rest | CG4: in | CH4: out | CJ4: Hours Rest | CK4: in | CL4: out | CM4: Off Duty | CN4: Hours Rest
B5: ='Dvr '!A7 -> Aqeel bin Khalid Al-Melifi | C5: =IFERROR(VLOOKUP(B5,'DAS Sun'!$F$9:$O$36,10,0),"Off") -> Off | D5: ='Dvr '!E7 -> 0 | E5: =IFERROR(VLOOKUP(B5,'DAS Mon'!$F$9:$O$39,10,0),"Off") -> Off | F5: ='Dvr '!I7 -> 0 | G5: =IFERROR(VLOOKUP(B5,'DAS Tue'!$F$9:$O$45,10,0),"Off") -> Off | H5: ='Dvr '!M7 -> 0 | I5: =IFERROR(VLOOKUP(B5,'DAS Wed'!$F$9:$O$49,10,0),"Off") -> 0.48194444 | J5: ='Dvr '!Q7 -> 0.48194444 | K5: =IFERROR(VLOOKUP(B5,'DAS Thu'!$F$9:$O$47,10,0),"Off") -> 0.33333333 | L5: ='Dvr '!U7 -> 0.39236111 | M5: =IFERROR(VLOOKUP(B5,'DAS Fri'!$F$9:$O$43,10,0),"Off") -> 0.48194444 | N5: ='Dvr '!Y7 -> 0.48194444 | O5: =IFERROR(VLOOKUP(B5,'DAS Sat'!$F$9:$O$43,10,0),"Off") -> 0.20833333 | P5: ='Dvr '!AC7 -> 0.20833333 | Q5: =SUM(C5,E5,G5,I5,K5,M5,O5) -> 1.5055556 | R5: =SUM(D5,F5,H5,J5,L5,N5,P5) -> 1.5645833 | S5: =COUNTIF(C5:P5,"Off") -> 3 | T5: =R5-Q5 -> 0.059027778 | U5: ='Dvr '!A7 -> Aqeel bin Khalid Al-Melifi | V5: =IFERROR(VLOOKUP(U5,'DAS Sun'!$F$9:$P$36,11,0),"Off") -> Off | W5: =IF(V5="MLD6&7","7:40",IF(V5="MLD8&11","7:40",IF(V5="SP-R","0",IF(V5="RDD1","0",IF(V5="RDD2","0",IF(V5="RDD3","0",IF(V5="RST1","0",IF(V5="RST2","0",IF(V5="Q Path","0",))))))))) -> 0 | X5: =IF(V5="MLD6&7","0",IF(V5="MLD8&11","0",IF(V5="SP-R","0",IF(V5="RDD1","8:00",IF(V5="RDD2","8:00",IF(V5="RDD3","8:00",IF(V5="RST1","0",IF(V5="RST2","0",IF(V5="Q Path","0",))))))))) -> 0 | Y5: =IF(V5="MLD8&11","Dammam",IF(V5="MLD6&7","Dammam",IF(V5="SP-R","Riyadh",IF(V5="RST1","Riyadh",IF(V5="RST2","Riyadh",IF(V5="RDD1","Riyadh",IF(V5="RDD2","Riyadh",IF(V5="RDD3","Riyadh",IF(V5="Q Path","Riyadh",IF(V5="Off","Riyadh")))))))))) -> Riyadh | Z5: =IF(Y5="Riyadh","0",IF(Y5="Dammam","449")) -> 0 | AA5: =IFERROR(VLOOKUP(U5,'DAS Mon'!$F$10:$P$39,11,0),"Off") -> Off | AB5: =IF(AA5="MLD6&7","7:40",IF(AA5="MLD8&11","7:40",IF(AA5="SP-R","0",IF(AA5="RDD1","0",IF(AA5="RDD2","0",IF(AA5="RDD3","0",IF(AA5="RST1","0",IF(AA5="RST2","0",IF(AA5="Q Path","0",))))))))) -> 0 | AC5: =IF(AA5="MLD6&7","0",IF(AA5="MLD8&11","0",IF(AA5="SP-R","0",IF(AA5="RDD1","8:00",IF(AA5="RDD2","8:00",IF(AA5="RDD3","8:00",IF(AA5="RST1","0",IF(AA5="RST2","0",IF(AA5="Q Path","0",))))))))) -> 0 | AD5: =IF(AA5="MLD8&11","Dammam",IF(AA5="MLD6&7","Dammam",IF(AA5="SP-R","Riyadh",IF(AA5="RST1","Riyadh",IF(AA5="RST2","Riyadh",IF(AA5="RDD1","Riyadh",IF(AA5="RDD2","Riyadh",IF(AA5="RDD3","Riyadh",IF(AA5="Q Path","Riyadh",IF(AA5="Off","Riyadh")))))))))) -> Riyadh | AE5: =IF(AD5="Riyadh","0",IF(AD5="Dammam","449")) -> 0 | AF5: =IFERROR(VLOOKUP(U5,'DAS Tue'!$F$10:$P$37,11,0),"Off") -> Off | AG5: =IF(AF5="MLD6&7","7:40",IF(AF5="MLD8&11","7:40",IF(AF5="SP-R","0",IF(AF5="RDD1","0",IF(AF5="RDD2","0",IF(AF5="RDD3","0",IF(AF5="RST1","0",IF(AF5="RST2","0",IF(AF5="Q Path","0",))))))))) -> 0 | AH5: =IF(AF5="MLD6&7","0",IF(AF5="MLD8&11","0",IF(AF5="SP-R","0",IF(AF5="RDD1","8:00",IF(AF5="RDD2","8:00",IF(AF5="RDD3","8:00",IF(AF5="RST1","0",IF(AF5="RST2","0",IF(AF5="Q Path","0",))))))))) -> 0 | AI5: =IF(AF5="MLD8&11","Dammam",IF(AF5="MLD6&7","Dammam",IF(AF5="SP-R","Riyadh",IF(AF5="RST1","Riyadh",IF(AF5="RST2","Riyadh",IF(AF5="RDD1","Riyadh",IF(AF5="RDD2","Riyadh",IF(AF5="RDD3","Riyadh",IF(AF5="Q Path","Riyadh",IF(AF5="Off","Riyadh")))))))))) -> Riyadh | AJ5: =IF(AI5="Riyadh","0",IF(AI5="Dammam","449")) -> 0 | AK5: =IFERROR(VLOOKUP(U5,'DAS Wed'!$F$12:$P$43,11,0),"Off") -> MLD4&7 | AL5: =IF(AK5="MLD6&7","7:40",IF(AK5="MLD8&11","7:40",IF(AK5="SP-R","0",IF(AK5="RDD1","0",IF(AK5="RDD2","0",IF(AK5="RDD3","0",IF(AK5="RST1","0",IF(AK5="RST2","0",IF(AK5="Q Path","0",))))))))) -> 0 | AM5: =IF(AK5="MLD6&7","0",IF(AK5="MLD8&11","0",IF(AK5="SP-R","0",IF(AK5="RDD1","8:00",IF(AK5="RDD2","8:00",IF(AK5="RDD3","8:00",IF(AK5="RST1","0",IF(AK5="RST2","0",IF(AK5="Q Path","0",))))))))) -> 0 | AN5: =IF(AK5="MLD8&11","Dammam",IF(AK5="MLD6&7","Dammam",IF(AK5="SP-R","Riyadh",IF(AK5="RST1","Riyadh",IF(AK5="RST2","Riyadh",IF(AK5="RDD1","Riyadh",IF(AK5="RDD2","Riyadh",IF(AK5="RDD3","Riyadh",IF(AK5="Q Path","Riyadh",IF(AK5="Off","Riyadh")))))))))) -> FALSE | AO5: =IF(AN5="Riyadh","0",IF(AN5="Dammam","449")) -> FALSE | AP5: =IFERROR(VLOOKUP(U5,'DAS Thu'!$F$10:$P$45,11,0),"Off") -> SP-R | AQ5: =IF(AP5="MLD6&7","7:40",IF(AP5="MLD8&11","7:40",IF(AP5="SP-R","0",IF(AP5="RDD1","0",IF(AP5="RDD2","0",IF(AP5="RDD3","0",IF(AP5="RST1","0",IF(AP5="RST2","0",IF(AP5="Q Path","0",))))))))) -> 0 | AR5: =IF(AP5="MLD6&7","0",IF(AP5="MLD8&11","0",IF(AP5="SP-R","0",IF(AP5="RDD1","8:00",IF(AP5="RDD2","8:00",IF(AP5="RDD3","8:00",IF(AP5="RST1","0",IF(AP5="RST2","0",IF(AP5="Q Path","0",))))))))) -> 0 | AS5: =IF(AP5="MLD8&11","Dammam",IF(AP5="MLD6&7","Dammam",IF(AP5="SP-R","Riyadh",IF(AP5="RST1","Riyadh",IF(AP5="RST2","Riyadh",IF(AP5="RDD1","Riyadh",IF(AP5="RDD2","Riyadh",IF(AP5="RDD3","Riyadh",IF(AP5="Q Path","Riyadh",IF(AP5="Off","Riyadh")))))))))) -> Riyadh | AT5: =IF(AS5="Riyadh","0",IF(AS5="Dammam","449")) -> 0 | AU5: =IFERROR(VLOOKUP(U5,'DAS Fri'!$F$10:$P$40,11,0),"Off") -> MLD4&7 | AV5: =IF(AU5="MLD6&7","7:40",IF(AU5="MLD8&11","7:40",IF(AU5="SP-R","0",IF(AU5="RDD1","0",IF(AU5="RDD2","0",IF(AU5="RDD3","0",IF(AU5="RST1","0",IF(AU5="RST2","0",IF(AU5="Q Path","0",))))))))) -> 0 | AW5: =IF(AU5="MLD6&7","0",IF(AU5="MLD8&11","0",IF(AU5="SP-R","0",IF(AU5="RDD1","8:00",IF(AU5="RDD2","8:00",IF(AU5="RDD3","8:00",IF(AU5="RST1","0",IF(AU5="RST2","0",IF(AU5="Q Path","0",))))))))) -> 0 | AX5: =IF(AU5="MLD10&13","Dammam",IF(AU5="MLD6&7","Dammam",IF(AU5="SP-R","Riyadh",IF(AU5="RST1","Riyadh",IF(AU5="RST2","Riyadh",IF(AU5="RDD1","Riyadh",IF(AU5="RDD2","Riyadh",IF(AU5="RDD3","Riyadh",IF(AU5="Q Path","Riyadh",IF(AU5="Off","Riyadh")))))))))) -> FALSE | AY5: =IF(AX5="Riyadh","0",IF(AX5="Dammam","449")) -> FALSE | AZ5: =IFERROR(VLOOKUP(U5,'DAS Sat'!$F$29:$P$39,11,0),"Off") -> Off | BA5: =IF(AZ5="MLD6&7","7:40",IF(AZ5="MLD8&11","7:40",IF(AZ5="MLD10&13","7:40",IF(AZ15="MLD10&15","7:40",IF(AZ5="SP-R","0",IF(AZ5="RDD1","0",IF(AZ5="RDD2","0",IF(AZ5="RDD3","0",IF(AZ5="RST1","0",IF(AZ5="RST2","0",IF(AZ5="Q Path","0",))))))))))) -> 0 | BB5: =IF(AZ5="MLD6&7","0",IF(AZ5="MLD8&11","0",IF(AZ5="SP-R","0",IF(AZ5="RDD1","8:00",IF(AZ5="RDD2","8:00",IF(AZ5="RDD3","8:00",IF(AZ5="RST1","0",IF(AZ5="RST2","0",IF(AZ5="Q Path","0",))))))))) -> 0 | BC5: =IF(AZ5="MLD10&13","Dammam",IF(AZ5="MLD6&7","Dammam",IF(AZ5="SP-R","Riyadh",IF(AZ5="RST1","Riyadh",IF(AZ5="RST2","Riyadh",IF(AZ5="RDD1","Riyadh",IF(AZ5="RDD2","Riyadh",IF(AZ5="RDD3","Riyadh",IF(AZ5="Q Path","Riyadh",IF(AZ5="Off","Riyadh")))))))))) -> Riyadh | BD5: =IF(BC5="Riyadh","0",IF(BC5="Dammam","449")) -> 0 | BE5: =W5+AB5+AG5+AL5+AQ5+AV5+BA5 -> 0 | BG5: =X5+AC5+AH5+AM5+AR5+AW5+BB5 -> 0 | BI5: =Z5+AE5+AJ5+AO5+AT5+AY5+BD5 -> 0 | BK5: ='Dvr '!A7 -> Aqeel bin Khalid Al-Melifi | BL5: #VALUE! | BM5: =IFERROR(VLOOKUP(BK5,'DAS Sun'!$F$9:$Q$36,12,0),"Off") -> Off | BN5: =IFERROR(VLOOKUP(BK5,'DAS Sun'!$F$9:$R$36,13,0),"Off") -> Off | BO5: =$BO$3-BN5 -> #VALUE! | BP5: =BM5+#REF! -> #VALUE! | BQ5: =IFERROR(VLOOKUP(BK5,'DAS Mon'!$F$9:$Q$39,12,0),"Off") -> Off | BR5: =IFERROR(VLOOKUP(BK5,'DAS Mon'!$F$9:$R$39,13,0),"Off") -> Off | BS5: =$BO$3-BR5 -> #VALUE! | BT5: =BQ5+BO5 -> #VALUE! | BU5: =IFERROR(VLOOKUP(BK5,'DAS Tue'!$F$9:$Q$46,12,0),"Off") -> Off | BV5: =IFERROR(VLOOKUP(BK5,'DAS Tue'!$F$9:$R$46,13,0),"Off") -> Off | BW5: =$BO$3-BV5 -> #VALUE! | BX5: =BU5+BS5 -> #VALUE! | BY5: =IFERROR(VLOOKUP(BK5,'DAS Wed'!$F$9:$Q$49,12,0),"Off") -> 0.19722222 | BZ5: =IFERROR(VLOOKUP(BK5,'DAS Wed'!$F$9:$R$49,13,0),"Off") -> 0.67916667 | CA5: =$BO$3-BZ5 -> 0.32083333 | CB5: =BY5+BW5 -> #VALUE! | CC5: =IFERROR(VLOOKUP(BK5,'DAS Thu'!$F$9:$Q$47,12,0),"Off") -> 0.19722222 | CD5: =IFERROR(VLOOKUP(BK5,'DAS Thu'!$F$9:$R$47,13,0),"Off") -> 0.53055556 | CE5: =$BO$3-CD5 -> 0.46944444 | CF5: =CC5+CA5 -> 0.51805556 | CG5: =IFERROR(VLOOKUP(BK5,'DAS Fri'!$F$9:$Q$43,12,0),"Off") -> 0.19722222 | CH5: =IFERROR(VLOOKUP(BK5,'DAS Fri'!$F$9:$R$43,13,0),"Off") -> 0.67916667 | CI5: =$BO$3-CH5 -> 0.32083333 | CJ5: =CG5+CE5 -> 0.66666667 | CK5: =IFERROR(VLOOKUP(BK5,'DAS Sat'!$F$9:$Q$43,12,0),"Off") -> 0.28333333 | CL5: =IFERROR(VLOOKUP(BK5,'DAS Sat'!$F$9:$R$43,13,0),"Off") -> 0.49166667 | CM5: =$BO$3-CL5 -> 0.50833333 | CN5: =CK5+CI5 -> 0.60416667
B6: ='Dvr '!A8 -> Saad K Al O taibi | C6: =IFERROR(VLOOKUP(B6,'DAS Sun'!$F$9:$O$36,10,0),"Off") -> 0.20833333 | D6: ='Dvr '!E8 -> 0.20833333 | E6: =IFERROR(VLOOKUP(B6,'DAS Mon'!$F$9:$O$39,10,0),"Off") -> Off | F6: ='Dvr '!I8 -> 0 | G6: =IFERROR(VLOOKUP(B6,'DAS Tue'!$F$9:$O$45,10,0),"Off") -> Off | H6: ='Dvr '!M8 -> 0 | I6: =IFERROR(VLOOKUP(B6,'DAS Wed'!$F$9:$O$49,10,0),"Off") -> 0.48263889 | J6: ='Dvr '!Q8 -> 0.48263889 | K6: =IFERROR(VLOOKUP(B6,'DAS Thu'!$F$9:$O$47,10,0),"Off") -> 0.33333333 | L6: ='Dvr '!U8 -> 0.33333333 | M6: =IFERROR(VLOOKUP(B6,'DAS Fri'!$F$9:$O$43,10,0),"Off") -> 0.33333333 | N6: ='Dvr '!Y8 -> 0.33333333 | O6: =IFERROR(VLOOKUP(B6,'DAS Sat'!$F$9:$O$43,10,0),"Off") -> 0.33333333 | P6: ='Dvr '!AC8 -> 0.33333333 | Q6: =SUM(C6,E6,G6,I6,K6,M6,O6) -> 1.6909722 | R6: =SUM(D6,F6,H6,J6,L6,N6,P6) -> 1.6909722 | S6: =COUNTIF(C6:P6,"Off") -> 2 | T6: =R6-Q6 -> 0 | U6: ='Dvr '!A8 -> Saad K Al O taibi | V6: =IFERROR(VLOOKUP(U6,'DAS Sun'!$F$9:$P$36,11,0),"Off") -> MLD1 | W6: =IF(V6="MLD6&7","7:40",IF(V6="MLD8&11","7:40",IF(V6="SP-R","0",IF(V6="RDD1","0",IF(V6="RDD2","0",IF(V6="RDD3","0",IF(V6="RST1","0",IF(V6="RST2","0",IF(V6="Q Path","0",))))))))) -> 0 | X6: =IF(V6="MLD6&7","0",IF(V6="MLD8&11","0",IF(V6="SP-R","0",IF(V6="RDD1","8:00",IF(V6="RDD2","8:00",IF(V6="RDD3","8:00",IF(V6="RST1","0",IF(V6="RST2","0",IF(V6="Q Path","0",))))))))) -> 0 | Y6: =IF(V6="MLD8&11","Dammam",IF(V6="MLD6&7","Dammam",IF(V6="SP-R","Riyadh",IF(V6="RST1","Riyadh",IF(V6="RST2","Riyadh",IF(V6="RDD1","Riyadh",IF(V6="RDD2","Riyadh",IF(V6="RDD3","Riyadh",IF(V6="Q Path","Riyadh",IF(V6="Off","Riyadh")))))))))) -> FALSE | Z6: =IF(Y6="Riyadh","0",IF(Y6="Dammam","449")) -> FALSE | AA6: =IFERROR(VLOOKUP(U6,'DAS Mon'!$F$10:$P$39,11,0),"Off") -> Off | AB6: =IF(AA6="MLD6&7","7:40",IF(AA6="MLD8&11","7:40",IF(AA6="SP-R","0",IF(AA6="RDD1","0",IF(AA6="RDD2","0",IF(AA6="RDD3","0",IF(AA6="RST1","0",IF(AA6="RST2","0",IF(AA6="Q Path","0",))))))))) -> 0 | AC6: =IF(AA6="MLD6&7","0",IF(AA6="MLD8&11","0",IF(AA6="SP-R","0",IF(AA6="RDD1","8:00",IF(AA6="RDD2","8:00",IF(AA6="RDD3","8:00",IF(AA6="RST1","0",IF(AA6="RST2","0",IF(AA6="Q Path","0",))))))))) -> 0 | AD6: =IF(AA6="MLD8&11","Dammam",IF(AA6="MLD6&7","Dammam",IF(AA6="SP-R","Riyadh",IF(AA6="RST1","Riyadh",IF(AA6="RST2","Riyadh",IF(AA6="RDD1","Riyadh",IF(AA6="RDD2","Riyadh",IF(AA6="RDD3","Riyadh",IF(AA6="Q Path","Riyadh",IF(AA6="Off","Riyadh")))))))))) -> Riyadh | AE6: =IF(AD6="Riyadh","0",IF(AD6="Dammam","449")) -> 0 | AF6: =IFERROR(VLOOKUP(U6,'DAS Tue'!$F$10:$P$37,11,0),"Off") -> Off | AG6: =IF(AF6="MLD6&7","7:40",IF(AF6="MLD8&11","7:40",IF(AF6="SP-R","0",IF(AF6="RDD1","0",IF(AF6="RDD2","0",IF(AF6="RDD3","0",IF(AF6="RST1","0",IF(AF6="RST2","0",IF(AF6="Q Path","0",))))))))) -> 0 | AH6: =IF(AF6="MLD6&7","0",IF(AF6="MLD8&11","0",IF(AF6="SP-R","0",IF(AF6="RDD1","8:00",IF(AF6="RDD2","8:00",IF(AF6="RDD3","8:00",IF(AF6="RST1","0",IF(AF6="RST2","0",IF(AF6="Q Path","0",))))))))) -> 0 | AI6: =IF(AF6="MLD8&11","Dammam",IF(AF6="MLD6&7","Dammam",IF(AF6="SP-R","Riyadh",IF(AF6="RST1","Riyadh",IF(AF6="RST2","Riyadh",IF(AF6="RDD1","Riyadh",IF(AF6="RDD2","Riyadh",IF(AF6="RDD3","Riyadh",IF(AF6="Q Path","Riyadh",IF(AF6="Off","Riyadh")))))))))) -> Riyadh | AJ6: =IF(AI6="Riyadh","0",IF(AI6="Dammam","449")) -> 0 | AK6: =IFERROR(VLOOKUP(U6,'DAS Wed'!$F$12:$P$43,11,0),"Off") -> Q Path | AL6: =IF(AK6="MLD6&7","7:40",IF(AK6="MLD8&11","7:40",IF(AK6="SP-R","0",IF(AK6="RDD1","0",IF(AK6="RDD2","0",IF(AK6="RDD3","0",IF(AK6="RST1","0",IF(AK6="RST2","0",IF(AK6="Q Path","0",))))))))) -> 0 | AM6: =IF(AK6="MLD6&7","0",IF(AK6="MLD8&11","0",IF(AK6="SP-R","0",IF(AK6="RDD1","8:00",IF(AK6="RDD2","8:00",IF(AK6="RDD3","8:00",IF(AK6="RST1","0",IF(AK6="RST2","0",IF(AK6="Q Path","0",))))))))) -> 0 | AN6: =IF(AK6="MLD8&11","Dammam",IF(AK6="MLD6&7","Dammam",IF(AK6="SP-R","Riyadh",IF(AK6="RST1","Riyadh",IF(AK6="RST2","Riyadh",IF(AK6="RDD1","Riyadh",IF(AK6="RDD2","Riyadh",IF(AK6="RDD3","Riyadh",IF(AK6="Q Path","Riyadh",IF(AK6="Off","Riyadh")))))))))) -> Riyadh | AO6: =IF(AN6="Riyadh","0",IF(AN6="Dammam","449")) -> 0 | AP6: =IFERROR(VLOOKUP(U6,'DAS Thu'!$F$10:$P$45,11,0),"Off") -> SP-R | AQ6: =IF(AP6="MLD6&7","7:40",IF(AP6="MLD8&11","7:40",IF(AP6="SP-R","0",IF(AP6="RDD1","0",IF(AP6="RDD2","0",IF(AP6="RDD3","0",IF(AP6="RST1","0",IF(AP6="RST2","0",IF(AP6="Q Path","0",))))))))) -> 0 | AR6: =IF(AP6="MLD6&7","0",IF(AP6="MLD8&11","0",IF(AP6="SP-R","0",IF(AP6="RDD1","8:00",IF(AP6="RDD2","8:00",IF(AP6="RDD3","8:00",IF(AP6="RST1","0",IF(AP6="RST2","0",IF(AP6="Q Path","0",))))))))) -> 0 | AS6: =IF(AP6="MLD8&11","Dammam",IF(AP6="MLD6&7","Dammam",IF(AP6="SP-R","Riyadh",IF(AP6="RST1","Riyadh",IF(AP6="RST2","Riyadh",IF(AP6="RDD1","Riyadh",IF(AP6="RDD2","Riyadh",IF(AP6="RDD3","Riyadh",IF(AP6="Q Path","Riyadh",IF(AP6="Off","Riyadh")))))))))) -> Riyadh | AT6: =IF(AS6="Riyadh","0",IF(AS6="Dammam","449")) -> 0 | AU6: =IFERROR(VLOOKUP(U6,'DAS Fri'!$F$10:$P$40,11,0),"Off") -> SP-R | AV6: =IF(AU6="MLD6&7","7:40",IF(AU6="MLD8&11","7:40",IF(AU6="SP-R","0",IF(AU6="RDD1","0",IF(AU6="RDD2","0",IF(AU6="RDD3","0",IF(AU6="RST1","0",IF(AU6="RST2","0",IF(AU6="Q Path","0",))))))))) -> 0 | AW6: =IF(AU6="MLD6&7","0",IF(AU6="MLD8&11","0",IF(AU6="SP-R","0",IF(AU6="RDD1","8:00",IF(AU6="RDD2","8:00",IF(AU6="RDD3","8:00",IF(AU6="RST1","0",IF(AU6="RST2","0",IF(AU6="Q Path","0",))))))))) -> 0 | AX6: =IF(AU6="MLD10&13","Dammam",IF(AU6="MLD6&7","Dammam",IF(AU6="SP-R","Riyadh",IF(AU6="RST1","Riyadh",IF(AU6="RST2","Riyadh",IF(AU6="RDD1","Riyadh",IF(AU6="RDD2","Riyadh",IF(AU6="RDD3","Riyadh",IF(AU6="Q Path","Riyadh",IF(AU6="Off","Riyadh")))))))))) -> Riyadh | AY6: =IF(AX6="Riyadh","0",IF(AX6="Dammam","449")) -> 0 | AZ6: =IFERROR(VLOOKUP(U6,'DAS Sat'!$F$29:$P$39,11,0),"Off") -> Off | BA6: =IF(AZ6="MLD6&7","7:40",IF(AZ6="MLD8&11","7:40",IF(AZ6="SP-R","0",IF(AZ6="RDD1","0",IF(AZ6="RDD2","0",IF(AZ6="RDD3","0",IF(AZ6="RST1","0",IF(AZ6="RST2","0",IF(AZ6="Q Path","0",))))))))) -> 0 | BB6: =IF(AZ6="MLD6&7","0",IF(AZ6="MLD8&11","0",IF(AZ6="SP-R","0",IF(AZ6="RDD1","8:00",IF(AZ6="RDD2","8:00",IF(AZ6="RDD3","8:00",IF(AZ6="RST1","0",IF(AZ6="RST2","0",IF(AZ6="Q Path","0",))))))))) -> 0 | BC6: =IF(AZ6="MLD10&13","Dammam",IF(AZ6="MLD6&7","Dammam",IF(AZ6="SP-R","Riyadh",IF(AZ6="RST1","Riyadh",IF(AZ6="RST2","Riyadh",IF(AZ6="RDD1","Riyadh",IF(AZ6="RDD2","Riyadh",IF(AZ6="RDD3","Riyadh",IF(AZ6="Q Path","Riyadh",IF(AZ6="Off","Riyadh")))))))))) -> Riyadh | BD6: =IF(BC6="Riyadh","0",IF(BC6="Dammam","449")) -> 0 | BE6: =W6+AB6+AG6+AL6+AQ6+AV6+BA6 -> 0 | BG6: =X6+AC6+AH6+AM6+AR6+AW6+BB6 -> 0 | BI6: =Z6+AE6+AJ6+AO6+AT6+AY6+BD6 -> 0 | BK6: ='Dvr '!A8 -> Saad K Al O taibi | BL6: 0.50833333 | BM6: =IFERROR(VLOOKUP(BK6,'DAS Sun'!$F$9:$Q$36,12,0),"Off") -> 0.15486111 | BN6: =IFERROR(VLOOKUP(BK6,'DAS Sun'!$F$9:$R$36,13,0),"Off") -> 0.36319444 | BO6: =$BO$3-BN6 -> 0.63680556 | BP6: =BM6+BL6 -> 0.66319444 | BQ6: =IFERROR(VLOOKUP(BK6,'DAS Mon'!$F$9:$Q$39,12,0),"Off") -> Off | BR6: =IFERROR(VLOOKUP(BK6,'DAS Mon'!$F$9:$R$39,13,0),"Off") -> Off | BS6: =$BO$3-BR6 -> #VALUE! | BT6: =BQ6+BO6 -> #VALUE! | BU6: =IFERROR(VLOOKUP(BK6,'DAS Tue'!$F$9:$Q$46,12,0),"Off") -> Off | BV6: =IFERROR(VLOOKUP(BK6,'DAS Tue'!$F$9:$R$46,13,0),"Off") -> Off | BW6: =$BO$3-BV6 -> #VALUE! | BX6: =BU6+BS6 -> #VALUE! | BY6: =IFERROR(VLOOKUP(BK6,'DAS Wed'!$F$9:$Q$49,12,0),"Off") -> 0.27083333 | BZ6: =IFERROR(VLOOKUP(BK6,'DAS Wed'!$F$9:$R$49,13,0),"Off") -> 0.75347222 | CA6: =$BO$3-BZ6 -> 0.24652778 | CB6: =BY6+BW6 -> #VALUE! | CC6: =IFERROR(VLOOKUP(BK6,'DAS Thu'!$F$9:$Q$47,12,0),"Off") -> 0.27986111 | CD6: =IFERROR(VLOOKUP(BK6,'DAS Thu'!$F$9:$R$47,13,0),"Off") -> 0.61319444 | CE6: =$BO$3-CD6 -> 0.38680556 | CF6: =CC6+CA6 -> 0.52638889 | CG6: =IFERROR(VLOOKUP(BK6,'DAS Fri'!$F$9:$Q$43,12,0),"Off") -> 0.49375 | CH6: =IFERROR(VLOOKUP(BK6,'DAS Fri'!$F$9:$R$43,13,0),"Off") -> 0.75 | CI6: =$BO$3-CH6 -> 0.25 | CJ6: =CG6+CE6 -> 0.88055556 | CK6: =IFERROR(VLOOKUP(BK6,'DAS Sat'!$F$9:$Q$43,12,0),"Off") -> 0.25 | CL6: =IFERROR(VLOOKUP(BK6,'DAS Sat'!$F$9:$R$43,13,0),"Off") -> 0.58333333 | CM6: =$BO$3-CL6 -> 0.41666667 | CN6: =CK6+CI6 -> 0.5
B7: ='Dvr '!A9 -> Abdulrahman Mohammed Al-Juhani | C7: =IFERROR(VLOOKUP(B7,'DAS Sun'!$F$9:$O$36,10,0),"Off") -> Off | D7: ='Dvr '!E9 -> 0.33333333 | E7: =IFERROR(VLOOKUP(B7,'DAS Mon'!$F$9:$O$39,10,0),"Off") -> 0.48194444 | F7: ='Dvr '!I9 -> 0.48194444 | G7: =IFERROR(VLOOKUP(B7,'DAS Tue'!$F$9:$O$45,10,0),"Off") -> Off | H7: ='Dvr '!M9 -> 0 | I7: =IFERROR(VLOOKUP(B7,'DAS Wed'!$F$9:$O$49,10,0),"Off") -> Off | J7: ='Dvr '!Q9 -> 0 | K7: =IFERROR(VLOOKUP(B7,'DAS Thu'!$F$9:$O$47,10,0),"Off") -> 0.20833333 | L7: ='Dvr '!U9 -> 0.20833333 | M7: =IFERROR(VLOOKUP(B7,'DAS Fri'!$F$9:$O$43,10,0),"Off") -> 0.20833333 | N7: ='Dvr '!Y9 -> 0.20833333 | O7: =IFERROR(VLOOKUP(B7,'DAS Sat'!$F$9:$O$43,10,0),"Off") -> 0.39236111 | P7: ='Dvr '!AC9 -> 0.39236111 | Q7: =SUM(C7,E7,G7,I7,K7,M7,O7) -> 1.2909722 | R7: =SUM(D7,F7,H7,J7,L7,N7,P7) -> 1.6243056 | S7: =COUNTIF(C7:P7,"Off") -> 3 | T7: =R7-Q7 -> 0.33333333 | U7: ='Dvr '!A9 -> Abdulrahman Mohammed Al-Juhani | V7: =IFERROR(VLOOKUP(U7,'DAS Sun'!$F$9:$P$36,11,0),"Off") -> Off | W7: =IF(V7="MLD6&7","7:40",IF(V7="MLD8&11","7:40",IF(V7="SP-R","0",IF(V7="RDD1","0",IF(V7="RDD2","0",IF(V7="RDD3","0",IF(V7="RST1","0",IF(V7="RST2","0",IF(V7="Q Path","0",))))))))) -> 0 | X7: =IF(V7="MLD6&7","0",IF(V7="MLD8&11","0",IF(V7="SP-R","0",IF(V7="RDD1","8:00",IF(V7="RDD2","8:00",IF(V7="RDD3","8:00",IF(V7="RST1","0",IF(V7="RST2","0",IF(V7="Q Path","0",))))))))) -> 0 | Y7: =IF(V7="MLD8&11","Dammam",IF(V7="MLD6&7","Dammam",IF(V7="SP-R","Riyadh",IF(V7="RST1","Riyadh",IF(V7="RST2","Riyadh",IF(V7="RDD1","Riyadh",IF(V7="RDD2","Riyadh",IF(V7="RDD3","Riyadh",IF(V7="Q Path","Riyadh",IF(V7="Off","Riyadh")))))))))) -> Riyadh | Z7: =IF(Y7="Riyadh","0",IF(Y7="Dammam","449")) -> 0 | AA7: =IFERROR(VLOOKUP(U7,'DAS Mon'!$F$10:$P$39,11,0),"Off") -> MLD4&7 | AB7: =IF(AA7="MLD6&7","7:40",IF(AA7="MLD8&11","7:40",IF(AA7="SP-R","0",IF(AA7="RDD1","0",IF(AA7="RDD2","0",IF(AA7="RDD3","0",IF(AA7="RST1","0",IF(AA7="RST2","0",IF(AA7="Q Path","0",))))))))) -> 0 | AC7: =IF(AA7="MLD6&7","0",IF(AA7="MLD8&11","0",IF(AA7="SP-R","0",IF(AA7="RDD1","8:00",IF(AA7="RDD2","8:00",IF(AA7="RDD3","8:00",IF(AA7="RST1","0",IF(AA7="RST2","0",IF(AA7="Q Path","0",))))))))) -> 0 | AD7: =IF(AA7="MLD8&11","Dammam",IF(AA7="MLD6&7","Dammam",IF(AA7="SP-R","Riyadh",IF(AA7="RST1","Riyadh",IF(AA7="RST2","Riyadh",IF(AA7="RDD1","Riyadh",IF(AA7="RDD2","Riyadh",IF(AA7="RDD3","Riyadh",IF(AA7="Q Path","Riyadh",IF(AA7="Off","Riyadh")))))))))) -> FALSE | AE7: =IF(AD7="Riyadh","0",IF(AD7="Dammam","449")) -> FALSE | AF7: =IFERROR(VLOOKUP(U7,'DAS Tue'!$F$10:$P$37,11,0),"Off") -> Off | AG7: =IF(AF7="MLD6&7","7:40",IF(AF7="MLD8&11","7:40",IF(AF7="SP-R","0",IF(AF7="RDD1","0",IF(AF7="RDD2","0",IF(AF7="RDD3","0",IF(AF7="RST1","0",IF(AF7="RST2","0",IF(AF7="Q Path","0",))))))))) -> 0 | AH7: =IF(AF7="MLD6&7","0",IF(AF7="MLD8&11","0",IF(AF7="SP-R","0",IF(AF7="RDD1","8:00",IF(AF7="RDD2","8:00",IF(AF7="RDD3","8:00",IF(AF7="RST1","0",IF(AF7="RST2","0",IF(AF7="Q Path","0",))))))))) -> 0 | AI7: =IF(AF7="MLD8&11","Dammam",IF(AF7="MLD6&7","Dammam",IF(AF7="SP-R","Riyadh",IF(AF7="RST1","Riyadh",IF(AF7="RST2","Riyadh",IF(AF7="RDD1","Riyadh",IF(AF7="RDD2","Riyadh",IF(AF7="RDD3","Riyadh",IF(AF7="Q Path","Riyadh",IF(AF7="Off","Riyadh")))))))))) -> Riyadh | AJ7: =IF(AI7="Riyadh","0",IF(AI7="Dammam","449")) -> 0 | AK7: =IFERROR(VLOOKUP(U7,'DAS Wed'!$F$12:$P$43,11,0),"Off") -> Off | AL7: =IF(AK7="MLD6&7","7:40",IF(AK7="MLD8&11","7:40",IF(AK7="SP-R","0",IF(AK7="RDD1","0",IF(AK7="RDD2","0",IF(AK7="RDD3","0",IF(AK7="RST1","0",IF(AK7="RST2","0",IF(AK7="Q Path","0",))))))))) -> 0 | AM7: =IF(AK7="MLD6&7","0",IF(AK7="MLD8&11","0",IF(AK7="SP-R","0",IF(AK7="RDD1","8:00",IF(AK7="RDD2","8:00",IF(AK7="RDD3","8:00",IF(AK7="RST1","0",IF(AK7="RST2","0",IF(AK7="Q Path","0",))))))))) -> 0 | AN7: =IF(AK7="MLD8&11","Dammam",IF(AK7="MLD6&7","Dammam",IF(AK7="SP-R","Riyadh",IF(AK7="RST1","Riyadh",IF(AK7="RST2","Riyadh",IF(AK7="RDD1","Riyadh",IF(AK7="RDD2","Riyadh",IF(AK7="RDD3","Riyadh",IF(AK7="Q Path","Riyadh",IF(AK7="Off","Riyadh")))))))))) -> Riyadh | AO7: =IF(AN7="Riyadh","0",IF(AN7="Dammam","449")) -> 0 | AP7: =IFERROR(VLOOKUP(U7,'DAS Thu'!$F$10:$P$45,11,0),"Off") -> MLD6 | AQ7: =IF(AP7="MLD6&7","7:40",IF(AP7="MLD8&11","7:40",IF(AP7="SP-R","0",IF(AP7="RDD1","0",IF(AP7="RDD2","0",IF(AP7="RDD3","0",IF(AP7="RST1","0",IF(AP7="RST2","0",IF(AP7="Q Path","0",))))))))) -> 0 | AR7: =IF(AP7="MLD6&7","0",IF(AP7="MLD8&11","0",IF(AP7="SP-R","0",IF(AP7="RDD1","8:00",IF(AP7="RDD2","8:00",IF(AP7="RDD3","8:00",IF(AP7="RST1","0",IF(AP7="RST2","0",IF(AP7="Q Path","0",))))))))) -> 0 | AS7: =IF(AP7="MLD8&11","Dammam",IF(AP7="MLD6&7","Dammam",IF(AP7="SP-R","Riyadh",IF(AP7="RST1","Riyadh",IF(AP7="RST2","Riyadh",IF(AP7="RDD1","Riyadh",IF(AP7="RDD2","Riyadh",IF(AP7="RDD3","Riyadh",IF(AP7="Q Path","Riyadh",IF(AP7="Off","Riyadh")))))))))) -> FALSE | AT7: =IF(AS7="Riyadh","0",IF(AS7="Dammam","449")) -> FALSE | AU7: =IFERROR(VLOOKUP(U7,'DAS Fri'!$F$10:$P$40,11,0),"Off") -> MLD1 | AV7: =IF(AU7="MLD6&7","7:40",IF(AU7="MLD8&11","7:40",IF(AU7="SP-R","0",IF(AU7="RDD1","0",IF(AU7="RDD2","0",IF(AU7="RDD3","0",IF(AU7="RST1","0",IF(AU7="RST2","0",IF(AU7="Q Path","0",))))))))) -> 0 | AW7: =IF(AU7="MLD6&7","0",IF(AU7="MLD8&11","0",IF(AU7="SP-R","0",IF(AU7="RDD1","8:00",IF(AU7="RDD2","8:00",IF(AU7="RDD3","8:00",IF(AU7="RST1","0",IF(AU7="RST2","0",IF(AU7="Q Path","0",))))))))) -> 0 | AX7: =IF(AU7="MLD10&13","Dammam",IF(AU7="MLD6&7","Dammam",IF(AU7="SP-R","Riyadh",IF(AU7="RST1","Riyadh",IF(AU7="RST2","Riyadh",IF(AU7="RDD1","Riyadh",IF(AU7="RDD2","Riyadh",IF(AU7="RDD3","Riyadh",IF(AU7="Q Path","Riyadh",IF(AU7="Off","Riyadh")))))))))) -> FALSE | AY7: =IF(AX7="Riyadh","0",IF(AX7="Dammam","449")) -> FALSE | AZ7: =IFERROR(VLOOKUP(U7,'DAS Sat'!$F$29:$P$39,11,0),"Off") -> Off | BA7: =IF(AZ7="MLD6&7","7:40",IF(AZ7="MLD8&11","7:40",IF(AZ7="SP-R","0",IF(AZ7="RDD1","0",IF(AZ7="RDD2","0",IF(AZ7="RDD3","0",IF(AZ7="RST1","0",IF(AZ7="RST2","0",IF(AZ7="Q Path","0",))))))))) -> 0 | BB7: =IF(AZ7="MLD6&7","0",IF(AZ7="MLD8&11","0",IF(AZ7="SP-R","0",IF(AZ7="RDD1","8:00",IF(AZ7="RDD2","8:00",IF(AZ7="RDD3","8:00",IF(AZ7="RST1","0",IF(AZ7="RST2","0",IF(AZ7="Q Path","0",))))))))) -> 0 | BC7: =IF(AZ7="MLD10&13","Dammam",IF(AZ7="MLD6&7","Dammam",IF(AZ7="SP-R","Riyadh",IF(AZ7="RST1","Riyadh",IF(AZ7="RST2","Riyadh",IF(AZ7="RDD1","Riyadh",IF(AZ7="RDD2","Riyadh",IF(AZ7="RDD3","Riyadh",IF(AZ7="Q Path","Riyadh",IF(AZ7="Off","Riyadh")))))))))) -> Riyadh | BD7: =IF(BC7="Riyadh","0",IF(BC7="Dammam","449")) -> 0 | BE7: =W7+AB7+AG7+AL7+AQ7+AV7+BA7 -> 0 | BG7: =X7+AC7+AH7+AM7+AR7+AW7+BB7 -> 0 | BI7: =Z7+AE7+AJ7+AO7+AT7+AY7+BD7 -> 0 | BK7: ='Dvr '!A9 -> Abdulrahman Mohammed Al-Juhani | BL7: 0.0069444444 | BM7: =IFERROR(VLOOKUP(BK7,'DAS Sun'!$F$9:$Q$36,12,0),"Off") -> Off | BN7: =IFERROR(VLOOKUP(BK7,'DAS Sun'!$F$9:$R$36,13,0),"Off") -> Off | BO7: =$BO$3-BN7 -> #VALUE! | BP7: =BM7+BL7 -> #VALUE! | BQ7: =IFERROR(VLOOKUP(BK7,'DAS Mon'!$F$9:$Q$39,12,0),"Off") -> 0.19722222 | BR7: =IFERROR(VLOOKUP(BK7,'DAS Mon'!$F$9:$R$39,13,0),"Off") -> 0.67916667 | BS7: =$BO$3-BR7 -> 0.32083333 | BT7: =BQ7+BO7 -> #VALUE! | BU7: =IFERROR(VLOOKUP(BK7,'DAS Tue'!$F$9:$Q$46,12,0),"Off") -> Off | BV7: =IFERROR(VLOOKUP(BK7,'DAS Tue'!$F$9:$R$46,13,0),"Off") -> Off | BW7: =$BO$3-BV7 -> #VALUE! | BX7: =BU7+BS7 -> #VALUE! | BY7: =IFERROR(VLOOKUP(BK7,'DAS Wed'!$F$9:$Q$49,12,0),"Off") -> Off | BZ7: =IFERROR(VLOOKUP(BK7,'DAS Wed'!$F$9:$R$49,13,0),"Off") -> Off | CA7: =$BO$3-BZ7 -> #VALUE! | CB7: =BY7+BW7 -> #VALUE! | CC7: =IFERROR(VLOOKUP(BK7,'DAS Thu'!$F$9:$Q$47,12,0),"Off") -> 0.28333333 | CD7: =IFERROR(VLOOKUP(BK7,'DAS Thu'!$F$9:$R$47,13,0),"Off") -> 0.49166667 | CE7: =$BO$3-CD7 -> 0.50833333 | CF7: =CC7+CA7 -> #VALUE! | CG7: =IFERROR(VLOOKUP(BK7,'DAS Fri'!$F$9:$Q$43,12,0),"Off") -> 0.15486111 | CH7: =IFERROR(VLOOKUP(BK7,'DAS Fri'!$F$9:$R$43,13,0),"Off") -> 0.36319444 | CI7: =$BO$3-CH7 -> 0.63680556 | CJ7: =CG7+CE7 -> 0.66319444 | CK7: =IFERROR(VLOOKUP(BK7,'DAS Sat'!$F$9:$Q$43,12,0),"Off") -> 0.20833333 | CL7: =IFERROR(VLOOKUP(BK7,'DAS Sat'!$F$9:$R$43,13,0),"Off") -> 0.60069444 | CM7: =$BO$3-CL7 -> 0.39930556 | CN7: =CK7+CI7 -> 0.84513889
B8: ='Dvr '!A10 -> Suhayb Al Muzaini | C8: =IFERROR(VLOOKUP(B8,'DAS Sun'!$F$9:$O$36,10,0),"Off") -> 0.48263889 | D8: ='Dvr '!E10 -> 0.48263889 | E8: =IFERROR(VLOOKUP(B8,'DAS Mon'!$F$9:$O$39,10,0),"Off") -> 0.20833333 | F8: ='Dvr '!I10 -> 0.20833333 | G8: =IFERROR(VLOOKUP(B8,'DAS Tue'!$F$9:$O$45,10,0),"Off") -> 0.20833333 | H8: ='Dvr '!M10 -> 0.20833333 | I8: =IFERROR(VLOOKUP(B8,'DAS Wed'!$F$9:$O$49,10,0),"Off") -> Off | J8: ='Dvr '!Q10 -> 0 | K8: =IFERROR(VLOOKUP(B8,'DAS Thu'!$F$9:$O$47,10,0),"Off") -> Off | L8: ='Dvr '!U10 -> 0 | M8: =IFERROR(VLOOKUP(B8,'DAS Fri'!$F$9:$O$43,10,0),"Off") -> 0.33333333 | N8: ='Dvr '!Y10 -> 0.33333333 | O8: =IFERROR(VLOOKUP(B8,'DAS Sat'!$F$9:$O$43,10,0),"Off") -> 0.33333333 | P8: ='Dvr '!AC10 -> 0.33333333 | Q8: =SUM(C8,E8,G8,I8,K8,M8,O8) -> 1.5659722 | R8: =SUM(D8,F8,H8,J8,L8,N8,P8) -> 1.5659722 | S8: =COUNTIF(C8:P8,"Off") -> 2 | T8: =R8-Q8 -> 0 | U8: ='Dvr '!A10 -> Suhayb Al Muzaini | V8: =IFERROR(VLOOKUP(U8,'DAS Sun'!$F$9:$P$36,11,0),"Off") -> Q Path | W8: =IF(V8="MLD6&7","7:40",IF(V8="MLD8&11","7:40",IF(V8="SP-R","0",IF(V8="RDD1","0",IF(V8="RDD2","0",IF(V8="RDD3","0",IF(V8="RST1","0",IF(V8="RST2","0",IF(V8="Q Path","0",))))))))) -> 0 | X8: =IF(V8="MLD6&7","0",IF(V8="MLD8&11","0",IF(V8="SP-R","0",IF(V8="RDD1","8:00",IF(V8="RDD2","8:00",IF(V8="RDD3","8:00",IF(V8="RST1","0",IF(V8="RST2","0",IF(V8="Q Path","0",))))))))) -> 0 | Y8: =IF(V8="MLD8&11","Dammam",IF(V8="MLD6&7","Dammam",IF(V8="SP-R","Riyadh",IF(V8="RST1","Riyadh",IF(V8="RST2","Riyadh",IF(V8="RDD1","Riyadh",IF(V8="RDD2","Riyadh",IF(V8="RDD3","Riyadh",IF(V8="Q Path","Riyadh",IF(V8="Off","Riyadh")))))))))) -> Riyadh | Z8: =IF(Y8="Riyadh","0",IF(Y8="Dammam","449")) -> 0 | AA8: =IFERROR(VLOOKUP(U8,'DAS Mon'!$F$10:$P$39,11,0),"Off") -> MLD6 | AB8: =IF(AA8="MLD6&7","7:40",IF(AA8="MLD8&11","7:40",IF(AA8="SP-R","0",IF(AA8="RDD1","0",IF(AA8="RDD2","0",IF(AA8="RDD3","0",IF(AA8="RST1","0",IF(AA8="RST2","0",IF(AA8="Q Path","0",))))))))) -> 0 | AC8: =IF(AA8="MLD6&7","0",IF(AA8="MLD8&11","0",IF(AA8="SP-R","0",IF(AA8="RDD1","8:00",IF(AA8="RDD2","8:00",IF(AA8="RDD3","8:00",IF(AA8="RST1","0",IF(AA8="RST2","0",IF(AA8="Q Path","0",))))))))) -> 0 | AD8: =IF(AA8="MLD8&11","Dammam",IF(AA8="MLD6&7","Dammam",IF(AA8="SP-R","Riyadh",IF(AA8="RST1","Riyadh",IF(AA8="RST2","Riyadh",IF(AA8="RDD1","Riyadh",IF(AA8="RDD2","Riyadh",IF(AA8="RDD3","Riyadh",IF(AA8="Q Path","Riyadh",IF(AA8="Off","Riyadh")))))))))) -> FALSE | AE8: =IF(AD8="Riyadh","0",IF(AD8="Dammam","449")) -> FALSE | AF8: =IFERROR(VLOOKUP(U8,'DAS Tue'!$F$10:$P$37,11,0),"Off") -> MLD1 | AG8: =IF(AF8="MLD6&7","7:40",IF(AF8="MLD8&11","7:40",IF(AF8="SP-R","0",IF(AF8="RDD1","0",IF(AF8="RDD2","0",IF(AF8="RDD3","0",IF(AF8="RST1","0",IF(AF8="RST2","0",IF(AF8="Q Path","0",))))))))) -> 0 | AH8: =IF(AF8="MLD6&7","0",IF(AF8="MLD8&11","0",IF(AF8="SP-R","0",IF(AF8="RDD1","8:00",IF(AF8="RDD2","8:00",IF(AF8="RDD3","8:00",IF(AF8="RST1","0",IF(AF8="RST2","0",IF(AF8="Q Path","0",))))))))) -> 0 | AI8: =IF(AF8="MLD8&11","Dammam",IF(AF8="MLD6&7","Dammam",IF(AF8="SP-R","Riyadh",IF(AF8="RST1","Riyadh",IF(AF8="RST2","Riyadh",IF(AF8="RDD1","Riyadh",IF(AF8="RDD2","Riyadh",IF(AF8="RDD3","Riyadh",IF(AF8="Q Path","Riyadh",IF(AF8="Off","Riyadh")))))))))) -> FALSE | AJ8: =IF(AI8="Riyadh","0",IF(AI8="Dammam","449")) -> FALSE | AK8: =IFERROR(VLOOKUP(U8,'DAS Wed'!$F$12:$P$43,11,0),"Off") -> Off | AL8: =IF(AK8="MLD6&7","7:40",IF(AK8="MLD8&11","7:40",IF(AK8="SP-R","0",IF(AK8="RDD1","0",IF(AK8="RDD2","0",IF(AK8="RDD3","0",IF(AK8="RST1","0",IF(AK8="RST2","0",IF(AK8="Q Path","0",))))))))) -> 0 | AM8: =IF(AK8="MLD6&7","0",IF(AK8="MLD8&11","0",IF(AK8="SP-R","0",IF(AK8="RDD1","8:00",IF(AK8="RDD2","8:00",IF(AK8="RDD3","8:00",IF(AK8="RST1","0",IF(AK8="RST2","0",IF(AK8="Q Path","0",))))))))) -> 0 | AN8: =IF(AK8="MLD8&11","Dammam",IF(AK8="MLD6&7","Dammam",IF(AK8="SP-R","Riyadh",IF(AK8="RST1","Riyadh",IF(AK8="RST2","Riyadh",IF(AK8="RDD1","Riyadh",IF(AK8="RDD2","Riyadh",IF(AK8="RDD3","Riyadh",IF(AK8="Q Path","Riyadh",IF(AK8="Off","Riyadh")))))))))) -> Riyadh | AO8: =IF(AN8="Riyadh","0",IF(AN8="Dammam","449")) -> 0 | AP8: =IFERROR(VLOOKUP(U8,'DAS Thu'!$F$10:$P$45,11,0),"Off") -> Off | AQ8: =IF(AP8="MLD6&7","7:40",IF(AP8="MLD8&11","7:40",IF(AP8="SP-R","0",IF(AP8="RDD1","0",IF(AP8="RDD2","0",IF(AP8="RDD3","0",IF(AP8="RST1","0",IF(AP8="RST2","0",IF(AP8="Q Path","0",))))))))) -> 0 | AR8: =IF(AP8="MLD6&7","0",IF(AP8="MLD8&11","0",IF(AP8="SP-R","0",IF(AP8="RDD1","8:00",IF(AP8="RDD2","8:00",IF(AP8="RDD3","8:00",IF(AP8="RST1","0",IF(AP8="RST2","0",IF(AP8="Q Path","0",))))))))) -> 0 | AS8: =IF(AP8="MLD8&11","Dammam",IF(AP8="MLD6&7","Dammam",IF(AP8="SP-R","Riyadh",IF(AP8="RST1","Riyadh",IF(AP8="RST2","Riyadh",IF(AP8="RDD1","Riyadh",IF(AP8="RDD2","Riyadh",IF(AP8="RDD3","Riyadh",IF(AP8="Q Path","Riyadh",IF(AP8="Off","Riyadh")))))))))) -> Riyadh | AT8: =IF(AS8="Riyadh","0",IF(AS8="Dammam","449")) -> 0 | AU8: =IFERROR(VLOOKUP(U8,'DAS Fri'!$F$10:$P$40,11,0),"Off") -> RDD2 | AV8: =IF(AU8="MLD6&7","7:40",IF(AU8="MLD8&11","7:40",IF(AU8="SP-R","0",IF(AU8="RDD1","0",IF(AU8="RDD2","0",IF(AU8="RDD3","0",IF(AU8="RST1","0",IF(AU8="RST2","0",IF(AU8="Q Path","0",))))))))) -> 0 | AW8: =IF(AU8="MLD6&7","0",IF(AU8="MLD8&11","0",IF(AU8="SP-R","0",IF(AU8="RDD1","8:00",IF(AU8="RDD2","8:00",IF(AU8="RDD3","8:00",IF(AU8="RST1","0",IF(AU8="RST2","0",IF(AU8="Q Path","0",))))))))) -> 8:00 | AX8: =IF(AU8="MLD10&13","Dammam",IF(AU8="MLD6&7","Dammam",IF(AU8="SP-R","Riyadh",IF(AU8="RST1","Riyadh",IF(AU8="RST2","Riyadh",IF(AU8="RDD1","Riyadh",IF(AU8="RDD2","Riyadh",IF(AU8="RDD3","Riyadh",IF(AU8="Q Path","Riyadh",IF(AU8="Off","Riyadh")))))))))) -> Riyadh | AY8: =IF(AX8="Riyadh","0",IF(AX8="Dammam","449")) -> 0 | AZ8: =IFERROR(VLOOKUP(U8,'DAS Sat'!$F$29:$P$39,11,0),"Off") -> Off | BA8: =IF(AZ8="MLD6&7","7:40",IF(AZ8="MLD8&11","7:40",IF(AZ8="SP-R","0",IF(AZ8="RDD1","0",IF(AZ8="RDD2","0",IF(AZ8="RDD3","0",IF(AZ8="RST1","0",IF(AZ8="RST2","0",IF(AZ8="Q Path","0",))))))))) -> 0 | BB8: =IF(AZ8="MLD6&7","0",IF(AZ8="MLD8&11","0",IF(AZ8="SP-R","0",IF(AZ8="RDD1","8:00",IF(AZ8="RDD2","8:00",IF(AZ8="RDD3","8:00",IF(AZ8="RST1","0",IF(AZ8="RST2","0",IF(AZ8="Q Path","0",))))))))) -> 0 | BC8: =IF(AZ8="MLD10&13","Dammam",IF(AZ8="MLD6&7","Dammam",IF(AZ8="SP-R","Riyadh",IF(AZ8="RST1","Riyadh",IF(AZ8="RST2","Riyadh",IF(AZ8="RDD1","Riyadh",IF(AZ8="RDD2","Riyadh",IF(AZ8="RDD3","Riyadh",IF(AZ8="Q Path","Riyadh",IF(AZ8="Off","Riyadh")))))))))) -> Riyadh | BD8: =IF(BC8="Riyadh","0",IF(BC8="Dammam","449")) -> 0 | BE8: =W8+AB8+AG8+AL8+AQ8+AV8+BA8 -> 0 | BG8: =X8+AC8+AH8+AM8+AR8+AW8+BB8 -> 0.33333333 | BI8: =Z8+AE8+AJ8+AO8+AT8+AY8+BD8 -> 0 | BK8: ='Dvr '!A10 -> Suhayb Al Muzaini | BL8: 0.39930556 | BM8: =IFERROR(VLOOKUP(BK8,'DAS Sun'!$F$9:$Q$36,12,0),"Off") -> 0.27083333 | BN8: =IFERROR(VLOOKUP(BK8,'DAS Sun'!$F$9:$R$36,13,0),"Off") -> 0.75347222 | BO8: =$BO$3-BN8 -> 0.24652778 | BP8: =BM8+BL8 -> 0.67013889 | BQ8: =IFERROR(VLOOKUP(BK8,'DAS Mon'!$F$9:$Q$39,12,0),"Off") -> 0.28333333 | BR8: =IFERROR(VLOOKUP(BK8,'DAS Mon'!$F$9:$R$39,13,0),"Off") -> 0.49166667 | BS8: =$BO$3-BR8 -> 0.50833333 | BT8: =BQ8+BO8 -> 0.52986111 | BU8: =IFERROR(VLOOKUP(BK8,'DAS Tue'!$F$9:$Q$46,12,0),"Off") -> 0.15486111 | BV8: =IFERROR(VLOOKUP(BK8,'DAS Tue'!$F$9:$R$46,13,0),"Off") -> 0.36319444 | BW8: =$BO$3-BV8 -> 0.63680556 | BX8: =BU8+BS8 -> 0.66319444 | BY8: =IFERROR(VLOOKUP(BK8,'DAS Wed'!$F$9:$Q$49,12,0),"Off") -> Off | BZ8: =IFERROR(VLOOKUP(BK8,'DAS Wed'!$F$9:$R$49,13,0),"Off") -> Off | CA8: =$BO$3-BZ8 -> #VALUE! | CB8: =BY8+BW8 -> #VALUE! | CC8: =IFERROR(VLOOKUP(BK8,'DAS Thu'!$F$9:$Q$47,12,0),"Off") -> Off | CD8: =IFERROR(VLOOKUP(BK8,'DAS Thu'!$F$9:$R$47,13,0),"Off") -> Off | CE8: =$BO$3-CD8 -> #VALUE! | CF8: =CC8+CA8 -> #VALUE! | CG8: =IFERROR(VLOOKUP(BK8,'DAS Fri'!$F$9:$Q$43,12,0),"Off") -> 0.58333333 | CH8: =IFERROR(VLOOKUP(BK8,'DAS Fri'!$F$9:$R$43,13,0),"Off") -> 0.91666667 | CI8: =$BO$3-CH8 -> 0.083333333 | CJ8: =CG8+CE8 -> #VALUE! | CK8: =IFERROR(VLOOKUP(BK8,'DAS Sat'!$F$9:$Q$43,12,0),"Off") -> 0.58333333 | CL8: =IFERROR(VLOOKUP(BK8,'DAS Sat'!$F$9:$R$43,13,0),"Off") -> 0.91666667 | CM8: =$BO$3-CL8 -> 0.083333333 | CN8: =CK8+CI8 -> 0.66666667
B9: ='Dvr '!A11 -> Abdullah Yahya Sahari | C9: =IFERROR(VLOOKUP(B9,'DAS Sun'!$F$9:$O$36,10,0),"Off") -> 0.33333333 | D9: ='Dvr '!E11 -> 0.33333333 | E9: =IFERROR(VLOOKUP(B9,'DAS Mon'!$F$9:$O$39,10,0),"Off") -> 0.20833333 | F9: ='Dvr '!I11 -> 0.33333333 | G9: =IFERROR(VLOOKUP(B9,'DAS Tue'!$F$9:$O$45,10,0),"Off") -> 0.20833333 | H9: ='Dvr '!M11 -> 0.33333333 | I9: =IFERROR(VLOOKUP(B9,'DAS Wed'!$F$9:$O$49,10,0),"Off") -> 0.33333333 | J9: ='Dvr '!Q11 -> 0.33333333 | K9: =IFERROR(VLOOKUP(B9,'DAS Thu'!$F$9:$O$47,10,0),"Off") -> Off | L9: ='Dvr '!U11 -> 0 | M9: =IFERROR(VLOOKUP(B9,'DAS Fri'!$F$9:$O$43,10,0),"Off") -> Off | N9: ='Dvr '!Y11 -> 0 | O9: =IFERROR(VLOOKUP(B9,'DAS Sat'!$F$9:$O$43,10,0),"Off") -> 0.20833333 | P9: ='Dvr '!AC11 -> 0.20833333 | Q9: =SUM(C9,E9,G9,I9,K9,M9,O9) -> 1.2916667 | R9: =SUM(D9,F9,H9,J9,L9,N9,P9) -> 1.5416667 | S9: =COUNTIF(C9:P9,"Off") -> 2 | T9: =R9-Q9 -> 0.25 | U9: ='Dvr '!A11 -> Abdullah Yahya Sahari | V9: =IFERROR(VLOOKUP(U9,'DAS Sun'!$F$9:$P$36,11,0),"Off") -> SP-R | W9: =IF(V9="MLD6&7","7:40",IF(V9="MLD8&11","7:40",IF(V9="SP-R","0",IF(V9="RDD1","0",IF(V9="RDD2","0",IF(V9="RDD3","0",IF(V9="RST1","0",IF(V9="RST2","0",IF(V9="Q Path","0",))))))))) -> 0 | X9: =IF(V9="MLD6&7","0",IF(V9="MLD8&11","0",IF(V9="SP-R","0",IF(V9="RDD1","8:00",IF(V9="RDD2","8:00",IF(V9="RDD3","8:00",IF(V9="RST1","0",IF(V9="RST2","0",IF(V9="Q Path","0",))))))))) -> 0 | Y9: =IF(V9="MLD8&11","Dammam",IF(V9="MLD6&7","Dammam",IF(V9="SP-R","Riyadh",IF(V9="RST1","Riyadh",IF(V9="RST2","Riyadh",IF(V9="RDD1","Riyadh",IF(V9="RDD2","Riyadh",IF(V9="RDD3","Riyadh",IF(V9="Q Path","Riyadh",IF(V9="Off","Riyadh")))))))))) -> Riyadh | Z9: =IF(Y9="Riyadh","0",IF(Y9="Dammam","449")) -> 0 | AA9: =IFERROR(VLOOKUP(U9,'DAS Mon'!$F$10:$P$39,11,0),"Off") -> MLD16 | AB9: =IF(AA9="MLD6&7","7:40",IF(AA9="MLD8&11","7:40",IF(AA9="SP-R","0",IF(AA9="RDD1","0",IF(AA9="RDD2","0",IF(AA9="RDD3","0",IF(AA9="RST1","0",IF(AA9="RST2","0",IF(AA9="Q Path","0",))))))))) -> 0 | AC9: =IF(AA9="MLD6&7","0",IF(AA9="MLD8&11","0",IF(AA9="SP-R","0",IF(AA9="RDD1","8:00",IF(AA9="RDD2","8:00",IF(AA9="RDD3","8:00",IF(AA9="RST1","0",IF(AA9="RST2","0",IF(AA9="Q Path","0",))))))))) -> 0 | AD9: =IF(AA9="MLD8&11","Dammam",IF(AA9="MLD6&7","Dammam",IF(AA9="SP-R","Riyadh",IF(AA9="RST1","Riyadh",IF(AA9="RST2","Riyadh",IF(AA9="RDD1","Riyadh",IF(AA9="RDD2","Riyadh",IF(AA9="RDD3","Riyadh",IF(AA9="Q Path","Riyadh",IF(AA9="Off","Riyadh")))))))))) -> FALSE | AE9: =IF(AD9="Riyadh","0",IF(AD9="Dammam","449")) -> FALSE | AF9: =IFERROR(VLOOKUP(U9,'DAS Tue'!$F$10:$P$37,11,0),"Off") -> MLD17 | AG9: =IF(AF9="MLD6&7","7:40",IF(AF9="MLD8&11","7:40",IF(AF9="SP-R","0",IF(AF9="RDD1","0",IF(AF9="RDD2","0",IF(AF9="RDD3","0",IF(AF9="RST1","0",IF(AF9="RST2","0",IF(AF9="Q Path","0",))))))))) -> 0 | AH9: =IF(AF9="MLD6&7","0",IF(AF9="MLD8&11","0",IF(AF9="SP-R","0",IF(AF9="RDD1","8:00",IF(AF9="RDD2","8:00",IF(AF9="RDD3","8:00",IF(AF9="RST1","0",IF(AF9="RST2","0",IF(AF9="Q Path","0",))))))))) -> 0 | AI9: =IF(AF9="MLD8&11","Dammam",IF(AF9="MLD6&7","Dammam",IF(AF9="SP-R","Riyadh",IF(AF9="RST1","Riyadh",IF(AF9="RST2","Riyadh",IF(AF9="RDD1","Riyadh",IF(AF9="RDD2","Riyadh",IF(AF9="RDD3","Riyadh",IF(AF9="Q Path","Riyadh",IF(AF9="Off","Riyadh")))))))))) -> FALSE | AJ9: =IF(AI9="Riyadh","0",IF(AI9="Dammam","449")) -> FALSE | AK9: =IFERROR(VLOOKUP(U9,'DAS Wed'!$F$12:$P$43,11,0),"Off") -> SP-R | AL9: =IF(AK9="MLD6&7","7:40",IF(AK9="MLD8&11","7:40",IF(AK9="SP-R","0",IF(AK9="RDD1","0",IF(AK9="RDD2","0",IF(AK9="RDD3","0",IF(AK9="RST1","0",IF(AK9="RST2","0",IF(AK9="Q Path","0",))))))))) -> 0 | AM9: =IF(AK9="MLD6&7","0",IF(AK9="MLD8&11","0",IF(AK9="SP-R","0",IF(AK9="RDD1","8:00",IF(AK9="RDD2","8:00",IF(AK9="RDD3","8:00",IF(AK9="RST1","0",IF(AK9="RST2","0",IF(AK9="Q Path","0",))))))))) -> 0 | AN9: =IF(AK9="MLD8&11","Dammam",IF(AK9="MLD6&7","Dammam",IF(AK9="SP-R","Riyadh",IF(AK9="RST1","Riyadh",IF(AK9="RST2","Riyadh",IF(AK9="RDD1","Riyadh",IF(AK9="RDD2","Riyadh",IF(AK9="RDD3","Riyadh",IF(AK9="Q Path","Riyadh",IF(AK9="Off","Riyadh")))))))))) -> Riyadh | AO9: =IF(AN9="Riyadh","0",IF(AN9="Dammam","449")) -> 0 | AP9: =IFERROR(VLOOKUP(U9,'DAS Thu'!$F$10:$P$45,11,0),"Off") -> Off | AQ9: =IF(AP9="MLD6&7","7:40",IF(AP9="MLD8&11","7:40",IF(AP9="SP-R","0",IF(AP9="RDD1","0",IF(AP9="RDD2","0",IF(AP9="RDD3","0",IF(AP9="RST1","0",IF(AP9="RST2","0",IF(AP9="Q Path","0",))))))))) -> 0 | AR9: =IF(AP9="MLD6&7","0",IF(AP9="MLD8&11","0",IF(AP9="SP-R","0",IF(AP9="RDD1","8:00",IF(AP9="RDD2","8:00",IF(AP9="RDD3","8:00",IF(AP9="RST1","0",IF(AP9="RST2","0",IF(AP9="Q Path","0",))))))))) -> 0 | AS9: =IF(AP9="MLD8&11","Dammam",IF(AP9="MLD6&7","Dammam",IF(AP9="SP-R","Riyadh",IF(AP9="RST1","Riyadh",IF(AP9="RST2","Riyadh",IF(AP9="RDD1","Riyadh",IF(AP9="RDD2","Riyadh",IF(AP9="RDD3","Riyadh",IF(AP9="Q Path","Riyadh",IF(AP9="Off","Riyadh")))))))))) -> Riyadh | AT9: =IF(AS9="Riyadh","0",IF(AS9="Dammam","449")) -> 0 | AU9: =IFERROR(VLOOKUP(U9,'DAS Fri'!$F$10:$P$40,11,0),"Off") -> Off | AV9: =IF(AU9="MLD6&7","7:40",IF(AU9="MLD8&11","7:40",IF(AU9="SP-R","0",IF(AU9="RDD1","0",IF(AU9="RDD2","0",IF(AU9="RDD3","0",IF(AU9="RST1","0",IF(AU9="RST2","0",IF(AU9="Q Path","0",))))))))) -> 0 | AW9: =IF(AU9="MLD6&7","0",IF(AU9="MLD8&11","0",IF(AU9="SP-R","0",IF(AU9="RDD1","8:00",IF(AU9="RDD2","8:00",IF(AU9="RDD3","8:00",IF(AU9="RST1","0",IF(AU9="RST2","0",IF(AU9="Q Path","0",))))))))) -> 0 | AX9: =IF(AU9="MLD10&13","Dammam",IF(AU9="MLD6&7","Dammam",IF(AU9="SP-R","Riyadh",IF(AU9="RST1","Riyadh",IF(AU9="RST2","Riyadh",IF(AU9="RDD1","Riyadh",IF(AU9="RDD2","Riyadh",IF(AU9="RDD3","Riyadh",IF(AU9="Q Path","Riyadh",IF(AU9="Off","Riyadh")))))))))) -> Riyadh | AY9: =IF(AX9="Riyadh","0",IF(AX9="Dammam","449")) -> 0 | AZ9: =IFERROR(VLOOKUP(U9,'DAS Sat'!$F$29:$P$39,11,0),"Off") -> MLD16 | BA9: =IF(AZ9="MLD6&7","7:40",IF(AZ9="MLD8&11","7:40",IF(AZ9="SP-R","0",IF(AZ9="RDD1","0",IF(AZ9="RDD2","0",IF(AZ9="RDD3","0",IF(AZ9="RST1","0",IF(AZ9="RST2","0",IF(AZ9="Q Path","0",))))))))) -> 0 | BB9: =IF(AZ9="MLD6&7","0",IF(AZ9="MLD8&11","0",IF(AZ9="SP-R","0",IF(AZ9="RDD1","8:00",IF(AZ9="RDD2","8:00",IF(AZ9="RDD3","8:00",IF(AZ9="RST1","0",IF(AZ9="RST2","0",IF(AZ9="Q Path","0",))))))))) -> 0 | BC9: =IF(AZ9="MLD10&13","Dammam",IF(AZ9="MLD6&7","Dammam",IF(AZ9="SP-R","Riyadh",IF(AZ9="RST1","Riyadh",IF(AZ9="RST2","Riyadh",IF(AZ9="RDD1","Riyadh",IF(AZ9="RDD2","Riyadh",IF(AZ9="RDD3","Riyadh",IF(AZ9="Q Path","Riyadh",IF(AZ9="Off","Riyadh")))))))))) -> FALSE | BD9: =IF(BC9="Riyadh","0",IF(BC9="Dammam","449")) -> FALSE | BE9: =W9+AB9+AG9+AL9+AQ9+AV9+BA9 -> 0 | BG9: =X9+AC9+AH9+AM9+AR9+AW9+BB9 -> 0 | BI9: =Z9+AE9+AJ9+AO9+AT9+AY9+BD9 -> 0 | BK9: ='Dvr '!A11 -> Abdullah Yahya Sahari | BL9: -0.083333333 | BM9: =IFERROR(VLOOKUP(BK9,'DAS Sun'!$F$9:$Q$36,12,0),"Off") -> 0.75 | BN9: =IFERROR(VLOOKUP(BK9,'DAS Sun'!$F$9:$R$36,13,0),"Off") -> 1.0833333 | BO9: =$BO$3-BN9 -> -0.083333333 | BP9: =BM9+BL9 -> 0.66666667 | BQ9: =IFERROR(VLOOKUP(BK9,'DAS Mon'!$F$9:$Q$39,12,0),"Off") -> 0.75902778 | BR9: =IFERROR(VLOOKUP(BK9,'DAS Mon'!$F$9:$R$39,13,0),"Off") -> 0.96736111 | BS9: =$BO$3-BR9 -> 0.032638889 | BT9: =BQ9+BO9 -> 0.67569444 | BU9: =IFERROR(VLOOKUP(BK9,'DAS Tue'!$F$9:$Q$46,12,0),"Off") -> 0.79305556 | BV9: =IFERROR(VLOOKUP(BK9,'DAS Tue'!$F$9:$R$46,13,0),"Off") -> 1.0013889 | BW9: =$BO$3-BV9 -> -0.0013888889 | BX9: =BU9+BS9 -> 0.82569444 | BY9: =IFERROR(VLOOKUP(BK9,'DAS Wed'!$F$9:$Q$49,12,0),"Off") -> 0.75 | BZ9: =IFERROR(VLOOKUP(BK9,'DAS Wed'!$F$9:$R$49,13,0),"Off") -> 1.0833333 | CA9: =$BO$3-BZ9 -> -0.083333333 | CB9: =BY9+BW9 -> 0.74861111 | CC9: =IFERROR(VLOOKUP(BK9,'DAS Thu'!$F$9:$Q$47,12,0),"Off") -> Off | CD9: =IFERROR(VLOOKUP(BK9,'DAS Thu'!$F$9:$R$47,13,0),"Off") -> Off | CE9: =$BO$3-CD9 -> #VALUE! | CF9: =CC9+CA9 -> #VALUE! | CG9: =IFERROR(VLOOKUP(BK9,'DAS Fri'!$F$9:$Q$43,12,0),"Off") -> Off | CH9: =IFERROR(VLOOKUP(BK9,'DAS Fri'!$F$9:$R$43,13,0),"Off") -> Off | CI9: =$BO$3-CH9 -> #VALUE! | CJ9: =CG9+CE9 -> #VALUE! | CK9: =IFERROR(VLOOKUP(BK9,'DAS Sat'!$F$9:$Q$43,12,0),"Off") -> 0.75902778 | CL9: =IFERROR(VLOOKUP(BK9,'DAS Sat'!$F$9:$R$43,13,0),"Off") -> 0.96736111 | CM9: =$BO$3-CL9 -> 0.032638889 | CN9: =CK9+CI9 -> #VALUE!
B10: ='Dvr '!A12 -> Hussam D Al-Hajji | C10: =IFERROR(VLOOKUP(B10,'DAS Sun'!$F$9:$O$36,10,0),"Off") -> 0.20833333 | D10: ='Dvr '!E12 -> 0.20833333 | E10: =IFERROR(VLOOKUP(B10,'DAS Mon'!$F$9:$O$39,10,0),"Off") -> 0.33333333 | F10: ='Dvr '!I12 -> 0.33333333 | G10: =IFERROR(VLOOKUP(B10,'DAS Tue'!$F$9:$O$45,10,0),"Off") -> 0.33333333 | H10: ='Dvr '!M12 -> 0.33333333 | I10: =IFERROR(VLOOKUP(B10,'DAS Wed'!$F$9:$O$49,10,0),"Off") -> 0.20833333 | J10: ='Dvr '!Q12 -> 0.20833333 | K10: =IFERROR(VLOOKUP(B10,'DAS Thu'!$F$9:$O$47,10,0),"Off") -> 0.20833333 | L10: ='Dvr '!U12 -> 0.20833333 | M10: =IFERROR(VLOOKUP(B10,'DAS Fri'!$F$9:$O$43,10,0),"Off") -> Off | N10: ='Dvr '!Y12 -> 0 | O10: =IFERROR(VLOOKUP(B10,'DAS Sat'!$F$9:$O$43,10,0),"Off") -> Off | P10: ='Dvr '!AC12 -> 0 | Q10: =SUM(C10,E10,G10,I10,K10,M10,O10) -> 1.2916667 | R10: =SUM(D10,F10,H10,J10,L10,N10,P10) -> 1.2916667 | S10: =COUNTIF(C10:P10,"Off") -> 2 | T10: =R10-Q10 -> 0 | U10: ='Dvr '!A12 -> Hussam D Al-Hajji | V10: =IFERROR(VLOOKUP(U10,'DAS Sun'!$F$9:$P$36,11,0),"Off") -> MLD17 | W10: =IF(V10="MLD6&7","7:40",IF(V10="MLD8&11","7:40",IF(V10="SP-R","0",IF(V10="RDD1","0",IF(V10="RDD2","0",IF(V10="RDD3","0",IF(V10="RST1","0",IF(V10="RST2","0",IF(V10="Q Path","0",))))))))) -> 0 | X10: =IF(V10="MLD6&7","0",IF(V10="MLD8&11","0",IF(V10="SP-R","0",IF(V10="RDD1","8:00",IF(V10="RDD2","8:00",IF(V10="RDD3","8:00",IF(V10="RST1","0",IF(V10="RST2","0",IF(V10="Q Path","0",))))))))) -> 0 | Y10: =IF(V10="MLD8&11","Dammam",IF(V10="MLD6&7","Dammam",IF(V10="SP-R","Riyadh",IF(V10="RST1","Riyadh",IF(V10="RST2","Riyadh",IF(V10="RDD1","Riyadh",IF(V10="RDD2","Riyadh",IF(V10="RDD3","Riyadh",IF(V10="Q Path","Riyadh",IF(V10="Off","Riyadh")))))))))) -> FALSE | Z10: =IF(Y10="Riyadh","0",IF(Y10="Dammam","449")) -> FALSE | AA10: =IFERROR(VLOOKUP(U10,'DAS Mon'!$F$10:$P$39,11,0),"Off") -> SP-R | AB10: =IF(AA10="MLD6&7","7:40",IF(AA10="MLD8&11","7:40",IF(AA10="SP-R","0",IF(AA10="RDD1","0",IF(AA10="RDD2","0",IF(AA10="RDD3","0",IF(AA10="RST1","0",IF(AA10="RST2","0",IF(AA10="Q Path","0",))))))))) -> 0 | AC10: =IF(AA10="MLD6&7","0",IF(AA10="MLD8&11","0",IF(AA10="SP-R","0",IF(AA10="RDD1","8:00",IF(AA10="RDD2","8:00",IF(AA10="RDD3","8:00",IF(AA10="RST1","0",IF(AA10="RST2","0",IF(AA10="Q Path","0",))))))))) -> 0 | AD10: =IF(AA10="MLD8&11","Dammam",IF(AA10="MLD6&7","Dammam",IF(AA10="SP-R","Riyadh",IF(AA10="RST1","Riyadh",IF(AA10="RST2","Riyadh",IF(AA10="RDD1","Riyadh",IF(AA10="RDD2","Riyadh",IF(AA10="RDD3","Riyadh",IF(AA10="Q Path","Riyadh",IF(AA10="Off","Riyadh")))))))))) -> Riyadh | AE10: =IF(AD10="Riyadh","0",IF(AD10="Dammam","449")) -> 0 | AF10: =IFERROR(VLOOKUP(U10,'DAS Tue'!$F$10:$P$37,11,0),"Off") -> SP-R | AG10: =IF(AF10="MLD6&7","7:40",IF(AF10="MLD8&11","7:40",IF(AF10="SP-R","0",IF(AF10="RDD1","0",IF(AF10="RDD2","0",IF(AF10="RDD3","0",IF(AF10="RST1","0",IF(AF10="RST2","0",IF(AF10="Q Path","0",))))))))) -> 0 | AH10: =IF(AF10="MLD6&7","0",IF(AF10="MLD8&11","0",IF(AF10="SP-R","0",IF(AF10="RDD1","8:00",IF(AF10="RDD2","8:00",IF(AF10="RDD3","8:00",IF(AF10="RST1","0",IF(AF10="RST2","0",IF(AF10="Q Path","0",))))))))) -> 0 | AI10: =IF(AF10="MLD8&11","Dammam",IF(AF10="MLD6&7","Dammam",IF(AF10="SP-R","Riyadh",IF(AF10="RST1","Riyadh",IF(AF10="RST2","Riyadh",IF(AF10="RDD1","Riyadh",IF(AF10="RDD2","Riyadh",IF(AF10="RDD3","Riyadh",IF(AF10="Q Path","Riyadh",IF(AF10="Off","Riyadh")))))))))) -> Riyadh | AJ10: =IF(AI10="Riyadh","0",IF(AI10="Dammam","449")) -> 0 | AK10: =IFERROR(VLOOKUP(U10,'DAS Wed'!$F$12:$P$43,11,0),"Off") -> MLD16 | AL10: =IF(AK10="MLD6&7","7:40",IF(AK10="MLD8&11","7:40",IF(AK10="SP-R","0",IF(AK10="RDD1","0",IF(AK10="RDD2","0",IF(AK10="RDD3","0",IF(AK10="RST1","0",IF(AK10="RST2","0",IF(AK10="Q Path","0",))))))))) -> 0 | AM10: =IF(AK10="MLD6&7","0",IF(AK10="MLD8&11","0",IF(AK10="SP-R","0",IF(AK10="RDD1","8:00",IF(AK10="RDD2","8:00",IF(AK10="RDD3","8:00",IF(AK10="RST1","0",IF(AK10="RST2","0",IF(AK10="Q Path","0",))))))))) -> 0 | AN10: =IF(AK10="MLD8&11","Dammam",IF(AK10="MLD6&7","Dammam",IF(AK10="SP-R","Riyadh",IF(AK10="RST1","Riyadh",IF(AK10="RST2","Riyadh",IF(AK10="RDD1","Riyadh",IF(AK10="RDD2","Riyadh",IF(AK10="RDD3","Riyadh",IF(AK10="Q Path","Riyadh",IF(AK10="Off","Riyadh")))))))))) -> FALSE | AO10: =IF(AN10="Riyadh","0",IF(AN10="Dammam","449")) -> FALSE | AP10: =IFERROR(VLOOKUP(U10,'DAS Thu'!$F$10:$P$45,11,0),"Off") -> MLD17 | AQ10: =IF(AP10="MLD6&7","7:40",IF(AP10="MLD8&11","7:40",IF(AP10="SP-R","0",IF(AP10="RDD1","0",IF(AP10="RDD2","0",IF(AP10="RDD3","0",IF(AP10="RST1","0",IF(AP10="RST2","0",IF(AP10="Q Path","0",))))))))) -> 0 | AR10: =IF(AP10="MLD6&7","0",IF(AP10="MLD8&11","0",IF(AP10="SP-R","0",IF(AP10="RDD1","8:00",IF(AP10="RDD2","8:00",IF(AP10="RDD3","8:00",IF(AP10="RST1","0",IF(AP10="RST2","0",IF(AP10="Q Path","0",))))))))) -> 0 | AS10: =IF(AP10="MLD8&11","Dammam",IF(AP10="MLD6&7","Dammam",IF(AP10="SP-R","Riyadh",IF(AP10="RST1","Riyadh",IF(AP10="RST2","Riyadh",IF(AP10="RDD1","Riyadh",IF(AP10="RDD2","Riyadh",IF(AP10="RDD3","Riyadh",IF(AP10="Q Path","Riyadh",IF(AP10="Off","Riyadh")))))))))) -> FALSE | AT10: =IF(AS10="Riyadh","0",IF(AS10="Dammam","449")) -> FALSE | AU10: =IFERROR(VLOOKUP(U10,'DAS Fri'!$F$10:$P$40,11,0),"Off") -> Off | AV10: =IF(AU10="MLD6&7","7:40",IF(AU10="MLD8&11","7:40",IF(AU10="SP-R","0",IF(AU10="RDD1","0",IF(AU10="RDD2","0",IF(AU10="RDD3","0",IF(AU10="RST1","0",IF(AU10="RST2","0",IF(AU10="Q Path","0",))))))))) -> 0 | AW10: =IF(AU10="MLD6&7","0",IF(AU10="MLD8&11","0",IF(AU10="SP-R","0",IF(AU10="RDD1","8:00",IF(AU10="RDD2","8:00",IF(AU10="RDD3","8:00",IF(AU10="RST1","0",IF(AU10="RST2","0",IF(AU10="Q Path","0",))))))))) -> 0 | AX10: =IF(AU10="MLD10&13","Dammam",IF(AU10="MLD6&7","Dammam",IF(AU10="SP-R","Riyadh",IF(AU10="RST1","Riyadh",IF(AU10="RST2","Riyadh",IF(AU10="RDD1","Riyadh",IF(AU10="RDD2","Riyadh",IF(AU10="RDD3","Riyadh",IF(AU10="Q Path","Riyadh",IF(AU10="Off","Riyadh")))))))))) -> Riyadh | AY10: =IF(AX10="Riyadh","0",IF(AX10="Dammam","449")) -> 0 | AZ10: =IFERROR(VLOOKUP(U10,'DAS Sat'!$F$29:$P$39,11,0),"Off") -> Off | BA10: =IF(AZ10="MLD6&7","7:40",IF(AZ10="MLD8&11","7:40",IF(AZ10="SP-R","0",IF(AZ10="RDD1","0",IF(AZ10="RDD2","0",IF(AZ10="RDD3","0",IF(AZ10="RST1","0",IF(AZ10="RST2","0",IF(AZ10="Q Path","0",))))))))) -> 0 | BB10: =IF(AZ10="MLD6&7","0",IF(AZ10="MLD8&11","0",IF(AZ10="SP-R","0",IF(AZ10="RDD1","8:00",IF(AZ10="RDD2","8:00",IF(AZ10="RDD3","8:00",IF(AZ10="RST1","0",IF(AZ10="RST2","0",IF(AZ10="Q Path","0",))))))))) -> 0 | BC10: =IF(AZ10="MLD10&13","Dammam",IF(AZ10="MLD6&7","Dammam",IF(AZ10="SP-R","Riyadh",IF(AZ10="RST1","Riyadh",IF(AZ10="RST2","Riyadh",IF(AZ10="RDD1","Riyadh",IF(AZ10="RDD2","Riyadh",IF(AZ10="RDD3","Riyadh",IF(AZ10="Q Path","Riyadh",IF(AZ10="Off","Riyadh")))))))))) -> Riyadh | BD10: =IF(BC10="Riyadh","0",IF(BC10="Dammam","449")) -> 0 | BE10: =W10+AB10+AG10+AL10+AQ10+AV10+BA10 -> 0 | BG10: =X10+AC10+AH10+AM10+AR10+AW10+BB10 -> 0 | BI10: =Z10+AE10+AJ10+AO10+AT10+AY10+BD10 -> 0 | BK10: ='Dvr '!A12 -> Hussam D Al-Hajji | BL10: 0.032638889 | BM10: =IFERROR(VLOOKUP(BK10,'DAS Sun'!$F$9:$Q$36,12,0),"Off") -> 0.79305556 | BN10: =IFERROR(VLOOKUP(BK10,'DAS Sun'!$F$9:$R$36,13,0),"Off") -> 1.0013889 | BO10: =$BO$3-BN10 -> -0.0013888889 | BP10: =BM10+BL10 -> 0.82569444 | BQ10: =IFERROR(VLOOKUP(BK10,'DAS Mon'!$F$9:$Q$39,12,0),"Off") -> 0.75 | BR10: =IFERROR(VLOOKUP(BK10,'DAS Mon'!$F$9:$R$39,13,0),"Off") -> 1.0833333 | BS10: =$BO$3-BR10 -> -0.083333333 | BT10: =BQ10+BO10 -> 0.74861111 | BU10: =IFERROR(VLOOKUP(BK10,'DAS Tue'!$F$9:$Q$46,12,0),"Off") -> 0.75 | BV10: =IFERROR(VLOOKUP(BK10,'DAS Tue'!$F$9:$R$46,13,0),"Off") -> 1.0833333 | BW10: =$BO$3-BV10 -> -0.083333333 | BX10: =BU10+BS10 -> 0.66666667 | BY10: =IFERROR(VLOOKUP(BK10,'DAS Wed'!$F$9:$Q$49,12,0),"Off") -> 0.75902778 | BZ10: =IFERROR(VLOOKUP(BK10,'DAS Wed'!$F$9:$R$49,13,0),"Off") -> 0.96736111 | CA10: =$BO$3-BZ10 -> 0.032638889 | CB10: =BY10+BW10 -> 0.67569444 | CC10: =IFERROR(VLOOKUP(BK10,'DAS Thu'!$F$9:$Q$47,12,0),"Off") -> 0.79305556 | CD10: =IFERROR(VLOOKUP(BK10,'DAS Thu'!$F$9:$R$47,13,0),"Off") -> 1.0013889 | CE10: =$BO$3-CD10 -> -0.0013888889 | CF10: =CC10+CA10 -> 0.82569444 | CG10: =IFERROR(VLOOKUP(BK10,'DAS Fri'!$F$9:$Q$43,12,0),"Off") -> Off | CH10: =IFERROR(VLOOKUP(BK10,'DAS Fri'!$F$9:$R$43,13,0),"Off") -> Off | CI10: =$BO$3-CH10 -> #VALUE! | CJ10: =CG10+CE10 -> #VALUE! | CK10: =IFERROR(VLOOKUP(BK10,'DAS Sat'!$F$9:$Q$43,12,0),"Off") -> Off | CL10: =IFERROR(VLOOKUP(BK10,'DAS Sat'!$F$9:$R$43,13,0),"Off") -> Off | CM10: =$BO$3-CL10 -> #VALUE! | CN10: =CK10+CI10 -> #VALUE!
B11: ='Dvr '!A13 -> Abdulaziz bin Nasser Marghalani | C11: =IFERROR(VLOOKUP(B11,'DAS Sun'!$F$9:$O$36,10,0),"Off") -> Off | D11: ='Dvr '!E13 -> 0 | E11: =IFERROR(VLOOKUP(B11,'DAS Mon'!$F$9:$O$39,10,0),"Off") -> 0.48263889 | F11: ='Dvr '!I13 -> 0.33333333 | G11: =IFERROR(VLOOKUP(B11,'DAS Tue'!$F$9:$O$45,10,0),"Off") -> 0.48263889 | H11: ='Dvr '!M13 -> 0.33333333 | I11: =IFERROR(VLOOKUP(B11,'DAS Wed'!$F$9:$O$49,10,0),"Off") -> 0.33333333 | J11: ='Dvr '!Q13 -> 0.33333333 | K11: =IFERROR(VLOOKUP(B11,'DAS Thu'!$F$9:$O$47,10,0),"Off") -> 0.33333333 | L11: ='Dvr '!U13 -> 0.33333333 | M11: =IFERROR(VLOOKUP(B11,'DAS Fri'!$F$9:$O$43,10,0),"Off") -> Off | N11: ='Dvr '!Y13 -> 0 | O11: =IFERROR(VLOOKUP(B11,'DAS Sat'!$F$9:$O$43,10,0),"Off") -> Off | P11: ='Dvr '!AC13 -> 0 | Q11: =SUM(C11,E11,G11,I11,K11,M11,O11) -> 1.6319444 | R11: =SUM(D11,F11,H11,J11,L11,N11,P11) -> 1.3333333 | S11: =COUNTIF(C11:P11,"Off") -> 3 | T11: =R11-Q11 -> -0.29861111 | U11: ='Dvr '!A13 -> Abdulaziz bin Nasser Marghalani | V11: =IFERROR(VLOOKUP(U11,'DAS Sun'!$F$9:$P$36,11,0),"Off") -> Off | W11: =IF(V11="MLD6&7","7:40",IF(V11="MLD8&11","7:40",IF(V11="SP-R","0",IF(V11="RDD1","0",IF(V11="RDD2","0",IF(V11="RDD3","0",IF(V11="RST1","0",IF(V11="RST2","0",IF(V11="Q Path","0",))))))))) -> 0 | X11: =IF(V11="MLD6&7","0",IF(V11="MLD8&11","0",IF(V11="SP-R","0",IF(V11="RDD1","8:00",IF(V11="RDD2","8:00",IF(V11="RDD3","8:00",IF(V11="RST1","0",IF(V11="RST2","0",IF(V11="Q Path","0",))))))))) -> 0 | Y11: =IF(V11="MLD8&11","Dammam",IF(V11="MLD6&7","Dammam",IF(V11="SP-R","Riyadh",IF(V11="RST1","Riyadh",IF(V11="RST2","Riyadh",IF(V11="RDD1","Riyadh",IF(V11="RDD2","Riyadh",IF(V11="RDD3","Riyadh",IF(V11="Q Path","Riyadh",IF(V11="Off","Riyadh")))))))))) -> Riyadh | Z11: =IF(Y11="Riyadh","0",IF(Y11="Dammam","449")) -> 0 | AA11: =IFERROR(VLOOKUP(U11,'DAS Mon'!$F$10:$P$39,11,0),"Off") -> Q Path | AB11: =IF(AA11="MLD6&7","7:40",IF(AA11="MLD8&11","7:40",IF(AA11="SP-R","0",IF(AA11="RDD1","0",IF(AA11="RDD2","0",IF(AA11="RDD3","0",IF(AA11="RST1","0",IF(AA11="RST2","0",IF(AA11="Q Path","0",))))))))) -> 0 | AC11: =IF(AA11="MLD6&7","0",IF(AA11="MLD8&11","0",IF(AA11="SP-R","0",IF(AA11="RDD1","8:00",IF(AA11="RDD2","8:00",IF(AA11="RDD3","8:00",IF(AA11="RST1","0",IF(AA11="RST2","0",IF(AA11="Q Path","0",))))))))) -> 0 | AD11: =IF(AA11="MLD8&11","Dammam",IF(AA11="MLD6&7","Dammam",IF(AA11="SP-R","Riyadh",IF(AA11="RST1","Riyadh",IF(AA11="RST2","Riyadh",IF(AA11="RDD1","Riyadh",IF(AA11="RDD2","Riyadh",IF(AA11="RDD3","Riyadh",IF(AA11="Q Path","Riyadh",IF(AA11="Off","Riyadh")))))))))) -> Riyadh | AE11: =IF(AD11="Riyadh","0",IF(AD11="Dammam","449")) -> 0 | AF11: =IFERROR(VLOOKUP(U11,'DAS Tue'!$F$10:$P$37,11,0),"Off") -> Q Path | AG11: =IF(AF11="MLD6&7","7:40",IF(AF11="MLD8&11","7:40",IF(AF11="SP-R","0",IF(AF11="RDD1","0",IF(AF11="RDD2","0",IF(AF11="RDD3","0",IF(AF11="RST1","0",IF(AF11="RST2","0",IF(AF11="Q Path","0",))))))))) -> 0 | AH11: =IF(AF11="MLD6&7","0",IF(AF11="MLD8&11","0",IF(AF11="SP-R","0",IF(AF11="RDD1","8:00",IF(AF11="RDD2","8:00",IF(AF11="RDD3","8:00",IF(AF11="RST1","0",IF(AF11="RST2","0",IF(AF11="Q Path","0",))))))))) -> 0 | AI11: =IF(AF11="MLD8&11","Dammam",IF(AF11="MLD6&7","Dammam",IF(AF11="SP-R","Riyadh",IF(AF11="RST1","Riyadh",IF(AF11="RST2","Riyadh",IF(AF11="RDD1","Riyadh",IF(AF11="RDD2","Riyadh",IF(AF11="RDD3","Riyadh",IF(AF11="Q Path","Riyadh",IF(AF11="Off","Riyadh")))))))))) -> Riyadh | AJ11: =IF(AI11="Riyadh","0",IF(AI11="Dammam","449")) -> 0 | AK11: =IFERROR(VLOOKUP(U11,'DAS Wed'!$F$12:$P$43,11,0),"Off") -> SP-R | AL11: =IF(AK11="MLD6&7","7:40",IF(AK11="MLD8&11","7:40",IF(AK11="SP-R","0",IF(AK11="RDD1","0",IF(AK11="RDD2","0",IF(AK11="RDD3","0",IF(AK11="RST1","0",IF(AK11="RST2","0",IF(AK11="Q Path","0",))))))))) -> 0 | AM11: =IF(AK11="MLD6&7","0",IF(AK11="MLD8&11","0",IF(AK11="SP-R","0",IF(AK11="RDD1","8:00",IF(AK11="RDD2","8:00",IF(AK11="RDD3","8:00",IF(AK11="RST1","0",IF(AK11="RST2","0",IF(AK11="Q Path","0",))))))))) -> 0 | AN11: =IF(AK11="MLD8&11","Dammam",IF(AK11="MLD6&7","Dammam",IF(AK11="SP-R","Riyadh",IF(AK11="RST1","Riyadh",IF(AK11="RST2","Riyadh",IF(AK11="RDD1","Riyadh",IF(AK11="RDD2","Riyadh",IF(AK11="RDD3","Riyadh",IF(AK11="Q Path","Riyadh",IF(AK11="Off","Riyadh")))))))))) -> Riyadh | AO11: =IF(AN11="Riyadh","0",IF(AN11="Dammam","449")) -> 0 | AP11: =IFERROR(VLOOKUP(U11,'DAS Thu'!$F$10:$P$45,11,0),"Off") -> SP-R | AQ11: =IF(AP11="MLD6&7","7:40",IF(AP11="MLD8&11","7:40",IF(AP11="SP-R","0",IF(AP11="RDD1","0",IF(AP11="RDD2","0",IF(AP11="RDD3","0",IF(AP11="RST1","0",IF(AP11="RST2","0",IF(AP11="Q Path","0",))))))))) -> 0 | AR11: =IF(AP11="MLD6&7","0",IF(AP11="MLD8&11","0",IF(AP11="SP-R","0",IF(AP11="RDD1","8:00",IF(AP11="RDD2","8:00",IF(AP11="RDD3","8:00",IF(AP11="RST1","0",IF(AP11="RST2","0",IF(AP11="Q Path","0",))))))))) -> 0 | AS11: =IF(AP11="MLD8&11","Dammam",IF(AP11="MLD6&7","Dammam",IF(AP11="SP-R","Riyadh",IF(AP11="RST1","Riyadh",IF(AP11="RST2","Riyadh",IF(AP11="RDD1","Riyadh",IF(AP11="RDD2","Riyadh",IF(AP11="RDD3","Riyadh",IF(AP11="Q Path","Riyadh",IF(AP11="Off","Riyadh")))))))))) -> Riyadh | AT11: =IF(AS11="Riyadh","0",IF(AS11="Dammam","449")) -> 0 | AU11: =IFERROR(VLOOKUP(U11,'DAS Fri'!$F$10:$P$40,11,0),"Off") -> Off | AV11: =IF(AU11="MLD6&7","7:40",IF(AU11="MLD8&11","7:40",IF(AU11="SP-R","0",IF(AU11="RDD1","0",IF(AU11="RDD2","0",IF(AU11="RDD3","0",IF(AU11="RST1","0",IF(AU11="RST2","0",IF(AU11="Q Path","0",))))))))) -> 0 | AW11: =IF(AU11="MLD6&7","0",IF(AU11="MLD8&11","0",IF(AU11="SP-R","0",IF(AU11="RDD1","8:00",IF(AU11="RDD2","8:00",IF(AU11="RDD3","8:00",IF(AU11="RST1","0",IF(AU11="RST2","0",IF(AU11="Q Path","0",))))))))) -> 0 | AX11: =IF(AU11="MLD10&13","Dammam",IF(AU11="MLD6&7","Dammam",IF(AU11="SP-R","Riyadh",IF(AU11="RST1","Riyadh",IF(AU11="RST2","Riyadh",IF(AU11="RDD1","Riyadh",IF(AU11="RDD2","Riyadh",IF(AU11="RDD3","Riyadh",IF(AU11="Q Path","Riyadh",IF(AU11="Off","Riyadh")))))))))) -> Riyadh | AY11: =IF(AX11="Riyadh","0",IF(AX11="Dammam","449")) -> 0 | AZ11: =IFERROR(VLOOKUP(U11,'DAS Sat'!$F$29:$P$39,11,0),"Off") -> Off | BA11: =IF(AZ11="MLD6&7","7:40",IF(AZ11="MLD8&11","7:40",IF(AZ11="SP-R","0",IF(AZ11="RDD1","0",IF(AZ11="RDD2","0",IF(AZ11="RDD3","0",IF(AZ11="RST1","0",IF(AZ11="RST2","0",IF(AZ11="Q Path","0",))))))))) -> 0 | BB11: =IF(AZ11="MLD6&7","0",IF(AZ11="MLD8&11","0",IF(AZ11="SP-R","0",IF(AZ11="RDD1","8:00",IF(AZ11="RDD2","8:00",IF(AZ11="RDD3","8:00",IF(AZ11="RST1","0",IF(AZ11="RST2","0",IF(AZ11="Q Path","0",))))))))) -> 0 | BC11: =IF(AZ11="MLD10&13","Dammam",IF(AZ11="MLD6&7","Dammam",IF(AZ11="SP-R","Riyadh",IF(AZ11="RST1","Riyadh",IF(AZ11="RST2","Riyadh",IF(AZ11="RDD1","Riyadh",IF(AZ11="RDD2","Riyadh",IF(AZ11="RDD3","Riyadh",IF(AZ11="Q Path","Riyadh",IF(AZ11="Off","Riyadh")))))))))) -> Riyadh | BD11: =IF(BC11="Riyadh","0",IF(BC11="Dammam","449")) -> 0 | BE11: =W11+AB11+AG11+AL11+AQ11+AV11+BA11 -> 0 | BG11: =X11+AC11+AH11+AM11+AR11+AW11+BB11 -> 0 | BI11: =Z11+AE11+AJ11+AO11+AT11+AY11+BD11 -> 0 | BK11: ='Dvr '!A13 -> Abdulaziz bin Nasser Marghalani | BL11: #VALUE! | BM11: =IFERROR(VLOOKUP(BK11,'DAS Sun'!$F$9:$Q$36,12,0),"Off") -> Off | BN11: =IFERROR(VLOOKUP(BK11,'DAS Sun'!$F$9:$R$36,13,0),"Off") -> Off | BO11: =$BO$3-BN11 -> #VALUE! | BP11: =BM11+BL11 -> #VALUE! | BQ11: =IFERROR(VLOOKUP(BK11,'DAS Mon'!$F$9:$Q$39,12,0),"Off") -> 0.27083333 | BR11: =IFERROR(VLOOKUP(BK11,'DAS Mon'!$F$9:$R$39,13,0),"Off") -> 0.75347222 | BS11: =$BO$3-BR11 -> 0.24652778 | BT11: =BQ11+BO11 -> #VALUE! | BU11: =IFERROR(VLOOKUP(BK11,'DAS Tue'!$F$9:$Q$46,12,0),"Off") -> 0.27083333 | BV11: =IFERROR(VLOOKUP(BK11,'DAS Tue'!$F$9:$R$46,13,0),"Off") -> 0.75347222 | BW11: =$BO$3-BV11 -> 0.24652778 | BX11: =BU11+BS11 -> 0.51736111 | BY11: =IFERROR(VLOOKUP(BK11,'DAS Wed'!$F$9:$Q$49,12,0),"Off") -> 0.25347222 | BZ11: =IFERROR(VLOOKUP(BK11,'DAS Wed'!$F$9:$R$49,13,0),"Off") -> 0.5625 | CA11: =$BO$3-BZ11 -> 0.4375 | CB11: =BY11+BW11 -> 0.5 | CC11: =IFERROR(VLOOKUP(BK11,'DAS Thu'!$F$9:$Q$47,12,0),"Off") -> 0.22916667 | CD11: =IFERROR(VLOOKUP(BK11,'DAS Thu'!$F$9:$R$47,13,0),"Off") -> 0.5625 | CE11: =$BO$3-CD11 -> 0.4375 | CF11: =CC11+CA11 -> 0.66666667 | CG11: =IFERROR(VLOOKUP(BK11,'DAS Fri'!$F$9:$Q$43,12,0),"Off") -> Off | CH11: =IFERROR(VLOOKUP(BK11,'DAS Fri'!$F$9:$R$43,13,0),"Off") -> Off | CI11: =$BO$3-CH11 -> #VALUE! | CJ11: =CG11+CE11 -> #VALUE! | CK11: =IFERROR(VLOOKUP(BK11,'DAS Sat'!$F$9:$Q$43,12,0),"Off") -> Off | CL11: =IFERROR(VLOOKUP(BK11,'DAS Sat'!$F$9:$R$43,13,0),"Off") -> Off | CM11: =$BO$3-CL11 -> #VALUE! | CN11: =CK11+CI11 -> #VALUE!
B12: ='Dvr '!A14 -> Abdulah M. Yahya | C12: =IFERROR(VLOOKUP(B12,'DAS Sun'!$F$9:$O$36,10,0),"Off") -> Off | D12: ='Dvr '!E14 -> 0 | E12: =IFERROR(VLOOKUP(B12,'DAS Mon'!$F$9:$O$39,10,0),"Off") -> Off | F12: ='Dvr '!I14 -> 0 | G12: =IFERROR(VLOOKUP(B12,'DAS Tue'!$F$9:$O$45,10,0),"Off") -> 0.48194444 | H12: ='Dvr '!M14 -> 0.48194444 | I12: =IFERROR(VLOOKUP(B12,'DAS Wed'!$F$9:$O$49,10,0),"Off") -> 0.33333333 | J12: ='Dvr '!Q14 -> 0.33333333 | K12: =IFERROR(VLOOKUP(B12,'DAS Thu'!$F$9:$O$47,10,0),"Off") -> 0.39236111 | L12: ='Dvr '!U14 -> 0.33333333 | M12: =IFERROR(VLOOKUP(B12,'DAS Fri'!$F$9:$O$43,10,0),"Off") -> 0.33333333 | N12: ='Dvr '!Y14 -> 0.33333333 | O12: =IFERROR(VLOOKUP(B12,'DAS Sat'!$F$9:$O$43,10,0),"Off") -> Off | P12: ='Dvr '!AC14 -> 0 | Q12: =SUM(C12,E12,G12,I12,K12,M12,O12) -> 1.5409722 | R12: =SUM(D12,F12,H12,J12,L12,N12,P12) -> 1.4819444 | S12: =COUNTIF(C12:P12,"Off") -> 3 | T12: =R12-Q12 -> -0.059027778 | U12: ='Dvr '!A14 -> Abdulah M. Yahya | V12: =IFERROR(VLOOKUP(U12,'DAS Sun'!$F$9:$P$36,11,0),"Off") -> Off | W12: =IF(V12="MLD6&7","7:40",IF(V12="MLD8&11","7:40",IF(V12="SP-R","0",IF(V12="RDD1","0",IF(V12="RDD2","0",IF(V12="RDD3","0",IF(V12="RST1","0",IF(V12="RST2","0",IF(V12="Q Path","0",))))))))) -> 0 | X12: =IF(V12="MLD6&7","0",IF(V12="MLD8&11","0",IF(V12="SP-R","0",IF(V12="RDD1","8:00",IF(V12="RDD2","8:00",IF(V12="RDD3","8:00",IF(V12="RST1","0",IF(V12="RST2","0",IF(V12="Q Path","0",))))))))) -> 0 | Y12: =IF(V12="MLD8&11","Dammam",IF(V12="MLD6&7","Dammam",IF(V12="SP-R","Riyadh",IF(V12="RST1","Riyadh",IF(V12="RST2","Riyadh",IF(V12="RDD1","Riyadh",IF(V12="RDD2","Riyadh",IF(V12="RDD3","Riyadh",IF(V12="Q Path","Riyadh",IF(V12="Off","Riyadh")))))))))) -> Riyadh | Z12: =IF(Y12="Riyadh","0",IF(Y12="Dammam","449")) -> 0 | AA12: =IFERROR(VLOOKUP(U12,'DAS Mon'!$F$10:$P$39,11,0),"Off") -> Off | AB12: =IF(AA12="MLD6&7","7:40",IF(AA12="MLD8&11","7:40",IF(AA12="SP-R","0",IF(AA12="RDD1","0",IF(AA12="RDD2","0",IF(AA12="RDD3","0",IF(AA12="RST1","0",IF(AA12="RST2","0",IF(AA12="Q Path","0",))))))))) -> 0 | AC12: =IF(AA12="MLD6&7","0",IF(AA12="MLD8&11","0",IF(AA12="SP-R","0",IF(AA12="RDD1","8:00",IF(AA12="RDD2","8:00",IF(AA12="RDD3","8:00",IF(AA12="RST1","0",IF(AA12="RST2","0",IF(AA12="Q Path","0",))))))))) -> 0 | AD12: =IF(AA12="MLD8&11","Dammam",IF(AA12="MLD6&7","Dammam",IF(AA12="SP-R","Riyadh",IF(AA12="RST1","Riyadh",IF(AA12="RST2","Riyadh",IF(AA12="RDD1","Riyadh",IF(AA12="RDD2","Riyadh",IF(AA12="RDD3","Riyadh",IF(AA12="Q Path","Riyadh",IF(AA12="Off","Riyadh")))))))))) -> Riyadh | AE12: =IF(AD12="Riyadh","0",IF(AD12="Dammam","449")) -> 0 | AF12: =IFERROR(VLOOKUP(U12,'DAS Tue'!$F$10:$P$37,11,0),"Off") -> MLD4&7 | AG12: =IF(AF12="MLD6&7","7:40",IF(AF12="MLD8&11","7:40",IF(AF12="SP-R","0",IF(AF12="RDD1","0",IF(AF12="RDD2","0",IF(AF12="RDD3","0",IF(AF12="RST1","0",IF(AF12="RST2","0",IF(AF12="Q Path","0",))))))))) -> 0 | AH12: =IF(AF12="MLD6&7","0",IF(AF12="MLD8&11","0",IF(AF12="SP-R","0",IF(AF12="RDD1","8:00",IF(AF12="RDD2","8:00",IF(AF12="RDD3","8:00",IF(AF12="RST1","0",IF(AF12="RST2","0",IF(AF12="Q Path","0",))))))))) -> 0 | AI12: =IF(AF12="MLD8&11","Dammam",IF(AF12="MLD6&7","Dammam",IF(AF12="SP-R","Riyadh",IF(AF12="RST1","Riyadh",IF(AF12="RST2","Riyadh",IF(AF12="RDD1","Riyadh",IF(AF12="RDD2","Riyadh",IF(AF12="RDD3","Riyadh",IF(AF12="Q Path","Riyadh",IF(AF12="Off","Riyadh")))))))))) -> FALSE | AJ12: =IF(AI12="Riyadh","0",IF(AI12="Dammam","449")) -> FALSE | AK12: =IFERROR(VLOOKUP(U12,'DAS Wed'!$F$12:$P$43,11,0),"Off") -> SP-R | AL12: =IF(AK12="MLD6&7","7:40",IF(AK12="MLD8&11","7:40",IF(AK12="SP-R","0",IF(AK12="RDD1","0",IF(AK12="RDD2","0",IF(AK12="RDD3","0",IF(AK12="RST1","0",IF(AK12="RST2","0",IF(AK12="Q Path","0",))))))))) -> 0 | AM12: =IF(AK12="MLD6&7","0",IF(AK12="MLD8&11","0",IF(AK12="SP-R","0",IF(AK12="RDD1","8:00",IF(AK12="RDD2","8:00",IF(AK12="RDD3","8:00",IF(AK12="RST1","0",IF(AK12="RST2","0",IF(AK12="Q Path","0",))))))))) -> 0 | AN12: =IF(AK12="MLD8&11","Dammam",IF(AK12="MLD6&7","Dammam",IF(AK12="SP-R","Riyadh",IF(AK12="RST1","Riyadh",IF(AK12="RST2","Riyadh",IF(AK12="RDD1","Riyadh",IF(AK12="RDD2","Riyadh",IF(AK12="RDD3","Riyadh",IF(AK12="Q Path","Riyadh",IF(AK12="Off","Riyadh")))))))))) -> Riyadh | AO12: =IF(AN12="Riyadh","0",IF(AN12="Dammam","449")) -> 0 | AP12: =IFERROR(VLOOKUP(U12,'DAS Thu'!$F$10:$P$45,11,0),"Off") -> RST1 | AQ12: =IF(AP12="MLD6&7","7:40",IF(AP12="MLD8&11","7:40",IF(AP12="SP-R","0",IF(AP12="RDD1","0",IF(AP12="RDD2","0",IF(AP12="RDD3","0",IF(AP12="RST1","0",IF(AP12="RST2","0",IF(AP12="Q Path","0",))))))))) -> 0 | AR12: =IF(AP12="MLD6&7","0",IF(AP12="MLD8&11","0",IF(AP12="SP-R","0",IF(AP12="RDD1","8:00",IF(AP12="RDD2","8:00",IF(AP12="RDD3","8:00",IF(AP12="RST1","0",IF(AP12="RST2","0",IF(AP12="Q Path","0",))))))))) -> 0 | AS12: =IF(AP12="MLD8&11","Dammam",IF(AP12="MLD6&7","Dammam",IF(AP12="SP-R","Riyadh",IF(AP12="RST1","Riyadh",IF(AP12="RST2","Riyadh",IF(AP12="RDD1","Riyadh",IF(AP12="RDD2","Riyadh",IF(AP12="RDD3","Riyadh",IF(AP12="Q Path","Riyadh",IF(AP12="Off","Riyadh")))))))))) -> Riyadh | AT12: =IF(AS12="Riyadh","0",IF(AS12="Dammam","449")) -> 0 | AU12: =IFERROR(VLOOKUP(U12,'DAS Fri'!$F$10:$P$40,11,0),"Off") -> SP-R | AV12: =IF(AU12="MLD6&7","7:40",IF(AU12="MLD8&11","7:40",IF(AU12="SP-R","0",IF(AU12="RDD1","0",IF(AU12="RDD2","0",IF(AU12="RDD3","0",IF(AU12="RST1","0",IF(AU12="RST2","0",IF(AU12="Q Path","0",))))))))) -> 0 | AW12: =IF(AU12="MLD6&7","0",IF(AU12="MLD8&11","0",IF(AU12="SP-R","0",IF(AU12="RDD1","8:00",IF(AU12="RDD2","8:00",IF(AU12="RDD3","8:00",IF(AU12="RST1","0",IF(AU12="RST2","0",IF(AU12="Q Path","0",))))))))) -> 0 | AX12: =IF(AU12="MLD10&13","Dammam",IF(AU12="MLD6&7","Dammam",IF(AU12="SP-R","Riyadh",IF(AU12="RST1","Riyadh",IF(AU12="RST2","Riyadh",IF(AU12="RDD1","Riyadh",IF(AU12="RDD2","Riyadh",IF(AU12="RDD3","Riyadh",IF(AU12="Q Path","Riyadh",IF(AU12="Off","Riyadh")))))))))) -> Riyadh | AY12: =IF(AX12="Riyadh","0",IF(AX12="Dammam","449")) -> 0 | AZ12: =IFERROR(VLOOKUP(U12,'DAS Sat'!$F$29:$P$39,11,0),"Off") -> Off | BA12: =IF(AZ12="MLD6&7","7:40",IF(AZ12="MLD8&11","7:40",IF(AZ12="SP-R","0",IF(AZ12="RDD1","0",IF(AZ12="RDD2","0",IF(AZ12="RDD3","0",IF(AZ12="RST1","0",IF(AZ12="RST2","0",IF(AZ12="Q Path","0",))))))))) -> 0 | BB12: =IF(AZ12="MLD6&7","0",IF(AZ12="MLD8&11","0",IF(AZ12="SP-R","0",IF(AZ12="RDD1","8:00",IF(AZ12="RDD2","8:00",IF(AZ12="RDD3","8:00",IF(AZ12="RST1","0",IF(AZ12="RST2","0",IF(AZ12="Q Path","0",))))))))) -> 0 | BC12: =IF(AZ12="MLD10&13","Dammam",IF(AZ12="MLD6&7","Dammam",IF(AZ12="SP-R","Riyadh",IF(AZ12="RST1","Riyadh",IF(AZ12="RST2","Riyadh",IF(AZ12="RDD1","Riyadh",IF(AZ12="RDD2","Riyadh",IF(AZ12="RDD3","Riyadh",IF(AZ12="Q Path","Riyadh",IF(AZ12="Off","Riyadh")))))))))) -> Riyadh | BD12: =IF(BC12="Riyadh","0",IF(BC12="Dammam","449")) -> 0 | BE12: =W12+AB12+AG12+AL12+AQ12+AV12+BA12 -> 0 | BG12: =X12+AC12+AH12+AM12+AR12+AW12+BB12 -> 0 | BI12: =Z12+AE12+AJ12+AO12+AT12+AY12+BD12 -> 0 | BK12: ='Dvr '!A14 -> Abdulah M. Yahya | BL12: #VALUE! | BM12: =IFERROR(VLOOKUP(BK12,'DAS Sun'!$F$9:$Q$36,12,0),"Off") -> Off | BN12: =IFERROR(VLOOKUP(BK12,'DAS Sun'!$F$9:$R$36,13,0),"Off") -> Off | BO12: =$BO$3-BN12 -> #VALUE! | BP12: =BM12+BL12 -> #VALUE! | BQ12: =IFERROR(VLOOKUP(BK12,'DAS Mon'!$F$9:$Q$39,12,0),"Off") -> Off | BR12: =IFERROR(VLOOKUP(BK12,'DAS Mon'!$F$9:$R$39,13,0),"Off") -> Off | BS12: =$BO$3-BR12 -> #VALUE! | BT12: =BQ12+BO12 -> #VALUE! | BU12: =IFERROR(VLOOKUP(BK12,'DAS Tue'!$F$9:$Q$46,12,0),"Off") -> 0.19722222 | BV12: =IFERROR(VLOOKUP(BK12,'DAS Tue'!$F$9:$R$46,13,0),"Off") -> 0.67916667 | BW12: =$BO$3-BV12 -> 0.32083333 | BX12: =BU12+BS12 -> #VALUE! | BY12: =IFERROR(VLOOKUP(BK12,'DAS Wed'!$F$9:$Q$49,12,0),"Off") -> 0.19722222 | BZ12: =IFERROR(VLOOKUP(BK12,'DAS Wed'!$F$9:$R$49,13,0),"Off") -> 0.53055556 | CA12: =$BO$3-BZ12 -> 0.46944444 | CB12: =BY12+BW12 -> 0.51805556 | CC12: =IFERROR(VLOOKUP(BK12,'DAS Thu'!$F$9:$Q$47,12,0),"Off") -> 0.20833333 | CD12: =IFERROR(VLOOKUP(BK12,'DAS Thu'!$F$9:$R$47,13,0),"Off") -> 0.60069444 | CE12: =$BO$3-CD12 -> 0.39930556 | CF12: =CC12+CA12 -> 0.67777778 | CG12: =IFERROR(VLOOKUP(BK12,'DAS Fri'!$F$9:$Q$43,12,0),"Off") -> 0.19722222 | CH12: =IFERROR(VLOOKUP(BK12,'DAS Fri'!$F$9:$R$43,13,0),"Off") -> 0.53055556 | CI12: =$BO$3-CH12 -> 0.46944444 | CJ12: =CG12+CE12 -> 0.59652778 | CK12: =IFERROR(VLOOKUP(BK12,'DAS Sat'!$F$9:$Q$43,12,0),"Off") -> Off | CL12: =IFERROR(VLOOKUP(BK12,'DAS Sat'!$F$9:$R$43,13,0),"Off") -> Off | CM12: =$BO$3-CL12 -> #VALUE! | CN12: =CK12+CI12 -> #VALUE!
B13: ='Dvr '!A15 -> Shalan Al Qarni | C13: =IFERROR(VLOOKUP(B13,'DAS Sun'!$F$9:$O$36,10,0),"Off") -> Off | D13: ='Dvr '!E15 -> 0 | E13: =IFERROR(VLOOKUP(B13,'DAS Mon'!$F$9:$O$39,10,0),"Off") -> Off | F13: ='Dvr '!I15 -> 0 | G13: =IFERROR(VLOOKUP(B13,'DAS Tue'!$F$9:$O$45,10,0),"Off") -> Off | H13: ='Dvr '!M15 -> 0 | I13: =IFERROR(VLOOKUP(B13,'DAS Wed'!$F$9:$O$49,10,0),"Off") -> 0.20833333 | J13: ='Dvr '!Q15 -> 0.20833333 | K13: =IFERROR(VLOOKUP(B13,'DAS Thu'!$F$9:$O$47,10,0),"Off") -> 0.20833333 | L13: ='Dvr '!U15 -> 0.20833333 | M13: =IFERROR(VLOOKUP(B13,'DAS Fri'!$F$9:$O$43,10,0),"Off") -> 0.48263889 | N13: ='Dvr '!Y15 -> 0.48263889 | O13: =IFERROR(VLOOKUP(B13,'DAS Sat'!$F$9:$O$43,10,0),"Off") -> 0.48263889 | P13: ='Dvr '!AC15 -> 0.48263889 | Q13: =SUM(C13,E13,G13,I13,K13,M13,O13) -> 1.3819444 | R13: =SUM(D13,F13,H13,J13,L13,N13,P13) -> 1.3819444 | S13: =COUNTIF(C13:P13,"Off") -> 3 | T13: =R13-Q13 -> 0 | U13: ='Dvr '!A15 -> Shalan Al Qarni | V13: =IFERROR(VLOOKUP(U13,'DAS Sun'!$F$9:$P$36,11,0),"Off") -> Off | W13: =IF(V13="MLD6&7","7:40",IF(V13="MLD8&11","7:40",IF(V13="SP-R","0",IF(V13="RDD1","0",IF(V13="RDD2","0",IF(V13="RDD3","0",IF(V13="RST1","0",IF(V13="RST2","0",IF(V13="Q Path","0",))))))))) -> 0 | X13: =IF(V13="MLD6&7","0",IF(V13="MLD8&11","0",IF(V13="SP-R","0",IF(V13="RDD1","8:00",IF(V13="RDD2","8:00",IF(V13="RDD3","8:00",IF(V13="RST1","0",IF(V13="RST2","0",IF(V13="Q Path","0",))))))))) -> 0 | Y13: =IF(V13="MLD8&11","Dammam",IF(V13="MLD6&7","Dammam",IF(V13="SP-R","Riyadh",IF(V13="RST1","Riyadh",IF(V13="RST2","Riyadh",IF(V13="RDD1","Riyadh",IF(V13="RDD2","Riyadh",IF(V13="RDD3","Riyadh",IF(V13="Q Path","Riyadh",IF(V13="Off","Riyadh")))))))))) -> Riyadh | Z13: =IF(Y13="Riyadh","0",IF(Y13="Dammam","449")) -> 0 | AA13: =IFERROR(VLOOKUP(U13,'DAS Mon'!$F$10:$P$39,11,0),"Off") -> Off | AB13: =IF(AA13="MLD6&7","7:40",IF(AA13="MLD8&11","7:40",IF(AA13="SP-R","0",IF(AA13="RDD1","0",IF(AA13="RDD2","0",IF(AA13="RDD3","0",IF(AA13="RST1","0",IF(AA13="RST2","0",IF(AA13="Q Path","0",))))))))) -> 0 | AC13: =IF(AA13="MLD6&7","0",IF(AA13="MLD8&11","0",IF(AA13="SP-R","0",IF(AA13="RDD1","8:00",IF(AA13="RDD2","8:00",IF(AA13="RDD3","8:00",IF(AA13="RST1","0",IF(AA13="RST2","0",IF(AA13="Q Path","0",))))))))) -> 0 | AD13: =IF(AA13="MLD8&11","Dammam",IF(AA13="MLD6&7","Dammam",IF(AA13="SP-R","Riyadh",IF(AA13="RST1","Riyadh",IF(AA13="RST2","Riyadh",IF(AA13="RDD1","Riyadh",IF(AA13="RDD2","Riyadh",IF(AA13="RDD3","Riyadh",IF(AA13="Q Path","Riyadh",IF(AA13="Off","Riyadh")))))))))) -> Riyadh | AE13: =IF(AD13="Riyadh","0",IF(AD13="Dammam","449")) -> 0 | AF13: =IFERROR(VLOOKUP(U13,'DAS Tue'!$F$10:$P$37,11,0),"Off") -> Off | AG13: =IF(AF13="MLD6&7","7:40",IF(AF13="MLD8&11","7:40",IF(AF13="SP-R","0",IF(AF13="RDD1","0",IF(AF13="RDD2","0",IF(AF13="RDD3","0",IF(AF13="RST1","0",IF(AF13="RST2","0",IF(AF13="Q Path","0",))))))))) -> 0 | AH13: =IF(AF13="MLD6&7","0",IF(AF13="MLD8&11","0",IF(AF13="SP-R","0",IF(AF13="RDD1","8:00",IF(AF13="RDD2","8:00",IF(AF13="RDD3","8:00",IF(AF13="RST1","0",IF(AF13="RST2","0",IF(AF13="Q Path","0",))))))))) -> 0 | AI13: =IF(AF13="MLD8&11","Dammam",IF(AF13="MLD6&7","Dammam",IF(AF13="SP-R","Riyadh",IF(AF13="RST1","Riyadh",IF(AF13="RST2","Riyadh",IF(AF13="RDD1","Riyadh",IF(AF13="RDD2","Riyadh",IF(AF13="RDD3","Riyadh",IF(AF13="Q Path","Riyadh",IF(AF13="Off","Riyadh")))))))))) -> Riyadh | AJ13: =IF(AI13="Riyadh","0",IF(AI13="Dammam","449")) -> 0 | AK13: =IFERROR(VLOOKUP(U13,'DAS Wed'!$F$12:$P$43,11,0),"Off") -> MLD6 | AL13: =IF(AK13="MLD6&7","7:40",IF(AK13="MLD8&11","7:40",IF(AK13="SP-R","0",IF(AK13="RDD1","0",IF(AK13="RDD2","0",IF(AK13="RDD3","0",IF(AK13="RST1","0",IF(AK13="RST2","0",IF(AK13="Q Path","0",))))))))) -> 0 | AM13: =IF(AK13="MLD6&7","0",IF(AK13="MLD8&11","0",IF(AK13="SP-R","0",IF(AK13="RDD1","8:00",IF(AK13="RDD2","8:00",IF(AK13="RDD3","8:00",IF(AK13="RST1","0",IF(AK13="RST2","0",IF(AK13="Q Path","0",))))))))) -> 0 | AN13: =IF(AK13="MLD8&11","Dammam",IF(AK13="MLD6&7","Dammam",IF(AK13="SP-R","Riyadh",IF(AK13="RST1","Riyadh",IF(AK13="RST2","Riyadh",IF(AK13="RDD1","Riyadh",IF(AK13="RDD2","Riyadh",IF(AK13="RDD3","Riyadh",IF(AK13="Q Path","Riyadh",IF(AK13="Off","Riyadh")))))))))) -> FALSE | AO13: =IF(AN13="Riyadh","0",IF(AN13="Dammam","449")) -> FALSE | AP13: =IFERROR(VLOOKUP(U13,'DAS Thu'!$F$10:$P$45,11,0),"Off") -> MLD1 | AQ13: =IF(AP13="MLD6&7","7:40",IF(AP13="MLD8&11","7:40",IF(AP13="SP-R","0",IF(AP13="RDD1","0",IF(AP13="RDD2","0",IF(AP13="RDD3","0",IF(AP13="RST1","0",IF(AP13="RST2","0",IF(AP13="Q Path","0",))))))))) -> 0 | AR13: =IF(AP13="MLD6&7","0",IF(AP13="MLD8&11","0",IF(AP13="SP-R","0",IF(AP13="RDD1","8:00",IF(AP13="RDD2","8:00",IF(AP13="RDD3","8:00",IF(AP13="RST1","0",IF(AP13="RST2","0",IF(AP13="Q Path","0",))))))))) -> 0 | AS13: =IF(AP13="MLD8&11","Dammam",IF(AP13="MLD6&7","Dammam",IF(AP13="SP-R","Riyadh",IF(AP13="RST1","Riyadh",IF(AP13="RST2","Riyadh",IF(AP13="RDD1","Riyadh",IF(AP13="RDD2","Riyadh",IF(AP13="RDD3","Riyadh",IF(AP13="Q Path","Riyadh",IF(AP13="Off","Riyadh")))))))))) -> FALSE | AT13: =IF(AS13="Riyadh","0",IF(AS13="Dammam","449")) -> FALSE | AU13: =IFERROR(VLOOKUP(U13,'DAS Fri'!$F$10:$P$40,11,0),"Off") -> Q Path | AV13: =IF(AU13="MLD6&7","7:40",IF(AU13="MLD8&11","7:40",IF(AU13="SP-R","0",IF(AU13="RDD1","0",IF(AU13="RDD2","0",IF(AU13="RDD3","0",IF(AU13="RST1","0",IF(AU13="RST2","0",IF(AU13="Q Path","0",))))))))) -> 0 | AW13: =IF(AU13="MLD6&7","0",IF(AU13="MLD8&11","0",IF(AU13="SP-R","0",IF(AU13="RDD1","8:00",IF(AU13="RDD2","8:00",IF(AU13="RDD3","8:00",IF(AU13="RST1","0",IF(AU13="RST2","0",IF(AU13="Q Path","0",))))))))) -> 0 | AX13: =IF(AU13="MLD10&13","Dammam",IF(AU13="MLD6&7","Dammam",IF(AU13="SP-R","Riyadh",IF(AU13="RST1","Riyadh",IF(AU13="RST2","Riyadh",IF(AU13="RDD1","Riyadh",IF(AU13="RDD2","Riyadh",IF(AU13="RDD3","Riyadh",IF(AU13="Q Path","Riyadh",IF(AU13="Off","Riyadh")))))))))) -> Riyadh | AY13: =IF(AX13="Riyadh","0",IF(AX13="Dammam","449")) -> 0 | AZ13: =IFERROR(VLOOKUP(U13,'DAS Sat'!$F$29:$P$39,11,0),"Off") -> Off | BA13: =IF(AZ13="MLD6&7","7:40",IF(AZ13="MLD8&11","7:40",IF(AZ13="SP-R","0",IF(AZ13="RDD1","0",IF(AZ13="RDD2","0",IF(AZ13="RDD3","0",IF(AZ13="RST1","0",IF(AZ13="RST2","0",IF(AZ13="Q Path","0",))))))))) -> 0 | BB13: =IF(AZ13="MLD6&7","0",IF(AZ13="MLD8&11","0",IF(AZ13="SP-R","0",IF(AZ13="RDD1","8:00",IF(AZ13="RDD2","8:00",IF(AZ13="RDD3","8:00",IF(AZ13="RST1","0",IF(AZ13="RST2","0",IF(AZ13="Q Path","0",))))))))) -> 0 | BC13: =IF(AZ13="MLD10&13","Dammam",IF(AZ13="MLD6&7","Dammam",IF(AZ13="SP-R","Riyadh",IF(AZ13="RST1","Riyadh",IF(AZ13="RST2","Riyadh",IF(AZ13="RDD1","Riyadh",IF(AZ13="RDD2","Riyadh",IF(AZ13="RDD3","Riyadh",IF(AZ13="Q Path","Riyadh",IF(AZ13="Off","Riyadh")))))))))) -> Riyadh | BD13: =IF(BC13="Riyadh","0",IF(BC13="Dammam","449")) -> 0 | BE13: =W13+AB13+AG13+AL13+AQ13+AV13+BA13 -> 0 | BG13: =X13+AC13+AH13+AM13+AR13+AW13+BB13 -> 0 | BI13: =Z13+AE13+AJ13+AO13+AT13+AY13+BD13 -> 0 | BK13: ='Dvr '!A15 -> Shalan Al Qarni | BL13: #VALUE! | BM13: =IFERROR(VLOOKUP(BK13,'DAS Sun'!$F$9:$Q$36,12,0),"Off") -> Off | BN13: =IFERROR(VLOOKUP(BK13,'DAS Sun'!$F$9:$R$36,13,0),"Off") -> Off | BO13: =$BO$3-BN13 -> #VALUE! | BP13: =BM13+BL13 -> #VALUE! | BQ13: =IFERROR(VLOOKUP(BK13,'DAS Mon'!$F$9:$Q$39,12,0),"Off") -> Off | BR13: =IFERROR(VLOOKUP(BK13,'DAS Mon'!$F$9:$R$39,13,0),"Off") -> Off | BS13: =$BO$3-BR13 -> #VALUE! | BT13: =BQ13+BO13 -> #VALUE! | BU13: =IFERROR(VLOOKUP(BK13,'DAS Tue'!$F$9:$Q$46,12,0),"Off") -> Off | BV13: =IFERROR(VLOOKUP(BK13,'DAS Tue'!$F$9:$R$46,13,0),"Off") -> Off | BW13: =$BO$3-BV13 -> #VALUE! | BX13: =BU13+BS13 -> #VALUE! | BY13: =IFERROR(VLOOKUP(BK13,'DAS Wed'!$F$9:$Q$49,12,0),"Off") -> 0.28333333 | BZ13: =IFERROR(VLOOKUP(BK13,'DAS Wed'!$F$9:$R$49,13,0),"Off") -> 0.49166667 | CA13: =$BO$3-BZ13 -> 0.50833333 | CB13: =BY13+BW13 -> #VALUE! | CC13: =IFERROR(VLOOKUP(BK13,'DAS Thu'!$F$9:$Q$47,12,0),"Off") -> 0.15486111 | CD13: =IFERROR(VLOOKUP(BK13,'DAS Thu'!$F$9:$R$47,13,0),"Off") -> 0.36319444 | CE13: =$BO$3-CD13 -> 0.63680556 | CF13: =CC13+CA13 -> 0.66319444 | CG13: =IFERROR(VLOOKUP(BK13,'DAS Fri'!$F$9:$Q$43,12,0),"Off") -> 0.27083333 | CH13: =IFERROR(VLOOKUP(BK13,'DAS Fri'!$F$9:$R$43,13,0),"Off") -> 0.75347222 | CI13: =$BO$3-CH13 -> 0.24652778 | CJ13: =CG13+CE13 -> 0.90763889 | CK13: =IFERROR(VLOOKUP(BK13,'DAS Sat'!$F$9:$Q$43,12,0),"Off") -> 0.27083333 | CL13: =IFERROR(VLOOKUP(BK13,'DAS Sat'!$F$9:$R$43,13,0),"Off") -> 0.75347222 | CM13: =$BO$3-CL13 -> 0.24652778 | CN13: =CK13+CI13 -> 0.51736111
B14: ='Dvr '!A16 -> Tariq Ahmed Alhamrani | C14: =IFERROR(VLOOKUP(B14,'DAS Sun'!$F$9:$O$36,10,0),"Off") -> 0.20833333 | D14: ='Dvr '!E16 -> 0.33333333 | E14: =IFERROR(VLOOKUP(B14,'DAS Mon'!$F$9:$O$39,10,0),"Off") -> 0.20833333 | F14: ='Dvr '!I16 -> 0.33333333 | G14: =IFERROR(VLOOKUP(B14,'DAS Tue'!$F$9:$O$45,10,0),"Off") -> Off | H14: ='Dvr '!M16 -> 0 | I14: =IFERROR(VLOOKUP(B14,'DAS Wed'!$F$9:$O$49,10,0),"Off") -> Off | J14: ='Dvr '!Q16 -> 0 | K14: =IFERROR(VLOOKUP(B14,'DAS Thu'!$F$9:$O$47,10,0),"Off") -> Off | L14: ='Dvr '!U16 -> 0 | M14: =IFERROR(VLOOKUP(B14,'DAS Fri'!$F$9:$O$43,10,0),"Off") -> 0.39236111 | N14: ='Dvr '!Y16 -> 0.39236111 | O14: =IFERROR(VLOOKUP(B14,'DAS Sat'!$F$9:$O$43,10,0),"Off") -> 0.48194444 | P14: ='Dvr '!AC16 -> 0.48194444 | Q14: =SUM(C14,E14,G14,I14,K14,M14,O14) -> 1.2909722 | R14: =SUM(D14,F14,H14,J14,L14,N14,P14) -> 1.5409722 | S14: =COUNTIF(C14:P14,"Off") -> 3 | T14: =R14-Q14 -> 0.25 | U14: ='Dvr '!A16 -> Tariq Ahmed Alhamrani | V14: =IFERROR(VLOOKUP(U14,'DAS Sun'!$F$9:$P$36,11,0),"Off") -> MLD6 | W14: =IF(V14="MLD6&7","7:40",IF(V14="MLD8&11","7:40",IF(V14="SP-R","0",IF(V14="RDD1","0",IF(V14="RDD2","0",IF(V14="RDD3","0",IF(V14="RST1","0",IF(V14="RST2","0",IF(V14="Q Path","0",))))))))) -> 0 | X14: =IF(V14="MLD6&7","0",IF(V14="MLD8&11","0",IF(V14="SP-R","0",IF(V14="RDD1","8:00",IF(V14="RDD2","8:00",IF(V14="RDD3","8:00",IF(V14="RST1","0",IF(V14="RST2","0",IF(V14="Q Path","0",))))))))) -> 0 | Y14: =IF(V14="MLD8&11","Dammam",IF(V14="MLD6&7","Dammam",IF(V14="SP-R","Riyadh",IF(V14="RST1","Riyadh",IF(V14="RST2","Riyadh",IF(V14="RDD1","Riyadh",IF(V14="RDD2","Riyadh",IF(V14="RDD3","Riyadh",IF(V14="Q Path","Riyadh",IF(V14="Off","Riyadh")))))))))) -> FALSE | Z14: =IF(Y14="Riyadh","0",IF(Y14="Dammam","449")) -> FALSE | AA14: =IFERROR(VLOOKUP(U14,'DAS Mon'!$F$10:$P$39,11,0),"Off") -> MLD1 | AB14: =IF(AA14="MLD6&7","7:40",IF(AA14="MLD8&11","7:40",IF(AA14="SP-R","0",IF(AA14="RDD1","0",IF(AA14="RDD2","0",IF(AA14="RDD3","0",IF(AA14="RST1","0",IF(AA14="RST2","0",IF(AA14="Q Path","0",))))))))) -> 0 | AC14: =IF(AA14="MLD6&7","0",IF(AA14="MLD8&11","0",IF(AA14="SP-R","0",IF(AA14="RDD1","8:00",IF(AA14="RDD2","8:00",IF(AA14="RDD3","8:00",IF(AA14="RST1","0",IF(AA14="RST2","0",IF(AA14="Q Path","0",))))))))) -> 0 | AD14: =IF(AA14="MLD8&11","Dammam",IF(AA14="MLD6&7","Dammam",IF(AA14="SP-R","Riyadh",IF(AA14="RST1","Riyadh",IF(AA14="RST2","Riyadh",IF(AA14="RDD1","Riyadh",IF(AA14="RDD2","Riyadh",IF(AA14="RDD3","Riyadh",IF(AA14="Q Path","Riyadh",IF(AA14="Off","Riyadh")))))))))) -> FALSE | AE14: =IF(AD14="Riyadh","0",IF(AD14="Dammam","449")) -> FALSE | AF14: =IFERROR(VLOOKUP(U14,'DAS Tue'!$F$10:$P$37,11,0),"Off") -> Off | AG14: =IF(AF14="MLD6&7","7:40",IF(AF14="MLD8&11","7:40",IF(AF14="SP-R","0",IF(AF14="RDD1","0",IF(AF14="RDD2","0",IF(AF14="RDD3","0",IF(AF14="RST1","0",IF(AF14="RST2","0",IF(AF14="Q Path","0",))))))))) -> 0 | AH14: =IF(AF14="MLD6&7","0",IF(AF14="MLD8&11","0",IF(AF14="SP-R","0",IF(AF14="RDD1","8:00",IF(AF14="RDD2","8:00",IF(AF14="RDD3","8:00",IF(AF14="RST1","0",IF(AF14="RST2","0",IF(AF14="Q Path","0",))))))))) -> 0 | AI14: =IF(AF14="MLD8&11","Dammam",IF(AF14="MLD6&7","Dammam",IF(AF14="SP-R","Riyadh",IF(AF14="RST1","Riyadh",IF(AF14="RST2","Riyadh",IF(AF14="RDD1","Riyadh",IF(AF14="RDD2","Riyadh",IF(AF14="RDD3","Riyadh",IF(AF14="Q Path","Riyadh",IF(AF14="Off","Riyadh")))))))))) -> Riyadh | AJ14: =IF(AI14="Riyadh","0",IF(AI14="Dammam","449")) -> 0 | AK14: =IFERROR(VLOOKUP(U14,'DAS Wed'!$F$12:$P$43,11,0),"Off") -> Off | AL14: =IF(AK14="MLD6&7","7:40",IF(AK14="MLD8&11","7:40",IF(AK14="SP-R","0",IF(AK14="RDD1","0",IF(AK14="RDD2","0",IF(AK14="RDD3","0",IF(AK14="RST1","0",IF(AK14="RST2","0",IF(AK14="Q Path","0",))))))))) -> 0 | AM14: =IF(AK14="MLD6&7","0",IF(AK14="MLD8&11","0",IF(AK14="SP-R","0",IF(AK14="RDD1","8:00",IF(AK14="RDD2","8:00",IF(AK14="RDD3","8:00",IF(AK14="RST1","0",IF(AK14="RST2","0",IF(AK14="Q Path","0",))))))))) -> 0 | AN14: =IF(AK14="MLD8&11","Dammam",IF(AK14="MLD6&7","Dammam",IF(AK14="SP-R","Riyadh",IF(AK14="RST1","Riyadh",IF(AK14="RST2","Riyadh",IF(AK14="RDD1","Riyadh",IF(AK14="RDD2","Riyadh",IF(AK14="RDD3","Riyadh",IF(AK14="Q Path","Riyadh",IF(AK14="Off","Riyadh")))))))))) -> Riyadh | AO14: =IF(AN14="Riyadh","0",IF(AN14="Dammam","449")) -> 0 | AP14: =IFERROR(VLOOKUP(U14,'DAS Thu'!$F$10:$P$45,11,0),"Off") -> Off | AQ14: =IF(AP14="MLD6&7","7:40",IF(AP14="MLD8&11","7:40",IF(AP14="SP-R","0",IF(AP14="RDD1","0",IF(AP14="RDD2","0",IF(AP14="RDD3","0",IF(AP14="RST1","0",IF(AP14="RST2","0",IF(AP14="Q Path","0",))))))))) -> 0 | AR14: =IF(AP14="MLD6&7","0",IF(AP14="MLD8&11","0",IF(AP14="SP-R","0",IF(AP14="RDD1","8:00",IF(AP14="RDD2","8:00",IF(AP14="RDD3","8:00",IF(AP14="RST1","0",IF(AP14="RST2","0",IF(AP14="Q Path","0",))))))))) -> 0 | AS14: =IF(AP14="MLD8&11","Dammam",IF(AP14="MLD6&7","Dammam",IF(AP14="SP-R","Riyadh",IF(AP14="RST1","Riyadh",IF(AP14="RST2","Riyadh",IF(AP14="RDD1","Riyadh",IF(AP14="RDD2","Riyadh",IF(AP14="RDD3","Riyadh",IF(AP14="Q Path","Riyadh",IF(AP14="Off","Riyadh")))))))))) -> Riyadh | AT14: =IF(AS14="Riyadh","0",IF(AS14="Dammam","449")) -> 0 | AU14: =IFERROR(VLOOKUP(U14,'DAS Fri'!$F$10:$P$40,11,0),"Off") -> RST1 | AV14: =IF(AU14="MLD6&7","7:40",IF(AU14="MLD8&11","7:40",IF(AU14="SP-R","0",IF(AU14="RDD1","0",IF(AU14="RDD2","0",IF(AU14="RDD3","0",IF(AU14="RST1","0",IF(AU14="RST2","0",IF(AU14="Q Path","0",))))))))) -> 0 | AW14: =IF(AU14="MLD6&7","0",IF(AU14="MLD8&11","0",IF(AU14="SP-R","0",IF(AU14="RDD1","8:00",IF(AU14="RDD2","8:00",IF(AU14="RDD3","8:00",IF(AU14="RST1","0",IF(AU14="RST2","0",IF(AU14="Q Path","0",))))))))) -> 0 | AX14: =IF(AU14="MLD10&13","Dammam",IF(AU14="MLD6&7","Dammam",IF(AU14="SP-R","Riyadh",IF(AU14="RST1","Riyadh",IF(AU14="RST2","Riyadh",IF(AU14="RDD1","Riyadh",IF(AU14="RDD2","Riyadh",IF(AU14="RDD3","Riyadh",IF(AU14="Q Path","Riyadh",IF(AU14="Off","Riyadh")))))))))) -> Riyadh | AY14: =IF(AX14="Riyadh","0",IF(AX14="Dammam","449")) -> 0 | AZ14: =IFERROR(VLOOKUP(U14,'DAS Sat'!$F$29:$P$39,11,0),"Off") -> Off | BA14: =IF(AZ14="MLD6&7","7:40",IF(AZ14="MLD8&11","7:40",IF(AZ14="SP-R","0",IF(AZ14="RDD1","0",IF(AZ14="RDD2","0",IF(AZ14="RDD3","0",IF(AZ14="RST1","0",IF(AZ14="RST2","0",IF(AZ14="Q Path","0",))))))))) -> 0 | BB14: =IF(AZ14="MLD6&7","0",IF(AZ14="MLD8&11","0",IF(AZ14="SP-R","0",IF(AZ14="RDD1","8:00",IF(AZ14="RDD2","8:00",IF(AZ14="RDD3","8:00",IF(AZ14="RST1","0",IF(AZ14="RST2","0",IF(AZ14="Q Path","0",))))))))) -> 0 | BC14: =IF(AZ14="MLD10&13","Dammam",IF(AZ14="MLD6&7","Dammam",IF(AZ14="SP-R","Riyadh",IF(AZ14="RST1","Riyadh",IF(AZ14="RST2","Riyadh",IF(AZ14="RDD1","Riyadh",IF(AZ14="RDD2","Riyadh",IF(AZ14="RDD3","Riyadh",IF(AZ14="Q Path","Riyadh",IF(AZ14="Off","Riyadh")))))))))) -> Riyadh | BD14: =IF(BC14="Riyadh","0",IF(BC14="Dammam","449")) -> 0 | BE14: =W14+AB14+AG14+AL14+AQ14+AV14+BA14 -> 0 | BG14: =X14+AC14+AH14+AM14+AR14+AW14+BB14 -> 0 | BI14: =Z14+AE14+AJ14+AO14+AT14+AY14+BD14 -> 0 | BK14: ='Dvr '!A16 -> Tariq Ahmed Alhamrani | BL14: 0.24652778 | BM14: =IFERROR(VLOOKUP(BK14,'DAS Sun'!$F$9:$Q$36,12,0),"Off") -> 0.28333333 | BN14: =IFERROR(VLOOKUP(BK14,'DAS Sun'!$F$9:$R$36,13,0),"Off") -> 0.49166667 | BO14: =$BO$3-BN14 -> 0.50833333 | BP14: =BM14+BL14 -> 0.52986111 | BQ14: =IFERROR(VLOOKUP(BK14,'DAS Mon'!$F$9:$Q$39,12,0),"Off") -> 0.15486111 | BR14: =IFERROR(VLOOKUP(BK14,'DAS Mon'!$F$9:$R$39,13,0),"Off") -> 0.36319444 | BS14: =$BO$3-BR14 -> 0.63680556 | BT14: =BQ14+BO14 -> 0.66319444 | BU14: =IFERROR(VLOOKUP(BK14,'DAS Tue'!$F$9:$Q$46,12,0),"Off") -> Off | BV14: =IFERROR(VLOOKUP(BK14,'DAS Tue'!$F$9:$R$46,13,0),"Off") -> Off | BW14: =$BO$3-BV14 -> #VALUE! | BX14: =BU14+BS14 -> #VALUE! | BY14: =IFERROR(VLOOKUP(BK14,'DAS Wed'!$F$9:$Q$49,12,0),"Off") -> Off | BZ14: =IFERROR(VLOOKUP(BK14,'DAS Wed'!$F$9:$R$49,13,0),"Off") -> Off | CA14: =$BO$3-BZ14 -> #VALUE! | CB14: =BY14+BW14 -> #VALUE! | CC14: =IFERROR(VLOOKUP(BK14,'DAS Thu'!$F$9:$Q$47,12,0),"Off") -> Off | CD14: =IFERROR(VLOOKUP(BK14,'DAS Thu'!$F$9:$R$47,13,0),"Off") -> Off | CE14: =$BO$3-CD14 -> #VALUE! | CF14: =CC14+CA14 -> #VALUE! | CG14: =IFERROR(VLOOKUP(BK14,'DAS Fri'!$F$9:$Q$43,12,0),"Off") -> 0.20833333 | CH14: =IFERROR(VLOOKUP(BK14,'DAS Fri'!$F$9:$R$43,13,0),"Off") -> 0.60069444 | CI14: =$BO$3-CH14 -> 0.39930556 | CJ14: =CG14+CE14 -> #VALUE! | CK14: =IFERROR(VLOOKUP(BK14,'DAS Sat'!$F$9:$Q$43,12,0),"Off") -> 0.19722222 | CL14: =IFERROR(VLOOKUP(BK14,'DAS Sat'!$F$9:$R$43,13,0),"Off") -> 0.67916667 | CM14: =$BO$3-CL14 -> 0.32083333 | CN14: =CK14+CI14 -> 0.59652778
B15: ='Dvr '!A17 -> Rakan Asiri | C15: =IFERROR(VLOOKUP(B15,'DAS Sun'!$F$9:$O$36,10,0),"Off") -> Off | D15: ='Dvr '!E17 -> 0.20833333 | E15: =IFERROR(VLOOKUP(B15,'DAS Mon'!$F$9:$O$39,10,0),"Off") -> Off | F15: ='Dvr '!I17 -> 0.20833333 | G15: =IFERROR(VLOOKUP(B15,'DAS Tue'!$F$9:$O$45,10,0),"Off") -> Off | H15: ='Dvr '!M17 -> 0.48263889 | I15: =IFERROR(VLOOKUP(B15,'DAS Wed'!$F$9:$O$49,10,0),"Off") -> Off | J15: ='Dvr '!Q17 -> 0 | K15: =IFERROR(VLOOKUP(B15,'DAS Thu'!$F$9:$O$47,10,0),"Off") -> Off | L15: ='Dvr '!U17 -> 0 | M15: =IFERROR(VLOOKUP(B15,'DAS Fri'!$F$9:$O$43,10,0),"Off") -> Off | N15: ='Dvr '!Y17 -> 0.39236111 | O15: =IFERROR(VLOOKUP(B15,'DAS Sat'!$F$9:$O$43,10,0),"Off") -> Off | P15: ='Dvr '!AC17 -> 0.39236111 | Q15: =SUM(C15,E15,G15,I15,K15,M15,O15) -> 0 | R15: =SUM(D15,F15,H15,J15,L15,N15,P15) -> 1.6840278 | S15: =COUNTIF(C15:P15,"Off") -> 7 | T15: =R15-Q15 -> 1.6840278 | U15: ='Dvr '!A17 -> Rakan Asiri | V15: =IFERROR(VLOOKUP(U15,'DAS Sun'!$F$9:$P$36,11,0),"Off") -> Off | W15: =IF(V15="MLD6&7","7:40",IF(V15="MLD8&11","7:40",IF(V15="SP-R","0",IF(V15="RDD1","0",IF(V15="RDD2","0",IF(V15="RDD3","0",IF(V15="RST1","0",IF(V15="RST2","0",IF(V15="Q Path","0",))))))))) -> 0 | X15: =IF(V15="MLD6&7","0",IF(V15="MLD8&11","0",IF(V15="SP-R","0",IF(V15="RDD1","8:00",IF(V15="RDD2","8:00",IF(V15="RDD3","8:00",IF(V15="RST1","0",IF(V15="RST2","0",IF(V15="Q Path","0",))))))))) -> 0 | Y15: =IF(V15="MLD8&11","Dammam",IF(V15="MLD6&7","Dammam",IF(V15="SP-R","Riyadh",IF(V15="RST1","Riyadh",IF(V15="RST2","Riyadh",IF(V15="RDD1","Riyadh",IF(V15="RDD2","Riyadh",IF(V15="RDD3","Riyadh",IF(V15="Q Path","Riyadh",IF(V15="Off","Riyadh")))))))))) -> Riyadh | Z15: =IF(Y15="Riyadh","0",IF(Y15="Dammam","449")) -> 0 | AA15: =IFERROR(VLOOKUP(U15,'DAS Mon'!$F$10:$P$39,11,0),"Off") -> Off | AB15: =IF(AA15="MLD6&7","7:40",IF(AA15="MLD8&11","7:40",IF(AA15="SP-R","0",IF(AA15="RDD1","0",IF(AA15="RDD2","0",IF(AA15="RDD3","0",IF(AA15="RST1","0",IF(AA15="RST2","0",IF(AA15="Q Path","0",))))))))) -> 0 | AC15: =IF(AA15="MLD6&7","0",IF(AA15="MLD8&11","0",IF(AA15="SP-R","0",IF(AA15="RDD1","8:00",IF(AA15="RDD2","8:00",IF(AA15="RDD3","8:00",IF(AA15="RST1","0",IF(AA15="RST2","0",IF(AA15="Q Path","0",))))))))) -> 0 | AD15: =IF(AA15="MLD8&11","Dammam",IF(AA15="MLD6&7","Dammam",IF(AA15="SP-R","Riyadh",IF(AA15="RST1","Riyadh",IF(AA15="RST2","Riyadh",IF(AA15="RDD1","Riyadh",IF(AA15="RDD2","Riyadh",IF(AA15="RDD3","Riyadh",IF(AA15="Q Path","Riyadh",IF(AA15="Off","Riyadh")))))))))) -> Riyadh | AE15: =IF(AD15="Riyadh","0",IF(AD15="Dammam","449")) -> 0 | AF15: =IFERROR(VLOOKUP(U15,'DAS Tue'!$F$10:$P$37,11,0),"Off") -> Off | AG15: =IF(AF15="MLD6&7","7:40",IF(AF15="MLD8&11","7:40",IF(AF15="SP-R","0",IF(AF15="RDD1","0",IF(AF15="RDD2","0",IF(AF15="RDD3","0",IF(AF15="RST1","0",IF(AF15="RST2","0",IF(AF15="Q Path","0",))))))))) -> 0 | AH15: =IF(AF15="MLD6&7","0",IF(AF15="MLD8&11","0",IF(AF15="SP-R","0",IF(AF15="RDD1","8:00",IF(AF15="RDD2","8:00",IF(AF15="RDD3","8:00",IF(AF15="RST1","0",IF(AF15="RST2","0",IF(AF15="Q Path","0",))))))))) -> 0 | AI15: =IF(AF15="MLD8&11","Dammam",IF(AF15="MLD6&7","Dammam",IF(AF15="SP-R","Riyadh",IF(AF15="RST1","Riyadh",IF(AF15="RST2","Riyadh",IF(AF15="RDD1","Riyadh",IF(AF15="RDD2","Riyadh",IF(AF15="RDD3","Riyadh",IF(AF15="Q Path","Riyadh",IF(AF15="Off","Riyadh")))))))))) -> Riyadh | AJ15: =IF(AI15="Riyadh","0",IF(AI15="Dammam","449")) -> 0 | AK15: =IFERROR(VLOOKUP(U15,'DAS Wed'!$F$12:$P$43,11,0),"Off") -> Off | AL15: =IF(AK15="MLD6&7","7:40",IF(AK15="MLD8&11","7:40",IF(AK15="SP-R","0",IF(AK15="RDD1","0",IF(AK15="RDD2","0",IF(AK15="RDD3","0",IF(AK15="RST1","0",IF(AK15="RST2","0",IF(AK15="Q Path","0",))))))))) -> 0 | AM15: =IF(AK15="MLD6&7","0",IF(AK15="MLD8&11","0",IF(AK15="SP-R","0",IF(AK15="RDD1","8:00",IF(AK15="RDD2","8:00",IF(AK15="RDD3","8:00",IF(AK15="RST1","0",IF(AK15="RST2","0",IF(AK15="Q Path","0",))))))))) -> 0 | AN15: =IF(AK15="MLD8&11","Dammam",IF(AK15="MLD6&7","Dammam",IF(AK15="SP-R","Riyadh",IF(AK15="RST1","Riyadh",IF(AK15="RST2","Riyadh",IF(AK15="RDD1","Riyadh",IF(AK15="RDD2","Riyadh",IF(AK15="RDD3","Riyadh",IF(AK15="Q Path","Riyadh",IF(AK15="Off","Riyadh")))))))))) -> Riyadh | AO15: =IF(AN15="Riyadh","0",IF(AN15="Dammam","449")) -> 0 | AP15: =IFERROR(VLOOKUP(U15,'DAS Thu'!$F$10:$P$45,11,0),"Off") -> Off | AQ15: =IF(AP15="MLD6&7","7:40",IF(AP15="MLD8&11","7:40",IF(AP15="SP-R","0",IF(AP15="RDD1","0",IF(AP15="RDD2","0",IF(AP15="RDD3","0",IF(AP15="RST1","0",IF(AP15="RST2","0",IF(AP15="Q Path","0",))))))))) -> 0 | AR15: =IF(AP15="MLD6&7","0",IF(AP15="MLD8&11","0",IF(AP15="SP-R","0",IF(AP15="RDD1","8:00",IF(AP15="RDD2","8:00",IF(AP15="RDD3","8:00",IF(AP15="RST1","0",IF(AP15="RST2","0",IF(AP15="Q Path","0",))))))))) -> 0 | AS15: =IF(AP15="MLD8&11","Dammam",IF(AP15="MLD6&7","Dammam",IF(AP15="SP-R","Riyadh",IF(AP15="RST1","Riyadh",IF(AP15="RST2","Riyadh",IF(AP15="RDD1","Riyadh",IF(AP15="RDD2","Riyadh",IF(AP15="RDD3","Riyadh",IF(AP15="Q Path","Riyadh",IF(AP15="Off","Riyadh")))))))))) -> Riyadh | AT15: =IF(AS15="Riyadh","0",IF(AS15="Dammam","449")) -> 0 | AU15: =IFERROR(VLOOKUP(U15,'DAS Fri'!$F$10:$P$40,11,0),"Off") -> Off | AV15: =IF(AU15="MLD6&7","7:40",IF(AU15="MLD8&11","7:40",IF(AU15="SP-R","0",IF(AU15="RDD1","0",IF(AU15="RDD2","0",IF(AU15="RDD3","0",IF(AU15="RST1","0",IF(AU15="RST2","0",IF(AU15="Q Path","0",))))))))) -> 0 | AW15: =IF(AU15="MLD6&7","0",IF(AU15="MLD8&11","0",IF(AU15="SP-R","0",IF(AU15="RDD1","8:00",IF(AU15="RDD2","8:00",IF(AU15="RDD3","8:00",IF(AU15="RST1","0",IF(AU15="RST2","0",IF(AU15="Q Path","0",))))))))) -> 0 | AX15: =IF(AU15="MLD10&13","Dammam",IF(AU15="MLD6&7","Dammam",IF(AU15="SP-R","Riyadh",IF(AU15="RST1","Riyadh",IF(AU15="RST2","Riyadh",IF(AU15="RDD1","Riyadh",IF(AU15="RDD2","Riyadh",IF(AU15="RDD3","Riyadh",IF(AU15="Q Path","Riyadh",IF(AU15="Off","Riyadh")))))))))) -> Riyadh | AY15: =IF(AX15="Riyadh","0",IF(AX15="Dammam","449")) -> 0 | AZ15: =IFERROR(VLOOKUP(U15,'DAS Sat'!$F$29:$P$39,11,0),"Off") -> Off | BA15: =IF(AZ15="MLD6&7","7:40",IF(AZ15="MLD10&15","7:40",IF(AZ15="SP-R","0",IF(AZ15="RDD1","0",IF(AZ15="RDD2","0",IF(AZ15="RDD3","0",IF(AZ15="RST1","0",IF(AZ15="RST2","0",IF(AZ15="Q Path","0",))))))))) -> 0 | BB15: =IF(AZ15="MLD6&7","0",IF(AZ15="MLD8&11","0",IF(AZ15="SP-R","0",IF(AZ15="RDD1","8:00",IF(AZ15="RDD2","8:00",IF(AZ15="RDD3","8:00",IF(AZ15="RST1","0",IF(AZ15="RST2","0",IF(AZ15="Q Path","0",))))))))) -> 0 | BC15: =IF(AZ15="MLD10&13","Dammam",IF(AZ15="MLD6&7","Dammam",IF(AZ15="SP-R","Riyadh",IF(AZ15="RST1","Riyadh",IF(AZ15="RST2","Riyadh",IF(AZ15="RDD1","Riyadh",IF(AZ15="RDD2","Riyadh",IF(AZ15="RDD3","Riyadh",IF(AZ15="Q Path","Riyadh",IF(AZ15="Off","Riyadh")))))))))) -> Riyadh | BD15: =IF(BC15="Riyadh","0",IF(BC15="Dammam","449")) -> 0 | BE15: =W15+AB15+AG15+AL15+AQ15+AV15+BA15 -> 0 | BG15: =X15+AC15+AH15+AM15+AR15+AW15+BB15 -> 0 | BI15: =Z15+AE15+AJ15+AO15+AT15+AY15+BD15 -> 0 | BK15: ='Dvr '!A17 -> Rakan Asiri | BL15: #VALUE! | BM15: =IFERROR(VLOOKUP(BK15,'DAS Sun'!$F$9:$Q$36,12,0),"Off") -> Off | BN15: =IFERROR(VLOOKUP(BK15,'DAS Sun'!$F$9:$R$36,13,0),"Off") -> Off | BO15: =$BO$3-BN15 -> #VALUE! | BP15: =BM15+BL15 -> #VALUE! | BQ15: =IFERROR(VLOOKUP(BK15,'DAS Mon'!$F$9:$Q$39,12,0),"Off") -> Off | BR15: =IFERROR(VLOOKUP(BK15,'DAS Mon'!$F$9:$R$39,13,0),"Off") -> Off | BS15: =$BO$3-BR15 -> #VALUE! | BT15: =BQ15+BO15 -> #VALUE! | BU15: =IFERROR(VLOOKUP(BK15,'DAS Tue'!$F$9:$Q$46,12,0),"Off") -> Off | BV15: =IFERROR(VLOOKUP(BK15,'DAS Tue'!$F$9:$R$46,13,0),"Off") -> Off | BW15: =$BO$3-BV15 -> #VALUE! | BX15: =BU15+BS15 -> #VALUE! | BY15: =IFERROR(VLOOKUP(BK15,'DAS Wed'!$F$9:$Q$49,12,0),"Off") -> Off | BZ15: =IFERROR(VLOOKUP(BK15,'DAS Wed'!$F$9:$R$49,13,0),"Off") -> Off | CA15: =$BO$3-BZ15 -> #VALUE! | CB15: =BY15+BW15 -> #VALUE! | CC15: =IFERROR(VLOOKUP(BK15,'DAS Thu'!$F$9:$Q$47,12,0),"Off") -> Off | CD15: =IFERROR(VLOOKUP(BK15,'DAS Thu'!$F$9:$R$47,13,0),"Off") -> Off | CE15: =$BO$3-CD15 -> #VALUE! | CF15: =CC15+CA15 -> #VALUE! | CG15: =IFERROR(VLOOKUP(BK15,'DAS Fri'!$F$9:$Q$43,12,0),"Off") -> Off | CH15: =IFERROR(VLOOKUP(BK15,'DAS Fri'!$F$9:$R$43,13,0),"Off") -> Off | CI15: =$BO$3-CH15 -> #VALUE! | CJ15: =CG15+CE15 -> #VALUE! | CK15: =IFERROR(VLOOKUP(BK15,'DAS Sat'!$F$9:$Q$43,12,0),"Off") -> Off | CL15: =IFERROR(VLOOKUP(BK15,'DAS Sat'!$F$9:$R$43,13,0),"Off") -> Off | CM15: =$BO$3-CL15 -> #VALUE! | CN15: =CK15+CI15 -> #VALUE!
B16: ='Dvr '!A18 -> Vacancy 1 | C16: =IFERROR(VLOOKUP(B16,'DAS Sun'!$F$9:$O$36,10,0),"Off") -> Off | D16: ='Dvr '!E18 -> 0.20833333 | E16: =IFERROR(VLOOKUP(B16,'DAS Mon'!$F$9:$O$39,10,0),"Off") -> Off | F16: ='Dvr '!I18 -> 0.20833333 | G16: =IFERROR(VLOOKUP(B16,'DAS Tue'!$F$9:$O$45,10,0),"Off") -> Off | H16: ='Dvr '!M18 -> 0 | I16: =IFERROR(VLOOKUP(B16,'DAS Wed'!$F$9:$O$49,10,0),"Off") -> Off | J16: ='Dvr '!Q18 -> 0 | K16: =IFERROR(VLOOKUP(B16,'DAS Thu'!$F$9:$O$47,10,0),"Off") -> Off | L16: ='Dvr '!U18 -> 0 | M16: =IFERROR(VLOOKUP(B16,'DAS Fri'!$F$9:$O$43,10,0),"Off") -> Off | N16: ='Dvr '!Y18 -> 0.33333333 | O16: =IFERROR(VLOOKUP(B16,'DAS Sat'!$F$9:$O$43,10,0),"Off") -> Off | P16: ='Dvr '!AC18 -> 0.33333333 | Q16: =SUM(C16,E16,G16,I16,K16,M16,O16) -> 0 | R16: =SUM(D16,F16,H16,J16,L16,N16,P16) -> 1.0833333 | S16: =COUNTIF(C16:P16,"Off") -> 7 | T16: =R16-Q16 -> 1.0833333 | U16: ='Dvr '!A18 -> Vacancy 1 | V16: =IFERROR(VLOOKUP(U16,'DAS Sun'!$F$9:$P$36,11,0),"Off") -> Off | W16: =IF(V16="MLD6&7","7:40",IF(V16="MLD8&11","7:40",IF(V16="SP-R","0",IF(V16="RDD1","0",IF(V16="RDD2","0",IF(V16="RDD3","0",IF(V16="RST1","0",IF(V16="RST2","0",IF(V16="Q Path","0",))))))))) -> 0 | X16: =IF(V16="MLD6&7","0",IF(V16="MLD8&11","0",IF(V16="SP-R","0",IF(V16="RDD1","8:00",IF(V16="RDD2","8:00",IF(V16="RDD3","8:00",IF(V16="RST1","0",IF(V16="RST2","0",IF(V16="Q Path","0",))))))))) -> 0 | Y16: =IF(V16="MLD8&11","Dammam",IF(V16="MLD6&7","Dammam",IF(V16="SP-R","Riyadh",IF(V16="RST1","Riyadh",IF(V16="RST2","Riyadh",IF(V16="RDD1","Riyadh",IF(V16="RDD2","Riyadh",IF(V16="RDD3","Riyadh",IF(V16="Q Path","Riyadh",IF(V16="Off","Riyadh")))))))))) -> Riyadh | Z16: =IF(Y16="Riyadh","0",IF(Y16="Dammam","449")) -> 0 | AA16: =IFERROR(VLOOKUP(U16,'DAS Mon'!$F$10:$P$39,11,0),"Off") -> Off | AB16: =IF(AA16="MLD6&7","7:40",IF(AA16="MLD8&11","7:40",IF(AA16="SP-R","0",IF(AA16="RDD1","0",IF(AA16="RDD2","0",IF(AA16="RDD3","0",IF(AA16="RST1","0",IF(AA16="RST2","0",IF(AA16="Q Path","0",))))))))) -> 0 | AC16: =IF(AA16="MLD6&7","0",IF(AA16="MLD8&11","0",IF(AA16="SP-R","0",IF(AA16="RDD1","8:00",IF(AA16="RDD2","8:00",IF(AA16="RDD3","8:00",IF(AA16="RST1","0",IF(AA16="RST2","0",IF(AA16="Q Path","0",))))))))) -> 0 | AD16: =IF(AA16="MLD8&11","Dammam",IF(AA16="MLD6&7","Dammam",IF(AA16="SP-R","Riyadh",IF(AA16="RST1","Riyadh",IF(AA16="RST2","Riyadh",IF(AA16="RDD1","Riyadh",IF(AA16="RDD2","Riyadh",IF(AA16="RDD3","Riyadh",IF(AA16="Q Path","Riyadh",IF(AA16="Off","Riyadh")))))))))) -> Riyadh | AE16: =IF(AD16="Riyadh","0",IF(AD16="Dammam","449")) -> 0 | AF16: =IFERROR(VLOOKUP(U16,'DAS Tue'!$F$10:$P$37,11,0),"Off") -> Off | AG16: =IF(AF16="MLD6&7","7:40",IF(AF16="MLD8&11","7:40",IF(AF16="SP-R","0",IF(AF16="RDD1","0",IF(AF16="RDD2","0",IF(AF16="RDD3","0",IF(AF16="RST1","0",IF(AF16="RST2","0",IF(AF16="Q Path","0",))))))))) -> 0 | AH16: =IF(AF16="MLD6&7","0",IF(AF16="MLD8&11","0",IF(AF16="SP-R","0",IF(AF16="RDD1","8:00",IF(AF16="RDD2","8:00",IF(AF16="RDD3","8:00",IF(AF16="RST1","0",IF(AF16="RST2","0",IF(AF16="Q Path","0",))))))))) -> 0 | AI16: =IF(AF16="MLD8&11","Dammam",IF(AF16="MLD6&7","Dammam",IF(AF16="SP-R","Riyadh",IF(AF16="RST1","Riyadh",IF(AF16="RST2","Riyadh",IF(AF16="RDD1","Riyadh",IF(AF16="RDD2","Riyadh",IF(AF16="RDD3","Riyadh",IF(AF16="Q Path","Riyadh",IF(AF16="Off","Riyadh")))))))))) -> Riyadh | AJ16: =IF(AI16="Riyadh","0",IF(AI16="Dammam","449")) -> 0 | AK16: =IFERROR(VLOOKUP(U16,'DAS Wed'!$F$12:$P$43,11,0),"Off") -> Off | AL16: =IF(AK16="MLD6&7","7:40",IF(AK16="MLD8&11","7:40",IF(AK16="SP-R","0",IF(AK16="RDD1","0",IF(AK16="RDD2","0",IF(AK16="RDD3","0",IF(AK16="RST1","0",IF(AK16="RST2","0",IF(AK16="Q Path","0",))))))))) -> 0 | AM16: =IF(AK16="MLD6&7","0",IF(AK16="MLD8&11","0",IF(AK16="SP-R","0",IF(AK16="RDD1","8:00",IF(AK16="RDD2","8:00",IF(AK16="RDD3","8:00",IF(AK16="RST1","0",IF(AK16="RST2","0",IF(AK16="Q Path","0",))))))))) -> 0 | AN16: =IF(AK16="MLD8&11","Dammam",IF(AK16="MLD6&7","Dammam",IF(AK16="SP-R","Riyadh",IF(AK16="RST1","Riyadh",IF(AK16="RST2","Riyadh",IF(AK16="RDD1","Riyadh",IF(AK16="RDD2","Riyadh",IF(AK16="RDD3","Riyadh",IF(AK16="Q Path","Riyadh",IF(AK16="Off","Riyadh")))))))))) -> Riyadh | AO16: =IF(AN16="Riyadh","0",IF(AN16="Dammam","449")) -> 0 | AP16: =IFERROR(VLOOKUP(U16,'DAS Thu'!$F$10:$P$45,11,0),"Off") -> Off | AQ16: =IF(AP16="MLD6&7","7:40",IF(AP16="MLD8&11","7:40",IF(AP16="SP-R","0",IF(AP16="RDD1","0",IF(AP16="RDD2","0",IF(AP16="RDD3","0",IF(AP16="RST1","0",IF(AP16="RST2","0",IF(AP16="Q Path","0",))))))))) -> 0 | AR16: =IF(AP16="MLD6&7","0",IF(AP16="MLD8&11","0",IF(AP16="SP-R","0",IF(AP16="RDD1","8:00",IF(AP16="RDD2","8:00",IF(AP16="RDD3","8:00",IF(AP16="RST1","0",IF(AP16="RST2","0",IF(AP16="Q Path","0",))))))))) -> 0 | AS16: =IF(AP16="MLD8&11","Dammam",IF(AP16="MLD6&7","Dammam",IF(AP16="SP-R","Riyadh",IF(AP16="RST1","Riyadh",IF(AP16="RST2","Riyadh",IF(AP16="RDD1","Riyadh",IF(AP16="RDD2","Riyadh",IF(AP16="RDD3","Riyadh",IF(AP16="Q Path","Riyadh",IF(AP16="Off","Riyadh")))))))))) -> Riyadh | AT16: =IF(AS16="Riyadh","0",IF(AS16="Dammam","449")) -> 0 | AU16: =IFERROR(VLOOKUP(U16,'DAS Fri'!$F$10:$P$40,11,0),"Off") -> Off | AV16: =IF(AU16="MLD6&7","7:40",IF(AU16="MLD8&11","7:40",IF(AU16="SP-R","0",IF(AU16="RDD1","0",IF(AU16="RDD2","0",IF(AU16="RDD3","0",IF(AU16="RST1","0",IF(AU16="RST2","0",IF(AU16="Q Path","0",))))))))) -> 0 | AW16: =IF(AU16="MLD6&7","0",IF(AU16="MLD8&11","0",IF(AU16="SP-R","0",IF(AU16="RDD1","8:00",IF(AU16="RDD2","8:00",IF(AU16="RDD3","8:00",IF(AU16="RST1","0",IF(AU16="RST2","0",IF(AU16="Q Path","0",))))))))) -> 0 | AX16: =IF(AU16="MLD10&13","Dammam",IF(AU16="MLD6&7","Dammam",IF(AU16="SP-R","Riyadh",IF(AU16="RST1","Riyadh",IF(AU16="RST2","Riyadh",IF(AU16="RDD1","Riyadh",IF(AU16="RDD2","Riyadh",IF(AU16="RDD3","Riyadh",IF(AU16="Q Path","Riyadh",IF(AU16="Off","Riyadh")))))))))) -> Riyadh | AY16: =IF(AX16="Riyadh","0",IF(AX16="Dammam","449")) -> 0 | AZ16: =IFERROR(VLOOKUP(U16,'DAS Sat'!$F$29:$P$39,11,0),"Off") -> Off | BA16: =IF(AZ16="MLD6&7","7:40",IF(AZ16="MLD8&11","7:40",IF(AZ16="SP-R","0",IF(AZ16="RDD1","0",IF(AZ16="RDD2","0",IF(AZ16="RDD3","0",IF(AZ16="RST1","0",IF(AZ16="RST2","0",IF(AZ16="Q Path","0",))))))))) -> 0 | BB16: =IF(AZ16="MLD6&7","0",IF(AZ16="MLD8&11","0",IF(AZ16="SP-R","0",IF(AZ16="RDD1","8:00",IF(AZ16="RDD2","8:00",IF(AZ16="RDD3","8:00",IF(AZ16="RST1","0",IF(AZ16="RST2","0",IF(AZ16="Q Path","0",))))))))) -> 0 | BC16: =IF(AZ16="MLD10&13","Dammam",IF(AZ16="MLD6&7","Dammam",IF(AZ16="SP-R","Riyadh",IF(AZ16="RST1","Riyadh",IF(AZ16="RST2","Riyadh",IF(AZ16="RDD1","Riyadh",IF(AZ16="RDD2","Riyadh",IF(AZ16="RDD3","Riyadh",IF(AZ16="Q Path","Riyadh",IF(AZ16="Off","Riyadh")))))))))) -> Riyadh | BD16: =IF(BC16="Riyadh","0",IF(BC16="Dammam","449")) -> 0 | BE16: =W16+AB16+AG16+AL16+AQ16+AV16+BA16 -> 0 | BG16: =X16+AC16+AH16+AM16+AR16+AW16+BB16 -> 0 | BI16: =Z16+AE16+AJ16+AO16+AT16+AY16+BD16 -> 0 | BK16: ='Dvr '!A18 -> Vacancy 1 | BL16: #VALUE! | BM16: =IFERROR(VLOOKUP(BK16,'DAS Sun'!$F$9:$Q$36,12,0),"Off") -> Off | BN16: =IFERROR(VLOOKUP(BK16,'DAS Sun'!$F$9:$R$36,13,0),"Off") -> Off | BO16: =$BO$3-BN16 -> #VALUE! | BP16: =BM16+BL16 -> #VALUE! | BQ16: =IFERROR(VLOOKUP(BK16,'DAS Mon'!$F$9:$Q$39,12,0),"Off") -> Off | BR16: =IFERROR(VLOOKUP(BK16,'DAS Mon'!$F$9:$R$39,13,0),"Off") -> Off | BS16: =$BO$3-BR16 -> #VALUE! | BT16: =BQ16+BO16 -> #VALUE! | BU16: =IFERROR(VLOOKUP(BK16,'DAS Tue'!$F$9:$Q$46,12,0),"Off") -> Off | BV16: =IFERROR(VLOOKUP(BK16,'DAS Tue'!$F$9:$R$46,13,0),"Off") -> Off | BW16: =$BO$3-BV16 -> #VALUE! | BX16: =BU16+BS16 -> #VALUE! | BY16: =IFERROR(VLOOKUP(BK16,'DAS Wed'!$F$9:$Q$49,12,0),"Off") -> Off | BZ16: =IFERROR(VLOOKUP(BK16,'DAS Wed'!$F$9:$R$49,13,0),"Off") -> Off | CA16: =$BO$3-BZ16 -> #VALUE! | CB16: =BY16+BW16 -> #VALUE! | CC16: =IFERROR(VLOOKUP(BK16,'DAS Thu'!$F$9:$Q$47,12,0),"Off") -> Off | CD16: =IFERROR(VLOOKUP(BK16,'DAS Thu'!$F$9:$R$47,13,0),"Off") -> Off | CE16: =$BO$3-CD16 -> #VALUE! | CF16: =CC16+CA16 -> #VALUE! | CG16: =IFERROR(VLOOKUP(BK16,'DAS Fri'!$F$9:$Q$43,12,0),"Off") -> Off | CH16: =IFERROR(VLOOKUP(BK16,'DAS Fri'!$F$9:$R$43,13,0),"Off") -> Off | CI16: =$BO$3-CH16 -> #VALUE! | CJ16: =CG16+CE16 -> #VALUE! | CK16: =IFERROR(VLOOKUP(BK16,'DAS Sat'!$F$9:$Q$43,12,0),"Off") -> Off | CL16: =IFERROR(VLOOKUP(BK16,'DAS Sat'!$F$9:$R$43,13,0),"Off") -> Off | CM16: =$BO$3-CL16 -> #VALUE! | CN16: =CK16+CI16 -> #VALUE!
B17: ='Dvr '!A19 -> Ayoub Mobarak Al-Lajhar | C17: =IFERROR(VLOOKUP(B17,'DAS Sun'!$F$9:$O$36,10,0),"Off") -> 0.33333333 | D17: ='Dvr '!E19 -> 0.33333333 | E17: =IFERROR(VLOOKUP(B17,'DAS Mon'!$F$9:$O$39,10,0),"Off") -> 0.33333333 | F17: ='Dvr '!I19 -> 0.33333333 | G17: =IFERROR(VLOOKUP(B17,'DAS Tue'!$F$9:$O$45,10,0),"Off") -> 0.33333333 | H17: ='Dvr '!M19 -> 0.33333333 | I17: =IFERROR(VLOOKUP(B17,'DAS Wed'!$F$9:$O$49,10,0),"Off") -> 0.33333333 | J17: ='Dvr '!Q19 -> 0.33333333 | K17: =IFERROR(VLOOKUP(B17,'DAS Thu'!$F$9:$O$47,10,0),"Off") -> 0.33333333 | L17: ='Dvr '!U19 -> 0.33333333 | M17: =IFERROR(VLOOKUP(B17,'DAS Fri'!$F$9:$O$43,10,0),"Off") -> Off | N17: ='Dvr '!Y19 -> 0 | O17: =IFERROR(VLOOKUP(B17,'DAS Sat'!$F$9:$O$43,10,0),"Off") -> Off | P17: ='Dvr '!AC19 -> 0 | Q17: =SUM(C17,E17,G17,I17,K17,M17,O17) -> 1.6666667 | R17: =SUM(D17,F17,H17,J17,L17,N17,P17) -> 1.6666667 | S17: =COUNTIF(C17:P17,"Off") -> 2 | T17: =R17-Q17 -> 0 | U17: ='Dvr '!A19 -> Ayoub Mobarak Al-Lajhar | V17: =IFERROR(VLOOKUP(U17,'DAS Sun'!$F$9:$P$36,11,0),"Off") -> RDD3 | W17: =IF(V17="MLD6&7","7:40",IF(V17="MLD8&11","7:40",IF(V17="SP-R","0",IF(V17="RDD1","0",IF(V17="RDD2","0",IF(V17="RDD3","0",IF(V17="RST1","0",IF(V17="RST2","0",IF(V17="Q Path","0",))))))))) -> 0 | X17: =IF(V17="MLD6&7","0",IF(V17="MLD8&11","0",IF(V17="SP-R","0",IF(V17="RDD1","8:00",IF(V17="RDD2","8:00",IF(V17="RDD3","8:00",IF(V17="RST1","0",IF(V17="RST2","0",IF(V17="Q Path","0",))))))))) -> 8:00 | Y17: =IF(V17="MLD8&11","Dammam",IF(V17="MLD6&7","Dammam",IF(V17="SP-R","Riyadh",IF(V17="RST1","Riyadh",IF(V17="RST2","Riyadh",IF(V17="RDD1","Riyadh",IF(V17="RDD2","Riyadh",IF(V17="RDD3","Riyadh",IF(V17="Q Path","Riyadh",IF(V17="Off","Riyadh")))))))))) -> Riyadh | Z17: =IF(Y17="Riyadh","0",IF(Y17="Dammam","449")) -> 0 | AA17: =IFERROR(VLOOKUP(U17,'DAS Mon'!$F$10:$P$39,11,0),"Off") -> RDD3 | AB17: =IF(AA17="MLD6&7","7:40",IF(AA17="MLD8&11","7:40",IF(AA17="SP-R","0",IF(AA17="RDD1","0",IF(AA17="RDD2","0",IF(AA17="RDD3","0",IF(AA17="RST1","0",IF(AA17="RST2","0",IF(AA17="Q Path","0",))))))))) -> 0 | AC17: =IF(AA17="MLD6&7","0",IF(AA17="MLD8&11","0",IF(AA17="SP-R","0",IF(AA17="RDD1","8:00",IF(AA17="RDD2","8:00",IF(AA17="RDD3","8:00",IF(AA17="RST1","0",IF(AA17="RST2","0",IF(AA17="Q Path","0",))))))))) -> 8:00 | AD17: =IF(AA17="MLD8&11","Dammam",IF(AA17="MLD6&7","Dammam",IF(AA17="SP-R","Riyadh",IF(AA17="RST1","Riyadh",IF(AA17="RST2","Riyadh",IF(AA17="RDD1","Riyadh",IF(AA17="RDD2","Riyadh",IF(AA17="RDD3","Riyadh",IF(AA17="Q Path","Riyadh",IF(AA17="Off","Riyadh")))))))))) -> Riyadh | AE17: =IF(AD17="Riyadh","0",IF(AD17="Dammam","449")) -> 0 | AF17: =IFERROR(VLOOKUP(U17,'DAS Tue'!$F$10:$P$37,11,0),"Off") -> DD3 | AG17: =IF(AF17="MLD6&7","7:40",IF(AF17="MLD8&11","7:40",IF(AF17="SP-R","0",IF(AF17="RDD1","0",IF(AF17="RDD2","0",IF(AF17="RDD3","0",IF(AF17="RST1","0",IF(AF17="RST2","0",IF(AF17="Q Path","0",))))))))) -> 0 | AH17: =IF(AF17="MLD6&7","0",IF(AF17="MLD8&11","0",IF(AF17="SP-R","0",IF(AF17="RDD1","8:00",IF(AF17="RDD2","8:00",IF(AF17="RDD3","8:00",IF(AF17="RST1","0",IF(AF17="RST2","0",IF(AF17="Q Path","0",))))))))) -> 0 | AI17: =IF(AF17="MLD8&11","Dammam",IF(AF17="MLD6&7","Dammam",IF(AF17="SP-R","Riyadh",IF(AF17="RST1","Riyadh",IF(AF17="RST2","Riyadh",IF(AF17="RDD1","Riyadh",IF(AF17="RDD2","Riyadh",IF(AF17="RDD3","Riyadh",IF(AF17="Q Path","Riyadh",IF(AF17="Off","Riyadh")))))))))) -> FALSE | AJ17: =IF(AI17="Riyadh","0",IF(AI17="Dammam","449")) -> FALSE | AK17: =IFERROR(VLOOKUP(U17,'DAS Wed'!$F$12:$P$43,11,0),"Off") -> RDD3 | AL17: =IF(AK17="MLD6&7","7:40",IF(AK17="MLD8&11","7:40",IF(AK17="SP-R","0",IF(AK17="RDD1","0",IF(AK17="RDD2","0",IF(AK17="RDD3","0",IF(AK17="RST1","0",IF(AK17="RST2","0",IF(AK17="Q Path","0",))))))))) -> 0 | AM17: =IF(AK17="MLD6&7","0",IF(AK17="MLD8&11","0",IF(AK17="SP-R","0",IF(AK17="RDD1","8:00",IF(AK17="RDD2","8:00",IF(AK17="RDD3","8:00",IF(AK17="RST1","0",IF(AK17="RST2","0",IF(AK17="Q Path","0",))))))))) -> 8:00 | AN17: =IF(AK17="MLD8&11","Dammam",IF(AK17="MLD6&7","Dammam",IF(AK17="SP-R","Riyadh",IF(AK17="RST1","Riyadh",IF(AK17="RST2","Riyadh",IF(AK17="RDD1","Riyadh",IF(AK17="RDD2","Riyadh",IF(AK17="RDD3","Riyadh",IF(AK17="Q Path","Riyadh",IF(AK17="Off","Riyadh")))))))))) -> Riyadh | AO17: =IF(AN17="Riyadh","0",IF(AN17="Dammam","449")) -> 0 | AP17: =IFERROR(VLOOKUP(U17,'DAS Thu'!$F$10:$P$45,11,0),"Off") -> RDD3 | AQ17: =IF(AP17="MLD6&7","7:40",IF(AP17="MLD8&11","7:40",IF(AP17="SP-R","0",IF(AP17="RDD1","0",IF(AP17="RDD2","0",IF(AP17="RDD3","0",IF(AP17="RST1","0",IF(AP17="RST2","0",IF(AP17="Q Path","0",))))))))) -> 0 | AR17: =IF(AP17="MLD6&7","0",IF(AP17="MLD8&11","0",IF(AP17="SP-R","0",IF(AP17="RDD1","8:00",IF(AP17="RDD2","8:00",IF(AP17="RDD3","8:00",IF(AP17="RST1","0",IF(AP17="RST2","0",IF(AP17="Q Path","0",))))))))) -> 8:00 | AS17: =IF(AP17="MLD8&11","Dammam",IF(AP17="MLD6&7","Dammam",IF(AP17="SP-R","Riyadh",IF(AP17="RST1","Riyadh",IF(AP17="RST2","Riyadh",IF(AP17="RDD1","Riyadh",IF(AP17="RDD2","Riyadh",IF(AP17="RDD3","Riyadh",IF(AP17="Q Path","Riyadh",IF(AP17="Off","Riyadh")))))))))) -> Riyadh | AT17: =IF(AS17="Riyadh","0",IF(AS17="Dammam","449")) -> 0 | AU17: =IFERROR(VLOOKUP(U17,'DAS Fri'!$F$10:$P$40,11,0),"Off") -> Off | AV17: =IF(AU17="MLD6&7","7:40",IF(AU17="MLD8&11","7:40",IF(AU17="SP-R","0",IF(AU17="RDD1","0",IF(AU17="RDD2","0",IF(AU17="RDD3","0",IF(AU17="RST1","0",IF(AU17="RST2","0",IF(AU17="Q Path","0",))))))))) -> 0 | AW17: =IF(AU17="MLD6&7","0",IF(AU17="MLD8&11","0",IF(AU17="SP-R","0",IF(AU17="RDD1","8:00",IF(AU17="RDD2","8:00",IF(AU17="RDD3","8:00",IF(AU17="RST1","0",IF(AU17="RST2","0",IF(AU17="Q Path","0",))))))))) -> 0 | AX17: =IF(AU17="MLD10&13","Dammam",IF(AU17="MLD6&7","Dammam",IF(AU17="SP-R","Riyadh",IF(AU17="RST1","Riyadh",IF(AU17="RST2","Riyadh",IF(AU17="RDD1","Riyadh",IF(AU17="RDD2","Riyadh",IF(AU17="RDD3","Riyadh",IF(AU17="Q Path","Riyadh",IF(AU17="Off","Riyadh")))))))))) -> Riyadh | AY17: =IF(AX17="Riyadh","0",IF(AX17="Dammam","449")) -> 0 | AZ17: =IFERROR(VLOOKUP(U17,'DAS Sat'!$F$29:$P$39,11,0),"Off") -> Off | BA17: =IF(AZ17="MLD6&7","7:40",IF(AZ17="MLD8&11","7:40",IF(AZ17="SP-R","0",IF(AZ17="RDD1","0",IF(AZ17="RDD2","0",IF(AZ17="RDD3","0",IF(AZ17="RST1","0",IF(AZ17="RST2","0",IF(AZ17="Q Path","0",))))))))) -> 0 | BB17: =IF(AZ17="MLD6&7","0",IF(AZ17="MLD8&11","0",IF(AZ17="SP-R","0",IF(AZ17="RDD1","8:00",IF(AZ17="RDD2","8:00",IF(AZ17="RDD3","8:00",IF(AZ17="RST1","0",IF(AZ17="RST2","0",IF(AZ17="Q Path","0",))))))))) -> 0 | BC17: =IF(AZ17="MLD10&13","Dammam",IF(AZ17="MLD6&7","Dammam",IF(AZ17="SP-R","Riyadh",IF(AZ17="RST1","Riyadh",IF(AZ17="RST2","Riyadh",IF(AZ17="RDD1","Riyadh",IF(AZ17="RDD2","Riyadh",IF(AZ17="RDD3","Riyadh",IF(AZ17="Q Path","Riyadh",IF(AZ17="Off","Riyadh")))))))))) -> Riyadh | BD17: =IF(BC17="Riyadh","0",IF(BC17="Dammam","449")) -> 0 | BE17: =W17+AB17+AG17+AL17+AQ17+AV17+BA17 -> 0 | BG17: =X17+AC17+AH17+AM17+AR17+AW17+BB17 -> 1.3333333 | BI17: =Z17+AE17+AJ17+AO17+AT17+AY17+BD17 -> 0 | BK17: ='Dvr '!A19 -> Ayoub Mobarak Al-Lajhar | BL17: -0.25 | BM17: =IFERROR(VLOOKUP(BK17,'DAS Sun'!$F$9:$Q$36,12,0),"Off") -> 0.91666667 | BN17: =IFERROR(VLOOKUP(BK17,'DAS Sun'!$F$9:$R$36,13,0),"Off") -> 1.25 | BO17: =$BO$3-BN17 -> -0.25 | BP17: =BM17+BL17 -> 0.66666667 | BQ17: =IFERROR(VLOOKUP(BK17,'DAS Mon'!$F$9:$Q$39,12,0),"Off") -> 0.91666667 | BR17: =IFERROR(VLOOKUP(BK17,'DAS Mon'!$F$9:$R$39,13,0),"Off") -> 1.25 | BS17: =$BO$3-BR17 -> -0.25 | BT17: =BQ17+BO17 -> 0.66666667 | BU17: =IFERROR(VLOOKUP(BK17,'DAS Tue'!$F$9:$Q$46,12,0),"Off") -> 0.91666667 | BV17: =IFERROR(VLOOKUP(BK17,'DAS Tue'!$F$9:$R$46,13,0),"Off") -> 1.25 | BW17: =$BO$3-BV17 -> -0.25 | BX17: =BU17+BS17 -> 0.66666667 | BY17: =IFERROR(VLOOKUP(BK17,'DAS Wed'!$F$9:$Q$49,12,0),"Off") -> 0.91666667 | BZ17: =IFERROR(VLOOKUP(BK17,'DAS Wed'!$F$9:$R$49,13,0),"Off") -> 1.25 | CA17: =$BO$3-BZ17 -> -0.25 | CB17: =BY17+BW17 -> 0.66666667 | CC17: =IFERROR(VLOOKUP(BK17,'DAS Thu'!$F$9:$Q$47,12,0),"Off") -> 0.91666667 | CD17: =IFERROR(VLOOKUP(BK17,'DAS Thu'!$F$9:$R$47,13,0),"Off") -> 1.25 | CE17: =$BO$3-CD17 -> -0.25 | CF17: =CC17+CA17 -> 0.66666667 | CG17: =IFERROR(VLOOKUP(BK17,'DAS Fri'!$F$9:$Q$43,12,0),"Off") -> Off | CH17: =IFERROR(VLOOKUP(BK17,'DAS Fri'!$F$9:$R$43,13,0),"Off") -> Off | CI17: =$BO$3-CH17 -> #VALUE! | CJ17: =CG17+CE17 -> #VALUE! | CK17: =IFERROR(VLOOKUP(BK17,'DAS Sat'!$F$9:$Q$43,12,0),"Off") -> Off | CL17: =IFERROR(VLOOKUP(BK17,'DAS Sat'!$F$9:$R$43,13,0),"Off") -> Off | CM17: =$BO$3-CL17 -> #VALUE! | CN17: =CK17+CI17 -> #VALUE!
B18: ='Dvr '!A20 -> Faisal Al Nemry | C18: =IFERROR(VLOOKUP(B18,'DAS Sun'!$F$9:$O$36,10,0),"Off") -> 0.33333333 | D18: ='Dvr '!E20 -> 0.33333333 | E18: =IFERROR(VLOOKUP(B18,'DAS Mon'!$F$9:$O$39,10,0),"Off") -> 0.33333333 | F18: ='Dvr '!I20 -> 0.33333333 | G18: =IFERROR(VLOOKUP(B18,'DAS Tue'!$F$9:$O$45,10,0),"Off") -> 0.33333333 | H18: ='Dvr '!M20 -> 0.33333333 | I18: =IFERROR(VLOOKUP(B18,'DAS Wed'!$F$9:$O$49,10,0),"Off") -> 0.33333333 | J18: ='Dvr '!Q20 -> 0.33333333 | K18: =IFERROR(VLOOKUP(B18,'DAS Thu'!$F$9:$O$47,10,0),"Off") -> 0.48263889 | L18: ='Dvr '!U20 -> 0.48263889 | M18: =IFERROR(VLOOKUP(B18,'DAS Fri'!$F$9:$O$43,10,0),"Off") -> Off | N18: ='Dvr '!Y20 -> 0 | O18: =IFERROR(VLOOKUP(B18,'DAS Sat'!$F$9:$O$43,10,0),"Off") -> Off | P18: ='Dvr '!AC20 -> 0 | Q18: =SUM(C18,E18,G18,I18,K18,M18,O18) -> 1.8159722 | R18: =SUM(D18,F18,H18,J18,L18,N18,P18) -> 1.8159722 | S18: =COUNTIF(C18:P18,"Off") -> 2 | T18: =R18-Q18 -> 0 | U18: ='Dvr '!A20 -> Faisal Al Nemry | V18: =IFERROR(VLOOKUP(U18,'DAS Sun'!$F$9:$P$36,11,0),"Off") -> SP-R | W18: =IF(V18="MLD6&7","7:40",IF(V18="MLD8&11","7:40",IF(V18="SP-R","0",IF(V18="RDD1","0",IF(V18="RDD2","0",IF(V18="RDD3","0",IF(V18="RST1","0",IF(V18="RST2","0",IF(V18="Q Path","0",))))))))) -> 0 | X18: =IF(V18="MLD6&7","0",IF(V18="MLD8&11","0",IF(V18="SP-R","0",IF(V18="RDD1","8:00",IF(V18="RDD2","8:00",IF(V18="RDD3","8:00",IF(V18="RST1","0",IF(V18="RST2","0",IF(V18="Q Path","0",))))))))) -> 0 | Y18: =IF(V18="MLD8&11","Dammam",IF(V18="MLD6&7","Dammam",IF(V18="SP-R","Riyadh",IF(V18="RST1","Riyadh",IF(V18="RST2","Riyadh",IF(V18="RDD1","Riyadh",IF(V18="RDD2","Riyadh",IF(V18="RDD3","Riyadh",IF(V18="Q Path","Riyadh",IF(V18="Off","Riyadh")))))))))) -> Riyadh | Z18: =IF(Y18="Riyadh","0",IF(Y18="Dammam","449")) -> 0 | AA18: =IFERROR(VLOOKUP(U18,'DAS Mon'!$F$10:$P$39,11,0),"Off") -> SP-R | AB18: =IF(AA18="MLD6&7","7:40",IF(AA18="MLD8&11","7:40",IF(AA18="SP-R","0",IF(AA18="RDD1","0",IF(AA18="RDD2","0",IF(AA18="RDD3","0",IF(AA18="RST1","0",IF(AA18="RST2","0",IF(AA18="Q Path","0",))))))))) -> 0 | AC18: =IF(AA18="MLD6&7","0",IF(AA18="MLD8&11","0",IF(AA18="SP-R","0",IF(AA18="RDD1","8:00",IF(AA18="RDD2","8:00",IF(AA18="RDD3","8:00",IF(AA18="RST1","0",IF(AA18="RST2","0",IF(AA18="Q Path","0",))))))))) -> 0 | AD18: =IF(AA18="MLD8&11","Dammam",IF(AA18="MLD6&7","Dammam",IF(AA18="SP-R","Riyadh",IF(AA18="RST1","Riyadh",IF(AA18="RST2","Riyadh",IF(AA18="RDD1","Riyadh",IF(AA18="RDD2","Riyadh",IF(AA18="RDD3","Riyadh",IF(AA18="Q Path","Riyadh",IF(AA18="Off","Riyadh")))))))))) -> Riyadh | AE18: =IF(AD18="Riyadh","0",IF(AD18="Dammam","449")) -> 0 | AF18: =IFERROR(VLOOKUP(U18,'DAS Tue'!$F$10:$P$37,11,0),"Off") -> SP-R | AG18: =IF(AF18="MLD6&7","7:40",IF(AF18="MLD8&11","7:40",IF(AF18="SP-R","0",IF(AF18="RDD1","0",IF(AF18="RDD2","0",IF(AF18="RDD3","0",IF(AF18="RST1","0",IF(AF18="RST2","0",IF(AF18="Q Path","0",))))))))) -> 0 | AH18: =IF(AF18="MLD6&7","0",IF(AF18="MLD8&11","0",IF(AF18="SP-R","0",IF(AF18="RDD1","8:00",IF(AF18="RDD2","8:00",IF(AF18="RDD3","8:00",IF(AF18="RST1","0",IF(AF18="RST2","0",IF(AF18="Q Path","0",))))))))) -> 0 | AI18: =IF(AF18="MLD8&11","Dammam",IF(AF18="MLD6&7","Dammam",IF(AF18="SP-R","Riyadh",IF(AF18="RST1","Riyadh",IF(AF18="RST2","Riyadh",IF(AF18="RDD1","Riyadh",IF(AF18="RDD2","Riyadh",IF(AF18="RDD3","Riyadh",IF(AF18="Q Path","Riyadh",IF(AF18="Off","Riyadh")))))))))) -> Riyadh | AJ18: =IF(AI18="Riyadh","0",IF(AI18="Dammam","449")) -> 0 | AK18: =IFERROR(VLOOKUP(U18,'DAS Wed'!$F$12:$P$43,11,0),"Off") -> SP-R | AL18: =IF(AK18="MLD6&7","7:40",IF(AK18="MLD8&11","7:40",IF(AK18="SP-R","0",IF(AK18="RDD1","0",IF(AK18="RDD2","0",IF(AK18="RDD3","0",IF(AK18="RST1","0",IF(AK18="RST2","0",IF(AK18="Q Path","0",))))))))) -> 0 | AM18: =IF(AK18="MLD6&7","0",IF(AK18="MLD8&11","0",IF(AK18="SP-R","0",IF(AK18="RDD1","8:00",IF(AK18="RDD2","8:00",IF(AK18="RDD3","8:00",IF(AK18="RST1","0",IF(AK18="RST2","0",IF(AK18="Q Path","0",))))))))) -> 0 | AN18: =IF(AK18="MLD8&11","Dammam",IF(AK18="MLD6&7","Dammam",IF(AK18="SP-R","Riyadh",IF(AK18="RST1","Riyadh",IF(AK18="RST2","Riyadh",IF(AK18="RDD1","Riyadh",IF(AK18="RDD2","Riyadh",IF(AK18="RDD3","Riyadh",IF(AK18="Q Path","Riyadh",IF(AK18="Off","Riyadh")))))))))) -> Riyadh | AO18: =IF(AN18="Riyadh","0",IF(AN18="Dammam","449")) -> 0 | AP18: =IFERROR(VLOOKUP(U18,'DAS Thu'!$F$10:$P$45,11,0),"Off") -> Q Path | AQ18: =IF(AP18="MLD6&7","7:40",IF(AP18="MLD8&11","7:40",IF(AP18="SP-R","0",IF(AP18="RDD1","0",IF(AP18="RDD2","0",IF(AP18="RDD3","0",IF(AP18="RST1","0",IF(AP18="RST2","0",IF(AP18="Q Path","0",))))))))) -> 0 | AR18: =IF(AP18="MLD6&7","0",IF(AP18="MLD8&11","0",IF(AP18="SP-R","0",IF(AP18="RDD1","8:00",IF(AP18="RDD2","8:00",IF(AP18="RDD3","8:00",IF(AP18="RST1","0",IF(AP18="RST2","0",IF(AP18="Q Path","0",))))))))) -> 0 | AS18: =IF(AP18="MLD8&11","Dammam",IF(AP18="MLD6&7","Dammam",IF(AP18="SP-R","Riyadh",IF(AP18="RST1","Riyadh",IF(AP18="RST2","Riyadh",IF(AP18="RDD1","Riyadh",IF(AP18="RDD2","Riyadh",IF(AP18="RDD3","Riyadh",IF(AP18="Q Path","Riyadh",IF(AP18="Off","Riyadh")))))))))) -> Riyadh | AT18: =IF(AS18="Riyadh","0",IF(AS18="Dammam","449")) -> 0 | AU18: =IFERROR(VLOOKUP(U18,'DAS Fri'!$F$10:$P$40,11,0),"Off") -> Off | AV18: =IF(AU18="MLD6&7","7:40",IF(AU18="MLD8&11","7:40",IF(AU18="SP-R","0",IF(AU18="RDD1","0",IF(AU18="RDD2","0",IF(AU18="RDD3","0",IF(AU18="RST1","0",IF(AU18="RST2","0",IF(AU18="Q Path","0",))))))))) -> 0 | AW18: =IF(AU18="MLD6&7","0",IF(AU18="MLD8&11","0",IF(AU18="SP-R","0",IF(AU18="RDD1","8:00",IF(AU18="RDD2","8:00",IF(AU18="RDD3","8:00",IF(AU18="RST1","0",IF(AU18="RST2","0",IF(AU18="Q Path","0",))))))))) -> 0 | AX18: =IF(AU18="MLD10&13","Dammam",IF(AU18="MLD6&7","Dammam",IF(AU18="SP-R","Riyadh",IF(AU18="RST1","Riyadh",IF(AU18="RST2","Riyadh",IF(AU18="RDD1","Riyadh",IF(AU18="RDD2","Riyadh",IF(AU18="RDD3","Riyadh",IF(AU18="Q Path","Riyadh",IF(AU18="Off","Riyadh")))))))))) -> Riyadh | AY18: =IF(AX18="Riyadh","0",IF(AX18="Dammam","449")) -> 0 | AZ18: =IFERROR(VLOOKUP(U18,'DAS Sat'!$F$29:$P$39,11,0),"Off") -> Off | BA18: =IF(AZ18="MLD6&7","7:40",IF(AZ18="MLD8&11","7:40",IF(AZ18="SP-R","0",IF(AZ18="RDD1","0",IF(AZ18="RDD2","0",IF(AZ18="RDD3","0",IF(AZ18="RST1","0",IF(AZ18="RST2","0",IF(AZ18="Q Path","0",))))))))) -> 0 | BB18: =IF(AZ18="MLD6&7","0",IF(AZ18="MLD8&11","0",IF(AZ18="SP-R","0",IF(AZ18="RDD1","8:00",IF(AZ18="RDD2","8:00",IF(AZ18="RDD3","8:00",IF(AZ18="RST1","0",IF(AZ18="RST2","0",IF(AZ18="Q Path","0",))))))))) -> 0 | BC18: =IF(AZ18="MLD10&13","Dammam",IF(AZ18="MLD6&7","Dammam",IF(AZ18="SP-R","Riyadh",IF(AZ18="RST1","Riyadh",IF(AZ18="RST2","Riyadh",IF(AZ18="RDD1","Riyadh",IF(AZ18="RDD2","Riyadh",IF(AZ18="RDD3","Riyadh",IF(AZ18="Q Path","Riyadh",IF(AZ18="Off","Riyadh")))))))))) -> Riyadh | BD18: =IF(BC18="Riyadh","0",IF(BC18="Dammam","449")) -> 0 | BE18: =W18+AB18+AG18+AL18+AQ18+AV18+BA18 -> 0 | BG18: =X18+AC18+AH18+AM18+AR18+AW18+BB18 -> 0 | BI18: =Z18+AE18+AJ18+AO18+AT18+AY18+BD18 -> 0 | BK18: ='Dvr '!A20 -> Faisal Al Nemry | BL18: #VALUE! | BM18: =IFERROR(VLOOKUP(BK18,'DAS Sun'!$F$9:$Q$36,12,0),"Off") -> 0.19722222 | BN18: =IFERROR(VLOOKUP(BK18,'DAS Sun'!$F$9:$R$36,13,0),"Off") -> 0.53055556 | BO18: =$BO$3-BN18 -> 0.46944444 | BP18: =BM18+BL18 -> #VALUE! | BQ18: =IFERROR(VLOOKUP(BK18,'DAS Mon'!$F$9:$Q$39,12,0),"Off") -> 0.19722222 | BR18: =IFERROR(VLOOKUP(BK18,'DAS Mon'!$F$9:$R$39,13,0),"Off") -> 0.53055556 | BS18: =$BO$3-BR18 -> 0.46944444 | BT18: =BQ18+BO18 -> 0.66666667 | BU18: =IFERROR(VLOOKUP(BK18,'DAS Tue'!$F$9:$Q$46,12,0),"Off") -> 0.19722222 | BV18: =IFERROR(VLOOKUP(BK18,'DAS Tue'!$F$9:$R$46,13,0),"Off") -> 0.53055556 | BW18: =$BO$3-BV18 -> 0.46944444 | BX18: =BU18+BS18 -> 0.66666667 | BY18: =IFERROR(VLOOKUP(BK18,'DAS Wed'!$F$9:$Q$49,12,0),"Off") -> 0.19722222 | BZ18: =IFERROR(VLOOKUP(BK18,'DAS Wed'!$F$9:$R$49,13,0),"Off") -> 0.53055556 | CA18: =$BO$3-BZ18 -> 0.46944444 | CB18: =BY18+BW18 -> 0.66666667 | CC18: =IFERROR(VLOOKUP(BK18,'DAS Thu'!$F$9:$Q$47,12,0),"Off") -> 0.27083333 | CD18: =IFERROR(VLOOKUP(BK18,'DAS Thu'!$F$9:$R$47,13,0),"Off") -> 0.75347222 | CE18: =$BO$3-CD18 -> 0.24652778 | CF18: =CC18+CA18 -> 0.74027778 | CG18: =IFERROR(VLOOKUP(BK18,'DAS Fri'!$F$9:$Q$43,12,0),"Off") -> Off | CH18: =IFERROR(VLOOKUP(BK18,'DAS Fri'!$F$9:$R$43,13,0),"Off") -> Off | CI18: =$BO$3-CH18 -> #VALUE! | CJ18: =CG18+CE18 -> #VALUE! | CK18: =IFERROR(VLOOKUP(BK18,'DAS Sat'!$F$9:$Q$43,12,0),"Off") -> Off | CL18: =IFERROR(VLOOKUP(BK18,'DAS Sat'!$F$9:$R$43,13,0),"Off") -> Off | CM18: =$BO$3-CL18 -> #VALUE! | CN18: =CK18+CI18 -> #VALUE!
B19: ='Dvr '!A21 -> Abdullah M Al Harbi | C19: =IFERROR(VLOOKUP(B19,'DAS Sun'!$F$9:$O$36,10,0),"Off") -> Off | D19: ='Dvr '!E21 -> 0 | E19: =IFERROR(VLOOKUP(B19,'DAS Mon'!$F$9:$O$39,10,0),"Off") -> Off | F19: ='Dvr '!I21 -> 0 | G19: =IFERROR(VLOOKUP(B19,'DAS Tue'!$F$9:$O$45,10,0),"Off") -> Off | H19: ='Dvr '!M21 -> 0 | I19: =IFERROR(VLOOKUP(B19,'DAS Wed'!$F$9:$O$49,10,0),"Off") -> 0.39236111 | J19: ='Dvr '!Q21 -> 0.33333333 | K19: =IFERROR(VLOOKUP(B19,'DAS Thu'!$F$9:$O$47,10,0),"Off") -> 0.20833333 | L19: ='Dvr '!U21 -> 0.20833333 | M19: =IFERROR(VLOOKUP(B19,'DAS Fri'!$F$9:$O$43,10,0),"Off") -> 0.20833333 | N19: ='Dvr '!Y21 -> 0.20833333 | O19: =IFERROR(VLOOKUP(B19,'DAS Sat'!$F$9:$O$43,10,0),"Off") -> 0.39236111 | P19: ='Dvr '!AC21 -> 0.33333333 | Q19: =SUM(C19,E19,G19,I19,K19,M19,O19) -> 1.2013889 | R19: =SUM(D19,F19,H19,J19,L19,N19,P19) -> 1.0833333 | S19: =COUNTIF(C19:P19,"Off") -> 3 | T19: =R19-Q19 -> -0.11805556 | U19: ='Dvr '!A21 -> Abdullah M Al Harbi | V19: =IFERROR(VLOOKUP(U19,'DAS Sun'!$F$9:$P$36,11,0),"Off") -> Off | W19: =IF(V19="MLD6&7","7:40",IF(V19="MLD8&11","7:40",IF(V19="SP-R","0",IF(V19="RDD1","0",IF(V19="RDD2","0",IF(V19="RDD3","0",IF(V19="RST1","0",IF(V19="RST2","0",IF(V19="Q Path","0",))))))))) -> 0 | X19: =IF(V19="MLD6&7","0",IF(V19="MLD8&11","0",IF(V19="SP-R","0",IF(V19="RDD1","8:00",IF(V19="RDD2","8:00",IF(V19="RDD3","8:00",IF(V19="RST1","0",IF(V19="RST2","0",IF(V19="Q Path","0",))))))))) -> 0 | Y19: =IF(V19="MLD8&11","Dammam",IF(V19="MLD6&7","Dammam",IF(V19="SP-R","Riyadh",IF(V19="RST1","Riyadh",IF(V19="RST2","Riyadh",IF(V19="RDD1","Riyadh",IF(V19="RDD2","Riyadh",IF(V19="RDD3","Riyadh",IF(V19="Q Path","Riyadh",IF(V19="Off","Riyadh")))))))))) -> Riyadh | Z19: =IF(Y19="Riyadh","0",IF(Y19="Dammam","449")) -> 0 | AA19: =IFERROR(VLOOKUP(U19,'DAS Mon'!$F$10:$P$39,11,0),"Off") -> Off | AB19: =IF(AA19="MLD6&7","7:40",IF(AA19="MLD8&11","7:40",IF(AA19="SP-R","0",IF(AA19="RDD1","0",IF(AA19="RDD2","0",IF(AA19="RDD3","0",IF(AA19="RST1","0",IF(AA19="RST2","0",IF(AA19="Q Path","0",))))))))) -> 0 | AC19: =IF(AA19="MLD6&7","0",IF(AA19="MLD8&11","0",IF(AA19="SP-R","0",IF(AA19="RDD1","8:00",IF(AA19="RDD2","8:00",IF(AA19="RDD3","8:00",IF(AA19="RST1","0",IF(AA19="RST2","0",IF(AA19="Q Path","0",))))))))) -> 0 | AD19: =IF(AA19="MLD8&11","Dammam",IF(AA19="MLD6&7","Dammam",IF(AA19="SP-R","Riyadh",IF(AA19="RST1","Riyadh",IF(AA19="RST2","Riyadh",IF(AA19="RDD1","Riyadh",IF(AA19="RDD2","Riyadh",IF(AA19="RDD3","Riyadh",IF(AA19="Q Path","Riyadh",IF(AA19="Off","Riyadh")))))))))) -> Riyadh | AE19: =IF(AD19="Riyadh","0",IF(AD19="Dammam","449")) -> 0 | AF19: =IFERROR(VLOOKUP(U19,'DAS Tue'!$F$10:$P$37,11,0),"Off") -> Off | AG19: =IF(AF19="MLD6&7","7:40",IF(AF19="MLD8&11","7:40",IF(AF19="SP-R","0",IF(AF19="RDD1","0",IF(AF19="RDD2","0",IF(AF19="RDD3","0",IF(AF19="RST1","0",IF(AF19="RST2","0",IF(AF19="Q Path","0",))))))))) -> 0 | AH19: =IF(AF19="MLD6&7","0",IF(AF19="MLD8&11","0",IF(AF19="SP-R","0",IF(AF19="RDD1","8:00",IF(AF19="RDD2","8:00",IF(AF19="RDD3","8:00",IF(AF19="RST1","0",IF(AF19="RST2","0",IF(AF19="Q Path","0",))))))))) -> 0 | AI19: =IF(AF19="MLD8&11","Dammam",IF(AF19="MLD6&7","Dammam",IF(AF19="SP-R","Riyadh",IF(AF19="RST1","Riyadh",IF(AF19="RST2","Riyadh",IF(AF19="RDD1","Riyadh",IF(AF19="RDD2","Riyadh",IF(AF19="RDD3","Riyadh",IF(AF19="Q Path","Riyadh",IF(AF19="Off","Riyadh")))))))))) -> Riyadh | AJ19: =IF(AI19="Riyadh","0",IF(AI19="Dammam","449")) -> 0 | AK19: =IFERROR(VLOOKUP(U19,'DAS Wed'!$F$12:$P$43,11,0),"Off") -> RST2 | AL19: =IF(AK19="MLD6&7","7:40",IF(AK19="MLD8&11","7:40",IF(AK19="SP-R","0",IF(AK19="RDD1","0",IF(AK19="RDD2","0",IF(AK19="RDD3","0",IF(AK19="RST1","0",IF(AK19="RST2","0",IF(AK19="Q Path","0",))))))))) -> 0 | AM19: =IF(AK19="MLD6&7","0",IF(AK19="MLD8&11","0",IF(AK19="SP-R","0",IF(AK19="RDD1","8:00",IF(AK19="RDD2","8:00",IF(AK19="RDD3","8:00",IF(AK19="RST1","0",IF(AK19="RST2","0",IF(AK19="Q Path","0",))))))))) -> 0 | AN19: =IF(AK19="MLD8&11","Dammam",IF(AK19="MLD6&7","Dammam",IF(AK19="SP-R","Riyadh",IF(AK19="RST1","Riyadh",IF(AK19="RST2","Riyadh",IF(AK19="RDD1","Riyadh",IF(AK19="RDD2","Riyadh",IF(AK19="RDD3","Riyadh",IF(AK19="Q Path","Riyadh",IF(AK19="Off","Riyadh")))))))))) -> Riyadh | AO19: =IF(AN19="Riyadh","0",IF(AN19="Dammam","449")) -> 0 | AP19: =IFERROR(VLOOKUP(U19,'DAS Thu'!$F$10:$P$45,11,0),"Off") -> MLD16 | AQ19: =IF(AP19="MLD6&7","7:40",IF(AP19="MLD8&11","7:40",IF(AP19="SP-R","0",IF(AP19="RDD1","0",IF(AP19="RDD2","0",IF(AP19="RDD3","0",IF(AP19="RST1","0",IF(AP19="RST2","0",IF(AP19="Q Path","0",))))))))) -> 0 | AR19: =IF(AP19="MLD6&7","0",IF(AP19="MLD8&11","0",IF(AP19="SP-R","0",IF(AP19="RDD1","8:00",IF(AP19="RDD2","8:00",IF(AP19="RDD3","8:00",IF(AP19="RST1","0",IF(AP19="RST2","0",IF(AP19="Q Path","0",))))))))) -> 0 | AS19: =IF(AP19="MLD8&11","Dammam",IF(AP19="MLD6&7","Dammam",IF(AP19="SP-R","Riyadh",IF(AP19="RST1","Riyadh",IF(AP19="RST2","Riyadh",IF(AP19="RDD1","Riyadh",IF(AP19="RDD2","Riyadh",IF(AP19="RDD3","Riyadh",IF(AP19="Q Path","Riyadh",IF(AP19="Off","Riyadh")))))))))) -> FALSE | AT19: =IF(AS19="Riyadh","0",IF(AS19="Dammam","449")) -> FALSE | AU19: =IFERROR(VLOOKUP(U19,'DAS Fri'!$F$10:$P$40,11,0),"Off") -> MLD17 | AV19: =IF(AU19="MLD6&7","7:40",IF(AU19="MLD8&11","7:40",IF(AU19="SP-R","0",IF(AU19="RDD1","0",IF(AU19="RDD2","0",IF(AU19="RDD3","0",IF(AU19="RST1","0",IF(AU19="RST2","0",IF(AU19="Q Path","0",))))))))) -> 0 | AW19: =IF(AU19="MLD6&7","0",IF(AU19="MLD8&11","0",IF(AU19="SP-R","0",IF(AU19="RDD1","8:00",IF(AU19="RDD2","8:00",IF(AU19="RDD3","8:00",IF(AU19="RST1","0",IF(AU19="RST2","0",IF(AU19="Q Path","0",))))))))) -> 0 | AX19: =IF(AU19="MLD10&13","Dammam",IF(AU19="MLD6&7","Dammam",IF(AU19="SP-R","Riyadh",IF(AU19="RST1","Riyadh",IF(AU19="RST2","Riyadh",IF(AU19="RDD1","Riyadh",IF(AU19="RDD2","Riyadh",IF(AU19="RDD3","Riyadh",IF(AU19="Q Path","Riyadh",IF(AU19="Off","Riyadh")))))))))) -> FALSE | AY19: =IF(AX19="Riyadh","0",IF(AX19="Dammam","449")) -> FALSE | AZ19: =IFERROR(VLOOKUP(U19,'DAS Sat'!$F$29:$P$39,11,0),"Off") -> RST2 | BA19: =IF(AZ19="MLD6&7","7:40",IF(AZ19="MLD8&11","7:40",IF(AZ19="SP-R","0",IF(AZ19="RDD1","0",IF(AZ19="RDD2","0",IF(AZ19="RDD3","0",IF(AZ19="RST1","0",IF(AZ19="RST2","0",IF(AZ19="Q Path","0",))))))))) -> 0 | BB19: =IF(AZ19="MLD6&7","0",IF(AZ19="MLD8&11","0",IF(AZ19="SP-R","0",IF(AZ19="RDD1","8:00",IF(AZ19="RDD2","8:00",IF(AZ19="RDD3","8:00",IF(AZ19="RST1","0",IF(AZ19="RST2","0",IF(AZ19="Q Path","0",))))))))) -> 0 | BC19: =IF(AZ19="MLD10&13","Dammam",IF(AZ19="MLD6&7","Dammam",IF(AZ19="SP-R","Riyadh",IF(AZ19="RST1","Riyadh",IF(AZ19="RST2","Riyadh",IF(AZ19="RDD1","Riyadh",IF(AZ19="RDD2","Riyadh",IF(AZ19="RDD3","Riyadh",IF(AZ19="Q Path","Riyadh",IF(AZ19="Off","Riyadh")))))))))) -> Riyadh | BD19: =IF(BC19="Riyadh","0",IF(BC19="Dammam","449")) -> 0 | BE19: =W19+AB19+AG19+AL19+AQ19+AV19+BA19 -> 0 | BG19: =X19+AC19+AH19+AM19+AR19+AW19+BB19 -> 0 | BI19: =Z19+AE19+AJ19+AO19+AT19+AY19+BD19 -> 0 | BK19: ='Dvr '!A21 -> Abdullah M Al Harbi | BL19: #VALUE! | BM19: =IFERROR(VLOOKUP(BK19,'DAS Sun'!$F$9:$Q$36,12,0),"Off") -> Off | BN19: =IFERROR(VLOOKUP(BK19,'DAS Sun'!$F$9:$R$36,13,0),"Off") -> Off | BO19: =$BO$3-BN19 -> #VALUE! | BP19: =BM19+BL19 -> #VALUE! | BQ19: =IFERROR(VLOOKUP(BK19,'DAS Mon'!$F$9:$Q$39,12,0),"Off") -> Off | BR19: =IFERROR(VLOOKUP(BK19,'DAS Mon'!$F$9:$R$39,13,0),"Off") -> Off | BS19: =$BO$3-BR19 -> #VALUE! | BT19: =BQ19+BO19 -> #VALUE! | BU19: =IFERROR(VLOOKUP(BK19,'DAS Tue'!$F$9:$Q$46,12,0),"Off") -> Off | BV19: =IFERROR(VLOOKUP(BK19,'DAS Tue'!$F$9:$R$46,13,0),"Off") -> Off | BW19: =$BO$3-BV19 -> #VALUE! | BX19: =BU19+BS19 -> #VALUE! | BY19: =IFERROR(VLOOKUP(BK19,'DAS Wed'!$F$9:$Q$49,12,0),"Off") -> 0.60069444 | BZ19: =IFERROR(VLOOKUP(BK19,'DAS Wed'!$F$9:$R$49,13,0),"Off") -> 0.99305556 | CA19: =$BO$3-BZ19 -> 0.0069444444 | CB19: =BY19+BW19 -> #VALUE! | CC19: =IFERROR(VLOOKUP(BK19,'DAS Thu'!$F$9:$Q$47,12,0),"Off") -> 0.75902778 | CD19: =IFERROR(VLOOKUP(BK19,'DAS Thu'!$F$9:$R$47,13,0),"Off") -> 0.96736111 | CE19: =$BO$3-CD19 -> 0.032638889 | CF19: =CC19+CA19 -> 0.76597222 | CG19: =IFERROR(VLOOKUP(BK19,'DAS Fri'!$F$9:$Q$43,12,0),"Off") -> 0.79305556 | CH19: =IFERROR(VLOOKUP(BK19,'DAS Fri'!$F$9:$R$43,13,0),"Off") -> 1.0013889 | CI19: =$BO$3-CH19 -> -0.0013888889 | CJ19: =CG19+CE19 -> 0.82569444 | CK19: =IFERROR(VLOOKUP(BK19,'DAS Sat'!$F$9:$Q$43,12,0),"Off") -> 0.60069444 | CL19: =IFERROR(VLOOKUP(BK19,'DAS Sat'!$F$9:$R$43,13,0),"Off") -> 0.99305556 | CM19: =$BO$3-CL19 -> 0.0069444444 | CN19: =CK19+CI19 -> 0.59930556
B20: ='Dvr '!A22 -> Vacancy 2 | C20: =IFERROR(VLOOKUP(B20,'DAS Sun'!$F$9:$O$36,10,0),"Off") -> Off | D20: ='Dvr '!E22 -> 0 | E20: =IFERROR(VLOOKUP(B20,'DAS Mon'!$F$9:$O$39,10,0),"Off") -> Off | F20: ='Dvr '!I22 -> 0 | G20: =IFERROR(VLOOKUP(B20,'DAS Tue'!$F$9:$O$45,10,0),"Off") -> Off | H20: ='Dvr '!M22 -> 0.20833333 | I20: =IFERROR(VLOOKUP(B20,'DAS Wed'!$F$9:$O$49,10,0),"Off") -> Off | J20: ='Dvr '!Q22 -> 0.20833333 | K20: =IFERROR(VLOOKUP(B20,'DAS Thu'!$F$9:$O$47,10,0),"Off") -> Off | L20: ='Dvr '!U22 -> 0.33333333 | M20: =IFERROR(VLOOKUP(B20,'DAS Fri'!$F$9:$O$43,10,0),"Off") -> Off | N20: ='Dvr '!Y22 -> 0.33333333 | O20: =IFERROR(VLOOKUP(B20,'DAS Sat'!$F$9:$O$43,10,0),"Off") -> Off | P20: ='Dvr '!AC22 -> 0.33333333 | Q20: =SUM(C20,E20,G20,I20,K20,M20,O20) -> 0 | R20: =SUM(D20,F20,H20,J20,L20,N20,P20) -> 1.4166667 | S20: =COUNTIF(C20:P20,"Off") -> 7 | T20: =R20-Q20 -> 1.4166667 | U20: ='Dvr '!A22 -> Vacancy 2 | V20: =IFERROR(VLOOKUP(U20,'DAS Sun'!$F$9:$P$36,11,0),"Off") -> Off | W20: =IF(V20="MLD6&7","7:40",IF(V20="MLD8&11","7:40",IF(V20="SP-R","0",IF(V20="RDD1","0",IF(V20="RDD2","0",IF(V20="RDD3","0",IF(V20="RST1","0",IF(V20="RST2","0",IF(V20="Q Path","0",))))))))) -> 0 | X20: =IF(V20="MLD6&7","0",IF(V20="MLD8&11","0",IF(V20="SP-R","0",IF(V20="RDD1","8:00",IF(V20="RDD2","8:00",IF(V20="RDD3","8:00",IF(V20="RST1","0",IF(V20="RST2","0",IF(V20="Q Path","0",))))))))) -> 0 | Y20: =IF(V20="MLD8&11","Dammam",IF(V20="MLD6&7","Dammam",IF(V20="SP-R","Riyadh",IF(V20="RST1","Riyadh",IF(V20="RST2","Riyadh",IF(V20="RDD1","Riyadh",IF(V20="RDD2","Riyadh",IF(V20="RDD3","Riyadh",IF(V20="Q Path","Riyadh",IF(V20="Off","Riyadh")))))))))) -> Riyadh | Z20: =IF(Y20="Riyadh","0",IF(Y20="Dammam","449")) -> 0 | AA20: =IFERROR(VLOOKUP(U20,'DAS Mon'!$F$10:$P$39,11,0),"Off") -> Off | AB20: =IF(AA20="MLD6&7","7:40",IF(AA20="MLD8&11","7:40",IF(AA20="SP-R","0",IF(AA20="RDD1","0",IF(AA20="RDD2","0",IF(AA20="RDD3","0",IF(AA20="RST1","0",IF(AA20="RST2","0",IF(AA20="Q Path","0",))))))))) -> 0 | AC20: =IF(AA20="MLD6&7","0",IF(AA20="MLD8&11","0",IF(AA20="SP-R","0",IF(AA20="RDD1","8:00",IF(AA20="RDD2","8:00",IF(AA20="RDD3","8:00",IF(AA20="RST1","0",IF(AA20="RST2","0",IF(AA20="Q Path","0",))))))))) -> 0 | AD20: =IF(AA20="MLD8&11","Dammam",IF(AA20="MLD6&7","Dammam",IF(AA20="SP-R","Riyadh",IF(AA20="RST1","Riyadh",IF(AA20="RST2","Riyadh",IF(AA20="RDD1","Riyadh",IF(AA20="RDD2","Riyadh",IF(AA20="RDD3","Riyadh",IF(AA20="Q Path","Riyadh",IF(AA20="Off","Riyadh")))))))))) -> Riyadh | AE20: =IF(AD20="Riyadh","0",IF(AD20="Dammam","449")) -> 0 | AF20: =IFERROR(VLOOKUP(U20,'DAS Tue'!$F$10:$P$37,11,0),"Off") -> Off | AG20: =IF(AF20="MLD6&7","7:40",IF(AF20="MLD8&11","7:40",IF(AF20="SP-R","0",IF(AF20="RDD1","0",IF(AF20="RDD2","0",IF(AF20="RDD3","0",IF(AF20="RST1","0",IF(AF20="RST2","0",IF(AF20="Q Path","0",))))))))) -> 0 | AH20: =IF(AF20="MLD6&7","0",IF(AF20="MLD8&11","0",IF(AF20="SP-R","0",IF(AF20="RDD1","8:00",IF(AF20="RDD2","8:00",IF(AF20="RDD3","8:00",IF(AF20="RST1","0",IF(AF20="RST2","0",IF(AF20="Q Path","0",))))))))) -> 0 | AI20: =IF(AF20="MLD8&11","Dammam",IF(AF20="MLD6&7","Dammam",IF(AF20="SP-R","Riyadh",IF(AF20="RST1","Riyadh",IF(AF20="RST2","Riyadh",IF(AF20="RDD1","Riyadh",IF(AF20="RDD2","Riyadh",IF(AF20="RDD3","Riyadh",IF(AF20="Q Path","Riyadh",IF(AF20="Off","Riyadh")))))))))) -> Riyadh | AJ20: =IF(AI20="Riyadh","0",IF(AI20="Dammam","449")) -> 0 | AK20: =IFERROR(VLOOKUP(U20,'DAS Wed'!$F$12:$P$43,11,0),"Off") -> Off | AL20: =IF(AK20="MLD6&7","7:40",IF(AK20="MLD8&11","7:40",IF(AK20="SP-R","0",IF(AK20="RDD1","0",IF(AK20="RDD2","0",IF(AK20="RDD3","0",IF(AK20="RST1","0",IF(AK20="RST2","0",IF(AK20="Q Path","0",))))))))) -> 0 | AM20: =IF(AK20="MLD6&7","0",IF(AK20="MLD8&11","0",IF(AK20="SP-R","0",IF(AK20="RDD1","8:00",IF(AK20="RDD2","8:00",IF(AK20="RDD3","8:00",IF(AK20="RST1","0",IF(AK20="RST2","0",IF(AK20="Q Path","0",))))))))) -> 0 | AN20: =IF(AK20="MLD8&11","Dammam",IF(AK20="MLD6&7","Dammam",IF(AK20="SP-R","Riyadh",IF(AK20="RST1","Riyadh",IF(AK20="RST2","Riyadh",IF(AK20="RDD1","Riyadh",IF(AK20="RDD2","Riyadh",IF(AK20="RDD3","Riyadh",IF(AK20="Q Path","Riyadh",IF(AK20="Off","Riyadh")))))))))) -> Riyadh | AO20: =IF(AN20="Riyadh","0",IF(AN20="Dammam","449")) -> 0 | AP20: =IFERROR(VLOOKUP(U20,'DAS Thu'!$F$10:$P$45,11,0),"Off") -> Off | AQ20: =IF(AP20="MLD6&7","7:40",IF(AP20="MLD8&11","7:40",IF(AP20="SP-R","0",IF(AP20="RDD1","0",IF(AP20="RDD2","0",IF(AP20="RDD3","0",IF(AP20="RST1","0",IF(AP20="RST2","0",IF(AP20="Q Path","0",))))))))) -> 0 | AR20: =IF(AP20="MLD6&7","0",IF(AP20="MLD8&11","0",IF(AP20="SP-R","0",IF(AP20="RDD1","8:00",IF(AP20="RDD2","8:00",IF(AP20="RDD3","8:00",IF(AP20="RST1","0",IF(AP20="RST2","0",IF(AP20="Q Path","0",))))))))) -> 0 | AS20: =IF(AP20="MLD8&11","Dammam",IF(AP20="MLD6&7","Dammam",IF(AP20="SP-R","Riyadh",IF(AP20="RST1","Riyadh",IF(AP20="RST2","Riyadh",IF(AP20="RDD1","Riyadh",IF(AP20="RDD2","Riyadh",IF(AP20="RDD3","Riyadh",IF(AP20="Q Path","Riyadh",IF(AP20="Off","Riyadh")))))))))) -> Riyadh | AT20: =IF(AS20="Riyadh","0",IF(AS20="Dammam","449")) -> 0 | AU20: =IFERROR(VLOOKUP(U20,'DAS Fri'!$F$10:$P$40,11,0),"Off") -> Off | AV20: =IF(AU20="MLD6&7","7:40",IF(AU20="MLD8&11","7:40",IF(AU20="SP-R","0",IF(AU20="RDD1","0",IF(AU20="RDD2","0",IF(AU20="RDD3","0",IF(AU20="RST1","0",IF(AU20="RST2","0",IF(AU20="Q Path","0",))))))))) -> 0 | AW20: =IF(AU20="MLD6&7","0",IF(AU20="MLD8&11","0",IF(AU20="SP-R","0",IF(AU20="RDD1","8:00",IF(AU20="RDD2","8:00",IF(AU20="RDD3","8:00",IF(AU20="RST1","0",IF(AU20="RST2","0",IF(AU20="Q Path","0",))))))))) -> 0 | AX20: =IF(AU20="MLD10&13","Dammam",IF(AU20="MLD6&7","Dammam",IF(AU20="SP-R","Riyadh",IF(AU20="RST1","Riyadh",IF(AU20="RST2","Riyadh",IF(AU20="RDD1","Riyadh",IF(AU20="RDD2","Riyadh",IF(AU20="RDD3","Riyadh",IF(AU20="Q Path","Riyadh",IF(AU20="Off","Riyadh")))))))))) -> Riyadh | AY20: =IF(AX20="Riyadh","0",IF(AX20="Dammam","449")) -> 0 | AZ20: =IFERROR(VLOOKUP(U20,'DAS Sat'!$F$29:$P$39,11,0),"Off") -> Off | BA20: =IF(AZ20="MLD6&7","7:40",IF(AZ20="MLD8&11","7:40",IF(AZ20="SP-R","0",IF(AZ20="RDD1","0",IF(AZ20="RDD2","0",IF(AZ20="RDD3","0",IF(AZ20="RST1","0",IF(AZ20="RST2","0",IF(AZ20="Q Path","0",))))))))) -> 0 | BB20: =IF(AZ20="MLD6&7","0",IF(AZ20="MLD8&11","0",IF(AZ20="SP-R","0",IF(AZ20="RDD1","8:00",IF(AZ20="RDD2","8:00",IF(AZ20="RDD3","8:00",IF(AZ20="RST1","0",IF(AZ20="RST2","0",IF(AZ20="Q Path","0",))))))))) -> 0 | BC20: =IF(AZ20="MLD10&13","Dammam",IF(AZ20="MLD6&7","Dammam",IF(AZ20="SP-R","Riyadh",IF(AZ20="RST1","Riyadh",IF(AZ20="RST2","Riyadh",IF(AZ20="RDD1","Riyadh",IF(AZ20="RDD2","Riyadh",IF(AZ20="RDD3","Riyadh",IF(AZ20="Q Path","Riyadh",IF(AZ20="Off","Riyadh")))))))))) -> Riyadh | BD20: =IF(BC20="Riyadh","0",IF(BC20="Dammam","449")) -> 0 | BE20: =W20+AB20+AG20+AL20+AQ20+AV20+BA20 -> 0 | BG20: =X20+AC20+AH20+AM20+AR20+AW20+BB20 -> 0 | BI20: =Z20+AE20+AJ20+AO20+AT20+AY20+BD20 -> 0 | BK20: ='Dvr '!A22 -> Vacancy 2 | BL20: #VALUE! | BM20: =IFERROR(VLOOKUP(BK20,'DAS Sun'!$F$9:$Q$36,12,0),"Off") -> Off | BN20: =IFERROR(VLOOKUP(BK20,'DAS Sun'!$F$9:$R$36,13,0),"Off") -> Off | BO20: =$BO$3-BN20 -> #VALUE! | BP20: =BM20+BL20 -> #VALUE! | BQ20: =IFERROR(VLOOKUP(BK20,'DAS Mon'!$F$9:$Q$39,12,0),"Off") -> Off | BR20: =IFERROR(VLOOKUP(BK20,'DAS Mon'!$F$9:$R$39,13,0),"Off") -> Off | BS20: =$BO$3-BR20 -> #VALUE! | BT20: =BQ20+BO20 -> #VALUE! | BU20: =IFERROR(VLOOKUP(BK20,'DAS Tue'!$F$9:$Q$46,12,0),"Off") -> Off | BV20: =IFERROR(VLOOKUP(BK20,'DAS Tue'!$F$9:$R$46,13,0),"Off") -> Off | BW20: =$BO$3-BV20 -> #VALUE! | BX20: =BU20+BS20 -> #VALUE! | BY20: =IFERROR(VLOOKUP(BK20,'DAS Wed'!$F$9:$Q$49,12,0),"Off") -> Off | BZ20: =IFERROR(VLOOKUP(BK20,'DAS Wed'!$F$9:$R$49,13,0),"Off") -> Off | CA20: =$BO$3-BZ20 -> #VALUE! | CB20: =BY20+BW20 -> #VALUE! | CC20: =IFERROR(VLOOKUP(BK20,'DAS Thu'!$F$9:$Q$47,12,0),"Off") -> Off | CD20: =IFERROR(VLOOKUP(BK20,'DAS Thu'!$F$9:$R$47,13,0),"Off") -> Off | CE20: =$BO$3-CD20 -> #VALUE! | CF20: =CC20+CA20 -> #VALUE! | CG20: =IFERROR(VLOOKUP(BK20,'DAS Fri'!$F$9:$Q$43,12,0),"Off") -> Off | CH20: =IFERROR(VLOOKUP(BK20,'DAS Fri'!$F$9:$R$43,13,0),"Off") -> Off | CI20: =$BO$3-CH20 -> #VALUE! | CJ20: =CG20+CE20 -> #VALUE! | CK20: =IFERROR(VLOOKUP(BK20,'DAS Sat'!$F$9:$Q$43,12,0),"Off") -> Off | CL20: =IFERROR(VLOOKUP(BK20,'DAS Sat'!$F$9:$R$43,13,0),"Off") -> Off | CM20: =$BO$3-CL20 -> #VALUE! | CN20: =CK20+CI20 -> #VALUE!
B21: ='Dvr '!A23 -> Ziad Marawan Seif | C21: =IFERROR(VLOOKUP(B21,'DAS Sun'!$F$9:$O$36,10,0),"Off") -> Off | D21: ='Dvr '!E23 -> 0.33333333 | E21: =IFERROR(VLOOKUP(B21,'DAS Mon'!$F$9:$O$39,10,0),"Off") -> Off | F21: ='Dvr '!I23 -> 0.33333333 | G21: =IFERROR(VLOOKUP(B21,'DAS Tue'!$F$9:$O$45,10,0),"Off") -> Off | H21: ='Dvr '!M23 -> 0 | I21: =IFERROR(VLOOKUP(B21,'DAS Wed'!$F$9:$O$49,10,0),"Off") -> Off | J21: ='Dvr '!Q23 -> 0 | K21: =IFERROR(VLOOKUP(B21,'DAS Thu'!$F$9:$O$47,10,0),"Off") -> Off | L21: ='Dvr '!U23 -> 0 | M21: =IFERROR(VLOOKUP(B21,'DAS Fri'!$F$9:$O$43,10,0),"Off") -> 0.33333333 | N21: ='Dvr '!Y23 -> 0.33333333 | O21: =IFERROR(VLOOKUP(B21,'DAS Sat'!$F$9:$O$43,10,0),"Off") -> 0.33333333 | P21: ='Dvr '!AC23 -> 0.33333333 | Q21: =SUM(C21,E21,G21,I21,K21,M21,O21) -> 0.66666667 | R21: =SUM(D21,F21,H21,J21,L21,N21,P21) -> 1.3333333 | S21: =COUNTIF(C21:P21,"Off") -> 5 | T21: =R21-Q21 -> 0.66666667 | U21: ='Dvr '!A23 -> Ziad Marawan Seif | V21: =IFERROR(VLOOKUP(U21,'DAS Sun'!$F$9:$P$36,11,0),"Off") -> Off | W21: =IF(V21="MLD6&7","7:40",IF(V21="MLD8&11","7:40",IF(V21="SP-R","0",IF(V21="RDD1","0",IF(V21="RDD2","0",IF(V21="RDD3","0",IF(V21="RST1","0",IF(V21="RST2","0",IF(V21="Q Path","0",))))))))) -> 0 | X21: =IF(V21="MLD6&7","0",IF(V21="MLD8&11","0",IF(V21="SP-R","0",IF(V21="RDD1","8:00",IF(V21="RDD2","8:00",IF(V21="RDD3","8:00",IF(V21="RST1","0",IF(V21="RST2","0",IF(V21="Q Path","0",))))))))) -> 0 | Y21: =IF(V21="MLD8&11","Dammam",IF(V21="MLD6&7","Dammam",IF(V21="SP-R","Riyadh",IF(V21="RST1","Riyadh",IF(V21="RST2","Riyadh",IF(V21="RDD1","Riyadh",IF(V21="RDD2","Riyadh",IF(V21="RDD3","Riyadh",IF(V21="Q Path","Riyadh",IF(V21="Off","Riyadh")))))))))) -> Riyadh | Z21: =IF(Y21="Riyadh","0",IF(Y21="Dammam","449")) -> 0 | AA21: =IFERROR(VLOOKUP(U21,'DAS Mon'!$F$10:$P$39,11,0),"Off") -> Off | AB21: =IF(AA21="MLD6&7","7:40",IF(AA21="MLD8&11","7:40",IF(AA21="SP-R","0",IF(AA21="RDD1","0",IF(AA21="RDD2","0",IF(AA21="RDD3","0",IF(AA21="RST1","0",IF(AA21="RST2","0",IF(AA21="Q Path","0",))))))))) -> 0 | AC21: =IF(AA21="MLD6&7","0",IF(AA21="MLD8&11","0",IF(AA21="SP-R","0",IF(AA21="RDD1","8:00",IF(AA21="RDD2","8:00",IF(AA21="RDD3","8:00",IF(AA21="RST1","0",IF(AA21="RST2","0",IF(AA21="Q Path","0",))))))))) -> 0 | AD21: =IF(AA21="MLD8&11","Dammam",IF(AA21="MLD6&7","Dammam",IF(AA21="SP-R","Riyadh",IF(AA21="RST1","Riyadh",IF(AA21="RST2","Riyadh",IF(AA21="RDD1","Riyadh",IF(AA21="RDD2","Riyadh",IF(AA21="RDD3","Riyadh",IF(AA21="Q Path","Riyadh",IF(AA21="Off","Riyadh")))))))))) -> Riyadh | AE21: =IF(AD21="Riyadh","0",IF(AD21="Dammam","449")) -> 0 | AF21: =IFERROR(VLOOKUP(U21,'DAS Tue'!$F$10:$P$37,11,0),"Off") -> Off | AG21: =IF(AF21="MLD6&7","7:40",IF(AF21="MLD8&11","7:40",IF(AF21="SP-R","0",IF(AF21="RDD1","0",IF(AF21="RDD2","0",IF(AF21="RDD3","0",IF(AF21="RST1","0",IF(AF21="RST2","0",IF(AF21="Q Path","0",))))))))) -> 0 | AH21: =IF(AF21="MLD6&7","0",IF(AF21="MLD8&11","0",IF(AF21="SP-R","0",IF(AF21="RDD1","8:00",IF(AF21="RDD2","8:00",IF(AF21="RDD3","8:00",IF(AF21="RST1","0",IF(AF21="RST2","0",IF(AF21="Q Path","0",))))))))) -> 0 | AI21: =IF(AF21="MLD8&11","Dammam",IF(AF21="MLD6&7","Dammam",IF(AF21="SP-R","Riyadh",IF(AF21="RST1","Riyadh",IF(AF21="RST2","Riyadh",IF(AF21="RDD1","Riyadh",IF(AF21="RDD2","Riyadh",IF(AF21="RDD3","Riyadh",IF(AF21="Q Path","Riyadh",IF(AF21="Off","Riyadh")))))))))) -> Riyadh | AJ21: =IF(AI21="Riyadh","0",IF(AI21="Dammam","449")) -> 0 | AK21: =IFERROR(VLOOKUP(U21,'DAS Wed'!$F$12:$P$43,11,0),"Off") -> Off | AL21: =IF(AK21="MLD6&7","7:40",IF(AK21="MLD8&11","7:40",IF(AK21="SP-R","0",IF(AK21="RDD1","0",IF(AK21="RDD2","0",IF(AK21="RDD3","0",IF(AK21="RST1","0",IF(AK21="RST2","0",IF(AK21="Q Path","0",))))))))) -> 0 | AM21: =IF(AK21="MLD6&7","0",IF(AK21="MLD8&11","0",IF(AK21="SP-R","0",IF(AK21="RDD1","8:00",IF(AK21="RDD2","8:00",IF(AK21="RDD3","8:00",IF(AK21="RST1","0",IF(AK21="RST2","0",IF(AK21="Q Path","0",))))))))) -> 0 | AN21: =IF(AK21="MLD8&11","Dammam",IF(AK21="MLD6&7","Dammam",IF(AK21="SP-R","Riyadh",IF(AK21="RST1","Riyadh",IF(AK21="RST2","Riyadh",IF(AK21="RDD1","Riyadh",IF(AK21="RDD2","Riyadh",IF(AK21="RDD3","Riyadh",IF(AK21="Q Path","Riyadh",IF(AK21="Off","Riyadh")))))))))) -> Riyadh | AO21: =IF(AN21="Riyadh","0",IF(AN21="Dammam","449")) -> 0 | AP21: =IFERROR(VLOOKUP(U21,'DAS Thu'!$F$10:$P$45,11,0),"Off") -> Off | AQ21: =IF(AP21="MLD6&7","7:40",IF(AP21="MLD8&11","7:40",IF(AP21="SP-R","0",IF(AP21="RDD1","0",IF(AP21="RDD2","0",IF(AP21="RDD3","0",IF(AP21="RST1","0",IF(AP21="RST2","0",IF(AP21="Q Path","0",))))))))) -> 0 | AR21: =IF(AP21="MLD6&7","0",IF(AP21="MLD8&11","0",IF(AP21="SP-R","0",IF(AP21="RDD1","8:00",IF(AP21="RDD2","8:00",IF(AP21="RDD3","8:00",IF(AP21="RST1","0",IF(AP21="RST2","0",IF(AP21="Q Path","0",))))))))) -> 0 | AS21: =IF(AP21="MLD8&11","Dammam",IF(AP21="MLD6&7","Dammam",IF(AP21="SP-R","Riyadh",IF(AP21="RST1","Riyadh",IF(AP21="RST2","Riyadh",IF(AP21="RDD1","Riyadh",IF(AP21="RDD2","Riyadh",IF(AP21="RDD3","Riyadh",IF(AP21="Q Path","Riyadh",IF(AP21="Off","Riyadh")))))))))) -> Riyadh | AT21: =IF(AS21="Riyadh","0",IF(AS21="Dammam","449")) -> 0 | AU21: =IFERROR(VLOOKUP(U21,'DAS Fri'!$F$10:$P$40,11,0),"Off") -> RDD1 | AV21: =IF(AU21="MLD6&7","7:40",IF(AU21="MLD8&11","7:40",IF(AU21="SP-R","0",IF(AU21="RDD1","0",IF(AU21="RDD2","0",IF(AU21="RDD3","0",IF(AU21="RST1","0",IF(AU21="RST2","0",IF(AU21="Q Path","0",))))))))) -> 0 | AW21: =IF(AU21="MLD6&7","0",IF(AU21="MLD8&11","0",IF(AU21="SP-R","0",IF(AU21="RDD1","8:00",IF(AU21="RDD2","8:00",IF(AU21="RDD3","8:00",IF(AU21="RST1","0",IF(AU21="RST2","0",IF(AU21="Q Path","0",))))))))) -> 8:00 | AX21: =IF(AU21="MLD10&13","Dammam",IF(AU21="MLD6&7","Dammam",IF(AU21="SP-R","Riyadh",IF(AU21="RST1","Riyadh",IF(AU21="RST2","Riyadh",IF(AU21="RDD1","Riyadh",IF(AU21="RDD2","Riyadh",IF(AU21="RDD3","Riyadh",IF(AU21="Q Path","Riyadh",IF(AU21="Off","Riyadh")))))))))) -> Riyadh | AY21: =IF(AX21="Riyadh","0",IF(AX21="Dammam","449")) -> 0 | AZ21: =IFERROR(VLOOKUP(U21,'DAS Sat'!$F$29:$P$39,11,0),"Off") -> Off | BA21: =IF(AZ21="MLD6&7","7:40",IF(AZ21="MLD8&11","7:40",IF(AZ21="SP-R","0",IF(AZ21="RDD1","0",IF(AZ21="RDD2","0",IF(AZ21="RDD3","0",IF(AZ21="RST1","0",IF(AZ21="RST2","0",IF(AZ21="Q Path","0",))))))))) -> 0 | BB21: =IF(AZ21="MLD6&7","0",IF(AZ21="MLD8&11","0",IF(AZ21="SP-R","0",IF(AZ21="RDD1","8:00",IF(AZ21="RDD2","8:00",IF(AZ21="RDD3","8:00",IF(AZ21="RST1","0",IF(AZ21="RST2","0",IF(AZ21="Q Path","0",))))))))) -> 0 | BC21: =IF(AZ21="MLD10&13","Dammam",IF(AZ21="MLD6&7","Dammam",IF(AZ21="SP-R","Riyadh",IF(AZ21="RST1","Riyadh",IF(AZ21="RST2","Riyadh",IF(AZ21="RDD1","Riyadh",IF(AZ21="RDD2","Riyadh",IF(AZ21="RDD3","Riyadh",IF(AZ21="Q Path","Riyadh",IF(AZ21="Off","Riyadh")))))))))) -> Riyadh | BD21: =IF(BC21="Riyadh","0",IF(BC21="Dammam","449")) -> 0 | BE21: =W21+AB21+AG21+AL21+AQ21+AV21+BA21 -> 0 | BG21: =X21+AC21+AH21+AM21+AR21+AW21+BB21 -> 0.33333333 | BI21: =Z21+AE21+AJ21+AO21+AT21+AY21+BD21 -> 0 | BK21: ='Dvr '!A23 -> Ziad Marawan Seif | BL21: 0.32083333 | BM21: =IFERROR(VLOOKUP(BK21,'DAS Sun'!$F$9:$Q$36,12,0),"Off") -> Off | BN21: =IFERROR(VLOOKUP(BK21,'DAS Sun'!$F$9:$R$36,13,0),"Off") -> Off | BO21: =$BO$3-BN21 -> #VALUE! | BP21: =BM21+BL21 -> #VALUE! | BQ21: =IFERROR(VLOOKUP(BK21,'DAS Mon'!$F$9:$Q$39,12,0),"Off") -> Off | BR21: =IFERROR(VLOOKUP(BK21,'DAS Mon'!$F$9:$R$39,13,0),"Off") -> Off | BS21: =$BO$3-BR21 -> #VALUE! | BT21: =BQ21+BO21 -> #VALUE! | BU21: =IFERROR(VLOOKUP(BK21,'DAS Tue'!$F$9:$Q$46,12,0),"Off") -> Off | BV21: =IFERROR(VLOOKUP(BK21,'DAS Tue'!$F$9:$R$46,13,0),"Off") -> Off | BW21: =$BO$3-BV21 -> #VALUE! | BX21: =BU21+BS21 -> #VALUE! | BY21: =IFERROR(VLOOKUP(BK21,'DAS Wed'!$F$9:$Q$49,12,0),"Off") -> Off | BZ21: =IFERROR(VLOOKUP(BK21,'DAS Wed'!$F$9:$R$49,13,0),"Off") -> Off | CA21: =$BO$3-BZ21 -> #VALUE! | CB21: =BY21+BW21 -> #VALUE! | CC21: =IFERROR(VLOOKUP(BK21,'DAS Thu'!$F$9:$Q$47,12,0),"Off") -> Off | CD21: =IFERROR(VLOOKUP(BK21,'DAS Thu'!$F$9:$R$47,13,0),"Off") -> Off | CE21: =$BO$3-CD21 -> #VALUE! | CF21: =CC21+CA21 -> #VALUE! | CG21: =IFERROR(VLOOKUP(BK21,'DAS Fri'!$F$9:$Q$43,12,0),"Off") -> 0.25 | CH21: =IFERROR(VLOOKUP(BK21,'DAS Fri'!$F$9:$R$43,13,0),"Off") -> 0.58333333 | CI21: =$BO$3-CH21 -> 0.41666667 | CJ21: =CG21+CE21 -> #VALUE! | CK21: =IFERROR(VLOOKUP(BK21,'DAS Sat'!$F$9:$Q$43,12,0),"Off") -> 0.19722222 | CL21: =IFERROR(VLOOKUP(BK21,'DAS Sat'!$F$9:$R$43,13,0),"Off") -> 0.53055556 | CM21: =$BO$3-CL21 -> 0.46944444 | CN21: =CK21+CI21 -> 0.61388889
