Workbook

Sheet TC
A3: Week Commencing Sunday | B3: 45928 | J3: Dammam Train Captain
B5: Sunday | F5: Monday | J5: Tuesday | N5: Wednesday | R5: Thursday | V5: Friday | Z5: Saturday
B6: Shift | C6: On | D6: Off | E6: Hours | F6: Shift | G6: On | H6: Off | I6: Hours | J6: Shift | K6: On | L6: Off | M6: Hours | N6: Shift | O6: On | P6: Off | Q6: Hours | R6: Shift | S6: On | T6: Off | U6: Hours | V6: Shift | W6: On | X6: Off | Y6: Hours | Z6: Shift | AA6: On | AB6: Off | AC6: Hours
A7: Ali Abdullah Al-Ghamdi | B7: TC1 | C7: 0.14444444 | D7: 0.35694444 | E7: =D7-C7 -> 0.2125 | F7: SP-R | G7: 0.16666667 | H7: 0.58333333 | I7: =H7-G7 -> 0.41666667 | J7: TC4 | K7: 0.18680556 | L7: 0.39513889 | M7: =L7-K7 -> 0.20833333 | N7: TC5&12 | O7: 0.38333333 | P7: 0.8125 | Q7: =P7-O7 -> 0.42916667 | R7: TC7&16 | S7: 0.46736111 | T7: 0.96527778 | U7: =T7-S7 -> 0.49791667 | W7: Rest | X7: Day | AA7: Rest | AB7: Day
A8: Rajeh Hussein Al-Harith | C8: Rest | D8: Day | F8: TC7 | G8: 0.46736111 | H8: 0.68263889 | I8: =H8-G8 -> 0.21527778 | J8: TC6 | K8: 0.27291667 | L8: 0.48125 | M8: =L8-K8 -> 0.20833333 | N8: TC1 | O8: 0.14444444 | P8: 0.35694444 | Q8: =P8-O8 -> 0.2125 | R8: SP-R | S8: 0.16666667 | T8: 0.58333333 | U8: =T8-S8 -> 0.41666667 | V8: TC4 | W8: 0.18680556 | X8: 0.39513889 | Y8: =X8-W8 -> 0.20833333 | Z8: TC1 | AA8: 0.14444444 | AB8: 0.35694444 | AC8: =AB8-AA8 -> 0.2125
A9: Khaled Fahd Al-Harbi | B9: SP-R | C9: 0.16666667 | D9: 0.58333333 | E9: =D9-C9 -> 0.41666667 | F9: TC4 | G9: 0.18680556 | H9: 0.39513889 | I9: =H9-G9 -> 0.20833333 | K9: Rest | L9: Day | O9: Rest | P9: Day | R9: TC7 | S9: 0.46736111 | T9: 0.68263889 | U9: =T9-S9 -> 0.21527778 | V9: TC8 | W9: 0.35763889 | X9: 0.56597222 | Y9: =X9-W9 -> 0.20833333 | Z9: SP-D | AA9: 0.125 | AB9: 0.54166667 | AC9: =AB9-AA9 -> 0.41666667
A10: Mansour Mohammed Al-Dossary | B10: SP-D | C10: 0.125 | D10: 0.54166667 | E10: =D10-C10 -> 0.41666667 | F10: SP-D | G10: 0.14583333 | H10: 0.5625 | I10: =H10-G10 -> 0.41666667 | J10: SP-D | K10: 0.125 | L10: 0.54166667 | M10: =L10-K10 -> 0.41666667 | O10: Rest | P10: Day | S10: Rest | T10: Day | V10: TC1 | W10: 0.14444444 | X10: 0.35694444 | Y10: =X10-W10 -> 0.2125 | Z10: SP-R | AA10: 0.16666667 | AB10: 0.58333333 | AC10: =AB10-AA10 -> 0.41666667
A11: Saleh Ali Alseda | B11: TC4 | C11: 0.18680556 | D11: 0.39513889 | E11: =D11-C11 -> 0.20833333 | F11: TC1 | G11: 0.14444444 | H11: 0.35694444 | I11: =H11-G11 -> 0.2125 | J11: SP-R | K11: 0.16666667 | L11: 0.58333333 | M11: =L11-K11 -> 0.41666667 | N11: TC4 | O11: 0.18680556 | P11: 0.39513889 | Q11: =P11-O11 -> 0.20833333 | R11: TC19&2 | S11: 0.9 | T11: 1.31875 | U11: =T11-S11 -> 0.41875 | W11: Rest | X11: Day | AA11: Rest | AB11: Day
A12: Abduleilah Ali Ibrahim | C12: Rest | D12: Day | G12: Rest | H12: Day | J12: SP-D | K12: 0.125 | L12: 0.54166667 | M12: =L12-K12 -> 0.41666667 | N12: SP-D | O12: 0.125 | P12: 0.54166667 | Q12: =P12-O12 -> 0.41666667 | R12: TC13 | S12: 0.62291667 | T12: 0.84722222 | U12: =T12-S12 -> 0.22430556 | V12: TC10 | W12: 0.47708333 | X12: 0.68541667 | Y12: =X12-W12 -> 0.20833333 | Z12: TC7 | AA12: 0.46736111 | AB12: 0.68263889 | AC12: =AB12-AA12 -> 0.21527778
A13: Saeed Saleh Al-Harthi | B13: TC6 | C13: 0.27291667 | D13: 0.48125 | E13: =D13-C13 -> 0.20833333 | G13: Rest | H13: Day | K13: Rest | L13: Day | N13: TC3&10 | O13: 0.22013889 | P13: 0.69166667 | Q13: =P13-O13 -> 0.47152778 | R13: TC5 | S13: 0.38333333 | T13: 0.59583333 | U13: =T13-S13 -> 0.2125 | V13: TC6 | W13: 0.27291667 | X13: 0.48125 | Y13: =X13-W13 -> 0.20833333 | Z13: TC7&16 | AA13: 0.46736111 | AB13: 0.96527778 | AC13: =AB13-AA13 -> 0.49791667
A14: Mubarak Yousef Al-Dossary | B14: TC9 | C14: 0.59236111 | D14: 0.80486111 | E14: =D14-C14 -> 0.2125 | F14: SP-R | G14: 0.45833333 | H14: 0.83333333 | I14: =H14-G14 -> 0.375 | J14: TC10 | K14: 0.48333333 | L14: 0.69166667 | M14: =L14-K14 -> 0.20833333 | O14: Rest | P14: Day | S14: Rest | T14: Day | V14: SP-D | W14: 0.125 | X14: 0.54166667 | Y14: =X14-W14 -> 0.41666667 | Z14: SP-D | AA14: 0.125 | AB14: 0.54166667 | AC14: =AB14-AA14 -> 0.41666667
A15: Abdul Hamid Taher Al-Awad | B15: TC3&10 | C15: 0.22013889 | D15: 0.69166667 | E15: =D15-C15 -> 0.47152778 | F15: SP-D | G15: 0.5625 | H15: 0.9375 | I15: =H15-G15 -> 0.375 | K15: Rest | L15: Day | O15: Rest | P15: Day | R15: TC5&12 | S15: 0.38333333 | T15: 0.8125 | U15: =T15-S15 -> 0.42916667 | V15: TC15 | W15: 0.71388889 | X15: 0.92847222 | Y15: =X15-W15 -> 0.21458333 | Z15: TC10 | AA15: 0.48333333 | AB15: 0.69166667 | AC15: =AB15-AA15 -> 0.20833333
A16: Ahmed Abdulaziz Al-Ghwainem | C16: Rest | D16: Day | G16: Rest | H16: Day | J16: TC7 | K16: 0.46736111 | L16: 0.68263889 | M16: =L16-K16 -> 0.21527778 | N16: TC6 | O16: 0.27291667 | P16: 0.48125 | Q16: =P16-O16 -> 0.20833333 | R16: TC1 | S16: 0.14444444 | T16: 0.35694444 | U16: =T16-S16 -> 0.2125 | V16: SP-R | W16: 0.16666667 | X16: 0.58333333 | Y16: =X16-W16 -> 0.41666667 | Z16: TC4 | AA16: 0.18680556 | AB16: 0.39513889 | AC16: =AB16-AA16 -> 0.20833333
A17: Humim Abdul Rahman Al-Dossary | B17: SP-D | C17: 0.125 | D17: 0.54166667 | E17: =D17-C17 -> 0.41666667 | F17: SP-D | G17: 0.125 | H17: 0.54166667 | I17: =H17-G17 -> 0.41666667 | J17: SP-D | K17: 0.125 | L17: 0.54166667 | M17: =L17-K17 -> 0.41666667 | N17: SP-D | O17: 0.125 | P17: 0.54166667 | Q17: =P17-O17 -> 0.41666667 | R17: TC3&10 | S17: 0.22013889 | T17: 0.69166667 | U17: =T17-S17 -> 0.47152778 | W17: Rest | X17: Day | AA17: Rest | AB17: Day
A18: Saad Saeed Al-Omari | C18: Rest | D18: Day | F18: SP-D | G18: 0.125 | H18: 0.54166667 | I18: =H18-G18 -> 0.41666667 | J18: SP-D | K18: 0.125 | L18: 0.54166667 | M18: =L18-K18 -> 0.41666667 | N18: SP-D | O18: 0.125 | P18: 0.54166667 | Q18: =P18-O18 -> 0.41666667 | R18: TC9 | S18: 0.59236111 | T18: 0.80486111 | U18: =T18-S18 -> 0.2125 | V18: SP-R | W18: 0.45833333 | X18: 0.83333333 | Y18: =X18-W18 -> 0.375 | Z18: TC10 | AA18: 0.48333333 | AB18: 0.69166667 | AC18: =AB18-AA18 -> 0.20833333
A19: Ali Issa Muhammad Al Owais | B19: TC13 | C19: 0.62291667 | D19: 0.84722222 | E19: =D19-C19 -> 0.22430556 | F19: TC14 | G19: 0.67083333 | H19: 0.88055556 | I19: =H19-G19 -> 0.20972222 | K19: Rest | L19: Day | O19: Rest | P19: Day | R19: SP-D | S19: 0.125 | T19: 0.54166667 | U19: =T19-S19 -> 0.41666667 | V19: TC7&16 | W19: 0.46736111 | X19: 0.96527778 | Y19: =X19-W19 -> 0.49791667 | Z19: TC9 | AA19: 0.59236111 | AB19: 0.80486111 | AC19: =AB19-AA19 -> 0.2125
A20: Nasser Jamaan Al-Ghamdi | B20: SP-R | C20: 0.45833333 | D20: 0.83333333 | E20: =D20-C20 -> 0.375 | F20: TC10 | G20: 0.48333333 | H20: 0.69166667 | I20: =H20-G20 -> 0.20833333 | K20: Rest | L20: Day | O20: Rest | P20: Day | R20: SP-D | S20: 0.5625 | T20: 0.9375 | U20: =T20-S20 -> 0.375 | V20: SP-D | W20: 0.5625 | X20: 0.9375 | Y20: =X20-W20 -> 0.375 | Z20: TC17 | AA20: 0.78263889 | AB20: 0.99513889 | AC20: =AB20-AA20 -> 0.2125
A21: Faisal Turki Abu Falasa | B21: TC18 | C21: 0.79027778 | D21: 0.99861111 | E21: =D21-C21 -> 0.20833333 | F21: SP-D | G21: 0.5625 | H21: 0.9375 | I21: =H21-G21 -> 0.375 | J21: SP-D | K21: 0.5625 | L21: 0.9375 | M21: =L21-K21 -> 0.375 | O21: Rest | P21: Day | S21: Rest | T21: Day | V21: TC17 | W21: 0.78263889 | X21: 0.99513889 | Y21: =X21-W21 -> 0.2125 | Z21: TC18 | AA21: 0.79027778 | AB21: 0.99861111 | AC21: =AB21-AA21 -> 0.20833333
A22: Ahmed Jassim Al-Hussein | B22: TC17 | C22: 0.78263889 | D22: 0.99513889 | E22: =D22-C22 -> 0.2125 | F22: TC18 | G22: 0.79027778 | H22: 0.99861111 | I22: =H22-G22 -> 0.20833333 | J22: TC17 | K22: 0.78263889 | L22: 0.99513889 | M22: =L22-K22 -> 0.2125 | N22: TC18 | O22: 0.79027778 | P22: 0.99861111 | Q22: =P22-O22 -> 0.20833333 | S22: Rest | T22: Day | W22: Rest | X22: Day | Z22: TC5&12 | AA22: 0.38333333 | AB22: 0.8125 | AC22: =AB22-AA22 -> 0.42916667
A23: Mubarak Salem Al Shaiban | B23: TC5&12 | C23: 0.38333333 | D23: 0.8125 | E23: =D23-C23 -> 0.42916667 | F23: TC13 | G23: 0.62291667 | H23: 0.84722222 | I23: =H23-G23 -> 0.22430556 | J23: TC14 | K23: 0.67083333 | L23: 0.88055556 | M23: =L23-K23 -> 0.20972222 | N23: TC9 | O23: 0.59236111 | P23: 0.80486111 | Q23: =P23-O23 -> 0.2125 | R23: SP-R | S23: 0.45833333 | T23: 0.83333333 | U23: =T23-S23 -> 0.375 | V23: TC10 | W23: 0.48333333 | X23: 0.69166667 | Y23: =X23-W23 -> 0.20833333 | AA23: Rest | AB23: Day
A24: Mohammed Abdul Karim Al Mazni | C24: Rest | D24: Day | G24: Rest | H24: Day | J24: TC13 | K24: 0.62291667 | L24: 0.84722222 | M24: =L24-K24 -> 0.22430556 | N24: TC14 | O24: 0.67083333 | P24: 0.88055556 | Q24: =P24-O24 -> 0.20972222 | R24: SP-D | S24: 0.5625 | T24: 0.9375 | U24: =T24-S24 -> 0.375 | V24: SP-D | W24: 0.5625 | X24: 0.9375 | Y24: =X24-W24 -> 0.375 | Z24: SP-D | AA24: 0.5625 | AB24: 0.9375 | AC24: =AB24-AA24 -> 0.375
A25: Hussein Muhammad Al-Omari | B25: SP-D | C25: 0.5625 | D25: 0.9375 | E25: =D25-C25 -> 0.375 | G25: Rest | H25: Day | K25: Rest | L25: Day | N25: TC7 | O25: 0.46736111 | P25: 0.68263889 | Q25: =P25-O25 -> 0.21527778 | R25: TC6 | S25: 0.27291667 | T25: 0.48125 | U25: =T25-S25 -> 0.20833333 | V25: TC7 | W25: 0.46736111 | X25: 0.68263889 | Y25: =X25-W25 -> 0.21527778 | Z25: TC8 | AA25: 0.35763889 | AB25: 0.56597222 | AC25: =AB25-AA25 -> 0.20833333
A26: Saleh Ahmed Al-Olayani | B26: TC7&16 | C26: 0.46736111 | D26: 0.96527778 | E26: =D26-C26 -> 0.49791667 | G26: Rest | H26: Day | K26: Rest | L26: Day | N26: SP-D | O26: 0.5625 | P26: 0.9375 | Q26: =P26-O26 -> 0.375 | R26: SP-D | S26: 0.5625 | T26: 0.9375 | U26: =T26-S26 -> 0.375 | V26: SP-D | W26: 0.5625 | X26: 0.9375 | Y26: =X26-W26 -> 0.375 | Z26: SP-D | AA26: 0.5625 | AB26: 0.9375 | AC26: =AB26-AA26 -> 0.375
A27: Abdul Ghani Ahmed Al-Nasser | B27: SP-D | C27: 0.5625 | D27: 0.9375 | E27: =D27-C27 -> 0.375 | F27: TC17 | G27: 0.78263889 | H27: 0.99513889 | I27: =H27-G27 -> 0.2125 | J27: TC18 | K27: 0.79027778 | L27: 0.99861111 | M27: =L27-K27 -> 0.20833333 | N27: TC13 | O27: 0.62291667 | P27: 0.84722222 | Q27: =P27-O27 -> 0.22430556 | R27: TC14 | S27: 0.67083333 | T27: 0.88055556 | U27: =T27-S27 -> 0.20972222 | W27: Rest | X27: Day | AA27: Rest | AB27: Day
A28: Fayez Ahmed Al-Shehri | C28: Rest | D28: Day | G28: Rest | H28: Day | J28: TC1 | K28: 0.14444444 | L28: 0.35694444 | M28: =L28-K28 -> 0.2125 | N28: SP-R | O28: 0.16666667 | P28: 0.58333333 | Q28: =P28-O28 -> 0.41666667 | R28: TC4 | S28: 0.18680556 | T28: 0.39513889 | U28: =T28-S28 -> 0.20833333 | V28: TC7 | W28: 0.46736111 | X28: 0.68263889 | Y28: =X28-W28 -> 0.21527778 | Z28: TC6 | AA28: 0.27291667 | AB28: 0.48125 | AC28: =AB28-AA28 -> 0.20833333
A29: Saleh Abdullah Al-Shamrani | C29: Rest | D29: Day | G29: Rest | H29: Day | J29: TC9 | K29: 0.59236111 | L29: 0.80486111 | M29: =L29-K29 -> 0.2125 | N29: SP-R | O29: 0.45833333 | P29: 0.83333333 | Q29: =P29-O29 -> 0.375 | R29: TC10 | S29: 0.48333333 | T29: 0.69166667 | U29: =T29-S29 -> 0.20833333 | V29: TC13 | W29: 0.62291667 | X29: 0.84722222 | Y29: =X29-W29 -> 0.22430556 | Z29: SP-R | AA29: 0.45833333 | AB29: 0.83333333 | AC29: =AB29-AA29 -> 0.375
A30: Salman Al-Shammari | B30: TC10 | C30: 0.48333333 | D30: 0.69166667 | E30: =D30-C30 -> 0.20833333 | F30: TC9 | G30: 0.59236111 | H30: 0.80486111 | I30: =H30-G30 -> 0.2125 | J30: SP-R | K30: 0.45833333 | L30: 0.83333333 | M30: =L30-K30 -> 0.375 | N30: TC10 | O30: 0.48333333 | P30: 0.69166667 | Q30: =P30-O30 -> 0.20833333 | S30: Rest | T30: Day | W30: Rest | X30: Day | AA30: Rest | AB30: Day
A31: Mohammed Ibrahim Al-Melifi | C31: Rest | D31: Day | G31: Rest | H31: Day | J31: TC7&16 | K31: 0.46736111 | L31: 0.96527778 | M31: =L31-K31 -> 0.49791667 | N31: TC17 | O31: 0.78263889 | P31: 0.99513889 | Q31: =P31-O31 -> 0.2125 | R31: TC18 | S31: 0.79027778 | T31: 0.99861111 | U31: =T31-S31 -> 0.20833333 | V31: TC11&20 | W31: 0.59236111 | X31: 0.99861111 | Y31: =X31-W31 -> 0.40625 | Z31: TC13 | AA31: 0.62291667 | AB31: 0.84722222 | AC31: =AB31-AA31 -> 0.22430556
A32: Ali Hussein Al-Olaiwi | B32: TC14 | C32: 0.67083333 | D32: 0.88055556 | E32: =D32-C32 -> 0.20972222 | G32: Rest | H32: Day | K32: Rest | L32: Day | N32: SP-D | O32: 0.5625 | P32: 0.9375 | Q32: =P32-O32 -> 0.375 | R32: TC17 | S32: 0.78263889 | T32: 0.99513889 | U32: =T32-S32 -> 0.2125 | V32: TC16 | W32: 0.74861111 | X32: 0.96527778 | Y32: =X32-W32 -> 0.21666667 | Z32: TC19&2 | AA32: 0.9 | AB32: 1.31875 | AC32: =AB32-AA32 -> 0.41875
A33: Habib Mahdi Al-Jittil | B33: TC19&2 | C33: 0.9 | D33: 1.31875 | E33: =D33-C33 -> 0.41875 | F33: TC19&2 | G33: 0.9 | H33: 1.31875 | I33: =H33-G33 -> 0.41875 | J33: TC19&2 | K33: 0.9 | L33: 1.31875 | M33: =L33-K33 -> 0.41875 | N33: TC19&2 | O33: 0.9 | P33: 1.31875 | Q33: =P33-O33 -> 0.41875 | S33: Rest | T33: Day | W33: Rest | X33: Day | AA33: Rest | AB33: Day
A34: Hussein Abdul Jalil Al-Buqshi | B34: TC7 | C34: 0.46736111 | D34: 0.68263889 | E34: =D34-C34 -> 0.21527778 | F34: TC6 | G34: 0.27291667 | H34: 0.48125 | I34: =H34-G34 -> 0.20833333 | J34: TC3&10 | K34: 0.22013889 | L34: 0.69166667 | M34: =L34-K34 -> 0.47152778 | N34: TC7&16 | O34: 0.46736111 | P34: 0.96527778 | Q34: =P34-O34 -> 0.49791667 | S34: Rest | T34: Day | W34: Rest | X34: Day | Z34: TC15 | AA34: 0.71388889 | AB34: 0.92847222 | AC34: =AB34-AA34 -> 0.21458333
A35: Shami Abdo Al-Shehri | B35: TC12 | C35: 0.60416667 | D35: 0.8125 | E35: =D35-C35 -> 0.20833333 | F35: TC7&16 | G35: 0.46736111 | H35: 0.96527778 | I35: =H35-G35 -> 0.49791667 | K35: Rest | L35: Day | O35: Rest | P35: Day | R35: SP-D | S35: 0.125 | T35: 0.54166667 | U35: =T35-S35 -> 0.41666667 | V35: SP-D | W35: 0.125 | X35: 0.54166667 | Y35: =X35-W35 -> 0.41666667 | Z35: SP-D | AA35: 0.125 | AB35: 0.54166667 | AC35: =AB35-AA35 -> 0.41666667
A36: Abdullah Jassim Al-Eid | B36: SP-D | C36: 0.125 | D36: 0.54166667 | E36: =D36-C36 -> 0.41666667 | F36: TC3&10 | G36: 0.22013889 | H36: 0.69166667 | I36: =H36-G36 -> 0.47152778 | K36: Rest | L36: Day | O36: Rest | P36: Day | R36: SP-D | S36: 0.125 | T36: 0.54166667 | U36: =T36-S36 -> 0.41666667 | V36: SP-D | W36: 0.125 | X36: 0.54166667 | Y36: =X36-W36 -> 0.41666667 | Z36: SP-D | AA36: 0.125 | AB36: 0.54166667 | AC36: =AB36-AA36 -> 0.41666667
A37: Salem Mahdi Al Shaiban | B37: SP-D | C37: 0.125 | D37: 0.54166667 | E37: =D37-C37 -> 0.41666667 | F37: SP-D | G37: 0.125 | H37: 0.54166667 | I37: =H37-G37 -> 0.41666667 | J37: SP-D | K37: 0.125 | L37: 0.54166667 | M37: =L37-K37 -> 0.41666667 | N37: SP-D | O37: 0.125 | P37: 0.54166667 | Q37: =P37-O37 -> 0.41666667 | S37: Rest | T37: Day | W37: Rest | X37: Day | AA37: Rest | AB37: Day
B39: It is your responsibility to consult the Daily Alteration Sheet to ensure that you are aware of your shifts and any changes that may have taken place.
B40: All leave, sick, training, off roster etc. is shown on the Daily Sheets

Sheet DAS Sun
C2: Daily Alteration Sheet
B4: Sunday | D4: =TC!B3 -> 45928
B5: Train Captain | K5: Dammam
B8: Shift ID | C8: On Duty | D8: Off Duty | E8: Hours | F8: Name | J8: Comments
O9: =E9 -> 0 | P9: =B9 -> 0 | Q9: =C9 -> 0 | R9: =D9 -> 0
B10: SP-D | C10: 0.125 | D10: 0.54166667 | E10: =D10-C10 -> 0.41666667 | F10: =TC!A10 -> Mansour Mohammed Al-Dossary | O10: =E10 -> 0.41666667 | P10: =B10 -> SP-D | Q10: =C10 -> 0.125 | R10: =D10 -> 0.54166667
O11: =E11 -> 0 | P11: =B11 -> 0 | Q11: =C11 -> 0 | R11: =D11 -> 0
B12: TC1 | C12: 0.14444444 | D12: 0.35694444 | E12: =D12-C12 -> 0.2125 | F12: =TC!A7 -> Ali Abdullah Al-Ghamdi | O12: =E12 -> 0.2125 | P12: =B12 -> TC1 | Q12: =C12 -> 0.14444444 | R12: =D12 -> 0.35694444
O13: =E13 -> 0 | P13: =B13 -> 0 | Q13: =C13 -> 0 | R13: =D13 -> 0
B14: TC4 | C14: 0.18680556 | D14: 0.39513889 | E14: =D14-C14 -> 0.20833333 | F14: =TC!A11 -> Saleh Ali Alseda | O14: =E14 -> 0.20833333 | P14: =B14 -> TC4 | Q14: =C14 -> 0.18680556 | R14: =D14 -> 0.39513889
O15: =E15 -> 0 | P15: =B15 -> 0 | Q15: =C15 -> 0 | R15: =D15 -> 0
B16: TC3&10 | C16: 0.22013889 | D16: 0.69166667 | E16: =D16-C16 -> 0.47152778 | F16: =TC!A36 -> Abdullah Jassim Al-Eid | O16: =E16 -> 0.47152778 | P16: =B16 -> TC3&10 | Q16: =C16 -> 0.22013889 | R16: =D16 -> 0.69166667
O17: =E17 -> 0 | P17: =B17 -> 0 | Q17: =C17 -> 0 | R17: =D17 -> 0
B18: TC6 | C18: 0.27291667 | D18: 0.48125 | E18: =D18-C18 -> 0.20833333 | F18: =TC!A12 -> Abduleilah Ali Ibrahim | O18: =E18 -> 0.20833333 | P18: =B18 -> TC6 | Q18: =C18 -> 0.27291667 | R18: =D18 -> 0.48125
O19: =E19 -> 0 | P19: =B19 -> 0 | Q19: =C19 -> 0 | R19: =D19 -> 0
B20: SP-R | C20: 0.16666667 | D20: 0.58333333 | E20: =D20-C20 -> 0.41666667 | F20: =TC!A9 -> Khaled Fahd Al-Harbi | O20: =E20 -> 0.41666667 | P20: =B20 -> SP-R | Q20: =C20 -> 0.16666667 | R20: =D20 -> 0.58333333
O21: =E21 -> 0 | P21: =B21 -> 0 | Q21: =C21 -> 0 | R21: =D21 -> 0
B22: TC5&12 | C22: 0.38333333 | D22: 0.8125 | E22: =D22-C22 -> 0.42916667 | F22: =TC!A23 -> Mubarak Salem Al Shaiban | O22: =E22 -> 0.42916667 | P22: =B22 -> TC5&12 | Q22: =C22 -> 0.38333333 | R22: =D22 -> 0.8125
O23: =E23 -> 0 | P23: =B23 -> 0 | Q23: =C23 -> 0 | R23: =D23 -> 0
B24: SP-R | C24: 0.45833333 | D24: 0.83333333 | E24: =D24-C24 -> 0.375 | F24: =TC!A19 -> Ali Issa Muhammad Al Owais | J24: Nasser AL | O24: =E24 -> 0.375 | P24: =B24 -> SP-R | Q24: =C24 -> 0.45833333 | R24: =D24 -> 0.83333333
O25: =E25 -> 0 | P25: =B25 -> 0 | Q25: =C25 -> 0 | R25: =D25 -> 0
B26: TC7 | C26: 0.46736111 | D26: 0.68263889 | E26: =D26-C26 -> 0.21527778 | F26: =TC!A34 -> Hussein Abdul Jalil Al-Buqshi | O26: =E26 -> 0.21527778 | P26: =B26 -> TC7 | Q26: =C26 -> 0.46736111 | R26: =D26 -> 0.68263889
O27: =E27 -> 0 | P27: =B27 -> 0 | Q27: =C27 -> 0 | R27: =D27 -> 0
B28: TC7&16 | C28: 0.46736111 | D28: 0.96527778 | E28: =D28-C28 -> 0.49791667 | F28: =TC!A26 -> Saleh Ahmed Al-Olayani | O28: =E28 -> 0.49791667 | P28: =B28 -> TC7&16 | Q28: =C28 -> 0.46736111 | R28: =D28 -> 0.96527778
O29: =E29 -> 0 | P29: =B29 -> 0 | Q29: =C29 -> 0 | R29: =D29 -> 0
B30: TC10 | C30: 0.48333333 | D30: 0.69166667 | E30: =D30-C30 -> 0.20833333 | F30: =TC!A25 -> Hussein Muhammad Al-Omari | J30: Salman AL | O30: =E30 -> 0.20833333 | P30: =B30 -> TC10 | Q30: =C30 -> 0.48333333 | R30: =D30 -> 0.69166667
O31: =E31 -> 0 | P31: =B31 -> 0 | Q31: =C31 -> 0 | R31: =D31 -> 0
B32: SP-D | C32: 0.5625 | D32: 0.9375 | E32: =D32-C32 -> 0.375 | F32: =TC!A27 -> Abdul Ghani Ahmed Al-Nasser | O32: =E32 -> 0.375 | P32: =B32 -> SP-D | Q32: =C32 -> 0.5625 | R32: =D32 -> 0.9375
O33: =E33 -> 0 | P33: =B33 -> 0 | Q33: =C33 -> 0 | R33: =D33 -> 0
B34: TC9 | C34: 0.59236111 | D34: 0.80486111 | E34: =D34-C34 -> 0.2125 | F34: =TC!A14 -> Mubarak Yousef Al-Dossary | O34: =E34 -> 0.2125 | P34: =B34 -> TC9 | Q34: =C34 -> 0.59236111 | R34: =D34 -> 0.80486111
O35: =E35 -> 0 | P35: =B35 -> 0 | Q35: =C35 -> 0 | R35: =D35 -> 0
B36: TC12 | C36: 0.60416667 | D36: 0.8125 | E36: =D36-C36 -> 0.20833333 | F36: =TC!A35 -> Shami Abdo Al-Shehri | O36: =E36 -> 0.20833333 | P36: =B36 -> TC12 | Q36: =C36 -> 0.60416667 | R36: =D36 -> 0.8125
O37: =E37 -> 0 | P37: =B37 -> 0 | Q37: =C37 -> 0 | R37: =D37 -> 0
B38: TC13 | C38: 0.62291667 | D38: 0.84722222 | E38: =D38-C38 -> 0.22430556 | F38: =TC!A17 -> Humim Abdul Rahman Al-Dossary | J38: Ali | O38: =E38 -> 0.22430556 | P38: =B38 -> TC13 | Q38: =C38 -> 0.62291667 | R38: =D38 -> 0.84722222
O39: =E39 -> 0 | P39: =B39 -> 0 | Q39: =C39 -> 0 | R39: =D39 -> 0
B40: TC14 | C40: 0.67083333 | D40: 0.88055556 | E40: =D40-C40 -> 0.20972222 | F40: =TC!A32 -> Ali Hussein Al-Olaiwi | O40: =E40 -> 0.20972222 | P40: =B40 -> TC14 | Q40: =C40 -> 0.67083333 | R40: =D40 -> 0.88055556
O41: =E41 -> 0 | P41: =B41 -> 0 | Q41: =C41 -> 0 | R41: =D41 -> 0
B42: TC17 | C42: 0.78263889 | D42: 0.99513889 | E42: =D42-C42 -> 0.2125 | F42: =TC!A22 -> Ahmed Jassim Al-Hussein | O42: =E42 -> 0.2125 | P42: =B42 -> TC17 | Q42: =C42 -> 0.78263889 | R42: =D42 -> 0.99513889
O43: =E43 -> 0 | P43: =B43 -> 0 | Q43: =C43 -> 0 | R43: =D43 -> 0
B44: TC18 | C44: 0.79027778 | D44: 0.99861111 | E44: =D44-C44 -> 0.20833333 | F44: =TC!A13 -> Saeed Saleh Al-Harthi | J44: Faisal TRG | O44: =E44 -> 0.20833333 | P44: =B44 -> TC18 | Q44: =C44 -> 0.79027778 | R44: =D44 -> 0.99861111
...

Sheet DAS Mon
C2: Daily Alteration Sheet
B4: Monday | D4: ='DAS Sun'!D4:E4+1 -> 45929
B5: Train Captain | K5: Dammam
B8: Shift ID | C8: On Duty | D8: Off Duty | E8: Hours | F8: Name | J8: Comments
O9: =E9 -> 0 | P9: =B9 -> 0 | Q9: =C9 -> 0 | R9: =D9 -> 0
B10: SP-D | C10: 0.125 | D10: 0.54166667 | E10: =D10-C10 -> 0.41666667 | F10: =TC!A10 -> Mansour Mohammed Al-Dossary | O10: =E10 -> 0.41666667 | P10: =B10 -> SP-D | Q10: =C10 -> 0.125 | R10: =D10 -> 0.54166667
O11: =E11 -> 0 | P11: =B11 -> 0 | Q11: =C11 -> 0 | R11: =D11 -> 0
B12: TC1 | C12: 0.14444444 | D12: 0.35694444 | E12: =D12-C12 -> 0.2125 | F12: =TC!A11 -> Saleh Ali Alseda | O12: =E12 -> 0.2125 | P12: =B12 -> TC1 | Q12: =C12 -> 0.14444444 | R12: =D12 -> 0.35694444
O13: =E13 -> 0 | P13: =B13 -> 0 | Q13: =C13 -> 0 | R13: =D13 -> 0
B14: TC4 | C14: 0.18680556 | D14: 0.39513889 | E14: =D14-C14 -> 0.20833333 | F14: =TC!A9 -> Khaled Fahd Al-Harbi | O14: =E14 -> 0.20833333 | P14: =B14 -> TC4 | Q14: =C14 -> 0.18680556 | R14: =D14 -> 0.39513889
O15: =E15 -> 0 | P15: =B15 -> 0 | Q15: =C15 -> 0 | R15: =D15 -> 0
B16: TC3&10 | C16: 0.22013889 | D16: 0.69166667 | E16: =D16-C16 -> 0.47152778 | F16: =TC!A36 -> Abdullah Jassim Al-Eid | O16: =E16 -> 0.47152778 | P16: =B16 -> TC3&10 | Q16: =C16 -> 0.22013889 | R16: =D16 -> 0.69166667
O17: =E17 -> 0 | P17: =B17 -> 0 | Q17: =C17 -> 0 | R17: =D17 -> 0
B18: TC6 | C18: 0.27291667 | D18: 0.48125 | E18: =D18-C18 -> 0.20833333 | F18: =TC!A34 -> Hussein Abdul Jalil Al-Buqshi | O18: =E18 -> 0.20833333 | P18: =B18 -> TC6 | Q18: =C18 -> 0.27291667 | R18: =D18 -> 0.48125
O19: =E19 -> 0 | P19: =B19 -> 0 | Q19: =C19 -> 0 | R19: =D19 -> 0
B20: SP-R | C20: 0.16666667 | D20: 0.58333333 | E20: =D20-C20 -> 0.41666667 | F20: =TC!A7 -> Ali Abdullah Al-Ghamdi | O20: =E20 -> 0.41666667 | P20: =B20 -> SP-R | Q20: =C20 -> 0.16666667 | R20: =D20 -> 0.58333333
O21: =E21 -> 0 | P21: =B21 -> 0 | Q21: =C21 -> 0 | R21: =D21 -> 0
B22: SP-R | C22: 0.45833333 | D22: 0.83333333 | E22: =D22-C22 -> 0.375 | F22: =TC!A14 -> Mubarak Yousef Al-Dossary | O22: =E22 -> 0.375 | P22: =B22 -> SP-R | Q22: =C22 -> 0.45833333 | R22: =D22 -> 0.83333333
O23: =E23 -> 0 | P23: =B23 -> 0 | Q23: =C23 -> 0 | R23: =D23 -> 0
B24: TC7 | C24: 0.46736111 | D24: 0.68263889 | E24: =D24-C24 -> 0.21527778 | F24: =TC!A18 -> Saad Saeed Al-Omari | J24: Rajeh | O24: =E24 -> 0.21527778 | P24: =B24 -> TC7 | Q24: =C24 -> 0.46736111 | R24: =D24 -> 0.68263889
O25: =E25 -> 0 | P25: =B25 -> 0 | Q25: =C25 -> 0 | R25: =D25 -> 0
B26: TC7&16 | C26: 0.46736111 | D26: 0.96527778 | E26: =D26-C26 -> 0.49791667 | F26: =TC!A35 -> Shami Abdo Al-Shehri | O26: =E26 -> 0.49791667 | P26: =B26 -> TC7&16 | Q26: =C26 -> 0.46736111 | R26: =D26 -> 0.96527778
O27: =E27 -> 0 | P27: =B27 -> 0 | Q27: =C27 -> 0 | R27: =D27 -> 0
B28: TC10 | C28: 0.48333333 | D28: 0.69166667 | E28: =D28-C28 -> 0.20833333 | F28: =TC!A19 -> Ali Issa Muhammad Al Owais | J28: Nasser AL | O28: =E28 -> 0.20833333 | P28: =B28 -> TC10 | Q28: =C28 -> 0.48333333 | R28: =D28 -> 0.69166667
O29: =E29 -> 0 | P29: =B29 -> 0 | Q29: =C29 -> 0 | R29: =D29 -> 0
B30: SP-D | C30: 0.5625 | D30: 0.9375 | E30: =D30-C30 -> 0.375 | F30: =TC!A25 -> Hussein Muhammad Al-Omari | O30: =E30 -> 0.375 | P30: =B30 -> SP-D | Q30: =C30 -> 0.5625 | R30: =D30 -> 0.9375
O31: =E31 -> 0 | P31: =B31 -> 0 | Q31: =C31 -> 0 | R31: =D31 -> 0
B32: TC9 | C32: 0.59236111 | D32: 0.80486111 | E32: =D32-C32 -> 0.2125 | F32: =TC!A15 -> Abdul Hamid Taher Al-Awad | J32: Salman AL | O32: =E32 -> 0.2125 | P32: =B32 -> TC9 | Q32: =C32 -> 0.59236111 | R32: =D32 -> 0.80486111
O33: =E33 -> 0 | P33: =B33 -> 0 | Q33: =C33 -> 0 | R33: =D33 -> 0
B34: TC13 | C34: 0.62291667 | D34: 0.84722222 | E34: =D34-C34 -> 0.22430556 | F34: =TC!A23 -> Mubarak Salem Al Shaiban | O34: =E34 -> 0.22430556 | P34: =B34 -> TC13 | Q34: =C34 -> 0.62291667 | R34: =D34 -> 0.84722222
O35: =E35 -> 0 | P35: =B35 -> 0 | Q35: =C35 -> 0 | R35: =D35 -> 0
B36: TC14 | C36: 0.67083333 | D36: 0.88055556 | E36: =D36-C36 -> 0.20972222 | F36: =TC!A17 -> Humim Abdul Rahman Al-Dossary | O36: =E36 -> 0.20972222 | P36: =B36 -> TC14 | Q36: =C36 -> 0.67083333 | R36: =D36 -> 0.88055556
O37: =E37 -> 0 | P37: =B37 -> 0 | Q37: =C37 -> 0 | R37: =D37 -> 0
B38: TC17 | C38: 0.78263889 | D38: 0.99513889 | E38: =D38-C38 -> 0.2125 | F38: =TC!A27 -> Abdul Ghani Ahmed Al-Nasser | O38: =E38 -> 0.2125 | P38: =B38 -> TC17 | Q38: =C38 -> 0.78263889 | R38: =D38 -> 0.99513889
O39: =E39 -> 0 | P39: =B39 -> 0 | Q39: =C39 -> 0 | R39: =D39 -> 0
B40: TC18 | C40: 0.79027778 | D40: 0.99861111 | E40: =D40-C40 -> 0.20833333 | F40: =TC!A22 -> Ahmed Jassim Al-Hussein | O40: =E40 -> 0.20833333 | P40: =B40 -> TC18 | Q40: =C40 -> 0.79027778 | R40: =D40 -> 0.99861111
O41: =E41 -> 0 | P41: =B41 -> 0 | Q41: =C41 -> 0 | R41: =D41 -> 0
B42: TC19&2 | C42: 0.9 | D42: 1.31875 | E42: =D42-C42 -> 0.41875 | F42: =TC!A33 -> Habib Mahdi Al-Jittil | O42: =E42 -> 0.41875 | P42: =B42 -> TC19&2 | Q42: =C42 -> 0.9 | R42: =D42 -> 1.31875
O43: =E43 -> 0 | P43: =B43 -> 0 | Q43: =C43 -> 0 | R43: =D43 -> 0
O44: =E44 -> 0 | P44: =B44 -> 0 | Q44: =C44 -> 0 | R44: =D44 -> 0
...

Sheet DAS Tue
C2: Daily Alteration Sheet
B4: Tuesday | D4: ='DAS Mon'!D4:E4+1 -> 45930
B5: Train Captain | K5: Dammam
B8: Shift ID | C8: On Duty | D8: Off Duty | E8: Hours | F8: Name | J8: Comments
O9: =E9 -> 0 | P9: =B9 -> 0 | Q9: =C9 -> 0 | R9: =D9 -> 0
B10: SP-D | C10: 0.125 | D10: 0.54166667 | E10: =D10-C10 -> 0.41666667 | F10: =TC!A10 -> Mansour Mohammed Al-Dossary | O10: =E10 -> 0.41666667 | P10: =B10 -> SP-D | Q10: =C10 -> 0.125 | R10: =D10 -> 0.54166667
O11: =E11 -> 0 | P11: =B11 -> 0 | Q11: =C11 -> 0 | R11: =D11 -> 0
B12: TC1 | C12: 0.14444444 | D12: 0.35694444 | E12: =D12-C12 -> 0.2125 | F12: =TC!A28 -> Fayez Ahmed Al-Shehri | O12: =E12 -> 0.2125 | P12: =B12 -> TC1 | Q12: =C12 -> 0.14444444 | R12: =D12 -> 0.35694444
O13: =E13 -> 0 | P13: =B13 -> 0 | Q13: =C13 -> 0 | R13: =D13 -> 0
B14: TC3&10 | C14: 0.22013889 | D14: 0.69166667 | E14: =D14-C14 -> 0.47152778 | F14: =TC!A34 -> Hussein Abdul Jalil Al-Buqshi | O14: =E14 -> 0.47152778 | P14: =B14 -> TC3&10 | Q14: =C14 -> 0.22013889 | R14: =D14 -> 0.69166667
O15: =E15 -> 0 | P15: =B15 -> 0 | Q15: =C15 -> 0 | R15: =D15 -> 0
B16: TC6 | C16: 0.27291667 | D16: 0.48125 | E16: =D16-C16 -> 0.20833333 | F16: =TC!A18 -> Saad Saeed Al-Omari | J16: Rajeh | O16: =E16 -> 0.20833333 | P16: =B16 -> TC6 | Q16: =C16 -> 0.27291667 | R16: =D16 -> 0.48125
O17: =E17 -> 0 | P17: =B17 -> 0 | Q17: =C17 -> 0 | R17: =D17 -> 0
B18: TC4 | C18: 0.18680556 | D18: 0.39513889 | E18: =D18-C18 -> 0.20833333 | F18: =TC!A7 -> Ali Abdullah Al-Ghamdi | O18: =E18 -> 0.20833333 | P18: =B18 -> TC4 | Q18: =C18 -> 0.18680556 | R18: =D18 -> 0.39513889
O19: =E19 -> 0 | P19: =B19 -> 0 | Q19: =C19 -> 0 | R19: =D19 -> 0
B20: SP-R | C20: 0.16666667 | D20: 0.58333333 | E20: =D20-C20 -> 0.41666667 | F20: =TC!A11 -> Saleh Ali Alseda | O20: =E20 -> 0.41666667 | P20: =B20 -> SP-R | Q20: =C20 -> 0.16666667 | R20: =D20 -> 0.58333333
O21: =E21 -> 0 | P21: =B21 -> 0 | Q21: =C21 -> 0 | R21: =D21 -> 0
B22: SP-R | C22: 0.45833333 | D22: 0.83333333 | E22: =D22-C22 -> 0.375 | F22: =TC!A15 -> Abdul Hamid Taher Al-Awad | J22: Salman AL | O22: =E22 -> 0.375 | P22: =B22 -> SP-R | Q22: =C22 -> 0.45833333 | R22: =D22 -> 0.83333333
O23: =E23 -> 0 | P23: =B23 -> 0 | Q23: =C23 -> 0 | R23: =D23 -> 0
B24: TC7 | C24: 0.46736111 | D24: 0.68263889 | E24: =D24-C24 -> 0.21527778 | F24: =TC!A16 -> Ahmed Abdulaziz Al-Ghwainem | O24: =E24 -> 0.21527778 | P24: =B24 -> TC7 | Q24: =C24 -> 0.46736111 | R24: =D24 -> 0.68263889
O25: =E25 -> 0 | P25: =B25 -> 0 | Q25: =C25 -> 0 | R25: =D25 -> 0
B26: TC7&16 | C26: 0.46736111 | D26: 0.96527778 | E26: =D26-C26 -> 0.49791667 | F26: =TC!A17 -> Humim Abdul Rahman Al-Dossary | J26: Mohammed AL | O26: =E26 -> 0.49791667 | P26: =B26 -> TC7&16 | Q26: =C26 -> 0.46736111 | R26: =D26 -> 0.96527778
O27: =E27 -> 0 | P27: =B27 -> 0 | Q27: =C27 -> 0 | R27: =D27 -> 0
B28: TC10 | C28: 0.48333333 | D28: 0.69166667 | E28: =D28-C28 -> 0.20833333 | F28: =TC!A14 -> Mubarak Yousef Al-Dossary | O28: =E28 -> 0.20833333 | P28: =B28 -> TC10 | Q28: =C28 -> 0.48333333 | R28: =D28 -> 0.69166667
O29: =E29 -> 0 | P29: =B29 -> 0 | Q29: =C29 -> 0 | R29: =D29 -> 0
B30: SP-D | C30: 0.5625 | D30: 0.9375 | E30: =D30-C30 -> 0.375 | F30: =TC!A25 -> Hussein Muhammad Al-Omari | O30: =E30 -> 0.375 | P30: =B30 -> SP-D | Q30: =C30 -> 0.5625 | R30: =D30 -> 0.9375
O31: =E31 -> 0 | P31: =B31 -> 0 | Q31: =C31 -> 0 | R31: =D31 -> 0
B32: TC9 | C32: 0.59236111 | D32: 0.80486111 | E32: =D32-C32 -> 0.2125 | F32: =TC!A29 -> Saleh Abdullah Al-Shamrani | O32: =E32 -> 0.2125 | P32: =B32 -> TC9 | Q32: =C32 -> 0.59236111 | R32: =D32 -> 0.80486111
O33: =E33 -> 0 | P33: =B33 -> 0 | Q33: =C33 -> 0 | R33: =D33 -> 0
B34: TC13 | C34: 0.62291667 | D34: 0.84722222 | E34: =D34-C34 -> 0.22430556 | F34: =TC!A12 -> Abduleilah Ali Ibrahim | J34: Mohammed TRG | O34: =E34 -> 0.22430556 | P34: =B34 -> TC13 | Q34: =C34 -> 0.62291667 | R34: =D34 -> 0.84722222
O35: =E35 -> 0 | P35: =B35 -> 0 | Q35: =C35 -> 0 | R35: =D35 -> 0
B36: TC14 | C36: 0.67083333 | D36: 0.88055556 | E36: =D36-C36 -> 0.20972222 | F36: =TC!A23 -> Mubarak Salem Al Shaiban | O36: =E36 -> 0.20972222 | P36: =B36 -> TC14 | Q36: =C36 -> 0.67083333 | R36: =D36 -> 0.88055556
O37: =E37 -> 0 | P37: =B37 -> 0 | Q37: =C37 -> 0 | R37: =D37 -> 0
B38: TC17 | C38: 0.78263889 | D38: 0.99513889 | E38: =D38-C38 -> 0.2125 | F38: =TC!A22 -> Ahmed Jassim Al-Hussein | O38: =E38 -> 0.2125 | P38: =B38 -> TC17 | Q38: =C38 -> 0.78263889 | R38: =D38 -> 0.99513889
O39: =E39 -> 0 | P39: =B39 -> 0 | Q39: =C39 -> 0 | R39: =D39 -> 0
B40: TC18 | C40: 0.79027778 | D40: 0.99861111 | E40: =D40-C40 -> 0.20833333 | F40: =TC!A27 -> Abdul Ghani Ahmed Al-Nasser | O40: =E40 -> 0.20833333 | P40: =B40 -> TC18 | Q40: =C40 -> 0.79027778 | R40: =D40 -> 0.99861111
O41: =E41 -> 0 | P41: =B41 -> 0 | Q41: =C41 -> 0 | R41: =D41 -> 0
B42: TC19&2 | C42: 0.9 | D42: 1.31875 | E42: =D42-C42 -> 0.41875 | F42: =TC!A33 -> Habib Mahdi Al-Jittil | O42: =E42 -> 0.41875 | P42: =B42 -> TC19&2 | Q42: =C42 -> 0.9 | R42: =D42 -> 1.31875
O43: =E43 -> 0 | P43: =B43 -> 0 | Q43: =C43 -> 0 | R43: =D43 -> 0
O44: =E44 -> 0 | P44: =B44 -> 0 | Q44: =C44 -> 0 | R44: =D44 -> 0
...

Sheet DAS Wed
C2: Daily Alteration Sheet
B4: Wednesday | D4: ='DAS Tue'!D4:E4+1 -> 45931
B5: Train Captain | K5: Dammam
B8: Shift ID | C8: On Duty | D8: Off Duty | E8: Hours | F8: Name | J8: Comments
O9: =E9 -> 0 | P9: =B9 -> 0 | Q9: =C9 -> 0 | R9: =D9 -> 0
B10: SP-D | C10: 0.125 | D10: 0.54166667 | E10: =D10-C10 -> 0.41666667 | F10: =TC!A30 -> Salman Al-Shammari | O10: =E10 -> 0.41666667 | P10: =B10 -> SP-D | Q10: =C10 -> 0.125 | R10: =D10 -> 0.54166667
O11: =E11 -> 0 | P11: =B11 -> 0 | Q11: =C11 -> 0 | R11: =D11 -> 0
B12: TC1 | C12: 0.14444444 | D12: 0.35694444 | E12: =D12-C12 -> 0.2125 | F12: =TC!A18 -> Saad Saeed Al-Omari | J12: Rajeh | O12: =E12 -> 0.2125 | P12: =B12 -> TC1 | Q12: =C12 -> 0.14444444 | R12: =D12 -> 0.35694444
O13: =E13 -> 0 | P13: =B13 -> 0 | Q13: =C13 -> 0 | R13: =D13 -> 0
B14: TC4 | C14: 0.18680556 | D14: 0.39513889 | E14: =D14-C14 -> 0.20833333 | F14: =TC!A11 -> Saleh Ali Alseda | O14: =E14 -> 0.20833333 | P14: =B14 -> TC4 | Q14: =C14 -> 0.18680556 | R14: =D14 -> 0.39513889
O15: =E15 -> 0 | P15: =B15 -> 0 | Q15: =C15 -> 0 | R15: =D15 -> 0
B16: TC3&10 | C16: 0.22013889 | D16: 0.69166667 | E16: =D16-C16 -> 0.47152778 | F16: =TC!A13 -> Saeed Saleh Al-Harthi | O16: =E16 -> 0.47152778 | P16: =B16 -> TC3&10 | Q16: =C16 -> 0.22013889 | R16: =D16 -> 0.69166667
O17: =E17 -> 0 | P17: =B17 -> 0 | Q17: =C17 -> 0 | R17: =D17 -> 0
B18: TC6 | C18: 0.27291667 | D18: 0.48125 | E18: =D18-C18 -> 0.20833333 | F18: =TC!A16 -> Ahmed Abdulaziz Al-Ghwainem | O18: =E18 -> 0.20833333 | P18: =B18 -> TC6 | Q18: =C18 -> 0.27291667 | R18: =D18 -> 0.48125
O19: =E19 -> 0 | P19: =B19 -> 0 | Q19: =C19 -> 0 | R19: =D19 -> 0
B20: SP-R | C20: 0.16666667 | D20: 0.58333333 | E20: =D20-C20 -> 0.41666667 | F20: =TC!A28 -> Fayez Ahmed Al-Shehri | O20: =E20 -> 0.41666667 | P20: =B20 -> SP-R | Q20: =C20 -> 0.16666667 | R20: =D20 -> 0.58333333
O21: =E21 -> 0 | P21: =B21 -> 0 | Q21: =C21 -> 0 | R21: =D21 -> 0
B22: TC5&12 | C22: 0.38333333 | D22: 0.8125 | E22: =D22-C22 -> 0.42916667 | F22: =TC!A7 -> Ali Abdullah Al-Ghamdi | O22: =E22 -> 0.42916667 | P22: =B22 -> TC5&12 | Q22: =C22 -> 0.38333333 | R22: =D22 -> 0.8125
O23: =E23 -> 0 | P23: =B23 -> 0 | Q23: =C23 -> 0 | R23: =D23 -> 0
B24: SP-R | C24: 0.45833333 | D24: 0.83333333 | E24: =D24-C24 -> 0.375 | F24: =TC!A29 -> Saleh Abdullah Al-Shamrani | O24: =E24 -> 0.375 | P24: =B24 -> SP-R | Q24: =C24 -> 0.45833333 | R24: =D24 -> 0.83333333
O25: =E25 -> 0 | P25: =B25 -> 0 | Q25: =C25 -> 0 | R25: =D25 -> 0
B26: TC7 | C26: 0.46736111 | D26: 0.68263889 | E26: =D26-C26 -> 0.21527778 | F26: =TC!A26 -> Saleh Ahmed Al-Olayani | O26: =E26 -> 0.21527778 | P26: =B26 -> TC7 | Q26: =C26 -> 0.46736111 | R26: =D26 -> 0.68263889
O27: =E27 -> 0 | P27: =B27 -> 0 | Q27: =C27 -> 0 | R27: =D27 -> 0
B28: TC7&16 | C28: 0.46736111 | D28: 0.96527778 | E28: =D28-C28 -> 0.49791667 | F28: =TC!A34 -> Hussein Abdul Jalil Al-Buqshi | O28: =E28 -> 0.49791667 | P28: =B28 -> TC7&16 | Q28: =C28 -> 0.46736111 | R28: =D28 -> 0.96527778
O29: =E29 -> 0 | P29: =B29 -> 0 | Q29: =C29 -> 0 | R29: =D29 -> 0
B30: TC10 | C30: 0.48333333 | D30: 0.69166667 | E30: =D30-C30 -> 0.20833333 | F30: =TC!A15 -> Abdul Hamid Taher Al-Awad | J30: Salman | O30: =E30 -> 0.20833333 | P30: =B30 -> TC10 | Q30: =C30 -> 0.48333333 | R30: =D30 -> 0.69166667
O31: =E31 -> 0 | P31: =B31 -> 0 | Q31: =C31 -> 0 | R31: =D31 -> 0
B32: SP-D | C32: 0.5625 | D32: 0.9375 | E32: =D32-C32 -> 0.375 | F32: =TC!A17 -> Humim Abdul Rahman Al-Dossary | O32: =E32 -> 0.375 | P32: =B32 -> SP-D | Q32: =C32 -> 0.5625 | R32: =D32 -> 0.9375
O33: =E33 -> 0 | P33: =B33 -> 0 | Q33: =C33 -> 0 | R33: =D33 -> 0
B34: SP-D | C34: 0.5625 | D34: 0.9375 | E34: =D34-C34 -> 0.375 | F34: =TC!A32 -> Ali Hussein Al-Olaiwi | O34: =E34 -> 0.375 | P34: =B34 -> SP-D | Q34: =C34 -> 0.5625 | R34: =D34 -> 0.9375
O35: =E35 -> 0 | P35: =B35 -> 0 | Q35: =C35 -> 0 | R35: =D35 -> 0
B36: TC9 | C36: 0.59236111 | D36: 0.80486111 | E36: =D36-C36 -> 0.2125 | F36: =TC!A23 -> Mubarak Salem Al Shaiban | O36: =E36 -> 0.2125 | P36: =B36 -> TC9 | Q36: =C36 -> 0.59236111 | R36: =D36 -> 0.80486111
O37: =E37 -> 0 | P37: =B37 -> 0 | Q37: =C37 -> 0 | R37: =D37 -> 0
B38: TC13 | C38: 0.62291667 | D38: 0.84722222 | E38: =D38-C38 -> 0.22430556 | F38: =TC!A27 -> Abdul Ghani Ahmed Al-Nasser | O38: =E38 -> 0.22430556 | P38: =B38 -> TC13 | Q38: =C38 -> 0.62291667 | R38: =D38 -> 0.84722222
O39: =E39 -> 0 | P39: =B39 -> 0 | Q39: =C39 -> 0 | R39: =D39 -> 0
B40: TC14 | C40: 0.67083333 | D40: 0.88055556 | E40: =D40-C40 -> 0.20972222 | F40: =TC!A12 -> Abduleilah Ali Ibrahim | J40: Mohammed TRG | O40: =E40 -> 0.20972222 | P40: =B40 -> TC14 | Q40: =C40 -> 0.67083333 | R40: =D40 -> 0.88055556
O41: =E41 -> 0 | P41: =B41 -> 0 | Q41: =C41 -> 0 | R41: =D41 -> 0
B42: TC17 | C42: 0.78263889 | D42: 0.99513889 | E42: =D42-C42 -> 0.2125 | F42: =TC!A31 -> Mohammed Ibrahim Al-Melifi | O42: =E42 -> 0.2125 | P42: =B42 -> TC17 | Q42: =C42 -> 0.78263889 | R42: =D42 -> 0.99513889
O43: =E43 -> 0 | P43: =B43 -> 0 | Q43: =C43 -> 0 | R43: =D43 -> 0
B44: TC18 | C44: 0.79027778 | D44: 0.99861111 | E44: =D44-C44 -> 0.20833333 | F44: =TC!A22 -> Ahmed Jassim Al-Hussein | O44: =E44 -> 0.20833333 | P44: =B44 -> TC18 | Q44: =C44 -> 0.79027778 | R44: =D44 -> 0.99861111
...

Sheet DAS Thu
C2: Daily Alteration Sheet
B4: Thursday | D4: ='DAS Wed'!D4:E4+1 -> 45932
B5: Train Captain | K5: Dammam
B8: Shift ID | C8: On Duty | D8: Off Duty | E8: Hours | F8: Name | J8: Comments
O9: =E9 -> 0 | P9: =B9 -> 0 | Q9: =C9 -> 0 | R9: =D9 -> 0
B10: SP-D | C10: 0.125 | D10: 0.54166667 | E10: =D10-C10 -> 0.41666667 | F10: =TC!A35 -> Shami Abdo Al-Shehri | O10: =E10 -> 0.41666667 | P10: =B10 -> SP-D | Q10: =C10 -> 0.125 | R10: =D10 -> 0.54166667
O11: =E11 -> 0 | P11: =B11 -> 0 | Q11: =C11 -> 0 | R11: =D11 -> 0
B12: SP-D | C12: 0.125 | D12: 0.54166667 | E12: =D12-C12 -> 0.41666667 | F12: =TC!A36 -> Abdullah Jassim Al-Eid | O12: =E12 -> 0.41666667 | P12: =B12 -> SP-D | Q12: =C12 -> 0.125 | R12: =D12 -> 0.54166667
O13: =E13 -> 0 | P13: =B13 -> 0 | Q13: =C13 -> 0 | R13: =D13 -> 0
B14: TC1 | C14: 0.14444444 | D14: 0.35694444 | E14: =D14-C14 -> 0.2125 | F14: =TC!A16 -> Ahmed Abdulaziz Al-Ghwainem | O14: =E14 -> 0.2125 | P14: =B14 -> TC1 | Q14: =C14 -> 0.14444444 | R14: =D14 -> 0.35694444
O15: =E15 -> 0 | P15: =B15 -> 0 | Q15: =C15 -> 0 | R15: =D15 -> 0
B16: TC4 | C16: 0.18680556 | D16: 0.39513889 | E16: =D16-C16 -> 0.20833333 | F16: =TC!A28 -> Fayez Ahmed Al-Shehri | O16: =E16 -> 0.20833333 | P16: =B16 -> TC4 | Q16: =C16 -> 0.18680556 | R16: =D16 -> 0.39513889
O17: =E17 -> 0 | P17: =B17 -> 0 | Q17: =C17 -> 0 | R17: =D17 -> 0
B18: TC3&10 | C18: 0.22013889 | D18: 0.69166667 | E18: =D18-C18 -> 0.47152778 | F18: =TC!A10 -> Mansour Mohammed Al-Dossary | O18: =E18 -> 0.47152778 | P18: =B18 -> TC3&10 | Q18: =C18 -> 0.22013889 | R18: =D18 -> 0.69166667
O19: =E19 -> 0 | P19: =B19 -> 0 | Q19: =C19 -> 0 | R19: =D19 -> 0
B20: TC6 | C20: 0.27291667 | D20: 0.48125 | E20: =D20-C20 -> 0.20833333 | F20: =TC!A26 -> Saleh Ahmed Al-Olayani | O20: =E20 -> 0.20833333 | P20: =B20 -> TC6 | Q20: =C20 -> 0.27291667 | R20: =D20 -> 0.48125
O21: =E21 -> 0 | P21: =B21 -> 0 | Q21: =C21 -> 0 | R21: =D21 -> 0
B22: SP-R | C22: 0.16666667 | D22: 0.58333333 | E22: =D22-C22 -> 0.41666667 | F22: =TC!A18 -> Saad Saeed Al-Omari | J22: Rajeh | O22: =E22 -> 0.41666667 | P22: =B22 -> SP-R | Q22: =C22 -> 0.16666667 | R22: =D22 -> 0.58333333
O23: =E23 -> 0 | P23: =B23 -> 0 | Q23: =C23 -> 0 | R23: =D23 -> 0
B24: TC5&12 | C24: 0.38333333 | D24: 0.8125 | E24: =D24-C24 -> 0.42916667 | F24: =TC!A13 -> Saeed Saleh Al-Harthi | O24: =E24 -> 0.42916667 | P24: =B24 -> TC5&12 | Q24: =C24 -> 0.38333333 | R24: =D24 -> 0.8125
O25: =E25 -> 0 | P25: =B25 -> 0 | Q25: =C25 -> 0 | R25: =D25 -> 0
B26: SP-R | C26: 0.45833333 | D26: 0.83333333 | E26: =D26-C26 -> 0.375 | F26: =TC!A23 -> Mubarak Salem Al Shaiban | O26: =E26 -> 0.375 | P26: =B26 -> SP-R | Q26: =C26 -> 0.45833333 | R26: =D26 -> 0.83333333
O27: =E27 -> 0 | P27: =B27 -> 0 | Q27: =C27 -> 0 | R27: =D27 -> 0
B28: TC13 | C28: 0.62291667 | D28: 0.84722222 | E28: =D28-C28 -> 0.22430556 | F28: =TC!A12 -> Abduleilah Ali Ibrahim | O28: =E28 -> 0.22430556 | P28: =B28 -> TC13 | Q28: =C28 -> 0.62291667 | R28: =D28 -> 0.84722222
O29: =E29 -> 0 | P29: =B29 -> 0 | Q29: =C29 -> 0 | R29: =D29 -> 0
B30: TC7&16 | C30: 0.46736111 | D30: 0.96527778 | E30: =D30-C30 -> 0.49791667 | F30: =TC!A7 -> Ali Abdullah Al-Ghamdi | O30: =E30 -> 0.49791667 | P30: =B30 -> TC7&16 | Q30: =C30 -> 0.46736111 | R30: =D30 -> 0.96527778
O31: =E31 -> 0 | P31: =B31 -> 0 | Q31: =C31 -> 0 | R31: =D31 -> 0
B32: TC10 | C32: 0.48333333 | D32: 0.69166667 | E32: =D32-C32 -> 0.20833333 | F32: =TC!A29 -> Saleh Abdullah Al-Shamrani | O32: =E32 -> 0.20833333 | P32: =B32 -> TC10 | Q32: =C32 -> 0.48333333 | R32: =D32 -> 0.69166667
O33: =E33 -> 0 | P33: =B33 -> 0 | Q33: =C33 -> 0 | R33: =D33 -> 0
B34: SP-D | C34: 0.5625 | D34: 0.9375 | E34: =D34-C34 -> 0.375 | F34: =TC!A17 -> Humim Abdul Rahman Al-Dossary | O34: =E34 -> 0.375 | P34: =B34 -> SP-D | Q34: =C34 -> 0.5625 | R34: =D34 -> 0.9375
O35: =E35 -> 0 | P35: =B35 -> 0 | Q35: =C35 -> 0 | R35: =D35 -> 0
B36: TC9 | C36: 0.59236111 | D36: 0.80486111 | E36: =D36-C36 -> 0.2125 | F36: =TC!A9 -> Khaled Fahd Al-Harbi | O36: =E36 -> 0.2125 | P36: =B36 -> TC9 | Q36: =C36 -> 0.59236111 | R36: =D36 -> 0.80486111
O37: =E37 -> 0 | P37: =B37 -> 0 | Q37: =C37 -> 0 | R37: =D37 -> 0
B38: TC14 | C38: 0.67083333 | D38: 0.88055556 | E38: =D38-C38 -> 0.20972222 | F38: =TC!A27 -> Abdul Ghani Ahmed Al-Nasser | O38: =E38 -> 0.20972222 | P38: =B38 -> TC14 | Q38: =C38 -> 0.67083333 | R38: =D38 -> 0.88055556
O39: =E39 -> 0 | P39: =B39 -> 0 | Q39: =C39 -> 0 | R39: =D39 -> 0
B40: TC17 | C40: 0.78263889 | D40: 0.99513889 | E40: =D40-C40 -> 0.2125 | F40: =TC!A32 -> Ali Hussein Al-Olaiwi | O40: =E40 -> 0.2125 | P40: =B40 -> TC17 | Q40: =C40 -> 0.78263889 | R40: =D40 -> 0.99513889
O41: =E41 -> 0 | P41: =B41 -> 0 | Q41: =C41 -> 0 | R41: =D41 -> 0
B42: TC18 | C42: 0.79027778 | D42: 0.99861111 | E42: =D42-C42 -> 0.20833333 | F42: =TC!A31 -> Mohammed Ibrahim Al-Melifi | O42: =E42 -> 0.20833333 | P42: =B42 -> TC18 | Q42: =C42 -> 0.79027778 | R42: =D42 -> 0.99861111
O43: =E43 -> 0 | P43: =B43 -> 0 | Q43: =C43 -> 0 | R43: =D43 -> 0
B44: TC19&22 | C44: 0.9 | D44: 1.3118056 | E44: =D44-C44 -> 0.41180556 | F44: =TC!A11 -> Saleh Ali Alseda | O44: =E44 -> 0.41180556 | P44: =B44 -> TC19&22 | Q44: =C44 -> 0.9 | R44: =D44 -> 1.3118056
...

Sheet DAS Fri
C2: Daily Alteration Sheet
B4: Friday | D4: ='DAS Thu'!D4:E4+1 -> 45933
B5: Train Captain | K5: Dammam
B8: Shift ID | C8: On Duty | D8: Off Duty | E8: Hours | F8: Name | J8: Comments
O9: =E9 -> 0 | P9: =B9 -> 0 | Q9: =C9 -> 0 | R9: =D9 -> 0
B10: TC21&24 | C10: 0.22013889 | D10: 0.48055556 | E10: =D10-C10 -> 0.26041667 | F10: =TC!A35 -> Shami Abdo Al-Shehri | O10: =E10 -> 0.26041667 | P10: =B10 -> TC21&24 | Q10: =C10 -> 0.22013889 | R10: =D10 -> 0.48055556
O11: =E11 -> 0 | P11: =B11 -> 0 | Q11: =C11 -> 0 | R11: =D11 -> 0
B12: TC23&26 | C12: 0.38333333 | D12: 0.59861111 | E12: =D12-C12 -> 0.21527778 | F12: =TC!A36 -> Abdullah Jassim Al-Eid | O12: =E12 -> 0.21527778 | P12: =B12 -> TC23&26 | Q12: =C12 -> 0.38333333 | R12: =D12 -> 0.59861111
O13: =E13 -> 0 | P13: =B13 -> 0 | Q13: =C13 -> 0 | R13: =D13 -> 0
B14: TC25&28 | C14: 0.47291667 | D14: 0.69166667 | E14: =D14-C14 -> 0.21875 | F14: =TC!A14 -> Mubarak Yousef Al-Dossary | O14: =E14 -> 0.21875 | P14: =B14 -> TC25&28 | Q14: =C14 -> 0.47291667 | R14: =D14 -> 0.69166667
O15: =E15 -> 0 | P15: =B15 -> 0 | Q15: =C15 -> 0 | R15: =D15 -> 0
B16: SP-D | C16: 0.19791667 | D16: 0.54166667 | E16: =D16-C16 -> 0.34375 | F16: =TC!A20 -> Nasser Jamaan Al-Ghamdi | O16: =E16 -> 0.34375 | P16: =B16 -> SP-D | Q16: =C16 -> 0.19791667 | R16: =D16 -> 0.54166667
O17: =E17 -> 0 | P17: =B17 -> 0 | Q17: =C17 -> 0 | R17: =D17 -> 0
B18: SP-D | C18: 0.19791667 | D18: 0.54166667 | E18: =D18-C18 -> 0.34375 | F18: =TC!A10 -> Mansour Mohammed Al-Dossary | O18: =E18 -> 0.34375 | P18: =B18 -> SP-D | Q18: =C18 -> 0.19791667 | R18: =D18 -> 0.54166667
O19: =E19 -> 0 | P19: =B19 -> 0 | Q19: =C19 -> 0 | R19: =D19 -> 0
B20: SP-R | C20: 0.33333333 | D20: 0.58333333 | E20: =D20-C20 -> 0.25 | F20: =TC!A9 -> Khaled Fahd Al-Harbi | O20: =E20 -> 0.25 | P20: =B20 -> SP-R | Q20: =C20 -> 0.33333333 | R20: =D20 -> 0.58333333
O21: =E21 -> 0 | P21: =B21 -> 0 | Q21: =C21 -> 0 | R21: =D21 -> 0
B22: TC27&30 | C22: 0.59236111 | D22: 0.80763889 | E22: =D22-C22 -> 0.21527778 | F22: =TC!A13 -> Saeed Saleh Al-Harthi | O22: =E22 -> 0.21527778 | P22: =B22 -> TC27&30 | Q22: =C22 -> 0.59236111 | R22: =D22 -> 0.80763889
O23: =E23 -> 0 | P23: =B23 -> 0 | Q23: =C23 -> 0 | R23: =D23 -> 0
B24: SP-R | C24: 0.375 | D24: 0.58333333 | E24: =D24-C24 -> 0.20833333 | F24: =TC!A12 -> Abduleilah Ali Ibrahim | O24: =E24 -> 0.20833333 | P24: =B24 -> SP-R | Q24: =C24 -> 0.375 | R24: =D24 -> 0.58333333
O25: =E25 -> 0 | P25: =B25 -> 0 | Q25: =C25 -> 0 | R25: =D25 -> 0
B26: TC29&32 | C26: 0.62291667 | D26: 0.88125 | E26: =D26-C26 -> 0.25833333 | F26: =TC!A18 -> Saad Saeed Al-Omari | O26: =E26 -> 0.25833333 | P26: =B26 -> TC29&32 | Q26: =C26 -> 0.62291667 | R26: =D26 -> 0.88125
O27: =E27 -> 0 | P27: =B27 -> 0 | Q27: =C27 -> 0 | R27: =D27 -> 0
B28: SP-R | C28: 0.54166667 | D28: 0.83333333 | E28: =D28-C28 -> 0.29166667 | F28: =TC!A32 -> Ali Hussein Al-Olaiwi | O28: =E28 -> 0.29166667 | P28: =B28 -> SP-R | Q28: =C28 -> 0.54166667 | R28: =D28 -> 0.83333333
O29: =E29 -> 0 | P29: =B29 -> 0 | Q29: =C29 -> 0 | R29: =D29 -> 0
B30: TC31&34 | C30: 0.70763889 | D30: 0.96527778 | E30: =D30-C30 -> 0.25763889 | F30: =TC!A25 -> Hussein Muhammad Al-Omari | O30: =E30 -> 0.25763889 | P30: =B30 -> TC31&34 | Q30: =C30 -> 0.70763889 | R30: =D30 -> 0.96527778
O31: =E31 -> 0 | P31: =B31 -> 0 | Q31: =C31 -> 0 | R31: =D31 -> 0
B32: TC33&38 | C32: 0.78263889 | D32: 0.99861111 | E32: =D32-C32 -> 0.21597222 | F32: =TC!A28 -> Fayez Ahmed Al-Shehri | O32: =E32 -> 0.21597222 | P32: =B32 -> TC33&38 | Q32: =C32 -> 0.78263889 | R32: =D32 -> 0.99861111
O33: =E33 -> 0 | P33: =B33 -> 0 | Q33: =C33 -> 0 | R33: =D33 -> 0
B34: SP-D | C34: 0.5625 | D34: 0.9375 | E34: =D34-C34 -> 0.375 | F34: =TC!A23 -> Mubarak Salem Al Shaiban | O34: =E34 -> 0.375 | P34: =B34 -> SP-D | Q34: =C34 -> 0.5625 | R34: =D34 -> 0.9375
O35: =E35 -> 0 | P35: =B35 -> 0 | Q35: =C35 -> 0 | R35: =D35 -> 0
B36: TC35&2 | C36: 0.9 | D36: 1.31875 | E36: =D36-C36 -> 0.41875 | F36: =TC!A29 -> Saleh Abdullah Al-Shamrani | O36: =E36 -> 0.41875 | P36: =B36 -> TC35&2 | Q36: =C36 -> 0.9 | R36: =D36 -> 1.31875
O37: =E37 -> 0 | P37: =B37 -> 0 | Q37: =C37 -> 0 | R37: =D37 -> 0
B38: SP-D | C38: 0.5625 | D38: 0.9375 | E38: =D38-C38 -> 0.375 | F38: =TC!A31 -> Mohammed Ibrahim Al-Melifi | O38: =E38 -> 0.375 | P38: =B38 -> SP-D | Q38: =C38 -> 0.5625 | R38: =D38 -> 0.9375
O39: =E39 -> 0 | P39: =B39 -> 0 | Q39: =C39 -> 0 | R39: =D39 -> 0
B40: SP-H | C40: 0.58333333 | D40: 0.95833333 | E40: =D40-C40 -> 0.375 | F40: =TC!A15 -> Abdul Hamid Taher Al-Awad | O40: =E40 -> 0.375 | P40: =B40 -> SP-H | Q40: =C40 -> 0.58333333 | R40: =D40 -> 0.95833333
O41: =E41 -> 0 | P41: =B41 -> 0 | Q41: =C41 -> 0 | R41: =D41 -> 0
B42: SP-H | C42: 0.20833333 | D42: 0.58333333 | E42: =D42-C42 -> 0.375 | F42: =TC!A16 -> Ahmed Abdulaziz Al-Ghwainem | O42: =E42 -> 0.375 | P42: =B42 -> SP-H | Q42: =C42 -> 0.20833333 | R42: =D42 -> 0.58333333
O43: =E43 -> 0 | P43: =B43 -> 0 | Q43: =C43 -> 0 | R43: =D43 -> 0
O44: =E44 -> 0 | P44: =B44 -> 0 | Q44: =C44 -> 0 | R44: =D44 -> 0
...

Sheet DAS Sat
C2: Daily Alteration Sheet
B4: Saturday | D4: ='DAS Fri'!D4:E4+1 -> 45934
B5: Train Captain | K5: Dammam
B8: Shift ID | C8: On Duty | D8: Off Duty | E8: Hours | F8: Name | J8: Comments
O9: =E9 -> 0 | P9: =B9 -> 0 | Q9: =C9 -> 0 | R9: =D9 -> 0
B10: SP-D | C10: 0.19791667 | D10: 0.54166667 | E10: =D10-C10 -> 0.34375 | F10: =TC!A35 -> Shami Abdo Al-Shehri | O10: =E10 -> 0.34375 | P10: =B10 -> SP-D | Q10: =C10 -> 0.19791667 | R10: =D10 -> 0.54166667
O11: =E11 -> 0 | P11: =B11 -> 0 | Q11: =C11 -> 0 | R11: =D11 -> 0
B12: SP-D | C12: 0.19791667 | D12: 0.54166667 | E12: =D12-C12 -> 0.34375 | F12: =TC!A20 -> Nasser Jamaan Al-Ghamdi | O12: =E12 -> 0.34375 | P12: =B12 -> SP-D | Q12: =C12 -> 0.19791667 | R12: =D12 -> 0.54166667
O13: =E13 -> 0 | P13: =B13 -> 0 | Q13: =C13 -> 0 | R13: =D13 -> 0
B14: TC23&26 | C14: 0.38333333 | D14: 0.59861111 | E14: =D14-C14 -> 0.21527778 | F14: =TC!A36 -> Abdullah Jassim Al-Eid | O14: =E14 -> 0.21527778 | P14: =B14 -> TC23&26 | Q14: =C14 -> 0.38333333 | R14: =D14 -> 0.59861111
O15: =E15 -> 0 | P15: =B15 -> 0 | Q15: =C15 -> 0 | R15: =D15 -> 0
B16: TC25&28 | C16: 0.47291667 | D16: 0.69166667 | E16: =D16-C16 -> 0.21875 | F16: =TC!A14 -> Mubarak Yousef Al-Dossary | O16: =E16 -> 0.21875 | P16: =B16 -> TC25&28 | Q16: =C16 -> 0.47291667 | R16: =D16 -> 0.69166667
O17: =E17 -> 0 | P17: =B17 -> 0 | Q17: =C17 -> 0 | R17: =D17 -> 0
B18: TC21&24 | C18: 0.22013889 | D18: 0.48055556 | E18: =D18-C18 -> 0.26041667 | F18: =TC!A16 -> Ahmed Abdulaziz Al-Ghwainem | O18: =E18 -> 0.26041667 | P18: =B18 -> TC21&24 | Q18: =C18 -> 0.22013889 | R18: =D18 -> 0.48055556
O19: =E19 -> 0 | P19: =B19 -> 0 | Q19: =C19 -> 0 | R19: =D19 -> 0
B20: TC27&30 | C20: 0.59236111 | D20: 0.80763889 | E20: =D20-C20 -> 0.21527778 | F20: =TC!A28 -> Fayez Ahmed Al-Shehri | O20: =E20 -> 0.21527778 | P20: =B20 -> TC27&30 | Q20: =C20 -> 0.59236111 | R20: =D20 -> 0.80763889
O21: =E21 -> 0 | P21: =B21 -> 0 | Q21: =C21 -> 0 | R21: =D21 -> 0
B22: TC29&32 | C22: 0.62291667 | D22: 0.88125 | E22: =D22-C22 -> 0.25833333 | F22: =TC!A22 -> Ahmed Jassim Al-Hussein | O22: =E22 -> 0.25833333 | P22: =B22 -> TC29&32 | Q22: =C22 -> 0.62291667 | R22: =D22 -> 0.88125
O23: =E23 -> 0 | P23: =B23 -> 0 | Q23: =C23 -> 0 | R23: =D23 -> 0
B24: SP-R | C24: 0.375 | D24: 0.66666667 | E24: =D24-C24 -> 0.29166667 | F24: =TC!A9 -> Khaled Fahd Al-Harbi | O24: =E24 -> 0.29166667 | P24: =B24 -> SP-R | Q24: =C24 -> 0.375 | R24: =D24 -> 0.66666667
O25: =E25 -> 0 | P25: =B25 -> 0 | Q25: =C25 -> 0 | R25: =D25 -> 0
B26: SP-R | C26: 0.375 | D26: 0.66666667 | E26: =D26-C26 -> 0.29166667 | F26: =TC!A12 -> Abduleilah Ali Ibrahim | O26: =E26 -> 0.29166667 | P26: =B26 -> SP-R | Q26: =C26 -> 0.375 | R26: =D26 -> 0.66666667
O27: =E27 -> 0 | P27: =B27 -> 0 | Q27: =C27 -> 0 | R27: =D27 -> 0
B28: SP-R | C28: 0.45833333 | D28: 0.75 | E28: =D28-C28 -> 0.29166667 | F28: =TC!A32 -> Ali Hussein Al-Olaiwi | O28: =E28 -> 0.29166667 | P28: =B28 -> SP-R | Q28: =C28 -> 0.45833333 | R28: =D28 -> 0.75
O29: =E29 -> 0 | P29: =B29 -> 0 | Q29: =C29 -> 0 | R29: =D29 -> 0
B30: SP-H | C30: 0.20833333 | D30: 0.58333333 | E30: =D30-C30 -> 0.375 | F30: =TC!A16 -> Ahmed Abdulaziz Al-Ghwainem | O30: =E30 -> 0.375 | P30: =B30 -> SP-H | Q30: =C30 -> 0.20833333 | R30: =D30 -> 0.58333333
O31: =E31 -> 0 | P31: =B31 -> 0 | Q31: =C31 -> 0 | R31: =D31 -> 0
B32: TC31&34 | C32: 0.70763889 | D32: 0.96527778 | E32: =D32-C32 -> 0.25763889 | F32: =TC!A13 -> Saeed Saleh Al-Harthi | O32: =E32 -> 0.25763889 | P32: =B32 -> TC31&34 | Q32: =C32 -> 0.70763889 | R32: =D32 -> 0.96527778
O33: =E33 -> 0 | P33: =B33 -> 0 | Q33: =C33 -> 0 | R33: =D33 -> 0
B34: SP-H | C34: 0.58333333 | D34: 0.95833333 | E34: =D34-C34 -> 0.375 | F34: =TC!A15 -> Abdul Hamid Taher Al-Awad | O34: =E34 -> 0.375 | P34: =B34 -> SP-H | Q34: =C34 -> 0.58333333 | R34: =D34 -> 0.95833333
O35: =E35 -> 0 | P35: =B35 -> 0 | Q35: =C35 -> 0 | R35: =D35 -> 0
B36: SP-D | C36: 0.5625 | D36: 0.9375 | E36: =D36-C36 -> 0.375 | F36: =TC!A18 -> Saad Saeed Al-Omari | O36: =E36 -> 0.375 | P36: =B36 -> SP-D | Q36: =C36 -> 0.5625 | R36: =D36 -> 0.9375
O37: =E37 -> 0 | P37: =B37 -> 0 | Q37: =C37 -> 0 | R37: =D37 -> 0
B38: TC33&38 | C38: 0.78263889 | D38: 0.99861111 | E38: =D38-C38 -> 0.21597222 | F38: =TC!A10 -> Mansour Mohammed Al-Dossary | O38: =E38 -> 0.21597222 | P38: =B38 -> TC33&38 | Q38: =C38 -> 0.78263889 | R38: =D38 -> 0.99861111
O39: =E39 -> 0 | P39: =B39 -> 0 | Q39: =C39 -> 0 | R39: =D39 -> 0
B40: SP-D | C40: 0.5625 | D40: 0.9375 | E40: =D40-C40 -> 0.375 | F40: =TC!A25 -> Hussein Muhammad Al-Omari | O40: =E40 -> 0.375 | P40: =B40 -> SP-D | Q40: =C40 -> 0.5625 | R40: =D40 -> 0.9375
O41: =E41 -> 0 | P41: =B41 -> 0 | Q41: =C41 -> 0 | R41: =D41 -> 0
B42: TC35&2 | C42: 0.9 | D42: 1.31875 | E42: =D42-C42 -> 0.41875 | F42: =TC!A31 -> Mohammed Ibrahim Al-Melifi | O42: =E42 -> 0.41875 | P42: =B42 -> TC35&2 | Q42: =C42 -> 0.9 | R42: =D42 -> 1.31875
O43: =E43 -> 0 | P43: =B43 -> 0 | Q43: =C43 -> 0 | R43: =D43 -> 0
B44: SP-D | C44: 0.5625 | D44: 0.9375 | E44: =D44-C44 -> 0.375 | F44: =TC!A34 -> Hussein Abdul Jalil Al-Buqshi | O44: =E44 -> 0.375 | P44: =B44 -> SP-D | Q44: =C44 -> 0.5625 | R44: =D44 -> 0.9375
...

Sheet Tng & Det
A2: Training & Detachments
B6: Train Captain
C9: =TC!B3 -> 45928 | D9: =C9+1 -> 45929 | E9: =D9+1 -> 45930 | F9: =E9+1 -> 45931 | G9: =F9+1 -> 45932 | H9: =G9+1 -> 45933 | I9: =H9+1 -> 45934
A10: Name | B10: Description | C10: =C9 -> 45928 | D10: =D9 -> 45929 | E10: =E9 -> 45930 | F10: =F9 -> 45931 | G10: =G9 -> 45932 | H10: =H9 -> 45933 | I10: =I9 -> 45934

Sheet Phone#
C2: Contact Numbers
C8: Name | D8: Mobile #
C9: Abdul Azim Hassan Al-Midani | D9: 059 626 8751
C10: Radhi R.AlGomayaan | D10: 050 382 2755
C11: Mubarak Yousef Al-Dossary | D11: 050 039 0343
C12: Mohammed Ibrahim Al-Melifi | D12: 050 383 8591
C13: Ali Abdullah Al-Ghamdi | D13: 054 199 9263
C14: Hussein Muhammad Al-Omari | D14: 050 885 0295
C15: Salman Al-Shammari | D15: 055 203 0010
C16: Hussein Abdul Jalil Al-Buqshi | D16: 050 684 2002
C17: Saad Saeed Al-Omari | D17: 055 804 5451
C18: Salem Mahdi Al Shaiban | D18: 055 482 5885
C19: Mubarak Salem Al Shaiban | D19: 053 334 7907
... C43: Habib Mahdi Al-Jitti | D43: 050 996 2663
A46: Operation Train Crew Office Ext: +966 (0) 11 525 0000 Ext:

Sheet Hours
C1: Dutty Hours | V1: Mainline & Depot Hours
C2: =TC!B3 -> 45928 | E2: =C2+1 -> 45929 | G2: =E2+1 -> 45930 | I2: =G2+1 -> 45931 | K2: =I2+1 -> 45932 | M2: =K2+1 -> 45933 | O2: =M2+1 -> 45934 | V2: =TC!B3 -> 45928 | Y2: =V2+1 -> 45929 | AB2: =Y2+1 -> 45930 | AE2: =AB2+1 -> 45931 | AH2: =AE2+1 -> 45932 | AK2: =AH2+1 -> 45933 | AN2: =AK2+1 -> 45934 | AV2: =AW2-1 -> 45927 | AW2: =TC!B3 -> 45928 | BA2: =AW2+1 -> 45929 | BE2: =BA2+1 -> 45930 | BI2: =BE2+1 -> 45931 | BM2: =BI2+1 -> 45932 | BQ2: =BM2+1 -> 45933 | BU2: =BQ2+1 -> 45934
C3: Sun | E3: Mon | G3: Tue | I3: Wed | K3: Thu | M3: Fri | O3: Sat | V3: Sunday | Y3: Monday | AB3: Tuesday | AE3: Wednesday | AH3: Thursday | AK3: Friday | AN3: Saturday | AV3: Sat | AW3: Sun | BA3: Mon | BE3: Tue | BI3: Wed | BM3: Thu | BQ3: Fri | BU3: Sat
C4: Actual | D4: BaseRoster | E4: Actual | F4: BaseRoster | G4: Actual | H4: BaseRoster | I4: Actual | J4: BaseRoster | K4: Actual | L4: BaseRoster | M4: Actual | N4: BaseRoster | O4: Actual | P4: BaseRoster | Q4: Actual Hours | R4: BaseRoster Hours | S4: Off | V4: Shift | W4: Mainline | X4: Accommodation | Y4: Shift | Z4: Mainline | AA4: Accommodation | AB4: Shift | AC4: Mainline | AD4: Accommodation | AE4: Shift | AF4: Mainline | AG4: Accommodation | AH4: Shift | AI4: Mainline | AJ4: Accommodation | AK4: Shift | AL4: Mainline | AM4: Accommodation | AN4: Shift | AO4: Mainline | AP4: Accommodation | AQ4: Actual Mainline Hours | AR4: BaseRoster Mainline Hours | AS4: OverNight | AV4: Off Duty | AW4: in | AX4: out | AY4: 1 | AZ4: Hours Rest | BA4: in | BB4: out | BD4: Hours Rest | BE4: in | BF4: out | BH4: Hours Rest | BI4: in | BJ4: out | BL4: Hours Rest | BM4: in | BN4: out | BP4: Hours Rest | BQ4: in | BR4: out | BT4: Hours Rest | BU4: in | BV4: out | BW4: Off Duty | BX4: Hours Rest
B5: =TC!A7 -> Ali Abdullah Al-Ghamdi | C5: =IFERROR(VLOOKUP(B5,'DAS Sun'!$F$9:$O$50,10,0),"Off") -> 0.2125 | D5: =TC!E7 -> 0.2125 | E5: =IFERROR(VLOOKUP(B5,'DAS Mon'!$F$9:$O$44,10,0),"Off") -> 0.41666667 | F5: =TC!I7 -> 0.41666667 | G5: =IFERROR(VLOOKUP(B5,'DAS Tue'!$F$9:$O$44,10,0),"Off") -> 0.20833333 | H5: =TC!M7 -> 0.20833333 | I5: =IFERROR(VLOOKUP(B5,'DAS Wed'!$F$9:$O$50,10,0),"Off") -> 0.42916667 | J5: =TC!Q7 -> 0.42916667 | K5: =IFERROR(VLOOKUP(B5,'DAS Thu'!$F$9:$O$47,10,0),"Off") -> 0.49791667 | L5: =TC!U7 -> 0.49791667 | M5: =IFERROR(VLOOKUP(B5,'DAS Fri'!$F$9:$O$46,10,0),"Off") -> Off | N5: =TC!Y7 -> 0 | O5: =IFERROR(VLOOKUP(B5,'DAS Sat'!$F$9:$O$48,10,0),"Off") -> Off | P5: =TC!AC7 -> 0 | Q5: =SUM(C5,E5,G5,I5,K5,M5,O5) -> 1.7645833 | R5: =P5+N5+L5+J5+H5+F5+D5 -> 1.7645833 | S5: =COUNTIF(C5:P5,"Off") -> 2 | T5: =R5-Q5 -> 0 | U5: =TC!A7 -> Ali Abdullah Al-Ghamdi | V5: =IFERROR(VLOOKUP(U5,'DAS Sun'!$F$12:$P$50,11,0),"Off") -> TC1 | W5: =IF(V5="TC1","7:40",IF(V5="TC2","2:40",IF(V5="TC3","2:40",IF(V5="TC4","2:40",IF(V5="TC5","7:40",IF(V5="TC6","7:40",IF(V5="TC7","3:50",IF(V5="TC8","3:50",IF(V5="TC9","3:50",IF(V5="TC10","3:50",IF(V5="TC11","3:50",IF(V5="TC12","3:50",IF(V5="TC13","3:50",IF(V5="TC14","3:50",IF(V5="SP-D","0",IF(V5="SP-H","0",)))))))))))))))) -> 7:40 | X5: =IF(V5="TC1","YES",IF(V5="TC7","YES",IF(V5="TC9","YES",IF(V5="TC11","YES",IF(V5="TC13","YES",IF(V5="TC15","YES",IF(V5="SP-R","YES",))))))) -> YES | Y5: =IFERROR(VLOOKUP(U5,'DAS Mon'!$F$9:$P$44,11,0),"Off") -> SP-R | Z5: =IF(Y5="TC1","7:40",IF(Y5="TC2","2:40",IF(Y5="TC3","2:40",IF(Y5="TC4","2:40",IF(Y5="TC5","7:40",IF(Y5="TC6","7:40",IF(Y5="TC7","3:50",IF(Y5="TC8","3:50",IF(Y5="TC9","3:50",IF(Y5="TC10","3:50",IF(Y5="TC11","3:50",IF(Y5="TC12","3:50",IF(Y5="TC13","3:50",IF(Y5="TC14","3:50",IF(Y5="SP-D","0",IF(Y5="SP-H","0",)))))))))))))))) -> 0 | AA5: =IF(Y5="TC1","YES",IF(Y5="TC7","YES",IF(Y5="TC9","YES",IF(Y5="TC11","YES",IF(Y5="TC13","YES",IF(Y5="TC15","YES",IF(Y5="SP-R","YES",))))))) -> YES | AB5: =IFERROR(VLOOKUP(U5,'DAS Tue'!$F$9:$P$44,11,0),"Off") -> TC4 | AC5: =IF(AB5="TC1","7:40",IF(AB5="TC2","2:40",IF(AB5="TC3","2:40",IF(AB5="TC4","2:40",IF(AB5="TC5","7:40",IF(AB5="TC6","7:40",IF(AB5="TC7","3:50",IF(AB5="TC8","3:50",IF(AB5="TC9","3:50",IF(AB5="TC10","3:50",IF(AB5="TC11","3:50",IF(AB5="TC12","3:50",IF(AB5="TC13","3:50",IF(AB5="TC14","3:50",IF(AB5="SP-D","0",IF(AB5="SP-H","0",)))))))))))))))) -> 2:40 | AD5: =IF(AB5="TC1","YES",IF(AB5="TC7","YES",IF(AB5="TC9","YES",IF(AB5="TC11","YES",IF(AB5="TC13","YES",IF(AB5="TC15","YES",IF(AB5="SP-R","YES",))))))) -> 0 | AE5: =IFERROR(VLOOKUP(U5,'DAS Wed'!$F$11:$P$50,11,0),"Off") -> TC5&12 | AF5: =IF(AE5="TC1","7:40",IF(AE5="TC2","2:40",IF(AE5="TC3","2:40",IF(AE5="TC4","2:40",IF(AE5="TC5","7:40",IF(AE5="TC6","7:40",IF(AE5="TC7","3:50",IF(AE5="TC8","3:50",IF(AE5="TC9","3:50",IF(AE5="TC10","3:50",IF(AE5="TC11","3:50",IF(AE5="TC12","3:50",IF(AE5="TC13","3:50",IF(AE5="TC14","3:50",IF(AE5="SP-D","0",IF(AE5="SP-H","0",)))))))))))))))) -> 0 | AG5: =IF(AE5="TC1","YES",IF(AE5="TC7","YES",IF(AE5="TC9","YES",IF(AE5="TC11","YES",IF(AE5="TC13","YES",IF(AE5="TC15","YES",IF(AE5="SP-R","YES",))))))) -> 0 | AH5: =IFERROR(VLOOKUP(U5,'DAS Thu'!$F$9:$P$45,11,0),"Off") -> TC7&16 | AI5: =IF(AH5="TC1","7:40",IF(AH5="TC2","2:40",IF(AH5="TC3","2:40",IF(AH5="TC4","2:40",IF(AH5="TC5","7:40",IF(AH5="TC6","7:40",IF(AH5="TC7","3:50",IF(AH5="TC8","3:50",IF(AH5="TC9","3:50",IF(AH5="TC10","3:50",IF(AH5="TC11","3:50",IF(AH5="TC12","3:50",IF(AH5="TC13","3:50",IF(AH5="TC14","3:50",IF(AH5="SP-D","0",IF(AH5="SP-H","0",)))))))))))))))) -> 0 | AJ5: =IF(AH5="TC1","YES",IF(AH5="TC7","YES",IF(AH5="TC9","YES",IF(AH5="TC11","YES",IF(AH5="TC13","YES",IF(AH5="TC15","YES",IF(AH5="SP-R","YES",))))))) -> 0 | AK5: =IFERROR(VLOOKUP(U5,'DAS Fri'!$F$9:$P$46,11,0),"Off") -> Off | AL5: =IF(AK5="TC1","7:40",IF(AK5="TC2","2:40",IF(AK5="TC3","2:40",IF(AK5="TC4","2:40",IF(AK5="TC5","7:40",IF(AK5="TC6","7:40",IF(AK5="TC7","3:50",IF(AK5="TC8","3:50",IF(AK5="TC9","3:50",IF(AK5="TC10","3:50",IF(AK5="TC11","3:50",IF(AK5="TC12","3:50",IF(AK5="TC13","3:50",IF(AK5="TC14","3:50",IF(AK5="SP-D","0",IF(AK5="SP-H","0",)))))))))))))))) -> 0 | AM5: =IF(AK5="TC7","YES",IF(AK5="TC9","YES",IF(AK5="TC11","YES",IF(AK5="TC13","YES",IF(AK5="TC15","YES",IF(AK5="SP-R","YES",)))))) -> 0 | AN5: =IFERROR(VLOOKUP(U5,'DAS Sat'!$F$20:$P$48,11,0),"Off") -> Off | AO5: =IF(AN5="TC1","7:40",IF(AN5="TC2","2:40",IF(AN5="TC3","2:40",IF(AN5="TC4","2:40",IF(AN5="TC5","7:40",IF(AN5="TC6","7:40",IF(AN5="TC7","3:50",IF(AN5="TC8","3:50",IF(AN5="TC9","3:50",IF(AN5="TC10","3:50",IF(AN5="TC11","3:50",IF(AN5="TC12","3:50",IF(AN5="TC13","3:50",IF(AN5="TC14","3:50",IF(AN5="SP-D","0",IF(AN5="SP-H","0",)))))))))))))))) -> 0 | AP5: =IF(AN5="TC7","YES",IF(AN5="TC9","YES",IF(AN5="TC11","YES",IF(AN5="TC13","YES",IF(AN5="TC15","YES",IF(AN5="SP-R","YES",)))))) -> 0 | AQ5: =W5+Z5+AC5+AF5+AI5+AL5+AO5 -> 0.43055556 | AR5: 0.63888889 | AS5: =COUNTIF(V5:AP5,"Yes") -> 2 | AU5: =TC!A7 -> Ali Abdullah Al-Ghamdi | AV5: #VALUE! | AW5: =IFERROR(VLOOKUP(AU5,'DAS Sun'!$F$11:$Q$60,12,0),"Off") -> 0.14444444 | AX5: =IFERROR(VLOOKUP(AU5,'DAS Sun'!$F$11:$R$60,13,0),"Off") -> 0.35694444 | AY5: =$AY$4-AX5 -> 0.64305556 | AZ5: =AW5+#REF! -> #REF! | BA5: =IFERROR(VLOOKUP(AU5,'DAS Mon'!$F$9:$Q$60,12,0),"Off") -> 0.16666667 | BB5: =IFERROR(VLOOKUP(AU5,'DAS Mon'!$F$9:$R$60,13,0),"Off") -> 0.58333333 | BC5: =$AY$4-BB5 -> 0.41666667 | BD5: =BA5+AY5 -> 0.80972222 | BE5: =IFERROR(VLOOKUP(AU5,'DAS Tue'!$F$9:$Q$58,12,0),"Off") -> 0.18680556 | BF5: =IFERROR(VLOOKUP(AU5,'DAS Tue'!$F$9:$R$58,13,0),"Off") -> 0.39513889 | BG5: =$AY$4-BF5 -> 0.60486111 | BH5: =BE5+BC5 -> 0.60347222 | BI5: =IFERROR(VLOOKUP(AU5,'DAS Wed'!$F$11:$Q$60,12,0),"Off") -> 0.38333333 | BJ5: =IFERROR(VLOOKUP(AU5,'DAS Wed'!$F$11:$R$60,13,0),"Off") -> 0.8125 | BK5: =$AY$4-BJ5 -> 0.1875 | BL5: =BI5+BG5 -> 0.98819444 | BM5: =IFERROR(VLOOKUP(AU5,'DAS Thu'!$F$9:$Q$61,12,0),"Off") -> 0.46736111 | BN5: =IFERROR(VLOOKUP(AU5,'DAS Thu'!$F$9:$R$61,13,0),"Off") -> 0.96527778 | BO5: =$AY$4-BN5 -> 0.034722222 | BP5: =BM5+BK5 -> 0.65486111 | BQ5: =IFERROR(VLOOKUP(AU5,'DAS Fri'!$F$9:$Q$61,12,0),"Off") -> Off | BR5: =IFERROR(VLOOKUP(AU5,'DAS Fri'!$F$9:$R$61,13,0),"Off") -> Off | BS5: =$AY$4-BR5 -> #VALUE! | BT5: =BQ5+BO5 -> #VALUE! | BU5: =IFERROR(VLOOKUP(AU5,'DAS Sat'!$F$20:$Q$61,12,0),"Off") -> Off | BV5: =IFERROR(VLOOKUP(AU5,'DAS Sat'!$F$20:$R$61,13,0),"Off") -> Off | BW5: =$AY$4-BV5 -> #VALUE! | BX5: =BU5+BS5 -> #VALUE!
