Workbook

Sheet TC
A3: Week Commencing Sunday | B3: 45928 | J3: Dammam Train Captain
B5: Sunday | F5: Monday | J5: Tuesday | N5: Wednesday | R5: Thursday | V5: Friday | Z5: Saturday
B6: Shift | C6: On | D6: Off | E6: Hours | F6: Shift | G6: On | H6: Off | I6: Hours | J6: Shift | K6: On | L6: Off | M6: Hours | N6: Shift | O6: On | P6: Off | Q6: Hours | R6: Shift | S6: On | T6: Off | U6: Hours | V6: Shift | W6: On | X6: Off | Y6: Hours | Z6: Shift | AA6: On | AB6: Off | AC6: Hours
A7: Ali Abdullah Al-Ghamdi | B7: TC1 | C7: 0.14444444 | D7: 0.35694444 | E7: =D7-C7 -> 0.2125 | F7: SP-R | G7: 0.16666667 | H7: 0.58333333 | I7: =H7-G7 -> 0.41666667 | J7: TC4 | K7: 0.18680556 | L7: 0.39513889 | M7: =L7-K7 -> 0.20833333 | N7: TC5&12 | O7: 0.38333333 | P7: 0.8125 | Q7: =P7-O7 -> 0.42916667 | R7: TC7&16 | S7: 0.46736111 | T7: 0.96527778 | U7: =T7-S7 -> 0.49791667 | W7: Rest | X7: Day | AA7: Rest | AB7: Day
A8: Rajeh Hussein Al-Harith | C8: Rest | D8: Day | F8: TC7 | G8: 0.46736111 | H8: 0.68263889 | I8: =H8-G8 -> 0.21527778 | J8: TC6 | K8: 0.27291667 | L8: 0.48125 | M8: =L8-K8 -> 0.20833333 | N8: TC1 | O8: 0.14444444 | P8: 0.35694444 | Q8: =P8-O8 -> 0.2125 | R8: SP-R | S8: 0.16666667 | T8: 0.58333333 | U8: =T8-S8 -> 0.41666667 | V8: TC4 | W8: 0.18680556 | X8: 0.39513889 | Y8: =X8-W8 -> 0.20833333 | Z8: TC1 | AA8: 0.14444444 | AB8: 0.35694444 | AC8: =AB8-AA8 -> 0.2125
A9: Khaled Fahd Al-Harbi | B9: SP-R | C9: 0.16666667 | D9: 0.58333333 | E9: =D9-C9 -> 0.41666667 | F9: TC4 | G9: 0.18680556 | H9: 0.39513889 | I9: =H9-G9 -> 0.20833333 | K9: Rest | L9: Day | O9: Rest | P9: Day | R9: TC7 | S9: 0.46736111 | T9: 0.68263889 | U9: =T9-S9 -> 0.21527778 | V9: TC8 | W9: 0.35763889 | X9: 0.56597222 | Y9: =X9-W9 -> 0.20833333 | Z9: SP-D | AA9: 0.125 | AB9: 0.54166667 | AC9: =AB9-AA9 -> 0.41666667
A10: Mansour Mohammed Al-Dossary | B10: SP-D | C10: 0.125 | D10: 0.54166667 | E10: =D10-C10 -> 0.41666667 | F10: SP-D | G10: 0.14583333 | H10: 0.5625 | I10: =H10-G10 -> 0.41666667 | J10: SP-D | K10: 0.125 | L10: 0.54166667 | M10: =L10-K10 -> 0.41666667 | O10: Rest | P10: Day | S10: Rest | T10: Day | V10: TC1 | W10: 0.14444444 | X10: 0.35694444 | Y10: =X10-W10 -> 0.2125 | Z10: SP-R | AA10: 0.16666667 | AB10: 0.58333333 | AC10: =AB10-AA10 -> 0.41666667
A11: Saleh Ali Alseda | B11: TC4 | C11: 0.18680556 | D11: 0.39513889 | E11: =D11-C11 -> 0.20833333 | F11: TC1 | G11: 0.14444444 | H11: 0.35694444 | I11: =H11-G11 -> 0.2125 | J11: SP-R | K11: 0.16666667 | L11: 0.58333333 | M11: =L11-K11 -> 0.41666667 | N11: TC4 | O11: 0.18680556 | P11: 0.39513889 | Q11: =P11-O11 -> 0.20833333 | R11: TC19&2 | S11: 0.9 | T11: 1.31875 | U11: =T11-S11 -> 0.41875 | W11: Rest | X11: Day | AA11: Rest | AB11: Day
A12: Abduleilah Ali Ibrahim | C12: Rest | D12: Day | G12: Rest | H12: Day | J12: SP-D | K12: 0.125 | L12: 0.54166667 | M12: =L12-K12 -> 0.41666667 | N12: SP-D | O12: 0.125 | P12: 0.54166667 | Q12: =P12-O12 -> 0.41666667 | R12: TC13 | S12: 0.62291667 | T12: 0.84722222 | U12: =T12-S12 -> 0.22430556 | V12: TC10 | W12: 0.47708333 | X12: 0.68541667 | Y12: =X12-W12 -> 0.20833333 | Z12: TC7 | AA12: 0.46736111 | AB12: 0.68263889 | AC12: =AB12-AA12 -> 0.21527778
A13: Saeed Saleh Al-Harthi | B13: TC6 | C13: 0.27291667 | D13: 0.48125 | E13: =D13-C13 -> 0.20833333 | G13: Rest | H13: Day | K13: Rest | L13: Day | N13: TC3&10 | O13: 0.22013889 | P13: 0.69166667 | Q13: =P13-O13 -> 0.47152778 | R13: TC5 | S13: 0.38333333 | T13: 0.59583333 | U13: =T13-S13 -> 0.2125 | V13: TC6 | W13: 0.27291667 | X13: 0.48125 | Y13: =X13-W13 -> 0.20833333 | Z13: TC7&16 | AA13: 0.46736111 | AB13: 0.96527778 | AC13: =AB13-AA13 -> 0.49791667
A14: Mubarak Yousef Al-Dossary | B14: TC9 | C14: 0.59236111 | D14: 0.80486111 | E14: =D14-C14 -> 0.2125 | F14: SP-R | G14: 0.45833333 | H14: 0.83333333 | I14: =H14-G14 -> 0.375 | J14: TC10 | K14: 0.48333333 | L14: 0.69166667 | M14: =L14-K14 -> 0.20833333 | O14: Rest | P14: Day | S14: Rest | T14: Day | V14: SP-D | W14: 0.125 | X14: 0.54166667 | Y14: =X14-W14 -> 0.41666667 | Z14: SP-D | AA14: 0.125 | AB14: 0.54166667 | AC14: =AB14-AA14 -> 0.41666667
A15: Abdul Hamid Taher Al-Awad | B15: TC3&10 | C15: 0.22013889 | D15: 0.69166667 | E15: =D15-C15 -> 0.47152778 | F15: SP-D | G15: 0.5625 | H15: 0.9375 | I15: =H15-G15 -> 0.375 | K15: Rest | L15: Day | O15: Rest | P15: Day | R15: TC5&12 | S15: 0.38333333 | T15: 0.8125 | U15: =T15-S15 -> 0.42916667 | V15: TC15 | W15: 0.71388889 | X15: 0.92847222 | Y15: =X15-W15 -> 0.21458333 | Z15: TC10 | AA15: 0.48333333 | AB15: 0.69166667 | AC15: =AB15-AA15 -> 0.20833333
A16: Ahmed Abdulaziz Al-Ghwainem | C16: Rest | D16: Day | G16: Rest | H16: Day | J16: TC7 | K16: 0.46736111 | L16: 0.68263889 | M16: =L16-K16 -> 0.21527778 | N16: TC6 | O16: 0.27291667 | P16: 0.48125 | Q16: =P16-O16 -> 0.20833333 | R16: TC1 | S16: 0.14444444 | T16: 0.35694444 | U16: =T16-S16 -> 0.2125 | V16: SP-R | W16: 0.16666667 | X16: 0.58333333 | Y16: =X16-W16 -> 0.41666667 | Z16: TC4 | AA16: 0.18680556 | AB16: 0.39513889 | AC16: =AB16-AA16 -> 0.20833333
A17: Humim Abdul Rahman Al-Dossary | B17: SP-D | C17: 0.125 | D17: 0.54166667 | E17: =D17-C17 -> 0.41666667 | F17: SP-D | G17: 0.125 | H17: 0.54166667 | I17: =H17-G17 -> 0.41666667 | J17: SP-D | K17: 0.125 | L17: 0.54166667 | M17: =L17-K17 -> 0.41666667 | N17: SP-D | O17: 0.125 | P17: 0.54166667 | Q17: =P17-O17 -> 0.41666667 | R17: TC3&10 | S17: 0.22013889 | T17: 0.69166667 | U17: =T17-S17 -> 0.47152778 | W17: Rest | X17: Day | AA17: Rest | AB17: Day
A18: Saad Saeed Al-Omari | C18: Rest | D18: Day | F18: SP-D | G18: 0.125 | H18: 0.54166667 | I18: =H18-G18 -> 0.41666667 | J18: SP-D | K18: 0.125 | L18: 0.54166667 | M18: =L18-K18 -> 0.41666667 | N18: SP-D | O18: 0.125 | P18: 0.54166667 | Q18: =P18-O18 -> 0.41666667 | R18: TC9 | S18: 0.59236111 | T18: 0.80486111 | U18: =T18-S18 -> 0.2125 | V18: SP-R | W18: 0.45833333 | X18: 0.83333333 | Y18: =X18-W18 -> 0.375 | Z18: TC10 | AA18: 0.48333333 | AB18: 0.69166667 | AC18: =AB18-AA18 -> 0.20833333
A19: Ali Issa Muhammad Al Owais | B19: TC13 | C19: 0.62291667 | D19: 0.84722222 | E19: =D19-C19 -> 0.22430556 | F19: TC14 | G19: 0.67083333 | H19: 0.88055556 | I19: =H19-G19 -> 0.20972222 | K19: Rest | L19: Day | O19: Rest | P19: Day | R19: SP-D | S19: 0.125 | T19: 0.54166667 | U19: =T19-S19 -> 0.41666667 | V19: TC7&16 | W19: 0.46736111 | X19: 0.96527778 | Y19: =X19-W19 -> 0.49791667 | Z19: TC9 | AA19: 0.59236111 | AB19: 0.80486111 | AC19: =AB19-AA19 -> 0.2125
A20: Nasser Jamaan Al-Ghamdi | B20: SP-R | C20: 0.45833333 | D20: 0.83333333 | E20: =D20-C20 -> 0.375 | F20: TC10 | G20: 0.48333333 | H20: 0.69166667 | I20: =H20-G20 -> 0.20833333 | K20: Rest | L20: Day | O20: Rest | P20: Day | R20: SP-D | S20: 0.5625 | T20: 0.9375 | U20: =T20-S20 -> 0.375 | V20: SP-D | W20: 0.5625 | X20: 0.9375 | Y20: =X20-W20 -> 0.375 | Z20: TC17 | AA20: 0.78263889 | AB20: 0.99513889 | AC20: =AB20-AA20 -> 0.2125
A21: Faisal Turki Abu Falasa | B21: TC18 | C21: 0.79027778 | D21: 0.99861111 | E21: =D21-C21 -> 0.20833333 | F21: SP-D | G21: 0.5625 | H21: 0.9375 | I21: =H21-G21 -> 0.375 | J21: SP-D | K21: 0.5625 | L21: 0.9375 | M21: =L21-K21 -> 0.375 | O21: Rest | P21: Day | S21: Rest | T21: Day | V21: TC17 | W21: 0.78263889 | X21: 0.99513889 | Y21: =X21-W21 -> 0.2125 | Z21: TC18 | AA21: 0.79027778 | AB21: 0.99861111 | AC21: =AB21-AA21 -> 0.20833333
A22: Ahmed Jassim Al-Hussein | B22: TC17 | C22: 0.78263889 | D22: 0.99513889 | E22: =D22-C22 -> 0.2125 | F22: TC18 | G22: 0.79027778 | H22: 0.99861111 | I22: =H22-G22 -> 0.20833333 | J22: TC17 | K22: 0.78263889 | L22: 0.99513889 | M22: =L22-K22 -> 0.2125 | N22: TC18 | O22: 0.79027778 | P22: 0.99861111 | Q22: =P22-O22 -> 0.20833333 | S22: Rest | T22: Day | W22: Rest | X22: Day | Z22: TC5&12 | AA22: 0.38333333 | AB22: 0.8125 | AC22: =AB22-AA22 -> 0.42916667
A23: Mubarak Salem Al Shaiban | B23: TC5&12 | C23: 0.38333333 | D23: 0.8125 | E23: =D23-C23 -> 0.42916667 | F23: TC13 | G23: 0.62291667 | H23: 0.84722222 | I23: =H23-G23 -> 0.22430556 | J23: TC14 | K23: 0.67083333 | L23: 0.88055556 | M23: =L23-K23 -> 0.20972222 | N23: TC9 | O23: 0.59236111 | P23: 0.80486111 | Q23: =P23-O23 -> 0.2125 | R23: SP-R | S23: 0.45833333 | T23: 0.83333333 | U23: =T23-S23 -> 0.375 | V23: TC10 | W23: 0.48333333 | X23: 0.69166667 | Y23: =X23-W23 -> 0.20833333 | AA23: Rest | AB23: Day
A24: Mohammed Abdul Karim Al Mazni | C24: Rest | D24: Day | G24: Rest | H24: Day | J24: TC13 | K24: 0.62291667 | L24: 0.84722222 | M24: =L24-K24 -> 0.22430556 | N24: TC14 | O24: 0.67083333 | P24: 0.88055556 | Q24: =P24-O24 -> 0.20972222 | R24: SP-D | S24: 0.5625 | T24: 0.9375 | U24: =T24-S24 -> 0.375 | V24: SP-D | W24: 0.5625 | X24: 0.9375 | Y24: =X24-W24 -> 0.375 | Z24: SP-D | AA24: 0.5625 | AB24: 0.9375 | AC24: =AB24-AA24 -> 0.375
A25: Hussein Muhammad Al-Omari | B25: SP-D | C25: 0.5625 | D25: 0.9375 | E25: =D25-C25 -> 0.375 | G25: Rest | H25: Day | K25: Rest | L25: Day | N25: TC7 | O25: 0.46736111 | P25: 0.68263889 | Q25: =P25-O25 -> 0.21527778 | R25: TC6 | S25: 0.27291667 | T25: 0.48125 | U25: =T25-S25 -> 0.20833333 | V25: TC7 | W25: 0.46736111 | X25: 0.68263889 | Y25: =X25-W25 -> 0.21527778 | Z25: TC8 | AA25: 0.35763889 | AB25: 0.56597222 | AC25: =AB25-AA25 -> 0.20833333
A26: Saleh Ahmed Al-Olayani | B26: TC7&16 | C26: 0.46736111 | D26: 0.96527778 | E26: =D26-C26 -> 0.49791667 | G26: Rest | H26: Day | K26: Rest | L26: Day | N26: SP-D | O26: 0.5625 | P26: 0.9375 | Q26: =P26-O26 -> 0.375 | R26: SP-D | S26: 0.5625 | T26: 0.9375 | U26: =T26-S26 -> 0.375 | V26: SP-D | W26: 0.5625 | X26: 0.9375 | Y26: =X26-W26 -> 0.375 | Z26: SP-D | AA26: 0.5625 | AB26: 0.9375 | AC26: =AB26-AA26 -> 0.375
A27: Abdul Ghani Ahmed Al-Nasser | B27: SP-D | C27: 0.5625 | D27: 0.9375 | E27: =D27-C27 -> 0.375 | F27: TC17 | G27: 0.78263889 | H27: 0.99513889 | I27: =H27-G27 -> 0.2125 | J27: TC18 | K27: 0.79027778 | L27: 0.99861111 | M27: =L27-K27 -> 0.20833333 | N27: TC13 | O27: 0.62291667 | P27: 0.84722222 | Q27: =P27-O27 -> 0.22430556 | R27: TC14 | S27: 0.67083333 | T27: 0.88055556 | U27: =T27-S27 -> 0.20972222 | W27: Rest | X27: Day | AA27: Rest | AB27: Day
A28: Fayez Ahmed Al-Shehri | C28: Rest | D28: Day | G28: Rest | H28: Day | J28: TC1 | K28: 0.14444444 | L28: 0.35694444 | M28: =L28-K28 -> 0.2125 | N28: SP-R | O28: 0.16666667 | P28: 0.58333333 | Q28: =P28-O28 -> 0.41666667 | R28: TC4 | S28: 0.18680556 | T28: 0.39513889 | U28: =T28-S28 -> 0.20833333 | V28: TC7 | W28: 0.46736111 | X28: 0.68263889 | Y28: =X28-W28 -> 0.21527778 | Z28: TC6 | AA28: 0.27291667 | AB28: 0.48125 | AC28: =AB28-AA28 -> 0.20833333
A29: Saleh Abdullah Al-Shamrani | C29: Rest | D29: Day | G29: Rest | H29: Day | J29: TC9 | K29: 0.59236111 | L29: 0.80486111 | M29: =L29-K29 -> 0.2125 | N29: SP-R | O29: 0.45833333 | P29: 0.83333333 | Q29: =P29-O29 -> 0.375 | R29: TC10 | S29: 0.48333333 | T29: 0.69166667 | U29: =T29-S29 -> 0.20833333 | V29: TC13 | W29: 0.62291667 | X29: 0.84722222 | Y29: =X29-W29 -> 0.22430556 | Z29: SP-R | AA29: 0.45833333 | AB29: 0.83333333 | AC29: =AB29-AA29 -> 0.375
A30: Salman Al-Shammari | B30: TC10 | C30: 0.48333333 | D30: 0.69166667 | E30: =D30-C30 -> 0.20833333 | F30: TC9 | G30: 0.59236111 | H30: 0.80486111 | I30: =H30-G30 -> 0.2125 | J30: SP-R | K30: 0.45833333 | L30: 0.83333333 | M30: =L30-K30 -> 0.375 | N30: TC10 | O30: 0.48333333 | P30: 0.69166667 | Q30: =P30-O30 -> 0.20833333 | S30: Rest | T30: Day | W30: Rest | X30: Day | AA30: Rest | AB30: Day
A31: Mohammed Ibrahim Al-Melifi | C31: Rest | D31: Day | G31: Rest | H31: Day | J31: TC7&16 | K31: 0.46736111 | L31: 0.96527778 | M31: =L31-K31 -> 0.49791667 | N31: TC17 | O31: 0.78263889 | P31: 0.99513889 | Q31: =P31-O31 -> 0.2125 | R31: TC18 | S31: 0.79027778 | T31: 0.99861111 | U31: =T31-S31 -> 0.20833333 | V31: TC11&20 | W31: 0.59236111 | X31: 0.99861111 | Y31: =X31-W31 -> 0.40625 | Z31: TC13 | AA31: 0.62291667 | AB31: 0.84722222 | AC31: =AB31-AA31 -> 0.22430556
A32: Ali Hussein Al-Olaiwi | B32: TC14 | C32: 0.67083333 | D32: 0.88055556 | E32: =D32-C32 -> 0.20972222 | G32: Rest | H32: Day | K32: Rest | L32: Day | N32: SP-D | O32: 0.5625 | P32: 0.9375 | Q32: =P32-O32 -> 0.375 | R32: TC17 | S32: 0.78263889 | T32: 0.99513889 | U32: =T32-S32 -> 0.2125 | V32: TC16 | W32: 0.74861111 | X32: 0.96527778 | Y32: =X32-W32 -> 0.21666667 | Z32: TC19&2 | AA32: 0.9 | AB32: 1.31875 | AC32: =AB32-AA32 -> 0.41875
A33: Habib Mahdi Al-Jittil | B33: TC19&2 | C33: 0.9 | D33: 1.31875 | E33: =D33-C33 -> 0.41875 | F33: TC19&2 | G33: 0.9 | H33: 1.31875 | I33: =H33-G33 -> 0.41875 | J33: TC19&2 | K33: 0.9 | L33: 1.31875 | M33: =L33-K33 -> 0.41875 | N33: TC19&2 | O33: 0.9 | P33: 1.31875 | Q33: =P33-O33 -> 0.41875 | S33: Rest | T33: Day | W33: Rest | X33: Day | AA33: Rest | AB33: Day
A34: Hussein Abdul Jalil Al-Buqshi | B34: TC7 | C34: 0.46736111 | D34: 0.68263889 | E34: =D34-C34 -> 0.21527778 | F34: TC6 | G34: 0.27291667 | H34: 0.48125 | I34: =H34-G34 -> 0.20833333 | J34: TC3&10 | K34: 0.22013889 | L34: 0.69166667 | M34: =L34-K34 -> 0.47152778 | N34: TC7&16 | O34: 0.46736111 | P34: 0.96527778 | Q34: =P34-O34 -> 0.49791667 | S34: Rest | T34: Day | W34: Rest | X34: Day | Z34: TC15 | AA34: 0.71388889 | AB34: 0.92847222 | AC34: =AB34-AA34 -> 0.21458333
A35: Shami Abdo Al-Shehri | B35: TC12 | C35: 0.60416667 | D35: 0.8125 | E35: =D35-C35 -> 0.20833333 | F35: TC7&16 | G35: 0.46736111 | H35: 0.96527778 | I35: =H35-G35 -> 0.49791667 | K35: Rest | L35: Day | O35: Rest | P35: Day | R35: SP-D | S35: 0.125 | T35: 0.54166667 | U35: =T35-S35 -> 0.41666667 | V35: SP-D | W35: 0.125 | X35: 0.54166667 | Y35: =X35-W35 -> 0.41666667 | Z35: SP-D | AA35: 0.125 | AB35: 0.54166667 | AC35: =AB35-AA35 -> 0.41666667
A36: Abdullah Jassim Al-Eid | B36: SP-D | C36: 0.125 | D36: 0.54166667 | E36: =D36-C36 -> 0.41666667 | F36: TC3&10 | G36: 0.22013889 | H36: 0.69166667 | I36: =H36-G36 -> 0.47152778 | K36: Rest | L36: Day | O36: Rest | P36: Day | R36: SP-D | S36: 0.125 | T36: 0.54166667 | U36: =T36-S36 -> 0.41666667 | V36: SP-D | W36: 0.125 | X36: 0.54166667 | Y36: =X36-W36 -> 0.41666667 | Z36: SP-D | AA36: 0.125 | AB36: 0.54166667 | AC36: =AB36-AA36 -> 0.41666667
A37: Salem Mahdi Al Shaiban | B37: SP-D | C37: 0.125 | D37: 0.54166667 | E37: =D37-C37 -> 0.41666667 | F37: SP-D | G37: 0.125 | H37: 0.54166667 | I37: =H37-G37 -> 0.41666667 | J37: SP-D | K37: 0.125 | L37: 0.54166667 | M37: =L37-K37 -> 0.41666667 | N37: SP-D | O37: 0.125 | P37: 0.54166667 | Q37: =P37-O37 -> 0.41666667 | S37: Rest | T37: Day | W37: Rest | X37: Day | AA37: Rest | AB37: Day
B39: It is your responsibility to consult the Daily Alteration Sheet to ensure that you are aware of your shifts and any changes that may have taken place.
B40: All leave, sick, training, off roster etc. is shown on the Daily Sheets

Sheet DAS Sun
C2: Daily Alteration Sheet
B4: Sunday | D4: =TC!B3 -> 45928
B5: Train Captain | K5: Dammam
B8: Shift ID | C8: On Duty | D8: Off Duty | E8: Hours | F8: Name | J8: Comments
O9: =E9 -> 0 | P9: =B9 -> 0 | Q9: =C9 -> 0 | R9: =D9 -> 0
B10: SP-D | C10: 0.125 | D10: 0.54166667 | E10: =D10-C10 -> 0.41666667 | F10: =TC!A10 -> Mansour Mohammed Al-Dossary | O10: =E10 -> 0.41666667 | P10: =B10 -> SP-D | Q10: =C10 -> 0.125 | R10: =D10 -> 0.54166667
O11: =E11 -> 0 | P11: =B11 -> 0 | Q11: =C11 -> 0 | R11: =D11 -> 0
B12: TC1 | C12: 0.14444444 | D12: 0.35694444 | E12: =D12-C12 -> 0.2125 | F12: =TC!A7 -> Ali Abdullah Al-Ghamdi | O12: =E12 -> 0.2125 | P12: =B12 -> TC1 | Q12: =C12 -> 0.14444444 | R12: =D12 -> 0.35694444
O13: =E13 -> 0 | P13: =B13 -> 0 | Q13: =C13 -> 0 | R13: =D13 -> 0
B14: TC4 | C14: 0.18680556 | D14: 0.39513889 | E14: =D14-C14 -> 0.20833333 | F14: =TC!A11 -> Saleh Ali Alseda | O14: =E14 -> 0.20833333 | P14: =B14 -> TC4 | Q14: =C14 -> 0.18680556 | R14: =D14 -> 0.39513889
O15: =E15 -> 0 | P15: =B15 -> 0 | Q15: =C15 -> 0 | R15: =D15 -> 0
B16: TC3&10 | C16: 0.22013889 | D16: 0.69166667 | E16: =D16-C16 -> 0.47152778 | F16: =TC!A36 -> Abdullah Jassim Al-Eid | O16: =E16 -> 0.47152778 | P16: =B16 -> TC3&10 | Q16: =C16 -> 0.22013889 | R16: =D16 -> 0.69166667
O17: =E17 -> 0 | P17: =B17 -> 0 | Q17: =C17 -> 0 | R17: =D17 -> 0
B18: TC6 | C18: 0.27291667 | D18: 0.48125 | E18: =D18-C18 -> 0.20833333 | F18: =TC!A12 -> Abduleilah Ali Ibrahim | O18: =E18 -> 0.20833333 | P18: =B18 -> TC6 | Q18: =C18 -> 0.27291667 | R18: =D18 -> 0.48125
O19: =E19 -> 0 | P19: =B19 -> 0 | Q19: =C19 -> 0 | R19: =D19 -> 0
B20: SP-R | C20: 0.16666667 | D20: 0.58333333 | E20: =D20-C20 -> 0.41666667 | F20: =TC!A9 -> Khaled Fahd Al-Harbi | O20: =E20 -> 0.41666667 | P20: =B20 -> SP-R | Q20: =C20 -> 0.16666667 | R20: =D20 -> 0.58333333
O21: =E21 -> 0 | P21: =B21 -> 0 | Q21: =C21 -> 0 | R21: =D21 -> 0
B22: TC5&12 | C22: 0.38333333 | D22: 0.8125 | E22: =D22-C22 -> 0.42916667 | F22: =TC!A23 -> Mubarak Salem Al Shaiban | O22: =E22 -> 0.42916667 | P22: =B22 -> TC5&12 | Q22: =C22 -> 0.38333333 | R22: =D22 -> 0.8125
O23: =E23 -> 0 | P23: =B23 -> 0 | Q23: =C23 -> 0 | R23: =D23 -> 0
B24: SP-R | C24: 0.45833333 | D24: 0.83333333 | E24: =D24-C24 -> 0.375 | F24: =TC!A19 -> Ali Issa Muhammad Al Owais | J24: Nasser AL | O24: =E24 -> 0.375 | P24: =B24 -> SP-R | Q24: =C24 -> 0.45833333 | R24: =D24 -> 0.83333333
O25: =E25 -> 0 | P25: =B25 -> 0 | Q25: =C25 -> 0 | R25: =D25 -> 0
B26: TC7 | C26: 0.46736111 | D26: 0.68263889 | E26: =D26-C26 -> 0.21527778 | F26: =TC!A34 -> Hussein Abdul Jalil Al-Buqshi | O26: =E26 -> 0.21527778 | P26: =B26 -> TC7 | Q26: =C26 -> 0.46736111 | R26: =D26 -> 0.68263889
O27: =E27 -> 0 | P27: =B27 -> 0 | Q27: =C27 -> 0 | R27: =D27 -> 0
B28: TC7&16 | C28: 0.46736111 | D28: 0.96527778 | E28: =D28-C28 -> 0.49791667 | F28: =TC!A26 -> Saleh Ahmed Al-Olayani | O28: =E28 -> 0.49791667 | P28: =B28 -> TC7&16 | Q28: =C28 -> 0.46736111 | R28: =D28 -> 0.96527778
O29: =E29 -> 0 | P29: =B29 -> 0 | Q29: =C29 -> 0 | R29: =D29 -> 0
B30: TC10 | C30: 0.48333333 | D30: 0.69166667 | E30: =D30-C30 -> 0.20833333 | F30: =TC!A25 -> Hussein Muhammad Al-Omari | J30: Salman AL | O30: =E30 -> 0.20833333 | P30: =B30 -> TC10 | Q30: =C30 -> 0.48333333 | R30: =D30 -> 0.69166667
O31: =E31 -> 0 | P31: =B31 -> 0 | Q31: =C31 -> 0 | R31: =D31 -> 0
B32: SP-D | C32: 0.5625 | D32: 0.9375 | E32: =D32-C32 -> 0.375 | F32: =TC!A27 -> Abdul Ghani Ahmed Al-Nasser | O32: =E32 -> 0.375 | P32: =B32 -> SP-D | Q32: =C32 -> 0.5625 | R32: =D32 -> 0.9375
O33: =E33 -> 0 | P33: =B33 -> 0 | Q33: =C33 -> 0 | R33: =D33 -> 0
B34: TC9 | C34: 0.59236111 | D34: 0.80486111 | E34: =D34-C34 -> 0.2125 | F34: =TC!A14 -> Mubarak Yousef Al-Dossary | O34: =E34 -> 0.2125 | P34: =B34 -> TC9 | Q34: =C34 -> 0.59236111 | R34: =D34 -> 0.80486111
O35: =E35 -> 0 | P35: =B35 -> 0 | Q35: =C35 -> 0 | R35: =D35 -> 0
B36: TC12 | C36: 0.60416667 | D36: 0.8125 | E36: =D36-C36 -> 0.20833333 | F36: =TC!A35 -> Shami Abdo Al-Shehri | O36: =E36 -> 0.20833333 | P36: =B36 -> TC12 | Q36: =C36 -> 0.60416667 | R36: =D36 -> 0.8125
O37: =E37 -> 0 | P37: =B37 -> 0 | Q37: =C37 -> 0 | R37: =D37 -> 0
B38: TC13 | C38: 0.62291667 | D38: 0.84722222 | E38: =D38-C38 -> 0.22430556 | F38: =TC!A17 -> Humim Abdul Rahman Al-Dossary | J38: Ali | O38: =E38 -> 0.22430556 | P38: =B38 -> TC13 | Q38: =C38 -> 0.62291667 | R38: =D38 -> 0.84722222
O39: =E39 -> 0 | P39: =B39 -> 0 | Q39: =C39 -> 0 | R39: =D39 -> 0
B40: TC14 | C40: 0.67083333 | D40: 0.88055556 | E40: =D40-C40 -> 0.20972222 | F40: =TC!A32 -> Ali Hussein Al-Olaiwi | O40: =E40 -> 0.20972222 | P40: =B40 -> TC14 | Q40: =C40 -> 0.67083333 | R40: =D40 -> 0.88055556
O41: =E41 -> 0 | P41: =B41 -> 0 | Q41: =C41 -> 0 | R41: =D41 -> 0
B42: TC17 | C42: 0.78263889 | D42: 0.99513889 | E42: =D42-C42 -> 0.2125 | F42: =TC!A22 -> Ahmed Jassim Al-Hussein | O42: =E42 -> 0.2125 | P42: =B42 -> TC17 | Q42: =C42 -> 0.78263889 | R42: =D42 -> 0.99513889
O43: =E43 -> 0 | P43: =B43 -> 0 | Q43: =C43 -> 0 | R43: =D43 -> 0
B44: TC18 | C44: 0.79027778 | D44: 0.99861111 | E44: =D44-C44 -> 0.20833333 | F44: =TC!A13 -> Saeed Saleh Al-Harthi | J44: Faisal TRG | O44: =E44 -> 0.20833333 | P44: =B44 -> TC18 | Q44: =C44 -> 0.79027778 | R44: =D44 -> 0.99861111
O45: =E45 -> 0 | P45: =B45 -> 0 | Q45: =C45 -> 0 | R45: =D45 -> 0
B46: TC19&2 | C46: 0.9 | D46: 1.31875 | E46: =D46-C46 -> 0.41875 | F46: =TC!A33 -> Habib Mahdi Al-Jittil | O46: =E46 -> 0.41875 | P46: =B46 -> TC19&2 | Q46: =C46 -> 0.9 | R46: =D46 -> 1.31875
O47: =E47 -> 0 | P47: =B47 -> 0 | Q47: =C47 -> 0 | R47: =D47 -> 0
O48: =E48 -> 0 | P48: =B48 -> 0 | Q48: =C48 -> 0 | R48: =D48 -> 0
O49: =E49 -> 0 | P49: =B49 -> 0 | Q49: =C49 -> 0 | R49: =D49 -> 0
B50: Off Roster | O50: =E50 -> 0 | P50: =B50 -> Off Roster | Q50: =C50 -> 0 | R50: =D50 -> 0
B51: Activity | C51: On Duty | D51: Off Duty | E51: Hours | F51: Name | J51: Comments | O51: =E51 -> Hours | P51: =B51 -> Activity | Q51: =C51 -> On Duty | R51: =D51 -> Off Duty
B52: TRG | C52: 0.375 | D52: 0.625 | E52: 0.25 | F52: =TC!A37 -> Salem Mahdi Al Shaiban | O52: =E52 -> 0.25 | P52: =B52 -> TRG | Q52: =C52 -> 0.375 | R52: =D52 -> 0.625
B53: TRG | C53: 0.375 | D53: 0.625 | E53: 0.25 | F53: =TC!A24 -> Mohammed Abdul Karim Al Mazni | O53: =E53 -> 0.25 | P53: =B53 -> TRG | Q53: =C53 -> 0.375 | R53: =D53 -> 0.625
B54: TRG | C54: 0.375 | D54: 0.625 | E54: 0.25 | F54: =TC!A21 -> Faisal Turki Abu Falasa | O54: =E54 -> 0.25 | P54: =B54 -> TRG | Q54: =C54 -> 0.375 | R54: =D54 -> 0.625
B55: DET | C55: 0.33333333 | D55: 0.66666667 | E55: 0.33333333 | F55: =TC!A8 -> Rajeh Hussein Al-Harith | O55: =E55 -> 0.33333333 | P55: =B55 -> DET | Q55: =C55 -> 0.33333333 | R55: =D55 -> 0.66666667
B57: Other (Leave, Sick etc.) | I57: Rest Day Off
B58: Type | C58: Name | I58: Name
B59: AL | C59: =TC!A30 -> Salman Al-Shammari | I59: =TC!A31 -> Mohammed Ibrahim Al-Melifi
B60: AL | C60: =TC!A20 -> Nasser Jamaan Al-Ghamdi | I60: =TC!A12 -> Abduleilah Ali Ibrahim
I61: =TC!A16 -> Ahmed Abdulaziz Al-Ghwainem
I62: =TC!A18 -> Saad Saeed Al-Omari
I63: =TC!A28 -> Fayez Ahmed Al-Shehri
I64: =TC!A15 -> Abdul Hamid Taher Al-Awad
I65: =TC!A29 -> Saleh Abdullah Al-Shamrani

Sheet DAS Mon
C2: Daily Alteration Sheet
B4: Monday | D4: ='DAS Sun'!D4:E4+1 -> 45929
B5: Train Captain | K5: Dammam
B8: Shift ID | C8: On Duty | D8: Off Duty | E8: Hours | F8: Name | J8: Comments
O9: =E9 -> 0 | P9: =B9 -> 0 | Q9: =C9 -> 0 | R9: =D9 -> 0
B10: SP-D | C10: 0.125 | D10: 0.54166667 | E10: =D10-C10 -> 0.41666667 | F10: =TC!A10 -> Mansour Mohammed Al-Dossary | O10: =E10 -> 0.41666667 | P10: =B10 -> SP-D | Q10: =C10 -> 0.125 | R10: =D10 -> 0.54166667
O11: =E11 -> 0 | P11: =B11 -> 0 | Q11: =C11 -> 0 | R11: =D11 -> 0
B12: TC1 | C12: 0.14444444 | D12: 0.35694444 | E12: =D12-C12 -> 0.2125 | F12: =TC!A11 -> Saleh Ali Alseda | O12: =E12 -> 0.2125 | P12: =B12 -> TC1 | Q12: =C12 -> 0.14444444 | R12: =D12 -> 0.35694444
O13: =E13 -> 0 | P13: =B13 -> 0 | Q13: =C13 -> 0 | R13: =D13 -> 0
B14: TC4 | C14: 0.18680556 | D14: 0.39513889 | E14: =D14-C14 -> 0.20833333 | F14: =TC!A9 -> Khaled Fahd Al-Harbi | O14: =E14 -> 0.20833333 | P14: =B14 -> TC4 | Q14: =C14 -> 0.18680556 | R14: =D14 -> 0.39513889
O15: =E15 -> 0 | P15: =B15 -> 0 | Q15: =C15 -> 0 | R15: =D15 -> 0
B16: TC3&10 | C16: 0.22013889 | D16: 0.69166667 | E16: =D16-C16 -> 0.47152778 | F16: =TC!A36 -> Abdullah Jassim Al-Eid | O16: =E16 -> 0.47152778 | P16: =B16 -> TC3&10 | Q16: =C16 -> 0.22013889 | R16: =D16 -> 0.69166667
O17: =E17 -> 0 | P17: =B17 -> 0 | Q17: =C17 -> 0 | R17: =D17 -> 0
B18: TC6 | C18: 0.27291667 | D18: 0.48125 | E18: =D18-C18 -> 0.20833333 | F18: =TC!A34 -> Hussein Abdul Jalil Al-Buqshi | O18: =E18 -> 0.20833333 | P18: =B18 -> TC6 | Q18: =C18 -> 0.27291667 | R18: =D18 -> 0.48125
O19: =E19 -> 0 | P19: =B19 -> 0 | Q19: =C19 -> 0 | R19: =D19 -> 0
B20: SP-R | C20: 0.16666667 | D20: 0.58333333 | E20: =D20-C20 -> 0.41666667 | F20: =TC!A7 -> Ali Abdullah Al-Ghamdi | O20: =E20 -> 0.41666667 | P20: =B20 -> SP-R | Q20: =C20 -> 0.16666667 | R20: =D20 -> 0.58333333
O21: =E21 -> 0 | P21: =B21 -> 0 | Q21: =C21 -> 0 | R21: =D21 -> 0
B22: SP-R | C22: 0.45833333 | D22: 0.83333333 | E22: =D22-C22 -> 0.375 | F22: =TC!A14 -> Mubarak Yousef Al-Dossary | O22: =E22 -> 0.375 | P22: =B22 -> SP-R | Q22: =C22 -> 0.45833333 | R22: =D22 -> 0.83333333
O23: =E23 -> 0 | P23: =B23 -> 0 | Q23: =C23 -> 0 | R23: =D23 -> 0
B24: TC7 | C24: 0.46736111 | D24: 0.68263889 | E24: =D24-C24 -> 0.21527778 | F24: =TC!A18 -> Saad Saeed Al-Omari | J24: Rajeh | O24: =E24 -> 0.21527778 | P24: =B24 -> TC7 | Q24: =C24 -> 0.46736111 | R24: =D24 -> 0.68263889
O25: =E25 -> 0 | P25: =B25 -> 0 | Q25: =C25 -> 0 | R25: =D25 -> 0
B26: TC7&16 | C26: 0.46736111 | D26: 0.96527778 | E26: =D26-C26 -> 0.49791667 | F26: =TC!A35 -> Shami Abdo Al-Shehri | O26: =E26 -> 0.49791667 | P26: =B26 -> TC7&16 | Q26: =C26 -> 0.46736111 | R26: =D26 -> 0.96527778
O27: =E27 -> 0 | P27: =B27 -> 0 | Q27: =C27 -> 0 | R27: =D27 -> 0
B28: TC10 | C28: 0.48333333 | D28: 0.69166667 | E28: =D28-C28 -> 0.20833333 | F28: =TC!A19 -> Ali Issa Muhammad Al Owais | J28: Nasser AL | O28: =E28 -> 0.20833333 | P28: =B28 -> TC10 | Q28: =C28 -> 0.48333333 | R28: =D28 -> 0.69166667
O29: =E29 -> 0 | P29: =B29 -> 0 | Q29: =C29 -> 0 | R29: =D29 -> 0
B30: SP-D | C30: 0.5625 | D30: 0.9375 | E30: =D30-C30 -> 0.375 | F30: =TC!A25 -> Hussein Muhammad Al-Omari | O30: =E30 -> 0.375 | P30: =B30 -> SP-D | Q30: =C30 -> 0.5625 | R30: =D30 -> 0.9375
O31: =E31 -> 0 | P31: =B31 -> 0 | Q31: =C31 -> 0 | R31: =D31 -> 0
B32: TC9 | C32: 0.59236111 | D32: 0.80486111 | E32: =D32-C32 -> 0.2125 | F32: =TC!A15 -> Abdul Hamid Taher Al-Awad | J32: Salman AL | O32: =E32 -> 0.2125 | P32: =B32 -> TC9 | Q32: =C32 -> 0.59236111 | R32: =D32 -> 0.80486111
O33: =E33 -> 0 | P33: =B33 -> 0 | Q33: =C33 -> 0 | R33: =D33 -> 0
B34: TC13 | C34: 0.62291667 | D34: 0.84722222 | E34: =D34-C34 -> 0.22430556 | F34: =TC!A23 -> Mubarak Salem Al Shaiban | O34: =E34 -> 0.22430556 | P34: =B34 -> TC13 | Q34: =C34 -> 0.62291667 | R34: =D34 -> 0.84722222
O35: =E35 -> 0 | P35: =B35 -> 0 | Q35: =C35 -> 0 | R35: =D35 -> 0
B36: TC14 | C36: 0.67083333 | D36: 0.88055556 | E36: =D36-C36 -> 0.20972222 | F36: =TC!A17 -> Humim Abdul Rahman Al-Dossary | O36: =E36 -> 0.20972222 | P36: =B36 -> TC14 | Q36: =C36 -> 0.67083333 | R36: =D36 -> 0.88055556
O37: =E37 -> 0 | P37: =B37 -> 0 | Q37: =C37 -> 0 | R37: =D37 -> 0
B38: TC17 | C38: 0.78263889 | D38: 0.99513889 | E38: =D38-C38 -> 0.2125 | F38: =TC!A27 -> Abdul Ghani Ahmed Al-Nasser | O38: =E38 -> 0.2125 | P38: =B38 -> TC17 | Q38: =C38 -> 0.78263889 | R38: =D38 -> 0.99513889
O39: =E39 -> 0 | P39: =B39 -> 0 | Q39: =C39 -> 0 | R39: =D39 -> 0
B40: TC18 | C40: 0.79027778 | D40: 0.99861111 | E40: =D40-C40 -> 0.20833333 | F40: =TC!A22 -> Ahmed Jassim Al-Hussein | O40: =E40 -> 0.20833333 | P40: =B40 -> TC18 | Q40: =C40 -> 0.79027778 | R40: =D40 -> 0.99861111
O41: =E41 -> 0 | P41: =B41 -> 0 | Q41: =C41 -> 0 | R41: =D41 -> 0
B42: TC19&2 | C42: 0.9 | D42: 1.31875 | E42: =D42-C42 -> 0.41875 | F42: =TC!A33 -> Habib Mahdi Al-Jittil | O42: =E42 -> 0.41875 | P42: =B42 -> TC19&2 | Q42: =C42 -> 0.9 | R42: =D42 -> 1.31875
O43: =E43 -> 0 | P43: =B43 -> 0 | Q43: =C43 -> 0 | R43: =D43 -> 0
O44: =E44 -> 0 | P44: =B44 -> 0 | Q44: =C44 -> 0 | R44: =D44 -> 0
O45: =E45 -> 0 | P45: =B45 -> 0 | Q45: =C45 -> 0 | R45: =D45 -> 0
B46: Off Roster | O46: =E46 -> 0 | P46: =B46 -> Off Roster | Q46: =C46 -> 0 | R46: =D46 -> 0
B47: Activity | C47: On Duty | D47: Off Duty | E47: Hours | F47: Name | J47: Comments | O47: =E47 -> Hours | P47: =B47 -> Activity | Q47: =C47 -> On Duty | R47: =D47 -> Off Duty
B48: TRG | C48: 0.375 | D48: 0.625 | E48: 0.25 | F48: =TC!A37 -> Salem Mahdi Al Shaiban | O48: =E48 -> 0.25 | P48: =B48 -> TRG | Q48: =C48 -> 0.375 | R48: =D48 -> 0.625
B49: TRG | C49: 0.375 | D49: 0.625 | E49: 0.25 | F49: =TC!A21 -> Faisal Turki Abu Falasa | O49: =E49 -> 0.25 | P49: =B49 -> TRG | Q49: =C49 -> 0.375 | R49: =D49 -> 0.625
B50: TRG | C50: 0.375 | D50: 0.625 | E50: 0.25 | F50: =TC!A24 -> Mohammed Abdul Karim Al Mazni | O50: =E50 -> 0.25 | P50: =B50 -> TRG | Q50: =C50 -> 0.375 | R50: =D50 -> 0.625
B51: DET | C51: 0.33333333 | D51: 0.66666667 | E51: 0.33333333 | F51: =TC!A8 -> Rajeh Hussein Al-Harith | O51: =E51 -> 0.33333333 | P51: =B51 -> DET | Q51: =C51 -> 0.33333333 | R51: =D51 -> 0.66666667
B53: Other (Leave, Sick etc.) | I53: Rest Day Off
B54: Type | C54: Name | I54: Name
B55: AL | C55: =TC!A30 -> Salman Al-Shammari | I55: =TC!A28 -> Fayez Ahmed Al-Shehri
B56: AL | C56: =TC!A20 -> Nasser Jamaan Al-Ghamdi | I56: =TC!A12 -> Abduleilah Ali Ibrahim
I57: =TC!A13 -> Saeed Saleh Al-Harthi
I58: =TC!A16 -> Ahmed Abdulaziz Al-Ghwainem
I59: =TC!A32 -> Ali Hussein Al-Olaiwi
I60: =TC!A26 -> Saleh Ahmed Al-Olayani
I61: =TC!A31 -> Mohammed Ibrahim Al-Melifi
I62: =TC!A29 -> Saleh Abdullah Al-Shamrani

Sheet DAS Tue
C2: Daily Alteration Sheet
B4: Tuesday | D4: ='DAS Mon'!D4:E4+1 -> 45930
B5: Train Captain | K5: Dammam
B8: Shift ID | C8: On Duty | D8: Off Duty | E8: Hours | F8: Name | J8: Comments
O9: =E9 -> 0 | P9: =B9 -> 0 | Q9: =C9 -> 0 | R9: =D9 -> 0
B10: SP-D | C10: 0.125 | D10: 0.54166667 | E10: =D10-C10 -> 0.41666667 | F10: =TC!A10 -> Mansour Mohammed Al-Dossary | O10: =E10 -> 0.41666667 | P10: =B10 -> SP-D | Q10: =C10 -> 0.125 | R10: =D10 -> 0.54166667
O11: =E11 -> 0 | P11: =B11 -> 0 | Q11: =C11 -> 0 | R11: =D11 -> 0
B12: TC1 | C12: 0.14444444 | D12: 0.35694444 | E12: =D12-C12 -> 0.2125 | F12: =TC!A28 -> Fayez Ahmed Al-Shehri | O12: =E12 -> 0.2125 | P12: =B12 -> TC1 | Q12: =C12 -> 0.14444444 | R12: =D12 -> 0.35694444
O13: =E13 -> 0 | P13: =B13 -> 0 | Q13: =C13 -> 0 | R13: =D13 -> 0
B14: TC3&10 | C14: 0.22013889 | D14: 0.69166667 | E14: =D14-C14 -> 0.47152778 | F14: =TC!A34 -> Hussein Abdul Jalil Al-Buqshi | O14: =E14 -> 0.47152778 | P14: =B14 -> TC3&10 | Q14: =C14 -> 0.22013889 | R14: =D14 -> 0.69166667
O15: =E15 -> 0 | P15: =B15 -> 0 | Q15: =C15 -> 0 | R15: =D15 -> 0
B16: TC6 | C16: 0.27291667 | D16: 0.48125 | E16: =D16-C16 -> 0.20833333 | F16: =TC!A18 -> Saad Saeed Al-Omari | J16: Rajeh | O16: =E16 -> 0.20833333 | P16: =B16 -> TC6 | Q16: =C16 -> 0.27291667 | R16: =D16 -> 0.48125
O17: =E17 -> 0 | P17: =B17 -> 0 | Q17: =C17 -> 0 | R17: =D17 -> 0
B18: TC4 | C18: 0.18680556 | D18: 0.39513889 | E18: =D18-C18 -> 0.20833333 | F18: =TC!A7 -> Ali Abdullah Al-Ghamdi | O18: =E18 -> 0.20833333 | P18: =B18 -> TC4 | Q18: =C18 -> 0.18680556 | R18: =D18 -> 0.39513889
O19: =E19 -> 0 | P19: =B19 -> 0 | Q19: =C19 -> 0 | R19: =D19 -> 0
B20: SP-R | C20: 0.16666667 | D20: 0.58333333 | E20: =D20-C20 -> 0.41666667 | F20: =TC!A11 -> Saleh Ali Alseda | O20: =E20 -> 0.41666667 | P20: =B20 -> SP-R | Q20: =C20 -> 0.16666667 | R20: =D20 -> 0.58333333
O21: =E21 -> 0 | P21: =B21 -> 0 | Q21: =C21 -> 0 | R21: =D21 -> 0
B22: SP-R | C22: 0.45833333 | D22: 0.83333333 | E22: =D22-C22 -> 0.375 | F22: =TC!A15 -> Abdul Hamid Taher Al-Awad | J22: Salman AL | O22: =E22 -> 0.375 | P22: =B22 -> SP-R | Q22: =C22 -> 0.45833333 | R22: =D22 -> 0.83333333
O23: =E23 -> 0 | P23: =B23 -> 0 | Q23: =C23 -> 0 | R23: =D23 -> 0
B24: TC7 | C24: 0.46736111 | D24: 0.68263889 | E24: =D24-C24 -> 0.21527778 | F24: =TC!A16 -> Ahmed Abdulaziz Al-Ghwainem | O24: =E24 -> 0.21527778 | P24: =B24 -> TC7 | Q24: =C24 -> 0.46736111 | R24: =D24 -> 0.68263889
O25: =E25 -> 0 | P25: =B25 -> 0 | Q25: =C25 -> 0 | R25: =D25 -> 0
B26: TC7&16 | C26: 0.46736111 | D26: 0.96527778 | E26: =D26-C26 -> 0.49791667 | F26: =TC!A17 -> Humim Abdul Rahman Al-Dossary | J26: Mohammed AL | O26: =E26 -> 0.49791667 | P26: =B26 -> TC7&16 | Q26: =C26 -> 0.46736111 | R26: =D26 -> 0.96527778
O27: =E27 -> 0 | P27: =B27 -> 0 | Q27: =C27 -> 0 | R27: =D27 -> 0
B28: TC10 | C28: 0.48333333 | D28: 0.69166667 | E28: =D28-C28 -> 0.20833333 | F28: =TC!A14 -> Mubarak Yousef Al-Dossary | O28: =E28 -> 0.20833333 | P28: =B28 -> TC10 | Q28: =C28 -> 0.48333333 | R28: =D28 -> 0.69166667
O29: =E29 -> 0 | P29: =B29 -> 0 | Q29: =C29 -> 0 | R29: =D29 -> 0
B30: SP-D | C30: 0.5625 | D30: 0.9375 | E30: =D30-C30 -> 0.375 | F30: =TC!A25 -> Hussein Muhammad Al-Omari | O30: =E30 -> 0.375 | P30: =B30 -> SP-D | Q30: =C30 -> 0.5625 | R30: =D30 -> 0.9375
O31: =E31 -> 0 | P31: =B31 -> 0 | Q31: =C31 -> 0 | R31: =D31 -> 0
B32: TC9 | C32: 0.59236111 | D32: 0.80486111 | E32: =D32-C32 -> 0.2125 | F32: =TC!A29 -> Saleh Abdullah Al-Shamrani | O32: =E32 -> 0.2125 | P32: =B32 -> TC9 | Q32: =C32 -> 0.59236111 | R32: =D32 -> 0.80486111
O33: =E33 -> 0 | P33: =B33 -> 0 | Q33: =C33 -> 0 | R33: =D33 -> 0
B34: TC13 | C34: 0.62291667 | D34: 0.84722222 | E34: =D34-C34 -> 0.22430556 | F34: =TC!A12 -> Abduleilah Ali Ibrahim | J34: Mohammed TRG | O34: =E34 -> 0.22430556 | P34: =B34 -> TC13 | Q34: =C34 -> 0.62291667 | R34: =D34 -> 0.84722222
O35: =E35 -> 0 | P35: =B35 -> 0 | Q35: =C35 -> 0 | R35: =D35 -> 0
B36: TC14 | C36: 0.67083333 | D36: 0.88055556 | E36: =D36-C36 -> 0.20972222 | F36: =TC!A23 -> Mubarak Salem Al Shaiban | O36: =E36 -> 0.20972222 | P36: =B36 -> TC14 | Q36: =C36 -> 0.67083333 | R36: =D36 -> 0.88055556
O37: =E37 -> 0 | P37: =B37 -> 0 | Q37: =C37 -> 0 | R37: =D37 -> 0
B38: TC17 | C38: 0.78263889 | D38: 0.99513889 | E38: =D38-C38 -> 0.2125 | F38: =TC!A22 -> Ahmed Jassim Al-Hussein | O38: =E38 -> 0.2125 | P38: =B38 -> TC17 | Q38: =C38 -> 0.78263889 | R38: =D38 -> 0.99513889
O39: =E39 -> 0 | P39: =B39 -> 0 | Q39: =C39 -> 0 | R39: =D39 -> 0
B40: TC18 | C40: 0.79027778 | D40: 0.99861111 | E40: =D40-C40 -> 0.20833333 | F40: =TC!A27 -> Abdul Ghani Ahmed Al-Nasser | O40: =E40 -> 0.20833333 | P40: =B40 -> TC18 | Q40: =C40 -> 0.79027778 | R40: =D40 -> 0.99861111
O41: =E41 -> 0 | P41: =B41 -> 0 | Q41: =C41 -> 0 | R41: =D41 -> 0
B42: TC19&2 | C42: 0.9 | D42: 1.31875 | E42: =D42-C42 -> 0.41875 | F42: =TC!A33 -> Habib Mahdi Al-Jittil | O42: =E42 -> 0.41875 | P42: =B42 -> TC19&2 | Q42: =C42 -> 0.9 | R42: =D42 -> 1.31875
O43: =E43 -> 0 | P43: =B43 -> 0 | Q43: =C43 -> 0 | R43: =D43 -> 0
O44: =E44 -> 0 | P44: =B44 -> 0 | Q44: =C44 -> 0 | R44: =D44 -> 0
O45: =E45 -> 0 | P45: =B45 -> 0 | Q45: =C45 -> 0 | R45: =D45 -> 0
B46: Off Roster | O46: =E46 -> 0 | P46: =B46 -> Off Roster | Q46: =C46 -> 0 | R46: =D46 -> 0
B47: Activity | C47: On Duty | D47: Off Duty | E47: Hours | F47: Name | J47: Comments | O47: =E47 -> Hours | P47: =B47 -> Activity | Q47: =C47 -> On Duty | R47: =D47 -> Off Duty
B48: TRG | C48: 0.375 | D48: 0.625 | E48: 0.25 | F48: =TC!A37 -> Salem Mahdi Al Shaiban | O48: =E48 -> 0.25 | P48: =B48 -> TRG | Q48: =C48 -> 0.375 | R48: =D48 -> 0.625
B49: TRG | C49: 0.375 | D49: 0.625 | E49: 0.25 | F49: =TC!A21 -> Faisal Turki Abu Falasa | O49: =E49 -> 0.25 | P49: =B49 -> TRG | Q49: =C49 -> 0.375 | R49: =D49 -> 0.625
B50: TRG | C50: 0.375 | D50: 0.625 | E50: 0.25 | F50: =TC!A24 -> Mohammed Abdul Karim Al Mazni | O50: =E50 -> 0.25 | P50: =B50 -> TRG | Q50: =C50 -> 0.375 | R50: =D50 -> 0.625
B51: DET | C51: 0.375 | D51: 0.66666667 | E51: 0.33333333 | F51: =TC!A8 -> Rajeh Hussein Al-Harith | O51: =E51 -> 0.33333333 | P51: =B51 -> DET | Q51: =C51 -> 0.375 | R51: =D51 -> 0.66666667
B53: Other (Leave, Sick etc.) | I53: Rest Day Off
B54: Type | C54: Name | I54: Name
B55: AL | C55: =TC!A31 -> Mohammed Ibrahim Al-Melifi | I55: =TC!A9 -> Khaled Fahd Al-Harbi
B56: AL | C56: =TC!A30 -> Salman Al-Shammari | I56: =TC!A13 -> Saeed Saleh Al-Harthi
I57: =TC!A15 -> Abdul Hamid Taher Al-Awad
I58: =TC!A19 -> Ali Issa Muhammad Al Owais
I59: =TC!A20 -> Nasser Jamaan Al-Ghamdi
I60: =TC!A32 -> Ali Hussein Al-Olaiwi
I61: =TC!A26 -> Saleh Ahmed Al-Olayani
I62: =TC!A36 -> Abdullah Jassim Al-Eid
I63: =TC!A35 -> Shami Abdo Al-Shehri

Sheet DAS Wed
C2: Daily Alteration Sheet
B4: Wednesday | D4: ='DAS Tue'!D4:E4+1 -> 45931
B5: Train Captain | K5: Dammam
B8: Shift ID | C8: On Duty | D8: Off Duty | E8: Hours | F8: Name | J8: Comments
O9: =E9 -> 0 | P9: =B9 -> 0 | Q9: =C9 -> 0 | R9: =D9 -> 0
B10: SP-D | C10: 0.125 | D10: 0.54166667 | E10: =D10-C10 -> 0.41666667 | F10: =TC!A30 -> Salman Al-Shammari | O10: =E10 -> 0.41666667 | P10: =B10 -> SP-D | Q10: =C10 -> 0.125 | R10: =D10 -> 0.54166667
O11: =E11 -> 0 | P11: =B11 -> 0 | Q11: =C11 -> 0 | R11: =D11 -> 0
B12: TC1 | C12: 0.14444444 | D12: 0.35694444 | E12: =D12-C12 -> 0.2125 | F12: =TC!A18 -> Saad Saeed Al-Omari | J12: Rajeh | O12: =E12 -> 0.2125 | P12: =B12 -> TC1 | Q12: =C12 -> 0.14444444 | R12: =D12 -> 0.35694444
O13: =E13 -> 0 | P13: =B13 -> 0 | Q13: =C13 -> 0 | R13: =D13 -> 0
B14: TC4 | C14: 0.18680556 | D14: 0.39513889 | E14: =D14-C14 -> 0.20833333 | F14: =TC!A11 -> Saleh Ali Alseda | O14: =E14 -> 0.20833333 | P14: =B14 -> TC4 | Q14: =C14 -> 0.18680556 | R14: =D14 -> 0.39513889
O15: =E15 -> 0 | P15: =B15 -> 0 | Q15: =C15 -> 0 | R15: =D15 -> 0
B16: TC3&10 | C16: 0.22013889 | D16: 0.69166667 | E16: =D16-C16 -> 0.47152778 | F16: =TC!A13 -> Saeed Saleh Al-Harthi | O16: =E16 -> 0.47152778 | P16: =B16 -> TC3&10 | Q16: =C16 -> 0.22013889 | R16: =D16 -> 0.69166667
O17: =E17 -> 0 | P17: =B17 -> 0 | Q17: =C17 -> 0 | R17: =D17 -> 0
B18: TC6 | C18: 0.27291667 | D18: 0.48125 | E18: =D18-C18 -> 0.20833333 | F18: =TC!A16 -> Ahmed Abdulaziz Al-Ghwainem | O18: =E18 -> 0.20833333 | P18: =B18 -> TC6 | Q18: =C18 -> 0.27291667 | R18: =D18 -> 0.48125
O19: =E19 -> 0 | P19: =B19 -> 0 | Q19: =C19 -> 0 | R19: =D19 -> 0
B20: SP-R | C20: 0.16666667 | D20: 0.58333333 | E20: =D20-C20 -> 0.41666667 | F20: =TC!A28 -> Fayez Ahmed Al-Shehri | O20: =E20 -> 0.41666667 | P20: =B20 -> SP-R | Q20: =C20 -> 0.16666667 | R20: =D20 -> 0.58333333
O21: =E21 -> 0 | P21: =B21 -> 0 | Q21: =C21 -> 0 | R21: =D21 -> 0
B22: TC5&12 | C22: 0.38333333 | D22: 0.8125 | E22: =D22-C22 -> 0.42916667 | F22: =TC!A7 -> Ali Abdullah Al-Ghamdi | O22: =E22 -> 0.42916667 | P22: =B22 -> TC5&12 | Q22: =C22 -> 0.38333333 | R22: =D22 -> 0.8125
O23: =E23 -> 0 | P23: =B23 -> 0 | Q23: =C23 -> 0 | R23: =D23 -> 0
B24: SP-R | C24: 0.45833333 | D24: 0.83333333 | E24: =D24-C24 -> 0.375 | F24: =TC!A29 -> Saleh Abdullah Al-Shamrani | O24: =E24 -> 0.375 | P24: =B24 -> SP-R | Q24: =C24 -> 0.45833333 | R24: =D24 -> 0.83333333
O25: =E25 -> 0 | P25: =B25 -> 0 | Q25: =C25 -> 0 | R25: =D25 -> 0
B26: TC7 | C26: 0.46736111 | D26: 0.68263889 | E26: =D26-C26 -> 0.21527778 | F26: =TC!A26 -> Saleh Ahmed Al-Olayani | O26: =E26 -> 0.21527778 | P26: =B26 -> TC7 | Q26: =C26 -> 0.46736111 | R26: =D26 -> 0.68263889
O27: =E27 -> 0 | P27: =B27 -> 0 | Q27: =C27 -> 0 | R27: =D27 -> 0
B28: TC7&16 | C28: 0.46736111 | D28: 0.96527778 | E28: =D28-C28 -> 0.49791667 | F28: =TC!A34 -> Hussein Abdul Jalil Al-Buqshi | O28: =E28 -> 0.49791667 | P28: =B28 -> TC7&16 | Q28: =C28 -> 0.46736111 | R28: =D28 -> 0.96527778
O29: =E29 -> 0 | P29: =B29 -> 0 | Q29: =C29 -> 0 | R29: =D29 -> 0
B30: TC10 | C30: 0.48333333 | D30: 0.69166667 | E30: =D30-C30 -> 0.20833333 | F30: =TC!A15 -> Abdul Hamid Taher Al-Awad | J30: Salman | O30: =E30 -> 0.20833333 | P30: =B30 -> TC10 | Q30: =C30 -> 0.48333333 | R30: =D30 -> 0.69166667
O31: =E31 -> 0 | P31: =B31 -> 0 | Q31: =C31 -> 0 | R31: =D31 -> 0
B32: SP-D | C32: 0.5625 | D32: 0.9375 | E32: =D32-C32 -> 0.375 | F32: =TC!A17 -> Humim Abdul Rahman Al-Dossary | O32: =E32 -> 0.375 | P32: =B32 -> SP-D | Q32: =C32 -> 0.5625 | R32: =D32 -> 0.9375
O33: =E33 -> 0 | P33: =B33 -> 0 | Q33: =C33 -> 0 | R33: =D33 -> 0
B34: SP-D | C34: 0.5625 | D34: 0.9375 | E34: =D34-C34 -> 0.375 | F34: =TC!A32 -> Ali Hussein Al-Olaiwi | O34: =E34 -> 0.375 | P34: =B34 -> SP-D | Q34: =C34 -> 0.5625 | R34: =D34 -> 0.9375
O35: =E35 -> 0 | P35: =B35 -> 0 | Q35: =C35 -> 0 | R35: =D35 -> 0
B36: TC9 | C36: 0.59236111 | D36: 0.80486111 | E36: =D36-C36 -> 0.2125 | F36: =TC!A23 -> Mubarak Salem Al Shaiban | O36: =E36 -> 0.2125 | P36: =B36 -> TC9 | Q36: =C36 -> 0.59236111 | R36: =D36 -> 0.80486111
O37: =E37 -> 0 | P37: =B37 -> 0 | Q37: =C37 -> 0 | R37: =D37 -> 0
B38: TC13 | C38: 0.62291667 | D38: 0.84722222 | E38: =D38-C38 -> 0.22430556 | F38: =TC!A27 -> Abdul Ghani Ahmed Al-Nasser | O38: =E38 -> 0.22430556 | P38: =B38 -> TC13 | Q38: =C38 -> 0.62291667 | R38: =D38 -> 0.84722222
O39: =E39 -> 0 | P39: =B39 -> 0 | Q39: =C39 -> 0 | R39: =D39 -> 0
B40: TC14 | C40: 0.67083333 | D40: 0.88055556 | E40: =D40-C40 -> 0.20972222 | F40: =TC!A12 -> Abduleilah Ali Ibrahim | J40: Mohammed TRG | O40: =E40 -> 0.20972222 | P40: =B40 -> TC14 | Q40: =C40 -> 0.67083333 | R40: =D40 -> 0.88055556
O41: =E41 -> 0 | P41: =B41 -> 0 | Q41: =C41 -> 0 | R41: =D41 -> 0
B42: TC17 | C42: 0.78263889 | D42: 0.99513889 | E42: =D42-C42 -> 0.2125 | F42: =TC!A31 -> Mohammed Ibrahim Al-Melifi | O42: =E42 -> 0.2125 | P42: =B42 -> TC17 | Q42: =C42 -> 0.78263889 | R42: =D42 -> 0.99513889
O43: =E43 -> 0 | P43: =B43 -> 0 | Q43: =C43 -> 0 | R43: =D43 -> 0
B44: TC18 | C44: 0.79027778 | D44: 0.99861111 | E44: =D44-C44 -> 0.20833333 | F44: =TC!A22 -> Ahmed Jassim Al-Hussein | O44: =E44 -> 0.20833333 | P44: =B44 -> TC18 | Q44: =C44 -> 0.79027778 | R44: =D44 -> 0.99861111
O45: =E45 -> 0 | P45: =B45 -> 0 | Q45: =C45 -> 0 | R45: =D45 -> 0
B46: TC19&2 | C46: 0.9 | D46: 1.31875 | E46: =D46-C46 -> 0.41875 | F46: =TC!A33 -> Habib Mahdi Al-Jittil | O46: =E46 -> 0.41875 | P46: =B46 -> TC19&2 | Q46: =C46 -> 0.9 | R46: =D46 -> 1.31875
O47: =E47 -> 0 | P47: =B47 -> 0 | Q47: =C47 -> 0 | R47: =D47 -> 0
O48: =E48 -> 0 | P48: =B48 -> 0 | Q48: =C48 -> 0 | R48: =D48 -> 0
O49: =E49 -> 0 | P49: =B49 -> 0 | Q49: =C49 -> 0 | R49: =D49 -> 0
B50: Off Roster | O50: =E50 -> 0 | P50: =B50 -> Off Roster | Q50: =C50 -> 0 | R50: =D50 -> 0
B51: Activity | C51: On Duty | D51: Off Duty | E51: Hours | F51: Name | J51: Comments | O51: =E51 -> Hours | P51: =B51 -> Activity | Q51: =C51 -> On Duty | R51: =D51 -> Off Duty
B52: TRG | C52: 0.375 | D52: 0.625 | E52: 0.25 | F52: =TC!A37 -> Salem Mahdi Al Shaiban | O52: =E52 -> 0.25 | P52: =B52 -> TRG | Q52: =C52 -> 0.375 | R52: =D52 -> 0.625
B53: TRG | C53: 0.375 | D53: 0.625 | E53: 0.25 | F53: =TC!A24 -> Mohammed Abdul Karim Al Mazni | O53: =E53 -> 0.25 | P53: =B53 -> TRG | Q53: =C53 -> 0.375 | R53: =D53 -> 0.625
B54: TRG | C54: 0.375 | D54: 0.625 | E54: 0.25 | F54: =TC!A21 -> Faisal Turki Abu Falasa | O54: =E54 -> 0.25 | P54: =B54 -> TRG | Q54: =C54 -> 0.375 | R54: =D54 -> 0.625
B55: DET | C55: 0.33333333 | D55: 0.66666667 | E55: 0.33333333 | F55: =TC!A8 -> Rajeh Hussein Al-Harith | O55: =E55 -> 0.33333333 | P55: =B55 -> DET | Q55: =C55 -> 0.33333333 | R55: =D55 -> 0.66666667
B57: Other (Leave, Sick etc.) | I57: Rest Day Off
B58: Type | C58: Name | I58: Name
I59: =TC!A9 -> Khaled Fahd Al-Harbi
I60: =TC!A14 -> Mubarak Yousef Al-Dossary
I61: =TC!A20 -> Nasser Jamaan Al-Ghamdi
I62: =TC!A19 -> Ali Issa Muhammad Al Owais
I63: =TC!A35 -> Shami Abdo Al-Shehri
I64: =TC!A10 -> Mansour Mohammed Al-Dossary
I65: =TC!A25 -> Hussein Muhammad Al-Omari
I66: =TC!A36 -> Abdullah Jassim Al-Eid
I67: =TC!A15 -> Abdul Hamid Taher Al-Awad

Sheet DAS Thu
C2: Daily Alteration Sheet
B4: Thursday | D4: ='DAS Wed'!D4:E4+1 -> 45932
B5: Train Captain | K5: Dammam
B8: Shift ID | C8: On Duty | D8: Off Duty | E8: Hours | F8: Name | J8: Comments
O9: =E9 -> 0 | P9: =B9 -> 0 | Q9: =C9 -> 0 | R9: =D9 -> 0
B10: SP-D | C10: 0.125 | D10: 0.54166667 | E10: =D10-C10 -> 0.41666667 | F10: =TC!A35 -> Shami Abdo Al-Shehri | O10: =E10 -> 0.41666667 | P10: =B10 -> SP-D | Q10: =C10 -> 0.125 | R10: =D10 -> 0.54166667
O11: =E11 -> 0 | P11: =B11 -> 0 | Q11: =C11 -> 0 | R11: =D11 -> 0
B12: SP-D | C12: 0.125 | D12: 0.54166667 | E12: =D12-C12 -> 0.41666667 | F12: =TC!A36 -> Abdullah Jassim Al-Eid | O12: =E12 -> 0.41666667 | P12: =B12 -> SP-D | Q12: =C12 -> 0.125 | R12: =D12 -> 0.54166667
O13: =E13 -> 0 | P13: =B13 -> 0 | Q13: =C13 -> 0 | R13: =D13 -> 0
B14: TC1 | C14: 0.14444444 | D14: 0.35694444 | E14: =D14-C14 -> 0.2125 | F14: =TC!A16 -> Ahmed Abdulaziz Al-Ghwainem | O14: =E14 -> 0.2125 | P14: =B14 -> TC1 | Q14: =C14 -> 0.14444444 | R14: =D14 -> 0.35694444
O15: =E15 -> 0 | P15: =B15 -> 0 | Q15: =C15 -> 0 | R15: =D15 -> 0
B16: TC4 | C16: 0.18680556 | D16: 0.39513889 | E16: =D16-C16 -> 0.20833333 | F16: =TC!A28 -> Fayez Ahmed Al-Shehri | O16: =E16 -> 0.20833333 | P16: =B16 -> TC4 | Q16: =C16 -> 0.18680556 | R16: =D16 -> 0.39513889
O17: =E17 -> 0 | P17: =B17 -> 0 | Q17: =C17 -> 0 | R17: =D17 -> 0
B18: TC3&10 | C18: 0.22013889 | D18: 0.69166667 | E18: =D18-C18 -> 0.47152778 | F18: =TC!A10 -> Mansour Mohammed Al-Dossary | O18: =E18 -> 0.47152778 | P18: =B18 -> TC3&10 | Q18: =C18 -> 0.22013889 | R18: =D18 -> 0.69166667
O19: =E19 -> 0 | P19: =B19 -> 0 | Q19: =C19 -> 0 | R19: =D19 -> 0
B20: TC6 | C20: 0.27291667 | D20: 0.48125 | E20: =D20-C20 -> 0.20833333 | F20: =TC!A26 -> Saleh Ahmed Al-Olayani | O20: =E20 -> 0.20833333 | P20: =B20 -> TC6 | Q20: =C20 -> 0.27291667 | R20: =D20 -> 0.48125
O21: =E21 -> 0 | P21: =B21 -> 0 | Q21: =C21 -> 0 | R21: =D21 -> 0
B22: SP-R | C22: 0.16666667 | D22: 0.58333333 | E22: =D22-C22 -> 0.41666667 | F22: =TC!A18 -> Saad Saeed Al-Omari | J22: Rajeh | O22: =E22 -> 0.41666667 | P22: =B22 -> SP-R | Q22: =C22 -> 0.16666667 | R22: =D22 -> 0.58333333
O23: =E23 -> 0 | P23: =B23 -> 0 | Q23: =C23 -> 0 | R23: =D23 -> 0
B24: TC5&12 | C24: 0.38333333 | D24: 0.8125 | E24: =D24-C24 -> 0.42916667 | F24: =TC!A13 -> Saeed Saleh Al-Harthi | O24: =E24 -> 0.42916667 | P24: =B24 -> TC5&12 | Q24: =C24 -> 0.38333333 | R24: =D24 -> 0.8125
O25: =E25 -> 0 | P25: =B25 -> 0 | Q25: =C25 -> 0 | R25: =D25 -> 0
B26: SP-R | C26: 0.45833333 | D26: 0.83333333 | E26: =D26-C26 -> 0.375 | F26: =TC!A23 -> Mubarak Salem Al Shaiban | O26: =E26 -> 0.375 | P26: =B26 -> SP-R | Q26: =C26 -> 0.45833333 | R26: =D26 -> 0.83333333
O27: =E27 -> 0 | P27: =B27 -> 0 | Q27: =C27 -> 0 | R27: =D27 -> 0
B28: TC13 | C28: 0.62291667 | D28: 0.84722222 | E28: =D28-C28 -> 0.22430556 | F28: =TC!A12 -> Abduleilah Ali Ibrahim | O28: =E28 -> 0.22430556 | P28: =B28 -> TC13 | Q28: =C28 -> 0.62291667 | R28: =D28 -> 0.84722222
O29: =E29 -> 0 | P29: =B29 -> 0 | Q29: =C29 -> 0 | R29: =D29 -> 0
B30: TC7&16 | C30: 0.46736111 | D30: 0.96527778 | E30: =D30-C30 -> 0.49791667 | F30: =TC!A7 -> Ali Abdullah Al-Ghamdi | O30: =E30 -> 0.49791667 | P30: =B30 -> TC7&16 | Q30: =C30 -> 0.46736111 | R30: =D30 -> 0.96527778
O31: =E31 -> 0 | P31: =B31 -> 0 | Q31: =C31 -> 0 | R31: =D31 -> 0
B32: TC10 | C32: 0.48333333 | D32: 0.69166667 | E32: =D32-C32 -> 0.20833333 | F32: =TC!A29 -> Saleh Abdullah Al-Shamrani | O32: =E32 -> 0.20833333 | P32: =B32 -> TC10 | Q32: =C32 -> 0.48333333 | R32: =D32 -> 0.69166667
O33: =E33 -> 0 | P33: =B33 -> 0 | Q33: =C33 -> 0 | R33: =D33 -> 0
B34: SP-D | C34: 0.5625 | D34: 0.9375 | E34: =D34-C34 -> 0.375 | F34: =TC!A17 -> Humim Abdul Rahman Al-Dossary | O34: =E34 -> 0.375 | P34: =B34 -> SP-D | Q34: =C34 -> 0.5625 | R34: =D34 -> 0.9375
O35: =E35 -> 0 | P35: =B35 -> 0 | Q35: =C35 -> 0 | R35: =D35 -> 0
B36: TC9 | C36: 0.59236111 | D36: 0.80486111 | E36: =D36-C36 -> 0.2125 | F36: =TC!A9 -> Khaled Fahd Al-Harbi | O36: =E36 -> 0.2125 | P36: =B36 -> TC9 | Q36: =C36 -> 0.59236111 | R36: =D36 -> 0.80486111
O37: =E37 -> 0 | P37: =B37 -> 0 | Q37: =C37 -> 0 | R37: =D37 -> 0
B38: TC14 | C38: 0.67083333 | D38: 0.88055556 | E38: =D38-C38 -> 0.20972222 | F38: =TC!A27 -> Abdul Ghani Ahmed Al-Nasser | O38: =E38 -> 0.20972222 | P38: =B38 -> TC14 | Q38: =C38 -> 0.67083333 | R38: =D38 -> 0.88055556
O39: =E39 -> 0 | P39: =B39 -> 0 | Q39: =C39 -> 0 | R39: =D39 -> 0
B40: TC17 | C40: 0.78263889 | D40: 0.99513889 | E40: =D40-C40 -> 0.2125 | F40: =TC!A32 -> Ali Hussein Al-Olaiwi | O40: =E40 -> 0.2125 | P40: =B40 -> TC17 | Q40: =C40 -> 0.78263889 | R40: =D40 -> 0.99513889
O41: =E41 -> 0 | P41: =B41 -> 0 | Q41: =C41 -> 0 | R41: =D41 -> 0
B42: TC18 | C42: 0.79027778 | D42: 0.99861111 | E42: =D42-C42 -> 0.20833333 | F42: =TC!A31 -> Mohammed Ibrahim Al-Melifi | O42: =E42 -> 0.20833333 | P42: =B42 -> TC18 | Q42: =C42 -> 0.79027778 | R42: =D42 -> 0.99861111
O43: =E43 -> 0 | P43: =B43 -> 0 | Q43: =C43 -> 0 | R43: =D43 -> 0
B44: TC19&22 | C44: 0.9 | D44: 1.3118056 | E44: =D44-C44 -> 0.41180556 | F44: =TC!A11 -> Saleh Ali Alseda | O44: =E44 -> 0.41180556 | P44: =B44 -> TC19&22 | Q44: =C44 -> 0.9 | R44: =D44 -> 1.3118056
O45: =E45 -> 0 | P45: =B45 -> 0 | Q45: =C45 -> 0 | R45: =D45 -> 0
O46: =E46 -> 0 | P46: =B46 -> 0 | Q46: =C46 -> 0 | R46: =D46 -> 0
B47: Off Roster | O47: =E47 -> 0 | P47: =B47 -> Off Roster | Q47: =C47 -> 0 | R47: =D47 -> 0
B48: Activity | C48: On Duty | D48: Off Duty | E48: Hours | F48: Name | J48: Comments | O48: =E48 -> Hours | P48: =B48 -> Activity | Q48: =C48 -> On Duty | R48: =D48 -> Off Duty
B49: TRG | C49: 0.375 | D49: 0.625 | E49: 0.25 | F49: =TC!A37 -> Salem Mahdi Al Shaiban | O49: =E49 -> 0.25 | P49: =B49 -> TRG | Q49: =C49 -> 0.375 | R49: =D49 -> 0.625
B50: TRG | C50: 0.375 | D50: 0.625 | E50: 0.25 | F50: =TC!A21 -> Faisal Turki Abu Falasa | O50: =E50 -> 0.25 | P50: =B50 -> TRG | Q50: =C50 -> 0.375 | R50: =D50 -> 0.625
B51: TRG | C51: 0.375 | D51: 0.625 | E51: 0.25 | F51: =TC!A24 -> Mohammed Abdul Karim Al Mazni | O51: =E51 -> 0.25 | P51: =B51 -> TRG | Q51: =C51 -> 0.375 | R51: =D51 -> 0.625
B52: TRG | C52: 0.33333333 | D52: 0.66666667 | E52: 0.33333333 | F52: =TC!A8 -> Rajeh Hussein Al-Harith | O52: =E52 -> 0.33333333 | P52: =B52 -> TRG | Q52: =C52 -> 0.33333333 | R52: =D52 -> 0.66666667
B54: Other (Leave, Sick etc.) | I54: Rest Day Off
B55: Type | C55: Name | I55: Name
I56: =TC!A15 -> Abdul Hamid Taher Al-Awad
I57: =TC!A14 -> Mubarak Yousef Al-Dossary
I58: =TC!A33 -> Habib Mahdi Al-Jittil
I59: =TC!A34 -> Hussein Abdul Jalil Al-Buqshi
I60: =TC!A30 -> Salman Al-Shammari
I61: =TC!A22 -> Ahmed Jassim Al-Hussein
I62: =TC!A25 -> Hussein Muhammad Al-Omari
I63: =TC!A20 -> Nasser Jamaan Al-Ghamdi

Sheet DAS Fri
C2: Daily Alteration Sheet
B4: Friday | D4: ='DAS Thu'!D4:E4+1 -> 45933
B5: Train Captain | K5: Dammam
B8: Shift ID | C8: On Duty | D8: Off Duty | E8: Hours | F8: Name | J8: Comments
O9: =E9 -> 0 | P9: =B9 -> 0 | Q9: =C9 -> 0 | R9: =D9 -> 0
B10: TC21&24 | C10: 0.22013889 | D10: 0.48055556 | E10: =D10-C10 -> 0.26041667 | F10: =TC!A35 -> Shami Abdo Al-Shehri | O10: =E10 -> 0.26041667 | P10: =B10 -> TC21&24 | Q10: =C10 -> 0.22013889 | R10: =D10 -> 0.48055556
O11: =E11 -> 0 | P11: =B11 -> 0 | Q11: =C11 -> 0 | R11: =D11 -> 0
B12: TC23&26 | C12: 0.38333333 | D12: 0.59861111 | E12: =D12-C12 -> 0.21527778 | F12: =TC!A36 -> Abdullah Jassim Al-Eid | O12: =E12 -> 0.21527778 | P12: =B12 -> TC23&26 | Q12: =C12 -> 0.38333333 | R12: =D12 -> 0.59861111
O13: =E13 -> 0 | P13: =B13 -> 0 | Q13: =C13 -> 0 | R13: =D13 -> 0
B14: TC25&28 | C14: 0.47291667 | D14: 0.69166667 | E14: =D14-C14 -> 0.21875 | F14: =TC!A14 -> Mubarak Yousef Al-Dossary | O14: =E14 -> 0.21875 | P14: =B14 -> TC25&28 | Q14: =C14 -> 0.47291667 | R14: =D14 -> 0.69166667
O15: =E15 -> 0 | P15: =B15 -> 0 | Q15: =C15 -> 0 | R15: =D15 -> 0
B16: SP-D | C16: 0.19791667 | D16: 0.54166667 | E16: =D16-C16 -> 0.34375 | F16: =TC!A20 -> Nasser Jamaan Al-Ghamdi | O16: =E16 -> 0.34375 | P16: =B16 -> SP-D | Q16: =C16 -> 0.19791667 | R16: =D16 -> 0.54166667
O17: =E17 -> 0 | P17: =B17 -> 0 | Q17: =C17 -> 0 | R17: =D17 -> 0
B18: SP-D | C18: 0.19791667 | D18: 0.54166667 | E18: =D18-C18 -> 0.34375 | F18: =TC!A10 -> Mansour Mohammed Al-Dossary | O18: =E18 -> 0.34375 | P18: =B18 -> SP-D | Q18: =C18 -> 0.19791667 | R18: =D18 -> 0.54166667
O19: =E19 -> 0 | P19: =B19 -> 0 | Q19: =C19 -> 0 | R19: =D19 -> 0
B20: SP-R | C20: 0.33333333 | D20: 0.58333333 | E20: =D20-C20 -> 0.25 | F20: =TC!A9 -> Khaled Fahd Al-Harbi | O20: =E20 -> 0.25 | P20: =B20 -> SP-R | Q20: =C20 -> 0.33333333 | R20: =D20 -> 0.58333333
O21: =E21 -> 0 | P21: =B21 -> 0 | Q21: =C21 -> 0 | R21: =D21 -> 0
B22: TC27&30 | C22: 0.59236111 | D22: 0.80763889 | E22: =D22-C22 -> 0.21527778 | F22: =TC!A13 -> Saeed Saleh Al-Harthi | O22: =E22 -> 0.21527778 | P22: =B22 -> TC27&30 | Q22: =C22 -> 0.59236111 | R22: =D22 -> 0.80763889
O23: =E23 -> 0 | P23: =B23 -> 0 | Q23: =C23 -> 0 | R23: =D23 -> 0
B24: SP-R | C24: 0.375 | D24: 0.58333333 | E24: =D24-C24 -> 0.20833333 | F24: =TC!A12 -> Abduleilah Ali Ibrahim | O24: =E24 -> 0.20833333 | P24: =B24 -> SP-R | Q24: =C24 -> 0.375 | R24: =D24 -> 0.58333333
O25: =E25 -> 0 | P25: =B25 -> 0 | Q25: =C25 -> 0 | R25: =D25 -> 0
B26: TC29&32 | C26: 0.62291667 | D26: 0.88125 | E26: =D26-C26 -> 0.25833333 | F26: =TC!A18 -> Saad Saeed Al-Omari | O26: =E26 -> 0.25833333 | P26: =B26 -> TC29&32 | Q26: =C26 -> 0.62291667 | R26: =D26 -> 0.88125
O27: =E27 -> 0 | P27: =B27 -> 0 | Q27: =C27 -> 0 | R27: =D27 -> 0
B28: SP-R | C28: 0.54166667 | D28: 0.83333333 | E28: =D28-C28 -> 0.29166667 | F28: =TC!A32 -> Ali Hussein Al-Olaiwi | O28: =E28 -> 0.29166667 | P28: =B28 -> SP-R | Q28: =C28 -> 0.54166667 | R28: =D28 -> 0.83333333
O29: =E29 -> 0 | P29: =B29 -> 0 | Q29: =C29 -> 0 | R29: =D29 -> 0
B30: TC31&34 | C30: 0.70763889 | D30: 0.96527778 | E30: =D30-C30 -> 0.25763889 | F30: =TC!A25 -> Hussein Muhammad Al-Omari | O30: =E30 -> 0.25763889 | P30: =B30 -> TC31&34 | Q30: =C30 -> 0.70763889 | R30: =D30 -> 0.96527778
O31: =E31 -> 0 | P31: =B31 -> 0 | Q31: =C31 -> 0 | R31: =D31 -> 0
B32: TC33&38 | C32: 0.78263889 | D32: 0.99861111 | E32: =D32-C32 -> 0.21597222 | F32: =TC!A28 -> Fayez Ahmed Al-Shehri | O32: =E32 -> 0.21597222 | P32: =B32 -> TC33&38 | Q32: =C32 -> 0.78263889 | R32: =D32 -> 0.99861111
O33: =E33 -> 0 | P33: =B33 -> 0 | Q33: =C33 -> 0 | R33: =D33 -> 0
B34: SP-D | C34: 0.5625 | D34: 0.9375 | E34: =D34-C34 -> 0.375 | F34: =TC!A23 -> Mubarak Salem Al Shaiban | O34: =E34 -> 0.375 | P34: =B34 -> SP-D | Q34: =C34 -> 0.5625 | R34: =D34 -> 0.9375
O35: =E35 -> 0 | P35: =B35 -> 0 | Q35: =C35 -> 0 | R35: =D35 -> 0
B36: TC35&2 | C36: 0.9 | D36: 1.31875 | E36: =D36-C36 -> 0.41875 | F36: =TC!A29 -> Saleh Abdullah Al-Shamrani | O36: =E36 -> 0.41875 | P36: =B36 -> TC35&2 | Q36: =C36 -> 0.9 | R36: =D36 -> 1.31875
O37: =E37 -> 0 | P37: =B37 -> 0 | Q37: =C37 -> 0 | R37: =D37 -> 0
B38: SP-D | C38: 0.5625 | D38: 0.9375 | E38: =D38-C38 -> 0.375 | F38: =TC!A31 -> Mohammed Ibrahim Al-Melifi | O38: =E38 -> 0.375 | P38: =B38 -> SP-D | Q38: =C38 -> 0.5625 | R38: =D38 -> 0.9375
O39: =E39 -> 0 | P39: =B39 -> 0 | Q39: =C39 -> 0 | R39: =D39 -> 0
B40: SP-H | C40: 0.58333333 | D40: 0.95833333 | E40: =D40-C40 -> 0.375 | F40: =TC!A15 -> Abdul Hamid Taher Al-Awad | O40: =E40 -> 0.375 | P40: =B40 -> SP-H | Q40: =C40 -> 0.58333333 | R40: =D40 -> 0.95833333
O41: =E41 -> 0 | P41: =B41 -> 0 | Q41: =C41 -> 0 | R41: =D41 -> 0
B42: SP-H | C42: 0.20833333 | D42: 0.58333333 | E42: =D42-C42 -> 0.375 | F42: =TC!A16 -> Ahmed Abdulaziz Al-Ghwainem | O42: =E42 -> 0.375 | P42: =B42 -> SP-H | Q42: =C42 -> 0.20833333 | R42: =D42 -> 0.58333333
O43: =E43 -> 0 | P43: =B43 -> 0 | Q43: =C43 -> 0 | R43: =D43 -> 0
O44: =E44 -> 0 | P44: =B44 -> 0 | Q44: =C44 -> 0 | R44: =D44 -> 0
O45: =E45 -> 0 | P45: =B45 -> 0 | Q45: =C45 -> 0 | R45: =D45 -> 0
B46: Off Roster | O46: =E46 -> 0 | P46: =B46 -> Off Roster | Q46: =C46 -> 0 | R46: =D46 -> 0
B47: Activity | C47: On Duty | D47: Off Duty | E47: Hours | F47: Name | J47: Comments | O47: =E47 -> Hours | P47: =B47 -> Activity | Q47: =C47 -> On Duty | R47: =D47 -> Off Duty
O48: =E48 -> 0 | P48: =B48 -> 0 | Q48: =C48 -> 0 | R48: =D48 -> 0
O49: =E49 -> 0 | P49: =B49 -> 0 | Q49: =C49 -> 0 | R49: =D49 -> 0
O50: =E50 -> 0 | P50: =B50 -> 0 | Q50: =C50 -> 0 | R50: =D50 -> 0
B52: Other (Leave, Sick etc.) | I52: Rest Day Off
B53: Type | C53: Name | I53: Name
I54: =TC!A7 -> Ali Abdullah Al-Ghamdi
I55: =TC!A11 -> Saleh Ali Alseda
I56: =TC!A33 -> Habib Mahdi Al-Jittil
I57: =TC!A30 -> Salman Al-Shammari
I58: =TC!A17 -> Humim Abdul Rahman Al-Dossary
I59: =TC!A22 -> Ahmed Jassim Al-Hussein
I60: =TC!A34 -> Hussein Abdul Jalil Al-Buqshi
I61: =TC!A27 -> Abdul Ghani Ahmed Al-Nasser
I62: =TC!A37 -> Salem Mahdi Al Shaiban
I63: =TC!A8 -> Rajeh Hussein Al-Harith

Sheet DAS Sat
C2: Daily Alteration Sheet
B4: Saturday | D4: ='DAS Fri'!D4:E4+1 -> 45934
B5: Train Captain | K5: Dammam
B8: Shift ID | C8: On Duty | D8: Off Duty | E8: Hours | F8: Name | J8: Comments
O9: =E9 -> 0 | P9: =B9 -> 0 | Q9: =C9 -> 0 | R9: =D9 -> 0
B10: SP-D | C10: 0.19791667 | D10: 0.54166667 | E10: =D10-C10 -> 0.34375 | F10: =TC!A35 -> Shami Abdo Al-Shehri | O10: =E10 -> 0.34375 | P10: =B10 -> SP-D | Q10: =C10 -> 0.19791667 | R10: =D10 -> 0.54166667
O11: =E11 -> 0 | P11: =B11 -> 0 | Q11: =C11 -> 0 | R11: =D11 -> 0
B12: SP-D | C12: 0.19791667 | D12: 0.54166667 | E12: =D12-C12 -> 0.34375 | F12: =TC!A20 -> Nasser Jamaan Al-Ghamdi | O12: =E12 -> 0.34375 | P12: =B12 -> SP-D | Q12: =C12 -> 0.19791667 | R12: =D12 -> 0.54166667
O13: =E13 -> 0 | P13: =B13 -> 0 | Q13: =C13 -> 0 | R13: =D13 -> 0
B14: TC23&26 | C14: 0.38333333 | D14: 0.59861111 | E14: =D14-C14 -> 0.21527778 | F14: =TC!A36 -> Abdullah Jassim Al-Eid | O14: =E14 -> 0.21527778 | P14: =B14 -> TC23&26 | Q14: =C14 -> 0.38333333 | R14: =D14 -> 0.59861111
O15: =E15 -> 0 | P15: =B15 -> 0 | Q15: =C15 -> 0 | R15: =D15 -> 0
B16: TC25&28 | C16: 0.47291667 | D16: 0.69166667 | E16: =D16-C16 -> 0.21875 | F16: =TC!A14 -> Mubarak Yousef Al-Dossary | O16: =E16 -> 0.21875 | P16: =B16 -> TC25&28 | Q16: =C16 -> 0.47291667 | R16: =D16 -> 0.69166667
O17: =E17 -> 0 | P17: =B17 -> 0 | Q17: =C17 -> 0 | R17: =D17 -> 0
B18: TC21&24 | C18: 0.22013889 | D18: 0.48055556 | E18: =D18-C18 -> 0.26041667 | F18: =TC!A16 -> Ahmed Abdulaziz Al-Ghwainem | O18: =E18 -> 0.26041667 | P18: =B18 -> TC21&24 | Q18: =C18 -> 0.22013889 | R18: =D18 -> 0.48055556
O19: =E19 -> 0 | P19: =B19 -> 0 | Q19: =C19 -> 0 | R19: =D19 -> 0
B20: TC27&30 | C20: 0.59236111 | D20: 0.80763889 | E20: =D20-C20 -> 0.21527778 | F20: =TC!A28 -> Fayez Ahmed Al-Shehri | O20: =E20 -> 0.21527778 | P20: =B20 -> TC27&30 | Q20: =C20 -> 0.59236111 | R20: =D20 -> 0.80763889
O21: =E21 -> 0 | P21: =B21 -> 0 | Q21: =C21 -> 0 | R21: =D21 -> 0
B22: TC29&32 | C22: 0.62291667 | D22: 0.88125 | E22: =D22-C22 -> 0.25833333 | F22: =TC!A22 -> Ahmed Jassim Al-Hussein | O22: =E22 -> 0.25833333 | P22: =B22 -> TC29&32 | Q22: =C22 -> 0.62291667 | R22: =D22 -> 0.88125
O23: =E23 -> 0 | P23: =B23 -> 0 | Q23: =C23 -> 0 | R23: =D23 -> 0
B24: SP-R | C24: 0.375 | D24: 0.66666667 | E24: =D24-C24 -> 0.29166667 | F24: =TC!A9 -> Khaled Fahd Al-Harbi | O24: =E24 -> 0.29166667 | P24: =B24 -> SP-R | Q24: =C24 -> 0.375 | R24: =D24 -> 0.66666667
O25: =E25 -> 0 | P25: =B25 -> 0 | Q25: =C25 -> 0 | R25: =D25 -> 0
B26: SP-R | C26: 0.375 | D26: 0.66666667 | E26: =D26-C26 -> 0.29166667 | F26: =TC!A12 -> Abduleilah Ali Ibrahim | O26: =E26 -> 0.29166667 | P26: =B26 -> SP-R | Q26: =C26 -> 0.375 | R26: =D26 -> 0.66666667
O27: =E27 -> 0 | P27: =B27 -> 0 | Q27: =C27 -> 0 | R27: =D27 -> 0
B28: SP-R | C28: 0.45833333 | D28: 0.75 | E28: =D28-C28 -> 0.29166667 | F28: =TC!A32 -> Ali Hussein Al-Olaiwi | O28: =E28 -> 0.29166667 | P28: =B28 -> SP-R | Q28: =C28 -> 0.45833333 | R28: =D28 -> 0.75
O29: =E29 -> 0 | P29: =B29 -> 0 | Q29: =C29 -> 0 | R29: =D29 -> 0
B30: SP-H | C30: 0.20833333 | D30: 0.58333333 | E30: =D30-C30 -> 0.375 | F30: =TC!A16 -> Ahmed Abdulaziz Al-Ghwainem | O30: =E30 -> 0.375 | P30: =B30 -> SP-H | Q30: =C30 -> 0.20833333 | R30: =D30 -> 0.58333333
O31: =E31 -> 0 | P31: =B31 -> 0 | Q31: =C31 -> 0 | R31: =D31 -> 0
B32: TC31&34 | C32: 0.70763889 | D32: 0.96527778 | E32: =D32-C32 -> 0.25763889 | F32: =TC!A13 -> Saeed Saleh Al-Harthi | O32: =E32 -> 0.25763889 | P32: =B32 -> TC31&34 | Q32: =C32 -> 0.70763889 | R32: =D32 -> 0.96527778
O33: =E33 -> 0 | P33: =B33 -> 0 | Q33: =C33 -> 0 | R33: =D33 -> 0
B34: SP-H | C34: 0.58333333 | D34: 0.95833333 | E34: =D34-C34 -> 0.375 | F34: =TC!A15 -> Abdul Hamid Taher Al-Awad | O34: =E34 -> 0.375 | P34: =B34 -> SP-H | Q34: =C34 -> 0.58333333 | R34: =D34 -> 0.95833333
O35: =E35 -> 0 | P35: =B35 -> 0 | Q35: =C35 -> 0 | R35: =D35 -> 0
B36: SP-D | C36: 0.5625 | D36: 0.9375 | E36: =D36-C36 -> 0.375 | F36: =TC!A18 -> Saad Saeed Al-Omari | O36: =E36 -> 0.375 | P36: =B36 -> SP-D | Q36: =C36 -> 0.5625 | R36: =D36 -> 0.9375
O37: =E37 -> 0 | P37: =B37 -> 0 | Q37: =C37 -> 0 | R37: =D37 -> 0
B38: TC33&38 | C38: 0.78263889 | D38: 0.99861111 | E38: =D38-C38 -> 0.21597222 | F38: =TC!A10 -> Mansour Mohammed Al-Dossary | O38: =E38 -> 0.21597222 | P38: =B38 -> TC33&38 | Q38: =C38 -> 0.78263889 | R38: =D38 -> 0.99861111
O39: =E39 -> 0 | P39: =B39 -> 0 | Q39: =C39 -> 0 | R39: =D39 -> 0
B40: SP-D | C40: 0.5625 | D40: 0.9375 | E40: =D40-C40 -> 0.375 | F40: =TC!A25 -> Hussein Muhammad Al-Omari | O40: =E40 -> 0.375 | P40: =B40 -> SP-D | Q40: =C40 -> 0.5625 | R40: =D40 -> 0.9375
O41: =E41 -> 0 | P41: =B41 -> 0 | Q41: =C41 -> 0 | R41: =D41 -> 0
B42: TC35&2 | C42: 0.9 | D42: 1.31875 | E42: =D42-C42 -> 0.41875 | F42: =TC!A31 -> Mohammed Ibrahim Al-Melifi | O42: =E42 -> 0.41875 | P42: =B42 -> TC35&2 | Q42: =C42 -> 0.9 | R42: =D42 -> 1.31875
O43: =E43 -> 0 | P43: =B43 -> 0 | Q43: =C43 -> 0 | R43: =D43 -> 0
B44: SP-D | C44: 0.5625 | D44: 0.9375 | E44: =D44-C44 -> 0.375 | F44: =TC!A34 -> Hussein Abdul Jalil Al-Buqshi | O44: =E44 -> 0.375 | P44: =B44 -> SP-D | Q44: =C44 -> 0.5625 | R44: =D44 -> 0.9375
O45: =E45 -> 0 | P45: =B45 -> 0 | Q45: =C45 -> 0 | R45: =D45 -> 0
O46: =E46 -> 0 | P46: =B46 -> 0 | Q46: =C46 -> 0 | R46: =D46 -> 0
O47: =E47 -> 0 | P47: =B47 -> 0 | Q47: =C47 -> 0 | R47: =D47 -> 0
B48: Off Roster | O48: =E48 -> 0 | P48: =B48 -> Off Roster | Q48: =C48 -> 0 | R48: =D48 -> 0
B49: Activity | C49: On Duty | D49: Off Duty | E49: Hours | F49: Name | J49: Comments | O49: =E49 -> Hours | P49: =B49 -> Activity | Q49: =C49 -> On Duty | R49: =D49 -> Off Duty
O50: =E50 -> 0 | P50: =B50 -> 0 | Q50: =C50 -> 0 | R50: =D50 -> 0
O51: =E51 -> 0 | P51: =B51 -> 0 | Q51: =C51 -> 0 | R51: =D51 -> 0
O52: =E52 -> 0 | P52: =B52 -> 0 | Q52: =C52 -> 0 | R52: =D52 -> 0
O53: =E53 -> 0 | P53: =B53 -> 0 | Q53: =C53 -> 0 | R53: =D53 -> 0
B54: Other (Leave, Sick etc.) | I54: Rest Day Off
B55: Type | C55: Name | I55: Name
I56: =TC!A7 -> Ali Abdullah Al-Ghamdi
I57: =TC!A11 -> Saleh Ali Alseda
I58: =TC!A30 -> Salman Al-Shammari
I59: =TC!A27 -> Abdul Ghani Ahmed Al-Nasser
I60: =TC!A17 -> Humim Abdul Rahman Al-Dossary
I61: =TC!A23 -> Mubarak Salem Al Shaiban
I62: =TC!A33 -> Habib Mahdi Al-Jittil
I63: =TC!A37 -> Salem Mahdi Al Shaiban
I64: =TC!A8 -> Rajeh Hussein Al-Harith
I65: =TC!A26 -> Saleh Ahmed Al-Olayani
I66: =TC!A24 -> Mohammed Abdul Karim Al Mazni
I67: =TC!A21 -> Faisal Turki Abu Falasa
I68: =TC!A29 -> Saleh Abdullah Al-Shamrani
I69: =TC!A30 -> Salman Al-Shammari

Sheet Tng & Det
A2: Training & Detachments
B6: Train Captain
C9: =TC!B3 -> 45928 | D9: =C9+1 -> 45929 | E9: =D9+1 -> 45930 | F9: =E9+1 -> 45931 | G9: =F9+1 -> 45932 | H9: =G9+1 -> 45933 | I9: =H9+1 -> 45934
A10: Name | B10: Description | C10: =C9 -> 45928 | D10: =D9 -> 45929 | E10: =E9 -> 45930 | F10: =F9 -> 45931 | G10: =G9 -> 45932 | H10: =H9 -> 45933 | I10: =I9 -> 45934

Sheet Phone#
C2: Contact Numbers
C8: Name | D8: Mobile #
C9: Abdul Azim Hassan Al-Midani | D9: 059 626 8751
C10: Radhi R.AlGomayaan | D10: 050 382 2755
C11: Mubarak Yousef Al-Dossary | D11: 050 039 0343
C12: Mohammed Ibrahim Al-Melifi | D12: 050 383 8591
C13: Ali Abdullah Al-Ghamdi | D13: 054 199 9263
C14: Hussein Muhammad Al-Omari | D14: 050 885 0295
C15: Salman Al-Shammari | D15: 055 203 0010
C16: Hussein Abdul Jalil Al-Buqshi | D16: 050 684 2002
C17: Saad Saeed Al-Omari | D17: 055 804 5451
C18: Salem Mahdi Al Shaiban | D18: 055 482 5885
C19: Mubarak Salem Al Shaiban | D19: 053 334 7907
... C43: Habib Mahdi Al-Jitti | D43: 050 996 2663
A46: Operation Train Crew Office Ext: +966 (0) 11 525 0000 Ext:

Sheet Hours
C1: Dutty Hours | V1: Mainline & Depot Hours
C2: =TC!B3 -> 45928 | E2: =C2+1 -> 45929 | G2: =E2+1 -> 45930 | I2: =G2+1 -> 45931 | K2: =I2+1 -> 45932 | M2: =K2+1 -> 45933 | O2: =M2+1 -> 45934 | V2: =TC!B3 -> 45928 | Y2: =V2+1 -> 45929 | AB2: =Y2+1 -> 45930 | AE2: =AB2+1 -> 45931 | AH2: =AE2+1 -> 45932 | AK2: =AH2+1 -> 45933 | AN2: =AK2+1 -> 45934 | AV2: =AW2-1 -> 45927 | AW2: =TC!B3 -> 45928 | BA2: =AW2+1 -> 45929 | BE2: =BA2+1 -> 45930 | BI2: =BE2+1 -> 45931 | BM2: =BI2+1 -> 45932 | BQ2: =BM2+1 -> 45933 | BU2: =BQ2+1 -> 45934
C3: Sun | E3: Mon | G3: Tue | I3: Wed | K3: Thu | M3: Fri | O3: Sat | V3: Sunday | Y3: Monday | AB3: Tuesday | AE3: Wednesday | AH3: Thursday | AK3: Friday | AN3: Saturday | AV3: Sat | AW3: Sun | BA3: Mon | BE3: Tue | BI3: Wed | BM3: Thu | BQ3: Fri | BU3: Sat
C4: Actual | D4: BaseRoster | E4: Actual | F4: BaseRoster | G4: Actual | H4: BaseRoster | I4: Actual | J4: BaseRoster | K4: Actual | L4: BaseRoster | M4: Actual | N4: BaseRoster | O4: Actual | P4: BaseRoster | Q4: Actual Hours | R4: BaseRoster Hours | S4: Off | V4: Shift | W4: Mainline | X4: Accommodation | Y4: Shift | Z4: Mainline | AA4: Accommodation | AB4: Shift | AC4: Mainline | AD4: Accommodation | AE4: Shift | AF4: Mainline | AG4: Accommodation | AH4: Shift | AI4: Mainline | AJ4: Accommodation | AK4: Shift | AL4: Mainline | AM4: Accommodation | AN4: Shift | AO4: Mainline | AP4: Accommodation | AQ4: Actual Mainline Hours | AR4: BaseRoster Mainline Hours | AS4: OverNight | AV4: Off Duty | AW4: in | AX4: out | AY4: 1 | AZ4: Hours Rest | BA4: in | BB4: out | BD4: Hours Rest | BE4: in | BF4: out | BH4: Hours Rest | BI4: in | BJ4: out | BL4: Hours Rest | BM4: in | BN4: out | BP4: Hours Rest | BQ4: in | BR4: out | BT4: Hours Rest | BU4: in | BV4: out | BW4: Off Duty | BX4: Hours Rest
B5: =TC!A7 -> Ali Abdullah Al-Ghamdi | C5: =IFERROR(VLOOKUP(B5,'DAS Sun'!$F$9:$O$50,10,0),"Off") -> 0.2125 | D5: =TC!E7 -> 0.2125 | E5: =IFERROR(VLOOKUP(B5,'DAS Mon'!$F$9:$O$44,10,0),"Off") -> 0.41666667 | F5: =TC!I7 -> 0.41666667 | G5: =IFERROR(VLOOKUP(B5,'DAS Tue'!$F$9:$O$44,10,0),"Off") -> 0.20833333 | H5: =TC!M7 -> 0.20833333 | I5: =IFERROR(VLOOKUP(B5,'DAS Wed'!$F$9:$O$50,10,0),"Off") -> 0.42916667 | J5: =TC!Q7 -> 0.42916667 | K5: =IFERROR(VLOOKUP(B5,'DAS Thu'!$F$9:$O$47,10,0),"Off") -> 0.49791667 | L5: =TC!U7 -> 0.49791667 | M5: =IFERROR(VLOOKUP(B5,'DAS Fri'!$F$9:$O$46,10,0),"Off") -> Off | N5: =TC!Y7 -> 0 | O5: =IFERROR(VLOOKUP(B5,'DAS Sat'!$F$9:$O$48,10,0),"Off") -> Off | P5: =TC!AC7 -> 0 | Q5: =SUM(C5,E5,G5,I5,K5,M5,O5) -> 1.7645833 | R5: =P5+N5+L5+J5+H5+F5+D5 -> 1.7645833 | S5: =COUNTIF(C5:P5,"Off") -> 2 | T5: =R5-Q5 -> 0 | U5: =TC!A7 -> Ali Abdullah Al-Ghamdi | V5: =IFERROR(VLOOKUP(U5,'DAS Sun'!$F$12:$P$50,11,0),"Off") -> TC1 | W5: =IF(V5="TC1","7:40",IF(V5="TC2","2:40",IF(V5="TC3","2:40",IF(V5="TC4","2:40",IF(V5="TC5","7:40",IF(V5="TC6","7:40",IF(V5="TC7","3:50",IF(V5="TC8","3:50",IF(V5="TC9","3:50",IF(V5="TC10","3:50",IF(V5="TC11","3:50",IF(V5="TC12","3:50",IF(V5="TC13","3:50",IF(V5="TC14","3:50",IF(V5="SP-D","0",IF(V5="SP-H","0",)))))))))))))))) -> 7:40 | X5: =IF(V5="TC1","YES",IF(V5="TC7","YES",IF(V5="TC9","YES",IF(V5="TC11","YES",IF(V5="TC13","YES",IF(V5="TC15","YES",IF(V5="SP-R","YES",))))))) -> YES | Y5: =IFERROR(VLOOKUP(U5,'DAS Mon'!$F$9:$P$44,11,0),"Off") -> SP-R | Z5: =IF(Y5="TC1","7:40",IF(Y5="TC2","2:40",IF(Y5="TC3","2:40",IF(Y5="TC4","2:40",IF(Y5="TC5","7:40",IF(Y5="TC6","7:40",IF(Y5="TC7","3:50",IF(Y5="TC8","3:50",IF(Y5="TC9","3:50",IF(Y5="TC10","3:50",IF(Y5="TC11","3:50",IF(Y5="TC12","3:50",IF(Y5="TC13","3:50",IF(Y5="TC14","3:50",IF(Y5="SP-D","0",IF(Y5="SP-H","0",)))))))))))))))) -> 0 | AA5: =IF(Y5="TC1","YES",IF(Y5="TC7","YES",IF(Y5="TC9","YES",IF(Y5="TC11","YES",IF(Y5="TC13","YES",IF(Y5="TC15","YES",IF(Y5="SP-R","YES",))))))) -> YES | AB5: =IFERROR(VLOOKUP(U5,'DAS Tue'!$F$9:$P$44,11,0),"Off") -> TC4 | AC5: =IF(AB5="TC1","7:40",IF(AB5="TC2","2:40",IF(AB5="TC3","2:40",IF(AB5="TC4","2:40",IF(AB5="TC5","7:40",IF(AB5="TC6","7:40",IF(AB5="TC7","3:50",IF(AB5="TC8","3:50",IF(AB5="TC9","3:50",IF(AB5="TC10","3:50",IF(AB5="TC11","3:50",IF(AB5="TC12","3:50",IF(AB5="TC13","3:50",IF(AB5="TC14","3:50",IF(AB5="SP-D","0",IF(AB5="SP-H","0",)))))))))))))))) -> 2:40 | AD5: =IF(AB5="TC1","YES",IF(AB5="TC7","YES",IF(AB5="TC9","YES",IF(AB5="TC11","YES",IF(AB5="TC13","YES",IF(AB5="TC15","YES",IF(AB5="SP-R","YES",))))))) -> 0 | AE5: =IFERROR(VLOOKUP(U5,'DAS Wed'!$F$11:$P$50,11,0),"Off") -> TC5&12 | AF5: =IF(AE5="TC1","7:40",IF(AE5="TC2","2:40",IF(AE5="TC3","2:40",IF(AE5="TC4","2:40",IF(AE5="TC5","7:40",IF(AE5="TC6","7:40",IF(AE5="TC7","3:50",IF(AE5="TC8","3:50",IF(AE5="TC9","3:50",IF(AE5="TC10","3:50",IF(AE5="TC11","3:50",IF(AE5="TC12","3:50",IF(AE5="TC13","3:50",IF(AE5="TC14","3:50",IF(AE5="SP-D","0",IF(AE5="SP-H","0",)))))))))))))))) -> 0 | AG5: =IF(AE5="TC1","YES",IF(AE5="TC7","YES",IF(AE5="TC9","YES",IF(AE5="TC11","YES",IF(AE5="TC13","YES",IF(AE5="TC15","YES",IF(AE5="SP-R","YES",))))))) -> 0 | AH5: =IFERROR(VLOOKUP(U5,'DAS Thu'!$F$9:$P$45,11,0),"Off") -> TC7&16 | AI5: =IF(AH5="TC1","7:40",IF(AH5="TC2","2:40",IF(AH5="TC3","2:40",IF(AH5="TC4","2:40",IF(AH5="TC5","7:40",IF(AH5="TC6","7:40",IF(AH5="TC7","3:50",IF(AH5="TC8","3:50",IF(AH5="TC9","3:50",IF(AH5="TC10","3:50",IF(AH5="TC11","3:50",IF(AH5="TC12","3:50",IF(AH5="TC13","3:50",IF(AH5="TC14","3:50",IF(AH5="SP-D","0",IF(AH5="SP-H","0",)))))))))))))))) -> 0 | AJ5: =IF(AH5="TC1","YES",IF(AH5="TC7","YES",IF(AH5="TC9","YES",IF(AH5="TC11","YES",IF(AH5="TC13","YES",IF(AH5="TC15","YES",IF(AH5="SP-R","YES",))))))) -> 0 | AK5: =IFERROR(VLOOKUP(U5,'DAS Fri'!$F$9:$P$46,11,0),"Off") -> Off | AL5: =IF(AK5="TC1","7:40",IF(AK5="TC2","2:40",IF(AK5="TC3","2:40",IF(AK5="TC4","2:40",IF(AK5="TC5","7:40",IF(AK5="TC6","7:40",IF(AK5="TC7","3:50",IF(AK5="TC8","3:50",IF(AK5="TC9","3:50",IF(AK5="TC10","3:50",IF(AK5="TC11","3:50",IF(AK5="TC12","3:50",IF(AK5="TC13","3:50",IF(AK5="TC14","3:50",IF(AK5="SP-D","0",IF(AK5="SP-H","0",)))))))))))))))) -> 0 | AM5: =IF(AK5="TC7","YES",IF(AK5="TC9","YES",IF(AK5="TC11","YES",IF(AK5="TC13","YES",IF(AK5="TC15","YES",IF(AK5="SP-R","YES",)))))) -> 0 | AN5: =IFERROR(VLOOKUP(U5,'DAS Sat'!$F$20:$P$48,11,0),"Off") -> Off | AO5: =IF(AN5="TC1","7:40",IF(AN5="TC2","2:40",IF(AN5="TC3","2:40",IF(AN5="TC4","2:40",IF(AN5="TC5","7:40",IF(AN5="TC6","7:40",IF(AN5="TC7","3:50",IF(AN5="TC8","3:50",IF(AN5="TC9","3:50",IF(AN5="TC10","3:50",IF(AN5="TC11","3:50",IF(AN5="TC12","3:50",IF(AN5="TC13","3:50",IF(AN5="TC14","3:50",IF(AN5="SP-D","0",IF(AN5="SP-H","0",)))))))))))))))) -> 0 | AP5: =IF(AN5="TC7","YES",IF(AN5="TC9","YES",IF(AN5="TC11","YES",IF(AN5="TC13","YES",IF(AN5="TC15","YES",IF(AN5="SP-R","YES",)))))) -> 0 | AQ5: =W5+Z5+AC5+AF5+AI5+AL5+AO5 -> 0.43055556 | AR5: 0.63888889 | AS5: =COUNTIF(V5:AP5,"Yes") -> 2 | AU5: =TC!A7 -> Ali Abdullah Al-Ghamdi | AV5: #VALUE! | AW5: =IFERROR(VLOOKUP(AU5,'DAS Sun'!$F$11:$Q$60,12,0),"Off") -> 0.14444444 | AX5: =IFERROR(VLOOKUP(AU5,'DAS Sun'!$F$11:$R$60,13,0),"Off") -> 0.35694444 | AY5: =$AY$4-AX5 -> 0.64305556 | AZ5: =AW5+#REF! -> #REF! | BA5: =IFERROR(VLOOKUP(AU5,'DAS Mon'!$F$9:$Q$60,12,0),"Off") -> 0.16666667 | BB5: =IFERROR(VLOOKUP(AU5,'DAS Mon'!$F$9:$R$60,13,0),"Off") -> 0.58333333 | BC5: =$AY$4-BB5 -> 0.41666667 | BD5: =BA5+AY5 -> 0.80972222 | BE5: =IFERROR(VLOOKUP(AU5,'DAS Tue'!$F$9:$Q$58,12,0),"Off") -> 0.18680556 | BF5: =IFERROR(VLOOKUP(AU5,'DAS Tue'!$F$9:$R$58,13,0),"Off") -> 0.39513889 | BG5: =$AY$4-BF5 -> 0.60486111 | BH5: =BE5+BC5 -> 0.60347222 | BI5: =IFERROR(VLOOKUP(AU5,'DAS Wed'!$F$11:$Q$60,12,0),"Off") -> 0.38333333 | BJ5: =IFERROR(VLOOKUP(AU5,'DAS Wed'!$F$11:$R$60,13,0),"Off") -> 0.8125 | BK5: =$AY$4-BJ5 -> 0.1875 | BL5: =BI5+BG5 -> 0.98819444 | BM5: =IFERROR(VLOOKUP(AU5,'DAS Thu'!$F$9:$Q$61,12,0),"Off") -> 0.46736111 | BN5: =IFERROR(VLOOKUP(AU5,'DAS Thu'!$F$9:$R$61,13,0),"Off") -> 0.96527778 | BO5: =$AY$4-BN5 -> 0.034722222 | BP5: =BM5+BK5 -> 0.65486111 | BQ5: =IFERROR(VLOOKUP(AU5,'DAS Fri'!$F$9:$Q$61,12,0),"Off") -> Off | BR5: =IFERROR(VLOOKUP(AU5,'DAS Fri'!$F$9:$R$61,13,0),"Off") -> Off | BS5: =$AY$4-BR5 -> #VALUE! | BT5: =BQ5+BO5 -> #VALUE! | BU5: =IFERROR(VLOOKUP(AU5,'DAS Sat'!$F$20:$Q$61,12,0),"Off") -> Off | BV5: =IFERROR(VLOOKUP(AU5,'DAS Sat'!$F$20:$R$61,13,0),"Off") -> Off | BW5: =$AY$4-BV5 -> #VALUE! | BX5: =BU5+BS5 -> #VALUE!
B6: =TC!A8 -> Rajeh Hussein Al-Harith | C6: =IFERROR(VLOOKUP(B6,'DAS Sun'!$F$9:$O$50,10,0),"Off") -> Off | D6: =TC!E8 -> 0 | E6: =IFERROR(VLOOKUP(B6,'DAS Mon'!$F$9:$O$44,10,0),"Off") -> Off | F6: =TC!I8 -> 0.21527778 | G6: =IFERROR(VLOOKUP(B6,'DAS Tue'!$F$9:$O$44,10,0),"Off") -> Off | H6: =TC!M8 -> 0.20833333 | I6: =IFERROR(VLOOKUP(B6,'DAS Wed'!$F$9:$O$50,10,0),"Off") -> Off | J6: =TC!Q8 -> 0.2125 | K6: =IFERROR(VLOOKUP(B6,'DAS Thu'!$F$9:$O$47,10,0),"Off") -> Off | L6: =TC!U8 -> 0.41666667 | M6: =IFERROR(VLOOKUP(B6,'DAS Fri'!$F$9:$O$46,10,0),"Off") -> Off | N6: =TC!Y8 -> 0.20833333 | O6: =IFERROR(VLOOKUP(B6,'DAS Sat'!$F$9:$O$48,10,0),"Off") -> Off | P6: =TC!AC8 -> 0.2125 | Q6: =SUM(C6,E6,G6,I6,K6,M6,O6) -> 0 | R6: =P6+N6+L6+J6+H6+F6+D6 -> 1.4736111 | S6: =COUNTIF(C6:P6,"Off") -> 7 | T6: =R6-Q6 -> 1.4736111 | U6: =TC!A8 -> Rajeh Hussein Al-Harith | V6: =IFERROR(VLOOKUP(U6,'DAS Sun'!$F$12:$P$50,11,0),"Off") -> Off | W6: =IF(V6="TC1","7:40",IF(V6="TC2","2:40",IF(V6="TC3","2:40",IF(V6="TC4","2:40",IF(V6="TC5","7:40",IF(V6="TC6","7:40",IF(V6="TC7","3:50",IF(V6="TC8","3:50",IF(V6="TC9","3:50",IF(V6="TC10","3:50",IF(V6="TC11","3:50",IF(V6="TC12","3:50",IF(V6="TC13","3:50",IF(V6="TC14","3:50",IF(V6="SP-D","0",IF(V6="SP-H","0",)))))))))))))))) -> 0 | X6: =IF(V6="TC1","YES",IF(V6="TC7","YES",IF(V6="TC9","YES",IF(V6="TC11","YES",IF(V6="TC13","YES",IF(V6="TC15","YES",IF(V6="SP-R","YES",))))))) -> 0 | Y6: =IFERROR(VLOOKUP(U6,'DAS Mon'!$F$9:$P$44,11,0),"Off") -> Off | Z6: =IF(Y6="TC1","7:40",IF(Y6="TC2","2:40",IF(Y6="TC3","2:40",IF(Y6="TC4","2:40",IF(Y6="TC5","7:40",IF(Y6="TC6","7:40",IF(Y6="TC7","3:50",IF(Y6="TC8","3:50",IF(Y6="TC9","3:50",IF(Y6="TC10","3:50",IF(Y6="TC11","3:50",IF(Y6="TC12","3:50",IF(Y6="TC13","3:50",IF(Y6="TC14","3:50",IF(Y6="SP-D","0",IF(Y6="SP-H","0",)))))))))))))))) -> 0 | AA6: =IF(Y6="TC1","YES",IF(Y6="TC7","YES",IF(Y6="TC9","YES",IF(Y6="TC11","YES",IF(Y6="TC13","YES",IF(Y6="TC15","YES",IF(Y6="SP-R","YES",))))))) -> 0 | AB6: =IFERROR(VLOOKUP(U6,'DAS Tue'!$F$9:$P$44,11,0),"Off") -> Off | AC6: =IF(AB6="TC1","7:40",IF(AB6="TC2","2:40",IF(AB6="TC3","2:40",IF(AB6="TC4","2:40",IF(AB6="TC5","7:40",IF(AB6="TC6","7:40",IF(AB6="TC7","3:50",IF(AB6="TC8","3:50",IF(AB6="TC9","3:50",IF(AB6="TC10","3:50",IF(AB6="TC11","3:50",IF(AB6="TC12","3:50",IF(AB6="TC13","3:50",IF(AB6="TC14","3:50",IF(AB6="SP-D","0",IF(AB6="SP-H","0",)))))))))))))))) -> 0 | AD6: =IF(AB6="TC1","YES",IF(AB6="TC7","YES",IF(AB6="TC9","YES",IF(AB6="TC11","YES",IF(AB6="TC13","YES",IF(AB6="TC15","YES",IF(AB6="SP-R","YES",))))))) -> 0 | AE6: =IFERROR(VLOOKUP(U6,'DAS Wed'!$F$11:$P$50,11,0),"Off") -> Off | AF6: =IF(AE6="TC1","7:40",IF(AE6="TC2","2:40",IF(AE6="TC3","2:40",IF(AE6="TC4","2:40",IF(AE6="TC5","7:40",IF(AE6="TC6","7:40",IF(AE6="TC7","3:50",IF(AE6="TC8","3:50",IF(AE6="TC9","3:50",IF(AE6="TC10","3:50",IF(AE6="TC11","3:50",IF(AE6="TC12","3:50",IF(AE6="TC13","3:50",IF(AE6="TC14","3:50",IF(AE6="SP-D","0",IF(AE6="SP-H","0",)))))))))))))))) -> 0 | AG6: =IF(AE6="TC1","YES",IF(AE6="TC7","YES",IF(AE6="TC9","YES",IF(AE6="TC11","YES",IF(AE6="TC13","YES",IF(AE6="TC15","YES",IF(AE6="SP-R","YES",))))))) -> 0 | AH6: =IFERROR(VLOOKUP(U6,'DAS Thu'!$F$9:$P$45,11,0),"Off") -> Off | AI6: =IF(AH6="TC1","7:40",IF(AH6="TC2","2:40",IF(AH6="TC3","2:40",IF(AH6="TC4","2:40",IF(AH6="TC5","7:40",IF(AH6="TC6","7:40",IF(AH6="TC7","3:50",IF(AH6="TC8","3:50",IF(AH6="TC9","3:50",IF(AH6="TC10","3:50",IF(AH6="TC11","3:50",IF(AH6="TC12","3:50",IF(AH6="TC13","3:50",IF(AH6="TC14","3:50",IF(AH6="SP-D","0",IF(AH6="SP-H","0",)))))))))))))))) -> 0 | AJ6: =IF(AH6="TC1","YES",IF(AH6="TC7","YES",IF(AH6="TC9","YES",IF(AH6="TC11","YES",IF(AH6="TC13","YES",IF(AH6="TC15","YES",IF(AH6="SP-R","YES",))))))) -> 0 | AK6: =IFERROR(VLOOKUP(U6,'DAS Fri'!$F$9:$P$46,11,0),"Off") -> Off | AL6: =IF(AK6="TC1","7:40",IF(AK6="TC2","2:40",IF(AK6="TC3","2:40",IF(AK6="TC4","2:40",IF(AK6="TC5","7:40",IF(AK6="TC6","7:40",IF(AK6="TC7","3:50",IF(AK6="TC8","3:50",IF(AK6="TC9","3:50",IF(AK6="TC10","3:50",IF(AK6="TC11","3:50",IF(AK6="TC12","3:50",IF(AK6="TC13","3:50",IF(AK6="TC14","3:50",IF(AK6="SP-D","0",IF(AK6="SP-H","0",)))))))))))))))) -> 0 | AM6: =IF(AK6="TC7","YES",IF(AK6="TC9","YES",IF(AK6="TC11","YES",IF(AK6="TC13","YES",IF(AK6="TC15","YES",IF(AK6="SP-R","YES",)))))) -> 0 | AN6: =IFERROR(VLOOKUP(U6,'DAS Sat'!$F$20:$P$48,11,0),"Off") -> Off | AO6: =IF(AN6="TC1","7:40",IF(AN6="TC2","2:40",IF(AN6="TC3","2:40",IF(AN6="TC4","2:40",IF(AN6="TC5","7:40",IF(AN6="TC6","7:40",IF(AN6="TC7","3:50",IF(AN6="TC8","3:50",IF(AN6="TC9","3:50",IF(AN6="TC10","3:50",IF(AN6="TC11","3:50",IF(AN6="TC12","3:50",IF(AN6="TC13","3:50",IF(AN6="TC14","3:50",IF(AN6="SP-D","0",IF(AN6="SP-H","0",)))))))))))))))) -> 0 | AP6: =IF(AN6="TC7","YES",IF(AN6="TC9","YES",IF(AN6="TC11","YES",IF(AN6="TC13","YES",IF(AN6="TC15","YES",IF(AN6="SP-R","YES",)))))) -> 0 | AQ6: =W6+Z6+AC6+AF6+AI6+AL6+AO6 -> 0 | AR6: 0.63888889 | AS6: =COUNTIF(V6:AP6,"Yes") -> 0 | AU6: =TC!A8 -> Rajeh Hussein Al-Harith | AV6: #VALUE! | AW6: =IFERROR(VLOOKUP(AU6,'DAS Sun'!$F$11:$Q$60,12,0),"Off") -> 0.33333333 | AX6: =IFERROR(VLOOKUP(AU6,'DAS Sun'!$F$11:$R$60,13,0),"Off") -> 0.66666667 | AY6: =$AY$4-AX6 -> 0.33333333 | AZ6: =AW6+AV6 -> #VALUE! | BA6: =IFERROR(VLOOKUP(AU6,'DAS Mon'!$F$9:$Q$60,12,0),"Off") -> 0.33333333 | BB6: =IFERROR(VLOOKUP(AU6,'DAS Mon'!$F$9:$R$60,13,0),"Off") -> 0.66666667 | BC6: =$AY$4-BB6 -> 0.33333333 | BD6: =BA6+AY6 -> 0.66666667 | BE6: =IFERROR(VLOOKUP(AU6,'DAS Tue'!$F$9:$Q$58,12,0),"Off") -> 0.375 | BF6: =IFERROR(VLOOKUP(AU6,'DAS Tue'!$F$9:$R$58,13,0),"Off") -> 0.66666667 | BG6: =$AY$4-BF6 -> 0.33333333 | BH6: =BE6+BC6 -> 0.70833333 | BI6: =IFERROR(VLOOKUP(AU6,'DAS Wed'!$F$11:$Q$60,12,0),"Off") -> 0.33333333 | BJ6: =IFERROR(VLOOKUP(AU6,'DAS Wed'!$F$11:$R$60,13,0),"Off") -> 0.66666667 | BK6: =$AY$4-BJ6 -> 0.33333333 | BL6: =BI6+BG6 -> 0.66666667 | BM6: =IFERROR(VLOOKUP(AU6,'DAS Thu'!$F$9:$Q$61,12,0),"Off") -> 0.33333333 | BN6: =IFERROR(VLOOKUP(AU6,'DAS Thu'!$F$9:$R$61,13,0),"Off") -> 0.66666667 | BO6: =$AY$4-BN6 -> 0.33333333 | BP6: =BM6+BK6 -> 0.66666667 | BQ6: =IFERROR(VLOOKUP(AU6,'DAS Fri'!$F$9:$Q$61,12,0),"Off") -> Off | BR6: =IFERROR(VLOOKUP(AU6,'DAS Fri'!$F$9:$R$61,13,0),"Off") -> Off | BS6: =$AY$4-BR6 -> #VALUE! | BT6: =BQ6+BO6 -> #VALUE! | BU6: =IFERROR(VLOOKUP(AU6,'DAS Sat'!$F$20:$Q$61,12,0),"Off") -> Off | BV6: =IFERROR(VLOOKUP(AU6,'DAS Sat'!$F$20:$R$61,13,0),"Off") -> Off | BW6: =$AY$4-BV6 -> #VALUE! | BX6: =BU6+BS6 -> #VALUE!
B7: =TC!A9 -> Khaled Fahd Al-Harbi | C7: =IFERROR(VLOOKUP(B7,'DAS Sun'!$F$9:$O$50,10,0),"Off") -> 0.41666667 | D7: =TC!E9 -> 0.41666667 | E7: =IFERROR(VLOOKUP(B7,'DAS Mon'!$F$9:$O$44,10,0),"Off") -> 0.20833333 | F7: =TC!I9 -> 0.20833333 | G7: =IFERROR(VLOOKUP(B7,'DAS Tue'!$F$9:$O$44,10,0),"Off") -> Off | H7: =TC!M9 -> 0 | I7: =IFERROR(VLOOKUP(B7,'DAS Wed'!$F$9:$O$50,10,0),"Off") -> Off | J7: =TC!Q9 -> 0 | K7: =IFERROR(VLOOKUP(B7,'DAS Thu'!$F$9:$O$47,10,0),"Off") -> 0.2125 | L7: =TC!U9 -> 0.21527778 | M7: =IFERROR(VLOOKUP(B7,'DAS Fri'!$F$9:$O$46,10,0),"Off") -> 0.25 | N7: =TC!Y9 -> 0.20833333 | O7: =IFERROR(VLOOKUP(B7,'DAS Sat'!$F$9:$O$48,10,0),"Off") -> 0.29166667 | P7: =TC!AC9 -> 0.41666667 | Q7: =SUM(C7,E7,G7,I7,K7,M7,O7) -> 1.3791667 | R7: =P7+N7+L7+J7+H7+F7+D7 -> 1.4652778 | S7: =COUNTIF(C7:P7,"Off") -> 2 | T7: =R7-Q7 -> 0.086111111 | U7: =TC!A9 -> Khaled Fahd Al-Harbi | V7: =IFERROR(VLOOKUP(U7,'DAS Sun'!$F$12:$P$50,11,0),"Off") -> SP-R | W7: =IF(V7="TC1","7:40",IF(V7="TC2","2:40",IF(V7="TC3","2:40",IF(V7="TC4","2:40",IF(V7="TC5","7:40",IF(V7="TC6","7:40",IF(V7="TC7","3:50",IF(V7="TC8","3:50",IF(V7="TC9","3:50",IF(V7="TC10","3:50",IF(V7="TC11","3:50",IF(V7="TC12","3:50",IF(V7="TC13","3:50",IF(V7="TC14","3:50",IF(V7="SP-D","0",IF(V7="SP-H","0",)))))))))))))))) -> 0 | X7: =IF(V7="TC1","YES",IF(V7="TC7","YES",IF(V7="TC9","YES",IF(V7="TC11","YES",IF(V7="TC13","YES",IF(V7="TC15","YES",IF(V7="SP-R","YES",))))))) -> YES | Y7: =IFERROR(VLOOKUP(U7,'DAS Mon'!$F$9:$P$44,11,0),"Off") -> TC4 | Z7: =IF(Y7="TC1","7:40",IF(Y7="TC2","2:40",IF(Y7="TC3","2:40",IF(Y7="TC4","2:40",IF(Y7="TC5","7:40",IF(Y7="TC6","7:40",IF(Y7="TC7","3:50",IF(Y7="TC8","3:50",IF(Y7="TC9","3:50",IF(Y7="TC10","3:50",IF(Y7="TC11","3:50",IF(Y7="TC12","3:50",IF(Y7="TC13","3:50",IF(Y7="TC14","3:50",IF(Y7="SP-D","0",IF(Y7="SP-H","0",)))))))))))))))) -> 2:40 | AA7: =IF(Y7="TC1","YES",IF(Y7="TC7","YES",IF(Y7="TC9","YES",IF(Y7="TC11","YES",IF(Y7="TC13","YES",IF(Y7="TC15","YES",IF(Y7="SP-R","YES",))))))) -> 0 | AB7: =IFERROR(VLOOKUP(U7,'DAS Tue'!$F$9:$P$44,11,0),"Off") -> Off | AC7: =IF(AB7="TC1","7:40",IF(AB7="TC2","2:40",IF(AB7="TC3","2:40",IF(AB7="TC4","2:40",IF(AB7="TC5","7:40",IF(AB7="TC6","7:40",IF(AB7="TC7","3:50",IF(AB7="TC8","3:50",IF(AB7="TC9","3:50",IF(AB7="TC10","3:50",IF(AB7="TC11","3:50",IF(AB7="TC12","3:50",IF(AB7="TC13","3:50",IF(AB7="TC14","3:50",IF(AB7="SP-D","0",IF(AB7="SP-H","0",)))))))))))))))) -> 0 | AD7: =IF(AB7="TC1","YES",IF(AB7="TC7","YES",IF(AB7="TC9","YES",IF(AB7="TC11","YES",IF(AB7="TC13","YES",IF(AB7="TC15","YES",IF(AB7="SP-R","YES",))))))) -> 0 | AE7: =IFERROR(VLOOKUP(U7,'DAS Wed'!$F$11:$P$50,11,0),"Off") -> Off | AF7: =IF(AE7="TC1","7:40",IF(AE7="TC2","2:40",IF(AE7="TC3","2:40",IF(AE7="TC4","2:40",IF(AE7="TC5","7:40",IF(AE7="TC6","7:40",IF(AE7="TC7","3:50",IF(AE7="TC8","3:50",IF(AE7="TC9","3:50",IF(AE7="TC10","3:50",IF(AE7="TC11","3:50",IF(AE7="TC12","3:50",IF(AE7="TC13","3:50",IF(AE7="TC14","3:50",IF(AE7="SP-D","0",IF(AE7="SP-H","0",)))))))))))))))) -> 0 | AG7: =IF(AE7="TC1","YES",IF(AE7="TC7","YES",IF(AE7="TC9","YES",IF(AE7="TC11","YES",IF(AE7="TC13","YES",IF(AE7="TC15","YES",IF(AE7="SP-R","YES",))))))) -> 0 | AH7: =IFERROR(VLOOKUP(U7,'DAS Thu'!$F$9:$P$45,11,0),"Off") -> TC9 | AI7: =IF(AH7="TC1","7:40",IF(AH7="TC2","2:40",IF(AH7="TC3","2:40",IF(AH7="TC4","2:40",IF(AH7="TC5","7:40",IF(AH7="TC6","7:40",IF(AH7="TC7","3:50",IF(AH7="TC8","3:50",IF(AH7="TC9","3:50",IF(AH7="TC10","3:50",IF(AH7="TC11","3:50",IF(AH7="TC12","3:50",IF(AH7="TC13","3:50",IF(AH7="TC14","3:50",IF(AH7="SP-D","0",IF(AH7="SP-H","0",)))))))))))))))) -> 3:50 | AJ7: =IF(AH7="TC1","YES",IF(AH7="TC7","YES",IF(AH7="TC9","YES",IF(AH7="TC11","YES",IF(AH7="TC13","YES",IF(AH7="TC15","YES",IF(AH7="SP-R","YES",))))))) -> YES | AK7: =IFERROR(VLOOKUP(U7,'DAS Fri'!$F$9:$P$46,11,0),"Off") -> SP-R | AL7: =IF(AK7="TC1","7:40",IF(AK7="TC2","2:40",IF(AK7="TC3","2:40",IF(AK7="TC4","2:40",IF(AK7="TC5","7:40",IF(AK7="TC6","7:40",IF(AK7="TC7","3:50",IF(AK7="TC8","3:50",IF(AK7="TC9","3:50",IF(AK7="TC10","3:50",IF(AK7="TC11","3:50",IF(AK7="TC12","3:50",IF(AK7="TC13","3:50",IF(AK7="TC14","3:50",IF(AK7="SP-D","0",IF(AK7="SP-H","0",)))))))))))))))) -> 0 | AM7: =IF(AK7="TC7","YES",IF(AK7="TC9","YES",IF(AK7="TC11","YES",IF(AK7="TC13","YES",IF(AK7="TC15","YES",IF(AK7="SP-R","YES",)))))) -> YES | AN7: =IFERROR(VLOOKUP(U7,'DAS Sat'!$F$20:$P$48,11,0),"Off") -> SP-R | AO7: =IF(AN7="TC1","7:40",IF(AN7="TC2","2:40",IF(AN7="TC3","2:40",IF(AN7="TC4","2:40",IF(AN7="TC5","7:40",IF(AN7="TC6","7:40",IF(AN7="TC7","3:50",IF(AN7="TC8","3:50",IF(AN7="TC9","3:50",IF(AN7="TC10","3:50",IF(AN7="TC11","3:50",IF(AN7="TC12","3:50",IF(AN7="TC13","3:50",IF(AN7="TC14","3:50",IF(AN7="SP-D","0",IF(AN7="SP-H","0",)))))))))))))))) -> 0 | AP7: =IF(AN7="TC7","YES",IF(AN7="TC9","YES",IF(AN7="TC11","YES",IF(AN7="TC13","YES",IF(AN7="TC15","YES",IF(AN7="SP-R","YES",)))))) -> YES | AQ7: =W7+Z7+AC7+AF7+AI7+AL7+AO7 -> 0.27083333 | AR7: 0.63888889 | AS7: =COUNTIF(V7:AP7,"Yes") -> 4 | AU7: =TC!A9 -> Khaled Fahd Al-Harbi | AV7: #VALUE! | AW7: =IFERROR(VLOOKUP(AU7,'DAS Sun'!$F$11:$Q$60,12,0),"Off") -> 0.16666667 | AX7: =IFERROR(VLOOKUP(AU7,'DAS Sun'!$F$11:$R$60,13,0),"Off") -> 0.58333333 | AY7: =$AY$4-AX7 -> 0.41666667 | AZ7: =AW7+AV7 -> #VALUE! | BA7: =IFERROR(VLOOKUP(AU7,'DAS Mon'!$F$9:$Q$60,12,0),"Off") -> 0.18680556 | BB7: =IFERROR(VLOOKUP(AU7,'DAS Mon'!$F$9:$R$60,13,0),"Off") -> 0.39513889 | BC7: =$AY$4-BB7 -> 0.60486111 | BD7: =BA7+AY7 -> 0.60347222 | BE7: =IFERROR(VLOOKUP(AU7,'DAS Tue'!$F$9:$Q$58,12,0),"Off") -> Off | BF7: =IFERROR(VLOOKUP(AU7,'DAS Tue'!$F$9:$R$58,13,0),"Off") -> Off | BG7: =$AY$4-BF7 -> #VALUE! | BH7: =BE7+BC7 -> #VALUE! | BI7: =IFERROR(VLOOKUP(AU7,'DAS Wed'!$F$11:$Q$60,12,0),"Off") -> Off | BJ7: =IFERROR(VLOOKUP(AU7,'DAS Wed'!$F$11:$R$60,13,0),"Off") -> Off | BK7: =$AY$4-BJ7 -> #VALUE! | BL7: =BI7+BG7 -> #VALUE! | BM7: =IFERROR(VLOOKUP(AU7,'DAS Thu'!$F$9:$Q$61,12,0),"Off") -> 0.59236111 | BN7: =IFERROR(VLOOKUP(AU7,'DAS Thu'!$F$9:$R$61,13,0),"Off") -> 0.80486111 | BO7: =$AY$4-BN7 -> 0.19513889 | BP7: =BM7+BK7 -> #VALUE! | BQ7: =IFERROR(VLOOKUP(AU7,'DAS Fri'!$F$9:$Q$61,12,0),"Off") -> 0.33333333 | BR7: =IFERROR(VLOOKUP(AU7,'DAS Fri'!$F$9:$R$61,13,0),"Off") -> 0.58333333 | BS7: =$AY$4-BR7 -> 0.41666667 | BT7: =BQ7+BO7 -> 0.52847222 | BU7: =IFERROR(VLOOKUP(AU7,'DAS Sat'!$F$20:$Q$61,12,0),"Off") -> 0.375 | BV7: =IFERROR(VLOOKUP(AU7,'DAS Sat'!$F$20:$R$61,13,0),"Off") -> 0.66666667 | BW7: =$AY$4-BV7 -> 0.33333333 | BX7: =BU7+BS7 -> 0.79166667
B8: =TC!A10 -> Mansour Mohammed Al-Dossary | C8: =IFERROR(VLOOKUP(B8,'DAS Sun'!$F$9:$O$50,10,0),"Off") -> 0.41666667 | D8: =TC!E10 -> 0.41666667 | E8: =IFERROR(VLOOKUP(B8,'DAS Mon'!$F$9:$O$44,10,0),"Off") -> 0.41666667 | F8: =TC!I10 -> 0.41666667 | G8: =IFERROR(VLOOKUP(B8,'DAS Tue'!$F$9:$O$44,10,0),"Off") -> 0.41666667 | H8: =TC!M10 -> 0.41666667 | I8: =IFERROR(VLOOKUP(B8,'DAS Wed'!$F$9:$O$50,10,0),"Off") -> Off | J8: =TC!Q10 -> 0 | K8: =IFERROR(VLOOKUP(B8,'DAS Thu'!$F$9:$O$47,10,0),"Off") -> 0.47152778 | L8: =TC!U10 -> 0 | M8: =IFERROR(VLOOKUP(B8,'DAS Fri'!$F$9:$O$46,10,0),"Off") -> 0.34375 | N8: =TC!Y10 -> 0.2125 | O8: =IFERROR(VLOOKUP(B8,'DAS Sat'!$F$9:$O$48,10,0),"Off") -> 0.21597222 | P8: =TC!AC10 -> 0.41666667 | Q8: =SUM(C8,E8,G8,I8,K8,M8,O8) -> 2.28125 | R8: =P8+N8+L8+J8+H8+F8+D8 -> 1.8791667 | S8: =COUNTIF(C8:P8,"Off") -> 1 | T8: =R8-Q8 -> -0.40208333 | U8: =TC!A10 -> Mansour Mohammed Al-Dossary | V8: =IFERROR(VLOOKUP(U8,'DAS Sun'!$F$12:$P$50,11,0),"Off") -> Off | W8: =IF(V8="TC1","7:40",IF(V8="TC2","2:40",IF(V8="TC3","2:40",IF(V8="TC4","2:40",IF(V8="TC5","7:40",IF(V8="TC6","7:40",IF(V8="TC7","3:50",IF(V8="TC8","3:50",IF(V8="TC9","3:50",IF(V8="TC10","3:50",IF(V8="TC11","3:50",IF(V8="TC12","3:50",IF(V8="TC13","3:50",IF(V8="TC14","3:50",IF(V8="SP-D","0",IF(V8="SP-H","0",)))))))))))))))) -> 0 | X8: =IF(V8="TC1","YES",IF(V8="TC7","YES",IF(V8="TC9","YES",IF(V8="TC11","YES",IF(V8="TC13","YES",IF(V8="TC15","YES",IF(V8="SP-R","YES",))))))) -> 0 | Y8: =IFERROR(VLOOKUP(U8,'DAS Mon'!$F$9:$P$44,11,0),"Off") -> SP-D | Z8: =IF(Y8="TC1","7:40",IF(Y8="TC2","2:40",IF(Y8="TC3","2:40",IF(Y8="TC4","2:40",IF(Y8="TC5","7:40",IF(Y8="TC6","7:40",IF(Y8="TC7","3:50",IF(Y8="TC8","3:50",IF(Y8="TC9","3:50",IF(Y8="TC10","3:50",IF(Y8="TC11","3:50",IF(Y8="TC12","3:50",IF(Y8="TC13","3:50",IF(Y8="TC14","3:50",IF(Y8="SP-D","0",IF(Y8="SP-H","0",)))))))))))))))) -> 0 | AA8: =IF(Y8="TC1","YES",IF(Y8="TC7","YES",IF(Y8="TC9","YES",IF(Y8="TC11","YES",IF(Y8="TC13","YES",IF(Y8="TC15","YES",IF(Y8="SP-R","YES",))))))) -> 0 | AB8: =IFERROR(VLOOKUP(U8,'DAS Tue'!$F$9:$P$44,11,0),"Off") -> SP-D | AC8: =IF(AB8="TC1","7:40",IF(AB8="TC2","2:40",IF(AB8="TC3","2:40",IF(AB8="TC4","2:40",IF(AB8="TC5","7:40",IF(AB8="TC6","7:40",IF(AB8="TC7","3:50",IF(AB8="TC8","3:50",IF(AB8="TC9","3:50",IF(AB8="TC10","3:50",IF(AB8="TC11","3:50",IF(AB8="TC12","3:50",IF(AB8="TC13","3:50",IF(AB8="TC14","3:50",IF(AB8="SP-D","0",IF(AB8="SP-H","0",)))))))))))))))) -> 0 | AD8: =IF(AB8="TC1","YES",IF(AB8="TC7","YES",IF(AB8="TC9","YES",IF(AB8="TC11","YES",IF(AB8="TC13","YES",IF(AB8="TC15","YES",IF(AB8="SP-R","YES",))))))) -> 0 | AE8: =IFERROR(VLOOKUP(U8,'DAS Wed'!$F$11:$P$50,11,0),"Off") -> Off | AF8: =IF(AE8="TC1","7:40",IF(AE8="TC2","2:40",IF(AE8="TC3","2:40",IF(AE8="TC4","2:40",IF(AE8="TC5","7:40",IF(AE8="TC6","7:40",IF(AE8="TC7","3:50",IF(AE8="TC8","3:50",IF(AE8="TC9","3:50",IF(AE8="TC10","3:50",IF(AE8="TC11","3:50",IF(AE8="TC12","3:50",IF(AE8="TC13","3:50",IF(AE8="TC14","3:50",IF(AE8="SP-D","0",IF(AE8="SP-H","0",)))))))))))))))) -> 0 | AG8: =IF(AE8="TC1","YES",IF(AE8="TC7","YES",IF(AE8="TC9","YES",IF(AE8="TC11","YES",IF(AE8="TC13","YES",IF(AE8="TC15","YES",IF(AE8="SP-R","YES",))))))) -> 0 | AH8: =IFERROR(VLOOKUP(U8,'DAS Thu'!$F$9:$P$45,11,0),"Off") -> TC3&10 | AI8: =IF(AH8="TC1","7:40",IF(AH8="TC2","2:40",IF(AH8="TC3","2:40",IF(AH8="TC4","2:40",IF(AH8="TC5","7:40",IF(AH8="TC6","7:40",IF(AH8="TC7","3:50",IF(AH8="TC8","3:50",IF(AH8="TC9","3:50",IF(AH8="TC10","3:50",IF(AH8="TC11","3:50",IF(AH8="TC12","3:50",IF(AH8="TC13","3:50",IF(AH8="TC14","3:50",IF(AH8="SP-D","0",IF(AH8="SP-H","0",)))))))))))))))) -> 0 | AJ8: =IF(AH8="TC1","YES",IF(AH8="TC7","YES",IF(AH8="TC9","YES",IF(AH8="TC11","YES",IF(AH8="TC13","YES",IF(AH8="TC15","YES",IF(AH8="SP-R","YES",))))))) -> 0 | AK8: =IFERROR(VLOOKUP(U8,'DAS Fri'!$F$9:$P$46,11,0),"Off") -> SP-D | AL8: =IF(AK8="TC1","7:40",IF(AK8="TC2","2:40",IF(AK8="TC3","2:40",IF(AK8="TC4","2:40",IF(AK8="TC5","7:40",IF(AK8="TC6","7:40",IF(AK8="TC7","3:50",IF(AK8="TC8","3:50",IF(AK8="TC9","3:50",IF(AK8="TC10","3:50",IF(AK8="TC11","3:50",IF(AK8="TC12","3:50",IF(AK8="TC13","3:50",IF(AK8="TC14","3:50",IF(AK8="SP-D","0",IF(AK8="SP-H","0",)))))))))))))))) -> 0 | AM8: =IF(AK8="TC7","YES",IF(AK8="TC9","YES",IF(AK8="TC11","YES",IF(AK8="TC13","YES",IF(AK8="TC15","YES",IF(AK8="SP-R","YES",)))))) -> 0 | AN8: =IFERROR(VLOOKUP(U8,'DAS Sat'!$F$20:$P$48,11,0),"Off") -> TC33&38 | AO8: =IF(AN8="TC1","7:40",IF(AN8="TC2","2:40",IF(AN8="TC3","2:40",IF(AN8="TC4","2:40",IF(AN8="TC5","7:40",IF(AN8="TC6","7:40",IF(AN8="TC7","3:50",IF(AN8="TC8","3:50",IF(AN8="TC9","3:50",IF(AN8="TC10","3:50",IF(AN8="TC11","3:50",IF(AN8="TC12","3:50",IF(AN8="TC13","3:50",IF(AN8="TC14","3:50",IF(AN8="SP-D","0",IF(AN8="SP-H","0",)))))))))))))))) -> 0 | AP8: =IF(AN8="TC7","YES",IF(AN8="TC9","YES",IF(AN8="TC11","YES",IF(AN8="TC13","YES",IF(AN8="TC15","YES",IF(AN8="SP-R","YES",)))))) -> 0 | AQ8: =W8+Z8+AC8+AF8+AI8+AL8+AO8 -> 0 | AR8: 0 | AS8: =COUNTIF(V8:AP8,"Yes") -> 0 | AU8: =TC!A10 -> Mansour Mohammed Al-Dossary | AV8: #VALUE! | AW8: =IFERROR(VLOOKUP(AU8,'DAS Sun'!$F$11:$Q$60,12,0),"Off") -> Off | AX8: =IFERROR(VLOOKUP(AU8,'DAS Sun'!$F$11:$R$60,13,0),"Off") -> Off | AY8: =$AY$4-AX8 -> #VALUE! | AZ8: =AW8+AV8 -> #VALUE! | BA8: =IFERROR(VLOOKUP(AU8,'DAS Mon'!$F$9:$Q$60,12,0),"Off") -> 0.125 | BB8: =IFERROR(VLOOKUP(AU8,'DAS Mon'!$F$9:$R$60,13,0),"Off") -> 0.54166667 | BC8: =$AY$4-BB8 -> 0.45833333 | BD8: =BA8+AY8 -> #VALUE! | BE8: =IFERROR(VLOOKUP(AU8,'DAS Tue'!$F$9:$Q$58,12,0),"Off") -> 0.125 | BF8: =IFERROR(VLOOKUP(AU8,'DAS Tue'!$F$9:$R$58,13,0),"Off") -> 0.54166667 | BG8: =$AY$4-BF8 -> 0.45833333 | BH8: =BE8+BC8 -> 0.58333333 | BI8: =IFERROR(VLOOKUP(AU8,'DAS Wed'!$F$11:$Q$60,12,0),"Off") -> Off | BJ8: =IFERROR(VLOOKUP(AU8,'DAS Wed'!$F$11:$R$60,13,0),"Off") -> Off | BK8: =$AY$4-BJ8 -> #VALUE! | BL8: =BI8+BG8 -> #VALUE! | BM8: =IFERROR(VLOOKUP(AU8,'DAS Thu'!$F$9:$Q$61,12,0),"Off") -> 0.22013889 | BN8: =IFERROR(VLOOKUP(AU8,'DAS Thu'!$F$9:$R$61,13,0),"Off") -> 0.69166667 | BO8: =$AY$4-BN8 -> 0.30833333 | BP8: =BM8+BK8 -> #VALUE! | BQ8: =IFERROR(VLOOKUP(AU8,'DAS Fri'!$F$9:$Q$61,12,0),"Off") -> 0.19791667 | BR8: =IFERROR(VLOOKUP(AU8,'DAS Fri'!$F$9:$R$61,13,0),"Off") -> 0.54166667 | BS8: =$AY$4-BR8 -> 0.45833333 | BT8: =BQ8+BO8 -> 0.50625 | BU8: =IFERROR(VLOOKUP(AU8,'DAS Sat'!$F$20:$Q$61,12,0),"Off") -> 0.78263889 | BV8: =IFERROR(VLOOKUP(AU8,'DAS Sat'!$F$20:$R$61,13,0),"Off") -> 0.99861111 | BW8: =$AY$4-BV8 -> 0.0013888889 | BX8: =BU8+BS8 -> 1.2409722
B9: =TC!A11 -> Saleh Ali Alseda | C9: =IFERROR(VLOOKUP(B9,'DAS Sun'!$F$9:$O$50,10,0),"Off") -> 0.20833333 | D9: =TC!E11 -> 0.20833333 | E9: =IFERROR(VLOOKUP(B9,'DAS Mon'!$F$9:$O$44,10,0),"Off") -> 0.2125 | F9: =TC!I11 -> 0.2125 | G9: =IFERROR(VLOOKUP(B9,'DAS Tue'!$F$9:$O$44,10,0),"Off") -> 0.41666667 | H9: =TC!M11 -> 0.41666667 | I9: =IFERROR(VLOOKUP(B9,'DAS Wed'!$F$9:$O$50,10,0),"Off") -> 0.20833333 | J9: =TC!Q11 -> 0.20833333 | K9: =IFERROR(VLOOKUP(B9,'DAS Thu'!$F$9:$O$47,10,0),"Off") -> 0.41180556 | L9: =TC!U11 -> 0.41875 | M9: =IFERROR(VLOOKUP(B9,'DAS Fri'!$F$9:$O$46,10,0),"Off") -> Off | N9: =TC!Y11 -> 0 | O9: =IFERROR(VLOOKUP(B9,'DAS Sat'!$F$9:$O$48,10,0),"Off") -> Off | P9: =TC!AC11 -> 0 | Q9: =SUM(C9,E9,G9,I9,K9,M9,O9) -> 1.4576389 | R9: =P9+N9+L9+J9+H9+F9+D9 -> 1.4645833 | S9: =COUNTIF(C9:P9,"Off") -> 2 | T9: =R9-Q9 -> 0.0069444444 | U9: =TC!A11 -> Saleh Ali Alseda | V9: =IFERROR(VLOOKUP(U9,'DAS Sun'!$F$12:$P$50,11,0),"Off") -> TC4 | W9: =IF(V9="TC1","7:40",IF(V9="TC2","2:40",IF(V9="TC3","2:40",IF(V9="TC4","2:40",IF(V9="TC5","7:40",IF(V9="TC6","7:40",IF(V9="TC7","3:50",IF(V9="TC8","3:50",IF(V9="TC9","3:50",IF(V9="TC10","3:50",IF(V9="TC11","3:50",IF(V9="TC12","3:50",IF(V9="TC13","3:50",IF(V9="TC14","3:50",IF(V9="SP-D","0",IF(V9="SP-H","0",)))))))))))))))) -> 2:40 | X9: =IF(V9="TC1","YES",IF(V9="TC7","YES",IF(V9="TC9","YES",IF(V9="TC11","YES",IF(V9="TC13","YES",IF(V9="TC15","YES",IF(V9="SP-R","YES",))))))) -> 0 | Y9: =IFERROR(VLOOKUP(U9,'DAS Mon'!$F$9:$P$44,11,0),"Off") -> TC1 | Z9: =IF(Y9="TC1","7:40",IF(Y9="TC2","2:40",IF(Y9="TC3","2:40",IF(Y9="TC4","2:40",IF(Y9="TC5","7:40",IF(Y9="TC6","7:40",IF(Y9="TC7","3:50",IF(Y9="TC8","3:50",IF(Y9="TC9","3:50",IF(Y9="TC10","3:50",IF(Y9="TC11","3:50",IF(Y9="TC12","3:50",IF(Y9="TC13","3:50",IF(Y9="TC14","3:50",IF(Y9="SP-D","0",IF(Y9="SP-H","0",)))))))))))))))) -> 7:40 | AA9: =IF(Y9="TC1","YES",IF(Y9="TC7","YES",IF(Y9="TC9","YES",IF(Y9="TC11","YES",IF(Y9="TC13","YES",IF(Y9="TC15","YES",IF(Y9="SP-R","YES",))))))) -> YES | AB9: =IFERROR(VLOOKUP(U9,'DAS Tue'!$F$9:$P$44,11,0),"Off") -> SP-R | AC9: =IF(AB9="TC1","7:40",IF(AB9="TC2","2:40",IF(AB9="TC3","2:40",IF(AB9="TC4","2:40",IF(AB9="TC5","7:40",IF(AB9="TC6","7:40",IF(AB9="TC7","3:50",IF(AB9="TC8","3:50",IF(AB9="TC9","3:50",IF(AB9="TC10","3:50",IF(AB9="TC11","3:50",IF(AB9="TC12","3:50",IF(AB9="TC13","3:50",IF(AB9="TC14","3:50",IF(AB9="SP-D","0",IF(AB9="SP-H","0",)))))))))))))))) -> 0 | AD9: =IF(AB9="TC1","YES",IF(AB9="TC7","YES",IF(AB9="TC9","YES",IF(AB9="TC11","YES",IF(AB9="TC13","YES",IF(AB9="TC15","YES",IF(AB9="SP-R","YES",))))))) -> YES | AE9: =IFERROR(VLOOKUP(U9,'DAS Wed'!$F$11:$P$50,11,0),"Off") -> TC4 | AF9: =IF(AE9="TC1","7:40",IF(AE9="TC2","2:40",IF(AE9="TC3","2:40",IF(AE9="TC4","2:40",IF(AE9="TC5","7:40",IF(AE9="TC6","7:40",IF(AE9="TC7","3:50",IF(AE9="TC8","3:50",IF(AE9="TC9","3:50",IF(AE9="TC10","3:50",IF(AE9="TC11","3:50",IF(AE9="TC12","3:50",IF(AE9="TC13","3:50",IF(AE9="TC14","3:50",IF(AE9="SP-D","0",IF(AE9="SP-H","0",)))))))))))))))) -> 2:40 | AG9: =IF(AE9="TC1","YES",IF(AE9="TC7","YES",IF(AE9="TC9","YES",IF(AE9="TC11","YES",IF(AE9="TC13","YES",IF(AE9="TC15","YES",IF(AE9="SP-R","YES",))))))) -> 0 | AH9: =IFERROR(VLOOKUP(U9,'DAS Thu'!$F$9:$P$45,11,0),"Off") -> TC19&22 | AI9: =IF(AH9="TC1","7:40",IF(AH9="TC2","2:40",IF(AH9="TC3","2:40",IF(AH9="TC4","2:40",IF(AH9="TC5","7:40",IF(AH9="TC6","7:40",IF(AH9="TC7","3:50",IF(AH9="TC8","3:50",IF(AH9="TC9","3:50",IF(AH9="TC10","3:50",IF(AH9="TC11","3:50",IF(AH9="TC12","3:50",IF(AH9="TC13","3:50",IF(AH9="TC14","3:50",IF(AH9="SP-D","0",IF(AH9="SP-H","0",)))))))))))))))) -> 0 | AJ9: =IF(AH9="TC1","YES",IF(AH9="TC7","YES",IF(AH9="TC9","YES",IF(AH9="TC11","YES",IF(AH9="TC13","YES",IF(AH9="TC15","YES",IF(AH9="SP-R","YES",))))))) -> 0 | AK9: =IFERROR(VLOOKUP(U9,'DAS Fri'!$F$9:$P$46,11,0),"Off") -> Off | AL9: =IF(AK9="TC1","7:40",IF(AK9="TC2","2:40",IF(AK9="TC3","2:40",IF(AK9="TC4","2:40",IF(AK9="TC5","7:40",IF(AK9="TC6","7:40",IF(AK9="TC7","3:50",IF(AK9="TC8","3:50",IF(AK9="TC9","3:50",IF(AK9="TC10","3:50",IF(AK9="TC11","3:50",IF(AK9="TC12","3:50",IF(AK9="TC13","3:50",IF(AK9="TC14","3:50",IF(AK9="SP-D","0",IF(AK9="SP-H","0",)))))))))))))))) -> 0 | AM9: =IF(AK9="TC7","YES",IF(AK9="TC9","YES",IF(AK9="TC11","YES",IF(AK9="TC13","YES",IF(AK9="TC15","YES",IF(AK9="SP-R","YES",)))))) -> 0 | AN9: =IFERROR(VLOOKUP(U9,'DAS Sat'!$F$20:$P$48,11,0),"Off") -> Off | AO9: =IF(AN9="TC1","7:40",IF(AN9="TC2","2:40",IF(AN9="TC3","2:40",IF(AN9="TC4","2:40",IF(AN9="TC5","7:40",IF(AN9="TC6","7:40",IF(AN9="TC7","3:50",IF(AN9="TC8","3:50",IF(AN9="TC9","3:50",IF(AN9="TC10","3:50",IF(AN9="TC11","3:50",IF(AN9="TC12","3:50",IF(AN9="TC13","3:50",IF(AN9="TC14","3:50",IF(AN9="SP-D","0",IF(AN9="SP-H","0",)))))))))))))))) -> 0 | AP9: =IF(AN9="TC7","YES",IF(AN9="TC9","YES",IF(AN9="TC11","YES",IF(AN9="TC13","YES",IF(AN9="TC15","YES",IF(AN9="SP-R","YES",)))))) -> 0 | AQ9: =W9+Z9+AC9+AF9+AI9+AL9+AO9 -> 0.54166667 | AR9: 0.31944444 | AS9: =COUNTIF(V9:AP9,"Yes") -> 2 | AU9: =TC!A11 -> Saleh Ali Alseda | AV9: #VALUE! | AW9: =IFERROR(VLOOKUP(AU9,'DAS Sun'!$F$11:$Q$60,12,0),"Off") -> 0.18680556 | AX9: =IFERROR(VLOOKUP(AU9,'DAS Sun'!$F$11:$R$60,13,0),"Off") -> 0.39513889 | AY9: =$AY$4-AX9 -> 0.60486111 | AZ9: =AW9+AV9 -> #VALUE! | BA9: =IFERROR(VLOOKUP(AU9,'DAS Mon'!$F$9:$Q$60,12,0),"Off") -> 0.14444444 | BB9: =IFERROR(VLOOKUP(AU9,'DAS Mon'!$F$9:$R$60,13,0),"Off") -> 0.35694444 | BC9: =$AY$4-BB9 -> 0.64305556 | BD9: =BA9+AY9 -> 0.74930556 | BE9: =IFERROR(VLOOKUP(AU9,'DAS Tue'!$F$9:$Q$58,12,0),"Off") -> 0.16666667 | BF9: =IFERROR(VLOOKUP(AU9,'DAS Tue'!$F$9:$R$58,13,0),"Off") -> 0.58333333 | BG9: =$AY$4-BF9 -> 0.41666667 | BH9: =BE9+BC9 -> 0.80972222 | BI9: =IFERROR(VLOOKUP(AU9,'DAS Wed'!$F$11:$Q$60,12,0),"Off") -> 0.18680556 | BJ9: =IFERROR(VLOOKUP(AU9,'DAS Wed'!$F$11:$R$60,13,0),"Off") -> 0.39513889 | BK9: =$AY$4-BJ9 -> 0.60486111 | BL9: =BI9+BG9 -> 0.60347222 | BM9: =IFERROR(VLOOKUP(AU9,'DAS Thu'!$F$9:$Q$61,12,0),"Off") -> 0.9 | BN9: =IFERROR(VLOOKUP(AU9,'DAS Thu'!$F$9:$R$61,13,0),"Off") -> 1.3118056 | BO9: =$AY$4-BN9 -> -0.31180556 | BP9: =BM9+BK9 -> 1.5048611 | BQ9: =IFERROR(VLOOKUP(AU9,'DAS Fri'!$F$9:$Q$61,12,0),"Off") -> Off | BR9: =IFERROR(VLOOKUP(AU9,'DAS Fri'!$F$9:$R$61,13,0),"Off") -> Off | BS9: =$AY$4-BR9 -> #VALUE! | BT9: =BQ9+BO9 -> #VALUE! | BU9: =IFERROR(VLOOKUP(AU9,'DAS Sat'!$F$20:$Q$61,12,0),"Off") -> Off | BV9: =IFERROR(VLOOKUP(AU9,'DAS Sat'!$F$20:$R$61,13,0),"Off") -> Off | BW9: =$AY$4-BV9 -> #VALUE! | BX9: =BU9+BS9 -> #VALUE!
B10: =TC!A12 -> Abduleilah Ali Ibrahim | C10: =IFERROR(VLOOKUP(B10,'DAS Sun'!$F$9:$O$50,10,0),"Off") -> 0.20833333 | D10: =TC!E12 -> 0 | E10: =IFERROR(VLOOKUP(B10,'DAS Mon'!$F$9:$O$44,10,0),"Off") -> Off | F10: =TC!I12 -> 0 | G10: =IFERROR(VLOOKUP(B10,'DAS Tue'!$F$9:$O$44,10,0),"Off") -> 0.22430556 | H10: =TC!M12 -> 0.41666667 | I10: =IFERROR(VLOOKUP(B10,'DAS Wed'!$F$9:$O$50,10,0),"Off") -> 0.20972222 | J10: =TC!Q12 -> 0.41666667 | K10: =IFERROR(VLOOKUP(B10,'DAS Thu'!$F$9:$O$47,10,0),"Off") -> 0.22430556 | L10: =TC!U12 -> 0.22430556 | M10: =IFERROR(VLOOKUP(B10,'DAS Fri'!$F$9:$O$46,10,0),"Off") -> 0.20833333 | N10: =TC!Y12 -> 0.20833333 | O10: =IFERROR(VLOOKUP(B10,'DAS Sat'!$F$9:$O$48,10,0),"Off") -> 0.29166667 | P10: =TC!AC12 -> 0.21527778 | Q10: =SUM(C10,E10,G10,I10,K10,M10,O10) -> 1.3666667 | R10: =P10+N10+L10+J10+H10+F10+D10 -> 1.48125 | S10: =COUNTIF(C10:P10,"Off") -> 1 | T10: =R10-Q10 -> 0.11458333 | U10: =TC!A12 -> Abduleilah Ali Ibrahim | V10: =IFERROR(VLOOKUP(U10,'DAS Sun'!$F$12:$P$50,11,0),"Off") -> TC6 | W10: =IF(V10="TC1","7:40",IF(V10="TC2","2:40",IF(V10="TC3","2:40",IF(V10="TC4","2:40",IF(V10="TC5","7:40",IF(V10="TC6","7:40",IF(V10="TC7","3:50",IF(V10="TC8","3:50",IF(V10="TC9","3:50",IF(V10="TC10","3:50",IF(V10="TC11","3:50",IF(V10="TC12","3:50",IF(V10="TC13","3:50",IF(V10="TC14","3:50",IF(V10="SP-D","0",IF(V10="SP-H","0",)))))))))))))))) -> 7:40 | X10: =IF(V10="TC1","YES",IF(V10="TC7","YES",IF(V10="TC9","YES",IF(V10="TC11","YES",IF(V10="TC13","YES",IF(V10="TC15","YES",IF(V10="SP-R","YES",))))))) -> 0 | Y10: =IFERROR(VLOOKUP(U10,'DAS Mon'!$F$9:$P$44,11,0),"Off") -> Off | Z10: =IF(Y10="TC1","7:40",IF(Y10="TC2","2:40",IF(Y10="TC3","2:40",IF(Y10="TC4","2:40",IF(Y10="TC5","7:40",IF(Y10="TC6","7:40",IF(Y10="TC7","3:50",IF(Y10="TC8","3:50",IF(Y10="TC9","3:50",IF(Y10="TC10","3:50",IF(Y10="TC11","3:50",IF(Y10="TC12","3:50",IF(Y10="TC13","3:50",IF(Y10="TC14","3:50",IF(Y10="SP-D","0",IF(Y10="SP-H","0",)))))))))))))))) -> 0 | AA10: =IF(Y10="TC1","YES",IF(Y10="TC7","YES",IF(Y10="TC9","YES",IF(Y10="TC11","YES",IF(Y10="TC13","YES",IF(Y10="TC15","YES",IF(Y10="SP-R","YES",))))))) -> 0 | AB10: =IFERROR(VLOOKUP(U10,'DAS Tue'!$F$9:$P$44,11,0),"Off") -> TC13 | AC10: =IF(AB10="TC1","7:40",IF(AB10="TC2","2:40",IF(AB10="TC3","2:40",IF(AB10="TC4","2:40",IF(AB10="TC5","7:40",IF(AB10="TC6","7:40",IF(AB10="TC7","3:50",IF(AB10="TC8","3:50",IF(AB10="TC9","3:50",IF(AB10="TC10","3:50",IF(AB10="TC11","3:50",IF(AB10="TC12","3:50",IF(AB10="TC13","3:50",IF(AB10="TC14","3:50",IF(AB10="SP-D","0",IF(AB10="SP-H","0",)))))))))))))))) -> 3:50 | AD10: =IF(AB10="TC1","YES",IF(AB10="TC7","YES",IF(AB10="TC9","YES",IF(AB10="TC11","YES",IF(AB10="TC13","YES",IF(AB10="TC15","YES",IF(AB10="SP-R","YES",))))))) -> YES | AE10: =IFERROR(VLOOKUP(U10,'DAS Wed'!$F$11:$P$50,11,0),"Off") -> TC14 | AF10: =IF(AE10="TC1","7:40",IF(AE10="TC2","2:40",IF(AE10="TC3","2:40",IF(AE10="TC4","2:40",IF(AE10="TC5","7:40",IF(AE10="TC6","7:40",IF(AE10="TC7","3:50",IF(AE10="TC8","3:50",IF(AE10="TC9","3:50",IF(AE10="TC10","3:50",IF(AE10="TC11","3:50",IF(AE10="TC12","3:50",IF(AE10="TC13","3:50",IF(AE10="TC14","3:50",IF(AE10="SP-D","0",IF(AE10="SP-H","0",)))))))))))))))) -> 3:50 | AG10: =IF(AE10="TC1","YES",IF(AE10="TC7","YES",IF(AE10="TC9","YES",IF(AE10="TC11","YES",IF(AE10="TC13","YES",IF(AE10="TC15","YES",IF(AE10="SP-R","YES",))))))) -> 0 | AH10: =IFERROR(VLOOKUP(U10,'DAS Thu'!$F$9:$P$45,11,0),"Off") -> TC13 | AI10: =IF(AH10="TC1","7:40",IF(AH10="TC2","2:40",IF(AH10="TC3","2:40",IF(AH10="TC4","2:40",IF(AH10="TC5","7:40",IF(AH10="TC6","7:40",IF(AH10="TC7","3:50",IF(AH10="TC8","3:50",IF(AH10="TC9","3:50",IF(AH10="TC10","3:50",IF(AH10="TC11","3:50",IF(AH10="TC12","3:50",IF(AH10="TC13","3:50",IF(AH10="TC14","3:50",IF(AH10="SP-D","0",IF(AH10="SP-H","0",)))))))))))))))) -> 3:50 | AJ10: =IF(AH10="TC1","YES",IF(AH10="TC7","YES",IF(AH10="TC9","YES",IF(AH10="TC11","YES",IF(AH10="TC13","YES",IF(AH10="TC15","YES",IF(AH10="SP-R","YES",))))))) -> YES | AK10: =IFERROR(VLOOKUP(U10,'DAS Fri'!$F$9:$P$46,11,0),"Off") -> SP-R | AL10: =IF(AK10="TC1","7:40",IF(AK10="TC2","2:40",IF(AK10="TC3","2:40",IF(AK10="TC4","2:40",IF(AK10="TC5","7:40",IF(AK10="TC6","7:40",IF(AK10="TC7","3:50",IF(AK10="TC8","3:50",IF(AK10="TC9","3:50",IF(AK10="TC10","3:50",IF(AK10="TC11","3:50",IF(AK10="TC12","3:50",IF(AK10="TC13","3:50",IF(AK10="TC14","3:50",IF(AK10="SP-D","0",IF(AK10="SP-H","0",)))))))))))))))) -> 0 | AM10: =IF(AK10="TC7","YES",IF(AK10="TC9","YES",IF(AK10="TC11","YES",IF(AK10="TC13","YES",IF(AK10="TC15","YES",IF(AK10="SP-R","YES",)))))) -> YES | AN10: =IFERROR(VLOOKUP(U10,'DAS Sat'!$F$20:$P$48,11,0),"Off") -> SP-R | AO10: =IF(AN10="TC1","7:40",IF(AN10="TC2","2:40",IF(AN10="TC3","2:40",IF(AN10="TC4","2:40",IF(AN10="TC5","7:40",IF(AN10="TC6","7:40",IF(AN10="TC7","3:50",IF(AN10="TC8","3:50",IF(AN10="TC9","3:50",IF(AN10="TC10","3:50",IF(AN10="TC11","3:50",IF(AN10="TC12","3:50",IF(AN10="TC13","3:50",IF(AN10="TC14","3:50",IF(AN10="SP-D","0",IF(AN10="SP-H","0",)))))))))))))))) -> 0 | AP10: =IF(AN10="TC7","YES",IF(AN10="TC9","YES",IF(AN10="TC11","YES",IF(AN10="TC13","YES",IF(AN10="TC15","YES",IF(AN10="SP-R","YES",)))))) -> YES | AQ10: =W10+Z10+AC10+AF10+AI10+AL10+AO10 -> 0.79861111 | AR10: 0.15972222 | AS10: =COUNTIF(V10:AP10,"Yes") -> 4 | AU10: =TC!A12 -> Abduleilah Ali Ibrahim | AV10: #VALUE! | AW10: =IFERROR(VLOOKUP(AU10,'DAS Sun'!$F$11:$Q$60,12,0),"Off") -> 0.27291667 | AX10: =IFERROR(VLOOKUP(AU10,'DAS Sun'!$F$11:$R$60,13,0),"Off") -> 0.48125 | AY10: =$AY$4-AX10 -> 0.51875 | AZ10: =AW10+AV10 -> #VALUE! | BA10: =IFERROR(VLOOKUP(AU10,'DAS Mon'!$F$9:$Q$60,12,0),"Off") -> Off | BB10: =IFERROR(VLOOKUP(AU10,'DAS Mon'!$F$9:$R$60,13,0),"Off") -> Off | BC10: =$AY$4-BB10 -> #VALUE! | BD10: =BA10+AY10 -> #VALUE! | BE10: =IFERROR(VLOOKUP(AU10,'DAS Tue'!$F$9:$Q$58,12,0),"Off") -> 0.62291667 | BF10: =IFERROR(VLOOKUP(AU10,'DAS Tue'!$F$9:$R$58,13,0),"Off") -> 0.84722222 | BG10: =$AY$4-BF10 -> 0.15277778 | BH10: =BE10+BC10 -> #VALUE! | BI10: =IFERROR(VLOOKUP(AU10,'DAS Wed'!$F$11:$Q$60,12,0),"Off") -> 0.67083333 | BJ10: =IFERROR(VLOOKUP(AU10,'DAS Wed'!$F$11:$R$60,13,0),"Off") -> 0.88055556 | BK10: =$AY$4-BJ10 -> 0.11944444 | BL10: =BI10+BG10 -> 0.82361111 | BM10: =IFERROR(VLOOKUP(AU10,'DAS Thu'!$F$9:$Q$61,12,0),"Off") -> 0.62291667 | BN10: =IFERROR(VLOOKUP(AU10,'DAS Thu'!$F$9:$R$61,13,0),"Off") -> 0.84722222 | BO10: =$AY$4-BN10 -> 0.15277778 | BP10: =BM10+BK10 -> 0.74236111 | BQ10: =IFERROR(VLOOKUP(AU10,'DAS Fri'!$F$9:$Q$61,12,0),"Off") -> 0.375 | BR10: =IFERROR(VLOOKUP(AU10,'DAS Fri'!$F$9:$R$61,13,0),"Off") -> 0.58333333 | BS10: =$AY$4-BR10 -> 0.41666667 | BT10: =BQ10+BO10 -> 0.52777778 | BU10: =IFERROR(VLOOKUP(AU10,'DAS Sat'!$F$20:$Q$61,12,0),"Off") -> 0.375 | BV10: =IFERROR(VLOOKUP(AU10,'DAS Sat'!$F$20:$R$61,13,0),"Off") -> 0.66666667 | BW10: =$AY$4-BV10 -> 0.33333333 | BX10: =BU10+BS10 -> 0.79166667
B11: =TC!A13 -> Saeed Saleh Al-Harthi | C11: =IFERROR(VLOOKUP(B11,'DAS Sun'!$F$9:$O$50,10,0),"Off") -> 0.20833333 | D11: =TC!E13 -> 0.20833333 | E11: =IFERROR(VLOOKUP(B11,'DAS Mon'!$F$9:$O$44,10,0),"Off") -> Off | F11: =TC!I13 -> 0 | G11: =IFERROR(VLOOKUP(B11,'DAS Tue'!$F$9:$O$44,10,0),"Off") -> Off | H11: =TC!M13 -> 0 | I11: =IFERROR(VLOOKUP(B11,'DAS Wed'!$F$9:$O$50,10,0),"Off") -> 0.47152778 | J11: =TC!Q13 -> 0.47152778 | K11: =IFERROR(VLOOKUP(B11,'DAS Thu'!$F$9:$O$47,10,0),"Off") -> 0.42916667 | L11: =TC!U13 -> 0.2125 | M11: =IFERROR(VLOOKUP(B11,'DAS Fri'!$F$9:$O$46,10,0),"Off") -> 0.21527778 | N11: =TC!Y13 -> 0.20833333 | O11: =IFERROR(VLOOKUP(B11,'DAS Sat'!$F$9:$O$48,10,0),"Off") -> 0.25763889 | P11: =TC!AC13 -> 0.49791667 | Q11: =SUM(C11,E11,G11,I11,K11,M11,O11) -> 1.5819444 | R11: =P11+N11+L11+J11+H11+F11+D11 -> 1.5986111 | S11: =COUNTIF(C11:P11,"Off") -> 2 | T11: =R11-Q11 -> 0.016666667 | U11: =TC!A13 -> Saeed Saleh Al-Harthi | V11: =IFERROR(VLOOKUP(U11,'DAS Sun'!$F$12:$P$50,11,0),"Off") -> TC18 | W11: =IF(V11="TC1","7:40",IF(V11="TC2","2:40",IF(V11="TC3","2:40",IF(V11="TC4","2:40",IF(V11="TC5","7:40",IF(V11="TC6","7:40",IF(V11="TC7","3:50",IF(V11="TC8","3:50",IF(V11="TC9","3:50",IF(V11="TC10","3:50",IF(V11="TC11","3:50",IF(V11="TC12","3:50",IF(V11="TC13","3:50",IF(V11="TC14","3:50",IF(V11="SP-D","0",IF(V11="SP-H","0",)))))))))))))))) -> 0 | X11: =IF(V11="TC1","YES",IF(V11="TC7","YES",IF(V11="TC9","YES",IF(V11="TC11","YES",IF(V11="TC13","YES",IF(V11="TC15","YES",IF(V11="SP-R","YES",))))))) -> 0 | Y11: =IFERROR(VLOOKUP(U11,'DAS Mon'!$F$9:$P$44,11,0),"Off") -> Off | Z11: =IF(Y11="TC1","7:40",IF(Y11="TC2","2:40",IF(Y11="TC3","2:40",IF(Y11="TC4","2:40",IF(Y11="TC5","7:40",IF(Y11="TC6","7:40",IF(Y11="TC7","3:50",IF(Y11="TC8","3:50",IF(Y11="TC9","3:50",IF(Y11="TC10","3:50",IF(Y11="TC11","3:50",IF(Y11="TC12","3:50",IF(Y11="TC13","3:50",IF(Y11="TC14","3:50",IF(Y11="SP-D","0",IF(Y11="SP-H","0",)))))))))))))))) -> 0 | AA11: =IF(Y11="TC1","YES",IF(Y11="TC7","YES",IF(Y11="TC9","YES",IF(Y11="TC11","YES",IF(Y11="TC13","YES",IF(Y11="TC15","YES",IF(Y11="SP-R","YES",))))))) -> 0 | AB11: =IFERROR(VLOOKUP(U11,'DAS Tue'!$F$9:$P$44,11,0),"Off") -> Off | AC11: =IF(AB11="TC1","7:40",IF(AB11="TC2","2:40",IF(AB11="TC3","2:40",IF(AB11="TC4","2:40",IF(AB11="TC5","7:40",IF(AB11="TC6","7:40",IF(AB11="TC7","3:50",IF(AB11="TC8","3:50",IF(AB11="TC9","3:50",IF(AB11="TC10","3:50",IF(AB11="TC11","3:50",IF(AB11="TC12","3:50",IF(AB11="TC13","3:50",IF(AB11="TC14","3:50",IF(AB11="SP-D","0",IF(AB11="SP-H","0",)))))))))))))))) -> 0 | AD11: =IF(AB11="TC1","YES",IF(AB11="TC7","YES",IF(AB11="TC9","YES",IF(AB11="TC11","YES",IF(AB11="TC13","YES",IF(AB11="TC15","YES",IF(AB11="SP-R","YES",))))))) -> 0 | AE11: =IFERROR(VLOOKUP(U11,'DAS Wed'!$F$11:$P$50,11,0),"Off") -> TC3&10 | AF11: =IF(AE11="TC1","7:40",IF(AE11="TC2","2:40",IF(AE11="TC3","2:40",IF(AE11="TC4","2:40",IF(AE11="TC5","7:40",IF(AE11="TC6","7:40",IF(AE11="TC7","3:50",IF(AE11="TC8","3:50",IF(AE11="TC9","3:50",IF(AE11="TC10","3:50",IF(AE11="TC11","3:50",IF(AE11="TC12","3:50",IF(AE11="TC13","3:50",IF(AE11="TC14","3:50",IF(AE11="SP-D","0",IF(AE11="SP-H","0",)))))))))))))))) -> 0 | AG11: =IF(AE11="TC1","YES",IF(AE11="TC7","YES",IF(AE11="TC9","YES",IF(AE11="TC11","YES",IF(AE11="TC13","YES",IF(AE11="TC15","YES",IF(AE11="SP-R","YES",))))))) -> 0 | AH11: =IFERROR(VLOOKUP(U11,'DAS Thu'!$F$9:$P$45,11,0),"Off") -> TC5&12 | AI11: =IF(AH11="TC1","7:40",IF(AH11="TC2","2:40",IF(AH11="TC3","2:40",IF(AH11="TC4","2:40",IF(AH11="TC5","7:40",IF(AH11="TC6","7:40",IF(AH11="TC7","3:50",IF(AH11="TC8","3:50",IF(AH11="TC9","3:50",IF(AH11="TC10","3:50",IF(AH11="TC11","3:50",IF(AH11="TC12","3:50",IF(AH11="TC13","3:50",IF(AH11="TC14","3:50",IF(AH11="SP-D","0",IF(AH11="SP-H","0",)))))))))))))))) -> 0 | AJ11: =IF(AH11="TC1","YES",IF(AH11="TC7","YES",IF(AH11="TC9","YES",IF(AH11="TC11","YES",IF(AH11="TC13","YES",IF(AH11="TC15","YES",IF(AH11="SP-R","YES",))))))) -> 0 | AK11: =IFERROR(VLOOKUP(U11,'DAS Fri'!$F$9:$P$46,11,0),"Off") -> TC27&30 | AL11: =IF(AK11="TC1","7:40",IF(AK11="TC2","2:40",IF(AK11="TC3","2:40",IF(AK11="TC4","2:40",IF(AK11="TC5","7:40",IF(AK11="TC6","7:40",IF(AK11="TC7","3:50",IF(AK11="TC8","3:50",IF(AK11="TC9","3:50",IF(AK11="TC10","3:50",IF(AK11="TC11","3:50",IF(AK11="TC12","3:50",IF(AK11="TC13","3:50",IF(AK11="TC14","3:50",IF(AK11="SP-D","0",IF(AK11="SP-H","0",)))))))))))))))) -> 0 | AM11: =IF(AK11="TC7","YES",IF(AK11="TC9","YES",IF(AK11="TC11","YES",IF(AK11="TC13","YES",IF(AK11="TC15","YES",IF(AK11="SP-R","YES",)))))) -> 0 | AN11: =IFERROR(VLOOKUP(U11,'DAS Sat'!$F$20:$P$48,11,0),"Off") -> TC31&34 | AO11: =IF(AN11="TC1","7:40",IF(AN11="TC2","2:40",IF(AN11="TC3","2:40",IF(AN11="TC4","2:40",IF(AN11="TC5","7:40",IF(AN11="TC6","7:40",IF(AN11="TC7","3:50",IF(AN11="TC8","3:50",IF(AN11="TC9","3:50",IF(AN11="TC10","3:50",IF(AN11="TC11","3:50",IF(AN11="TC12","3:50",IF(AN11="TC13","3:50",IF(AN11="TC14","3:50",IF(AN11="SP-D","0",IF(AN11="SP-H","0",)))))))))))))))) -> 0 | AP11: =IF(AN11="TC7","YES",IF(AN11="TC9","YES",IF(AN11="TC11","YES",IF(AN11="TC13","YES",IF(AN11="TC15","YES",IF(AN11="SP-R","YES",)))))) -> 0 | AQ11: =W11+Z11+AC11+AF11+AI11+AL11+AO11 -> 0 | AR11: 0.15972222 | AS11: =COUNTIF(V11:AP11,"Yes") -> 0 | AU11: =TC!A13 -> Saeed Saleh Al-Harthi | AV11: 0.0048611111 | AW11: =IFERROR(VLOOKUP(AU11,'DAS Sun'!$F$11:$Q$60,12,0),"Off") -> 0.79027778 | AX11: =IFERROR(VLOOKUP(AU11,'DAS Sun'!$F$11:$R$60,13,0),"Off") -> 0.99861111 | AY11: =$AY$4-AX11 -> 0.0013888889 | AZ11: =AW11+AV11 -> 0.79513889 | BA11: =IFERROR(VLOOKUP(AU11,'DAS Mon'!$F$9:$Q$60,12,0),"Off") -> Off | BB11: =IFERROR(VLOOKUP(AU11,'DAS Mon'!$F$9:$R$60,13,0),"Off") -> Off | BC11: =$AY$4-BB11 -> #VALUE! | BD11: =BA11+AY11 -> #VALUE! | BE11: =IFERROR(VLOOKUP(AU11,'DAS Tue'!$F$9:$Q$58,12,0),"Off") -> Off | BF11: =IFERROR(VLOOKUP(AU11,'DAS Tue'!$F$9:$R$58,13,0),"Off") -> Off | BG11: =$AY$4-BF11 -> #VALUE! | BH11: =BE11+BC11 -> #VALUE! | BI11: =IFERROR(VLOOKUP(AU11,'DAS Wed'!$F$11:$Q$60,12,0),"Off") -> 0.22013889 | BJ11: =IFERROR(VLOOKUP(AU11,'DAS Wed'!$F$11:$R$60,13,0),"Off") -> 0.69166667 | BK11: =$AY$4-BJ11 -> 0.30833333 | BL11: =BI11+BG11 -> #VALUE! | BM11: =IFERROR(VLOOKUP(AU11,'DAS Thu'!$F$9:$Q$61,12,0),"Off") -> 0.38333333 | BN11: =IFERROR(VLOOKUP(AU11,'DAS Thu'!$F$9:$R$61,13,0),"Off") -> 0.8125 | BO11: =$AY$4-BN11 -> 0.1875 | BP11: =BM11+BK11 -> 0.69166667 | BQ11: =IFERROR(VLOOKUP(AU11,'DAS Fri'!$F$9:$Q$61,12,0),"Off") -> 0.59236111 | BR11: =IFERROR(VLOOKUP(AU11,'DAS Fri'!$F$9:$R$61,13,0),"Off") -> 0.80763889 | BS11: =$AY$4-BR11 -> 0.19236111 | BT11: =BQ11+BO11 -> 0.77986111 | BU11: =IFERROR(VLOOKUP(AU11,'DAS Sat'!$F$20:$Q$61,12,0),"Off") -> 0.70763889 | BV11: =IFERROR(VLOOKUP(AU11,'DAS Sat'!$F$20:$R$61,13,0),"Off") -> 0.96527778 | BW11: =$AY$4-BV11 -> 0.034722222 | BX11: =BU11+BS11 -> 0.9
B12: =TC!A14 -> Mubarak Yousef Al-Dossary | C12: =IFERROR(VLOOKUP(B12,'DAS Sun'!$F$9:$O$50,10,0),"Off") -> 0.2125 | D12: =TC!E14 -> 0.2125 | E12: =IFERROR(VLOOKUP(B12,'DAS Mon'!$F$9:$O$44,10,0),"Off") -> 0.375 | F12: =TC!I14 -> 0.375 | G12: =IFERROR(VLOOKUP(B12,'DAS Tue'!$F$9:$O$44,10,0),"Off") -> 0.20833333 | H12: =TC!M14 -> 0.20833333 | I12: =IFERROR(VLOOKUP(B12,'DAS Wed'!$F$9:$O$50,10,0),"Off") -> Off | J12: =TC!Q14 -> 0 | K12: =IFERROR(VLOOKUP(B12,'DAS Thu'!$F$9:$O$47,10,0),"Off") -> Off | L12: =TC!U14 -> 0 | M12: =IFERROR(VLOOKUP(B12,'DAS Fri'!$F$9:$O$46,10,0),"Off") -> 0.21875 | N12: =TC!Y14 -> 0.41666667 | O12: =IFERROR(VLOOKUP(B12,'DAS Sat'!$F$9:$O$48,10,0),"Off") -> 0.21875 | P12: =TC!AC14 -> 0.41666667 | Q12: =SUM(C12,E12,G12,I12,K12,M12,O12) -> 1.2333333 | R12: =P12+N12+L12+J12+H12+F12+D12 -> 1.6291667 | S12: =COUNTIF(C12:P12,"Off") -> 2 | T12: =R12-Q12 -> 0.39583333 | U12: =TC!A14 -> Mubarak Yousef Al-Dossary | V12: =IFERROR(VLOOKUP(U12,'DAS Sun'!$F$12:$P$50,11,0),"Off") -> TC9 | W12: =IF(V12="TC1","7:40",IF(V12="TC2","2:40",IF(V12="TC3","2:40",IF(V12="TC4","2:40",IF(V12="TC5","7:40",IF(V12="TC6","7:40",IF(V12="TC7","3:50",IF(V12="TC8","3:50",IF(V12="TC9","3:50",IF(V12="TC10","3:50",IF(V12="TC11","3:50",IF(V12="TC12","3:50",IF(V12="TC13","3:50",IF(V12="TC14","3:50",IF(V12="SP-D","0",IF(V12="SP-H","0",)))))))))))))))) -> 3:50 | X12: =IF(V12="TC1","YES",IF(V12="TC7","YES",IF(V12="TC9","YES",IF(V12="TC11","YES",IF(V12="TC13","YES",IF(V12="TC15","YES",IF(V12="SP-R","YES",))))))) -> YES | Y12: =IFERROR(VLOOKUP(U12,'DAS Mon'!$F$9:$P$44,11,0),"Off") -> SP-R | Z12: =IF(Y12="TC1","7:40",IF(Y12="TC2","2:40",IF(Y12="TC3","2:40",IF(Y12="TC4","2:40",IF(Y12="TC5","7:40",IF(Y12="TC6","7:40",IF(Y12="TC7","3:50",IF(Y12="TC8","3:50",IF(Y12="TC9","3:50",IF(Y12="TC10","3:50",IF(Y12="TC11","3:50",IF(Y12="TC12","3:50",IF(Y12="TC13","3:50",IF(Y12="TC14","3:50",IF(Y12="SP-D","0",IF(Y12="SP-H","0",)))))))))))))))) -> 0 | AA12: =IF(Y12="TC1","YES",IF(Y12="TC7","YES",IF(Y12="TC9","YES",IF(Y12="TC11","YES",IF(Y12="TC13","YES",IF(Y12="TC15","YES",IF(Y12="SP-R","YES",))))))) -> YES | AB12: =IFERROR(VLOOKUP(U12,'DAS Tue'!$F$9:$P$44,11,0),"Off") -> TC10 | AC12: =IF(AB12="TC1","7:40",IF(AB12="TC2","2:40",IF(AB12="TC3","2:40",IF(AB12="TC4","2:40",IF(AB12="TC5","7:40",IF(AB12="TC6","7:40",IF(AB12="TC7","3:50",IF(AB12="TC8","3:50",IF(AB12="TC9","3:50",IF(AB12="TC10","3:50",IF(AB12="TC11","3:50",IF(AB12="TC12","3:50",IF(AB12="TC13","3:50",IF(AB12="TC14","3:50",IF(AB12="SP-D","0",IF(AB12="SP-H","0",)))))))))))))))) -> 3:50 | AD12: =IF(AB12="TC1","YES",IF(AB12="TC7","YES",IF(AB12="TC9","YES",IF(AB12="TC11","YES",IF(AB12="TC13","YES",IF(AB12="TC15","YES",IF(AB12="SP-R","YES",))))))) -> 0 | AE12: =IFERROR(VLOOKUP(U12,'DAS Wed'!$F$11:$P$50,11,0),"Off") -> Off | AF12: =IF(AE12="TC1","7:40",IF(AE12="TC2","2:40",IF(AE12="TC3","2:40",IF(AE12="TC4","2:40",IF(AE12="TC5","7:40",IF(AE12="TC6","7:40",IF(AE12="TC7","3:50",IF(AE12="TC8","3:50",IF(AE12="TC9","3:50",IF(AE12="TC10","3:50",IF(AE12="TC11","3:50",IF(AE12="TC12","3:50",IF(AE12="TC13","3:50",IF(AE12="TC14","3:50",IF(AE12="SP-D","0",IF(AE12="SP-H","0",)))))))))))))))) -> 0 | AG12: =IF(AE12="TC1","YES",IF(AE12="TC7","YES",IF(AE12="TC9","YES",IF(AE12="TC11","YES",IF(AE12="TC13","YES",IF(AE12="TC15","YES",IF(AE12="SP-R","YES",))))))) -> 0 | AH12: =IFERROR(VLOOKUP(U12,'DAS Thu'!$F$9:$P$45,11,0),"Off") -> Off | AI12: =IF(AH12="TC1","7:40",IF(AH12="TC2","2:40",IF(AH12="TC3","2:40",IF(AH12="TC4","2:40",IF(AH12="TC5","7:40",IF(AH12="TC6","7:40",IF(AH12="TC7","3:50",IF(AH12="TC8","3:50",IF(AH12="TC9","3:50",IF(AH12="TC10","3:50",IF(AH12="TC11","3:50",IF(AH12="TC12","3:50",IF(AH12="TC13","3:50",IF(AH12="TC14","3:50",IF(AH12="SP-D","0",IF(AH12="SP-H","0",)))))))))))))))) -> 0 | AJ12: =IF(AH12="TC1","YES",IF(AH12="TC7","YES",IF(AH12="TC9","YES",IF(AH12="TC11","YES",IF(AH12="TC13","YES",IF(AH12="TC15","YES",IF(AH12="SP-R","YES",))))))) -> 0 | AK12: =IFERROR(VLOOKUP(U12,'DAS Fri'!$F$9:$P$46,11,0),"Off") -> TC25&28 | AL12: =IF(AK12="TC1","7:40",IF(AK12="TC2","2:40",IF(AK12="TC3","2:40",IF(AK12="TC4","2:40",IF(AK12="TC5","7:40",IF(AK12="TC6","7:40",IF(AK12="TC7","3:50",IF(AK12="TC8","3:50",IF(AK12="TC9","3:50",IF(AK12="TC10","3:50",IF(AK12="TC11","3:50",IF(AK12="TC12","3:50",IF(AK12="TC13","3:50",IF(AK12="TC14","3:50",IF(AK12="SP-D","0",IF(AK12="SP-H","0",)))))))))))))))) -> 0 | AM12: =IF(AK12="TC7","YES",IF(AK12="TC9","YES",IF(AK12="TC11","YES",IF(AK12="TC13","YES",IF(AK12="TC15","YES",IF(AK12="SP-R","YES",)))))) -> 0 | AN12: =IFERROR(VLOOKUP(U12,'DAS Sat'!$F$20:$P$48,11,0),"Off") -> Off | AO12: =IF(AN12="TC1","7:40",IF(AN12="TC2","2:40",IF(AN12="TC3","2:40",IF(AN12="TC4","2:40",IF(AN12="TC5","7:40",IF(AN12="TC6","7:40",IF(AN12="TC7","3:50",IF(AN12="TC8","3:50",IF(AN12="TC9","3:50",IF(AN12="TC10","3:50",IF(AN12="TC11","3:50",IF(AN12="TC12","3:50",IF(AN12="TC13","3:50",IF(AN12="TC14","3:50",IF(AN12="SP-D","0",IF(AN12="SP-H","0",)))))))))))))))) -> 0 | AP12: =IF(AN12="TC7","YES",IF(AN12="TC9","YES",IF(AN12="TC11","YES",IF(AN12="TC13","YES",IF(AN12="TC15","YES",IF(AN12="SP-R","YES",)))))) -> 0 | AQ12: =W12+Z12+AC12+AF12+AI12+AL12+AO12 -> 0.31944444 | AR12: 0.31944444 | AS12: =COUNTIF(V12:AP12,"Yes") -> 2 | AU12: =TC!A14 -> Mubarak Yousef Al-Dossary | AV12: 0.034722222 | AW12: =IFERROR(VLOOKUP(AU12,'DAS Sun'!$F$11:$Q$60,12,0),"Off") -> 0.59236111 | AX12: =IFERROR(VLOOKUP(AU12,'DAS Sun'!$F$11:$R$60,13,0),"Off") -> 0.80486111 | AY12: =$AY$4-AX12 -> 0.19513889 | AZ12: =AW12+AV12 -> 0.62708333 | BA12: =IFERROR(VLOOKUP(AU12,'DAS Mon'!$F$9:$Q$60,12,0),"Off") -> 0.45833333 | BB12: =IFERROR(VLOOKUP(AU12,'DAS Mon'!$F$9:$R$60,13,0),"Off") -> 0.83333333 | BC12: =$AY$4-BB12 -> 0.16666667 | BD12: =BA12+AY12 -> 0.65347222 | BE12: =IFERROR(VLOOKUP(AU12,'DAS Tue'!$F$9:$Q$58,12,0),"Off") -> 0.48333333 | BF12: =IFERROR(VLOOKUP(AU12,'DAS Tue'!$F$9:$R$58,13,0),"Off") -> 0.69166667 | BG12: =$AY$4-BF12 -> 0.30833333 | BH12: =BE12+BC12 -> 0.65 | BI12: =IFERROR(VLOOKUP(AU12,'DAS Wed'!$F$11:$Q$60,12,0),"Off") -> Off | BJ12: =IFERROR(VLOOKUP(AU12,'DAS Wed'!$F$11:$R$60,13,0),"Off") -> Off | BK12: =$AY$4-BJ12 -> #VALUE! | BL12: =BI12+BG12 -> #VALUE! | BM12: =IFERROR(VLOOKUP(AU12,'DAS Thu'!$F$9:$Q$61,12,0),"Off") -> Off | BN12: =IFERROR(VLOOKUP(AU12,'DAS Thu'!$F$9:$R$61,13,0),"Off") -> Off | BO12: =$AY$4-BN12 -> #VALUE! | BP12: =BM12+BK12 -> #VALUE! | BQ12: =IFERROR(VLOOKUP(AU12,'DAS Fri'!$F$9:$Q$61,12,0),"Off") -> 0.47291667 | BR12: =IFERROR(VLOOKUP(AU12,'DAS Fri'!$F$9:$R$61,13,0),"Off") -> 0.69166667 | BS12: =$AY$4-BR12 -> 0.30833333 | BT12: =BQ12+BO12 -> #VALUE! | BU12: =IFERROR(VLOOKUP(AU12,'DAS Sat'!$F$20:$Q$61,12,0),"Off") -> Off | BV12: =IFERROR(VLOOKUP(AU12,'DAS Sat'!$F$20:$R$61,13,0),"Off") -> Off | BW12: =$AY$4-BV12 -> #VALUE! | BX12: =BU12+BS12 -> #VALUE!
B13: =TC!A15 -> Abdul Hamid Taher Al-Awad | C13: =IFERROR(VLOOKUP(B13,'DAS Sun'!$F$9:$O$50,10,0),"Off") -> Off | D13: =TC!E15 -> 0.47152778 | E13: =IFERROR(VLOOKUP(B13,'DAS Mon'!$F$9:$O$44,10,0),"Off") -> 0.2125 | F13: =TC!I15 -> 0.375 | G13: =IFERROR(VLOOKUP(B13,'DAS Tue'!$F$9:$O$44,10,0),"Off") -> 0.375 | H13: =TC!M15 -> 0 | I13: =IFERROR(VLOOKUP(B13,'DAS Wed'!$F$9:$O$50,10,0),"Off") -> 0.20833333 | J13: =TC!Q15 -> 0 | K13: =IFERROR(VLOOKUP(B13,'DAS Thu'!$F$9:$O$47,10,0),"Off") -> Off | L13: =TC!U15 -> 0.42916667 | M13: =IFERROR(VLOOKUP(B13,'DAS Fri'!$F$9:$O$46,10,0),"Off") -> 0.375 | N13: =TC!Y15 -> 0.21458333 | O13: =IFERROR(VLOOKUP(B13,'DAS Sat'!$F$9:$O$48,10,0),"Off") -> 0.375 | P13: =TC!AC15 -> 0.20833333 | Q13: =SUM(C13,E13,G13,I13,K13,M13,O13) -> 1.5458333 | R13: =P13+N13+L13+J13+H13+F13+D13 -> 1.6986111 | S13: =COUNTIF(C13:P13,"Off") -> 2 | T13: =R13-Q13 -> 0.15277778 | U13: =TC!A15 -> Abdul Hamid Taher Al-Awad | V13: =IFERROR(VLOOKUP(U13,'DAS Sun'!$F$12:$P$50,11,0),"Off") -> Off | W13: =IF(V13="TC1","7:40",IF(V13="TC2","2:40",IF(V13="TC3","2:40",IF(V13="TC4","2:40",IF(V13="TC5","7:40",IF(V13="TC6","7:40",IF(V13="TC7","3:50",IF(V13="TC8","3:50",IF(V13="TC9","3:50",IF(V13="TC10","3:50",IF(V13="TC11","3:50",IF(V13="TC12","3:50",IF(V13="TC13","3:50",IF(V13="TC14","3:50",IF(V13="SP-D","0",IF(V13="SP-H","0",)))))))))))))))) -> 0 | X13: =IF(V13="TC1","YES",IF(V13="TC7","YES",IF(V13="TC9","YES",IF(V13="TC11","YES",IF(V13="TC13","YES",IF(V13="TC15","YES",IF(V13="SP-R","YES",))))))) -> 0 | Y13: =IFERROR(VLOOKUP(U13,'DAS Mon'!$F$9:$P$44,11,0),"Off") -> TC9 | Z13: =IF(Y13="TC1","7:40",IF(Y13="TC2","2:40",IF(Y13="TC3","2:40",IF(Y13="TC4","2:40",IF(Y13="TC5","7:40",IF(Y13="TC6","7:40",IF(Y13="TC7","3:50",IF(Y13="TC8","3:50",IF(Y13="TC9","3:50",IF(Y13="TC10","3:50",IF(Y13="TC11","3:50",IF(Y13="TC12","3:50",IF(Y13="TC13","3:50",IF(Y13="TC14","3:50",IF(Y13="SP-D","0",IF(Y13="SP-H","0",)))))))))))))))) -> 3:50 | AA13: =IF(Y13="TC1","YES",IF(Y13="TC7","YES",IF(Y13="TC9","YES",IF(Y13="TC11","YES",IF(Y13="TC13","YES",IF(Y13="TC15","YES",IF(Y13="SP-R","YES",))))))) -> YES | AB13: =IFERROR(VLOOKUP(U13,'DAS Tue'!$F$9:$P$44,11,0),"Off") -> SP-R | AC13: =IF(AB13="TC1","7:40",IF(AB13="TC2","2:40",IF(AB13="TC3","2:40",IF(AB13="TC4","2:40",IF(AB13="TC5","7:40",IF(AB13="TC6","7:40",IF(AB13="TC7","3:50",IF(AB13="TC8","3:50",IF(AB13="TC9","3:50",IF(AB13="TC10","3:50",IF(AB13="TC11","3:50",IF(AB13="TC12","3:50",IF(AB13="TC13","3:50",IF(AB13="TC14","3:50",IF(AB13="SP-D","0",IF(AB13="SP-H","0",)))))))))))))))) -> 0 | AD13: =IF(AB13="TC1","YES",IF(AB13="TC7","YES",IF(AB13="TC9","YES",IF(AB13="TC11","YES",IF(AB13="TC13","YES",IF(AB13="TC15","YES",IF(AB13="SP-R","YES",))))))) -> YES | AE13: =IFERROR(VLOOKUP(U13,'DAS Wed'!$F$11:$P$50,11,0),"Off") -> TC10 | AF13: =IF(AE13="TC1","7:40",IF(AE13="TC2","2:40",IF(AE13="TC3","2:40",IF(AE13="TC4","2:40",IF(AE13="TC5","7:40",IF(AE13="TC6","7:40",IF(AE13="TC7","3:50",IF(AE13="TC8","3:50",IF(AE13="TC9","3:50",IF(AE13="TC10","3:50",IF(AE13="TC11","3:50",IF(AE13="TC12","3:50",IF(AE13="TC13","3:50",IF(AE13="TC14","3:50",IF(AE13="SP-D","0",IF(AE13="SP-H","0",)))))))))))))))) -> 3:50 | AG13: =IF(AE13="TC1","YES",IF(AE13="TC7","YES",IF(AE13="TC9","YES",IF(AE13="TC11","YES",IF(AE13="TC13","YES",IF(AE13="TC15","YES",IF(AE13="SP-R","YES",))))))) -> 0 | AH13: =IFERROR(VLOOKUP(U13,'DAS Thu'!$F$9:$P$45,11,0),"Off") -> Off | AI13: =IF(AH13="TC1","7:40",IF(AH13="TC2","2:40",IF(AH13="TC3","2:40",IF(AH13="TC4","2:40",IF(AH13="TC5","7:40",IF(AH13="TC6","7:40",IF(AH13="TC7","3:50",IF(AH13="TC8","3:50",IF(AH13="TC9","3:50",IF(AH13="TC10","3:50",IF(AH13="TC11","3:50",IF(AH13="TC12","3:50",IF(AH13="TC13","3:50",IF(AH13="TC14","3:50",IF(AH13="SP-D","0",IF(AH13="SP-H","0",)))))))))))))))) -> 0 | AJ13: =IF(AH13="TC1","YES",IF(AH13="TC7","YES",IF(AH13="TC9","YES",IF(AH13="TC11","YES",IF(AH13="TC13","YES",IF(AH13="TC15","YES",IF(AH13="SP-R","YES",))))))) -> 0 | AK13: =IFERROR(VLOOKUP(U13,'DAS Fri'!$F$9:$P$46,11,0),"Off") -> SP-H | AL13: =IF(AK13="TC1","7:40",IF(AK13="TC2","2:40",IF(AK13="TC3","2:40",IF(AK13="TC4","2:40",IF(AK13="TC5","7:40",IF(AK13="TC6","7:40",IF(AK13="TC7","3:50",IF(AK13="TC8","3:50",IF(AK13="TC9","3:50",IF(AK13="TC10","3:50",IF(AK13="TC11","3:50",IF(AK13="TC12","3:50",IF(AK13="TC13","3:50",IF(AK13="TC14","3:50",IF(AK13="SP-D","0",IF(AK13="SP-H","0",)))))))))))))))) -> 0 | AM13: =IF(AK13="TC7","YES",IF(AK13="TC9","YES",IF(AK13="TC11","YES",IF(AK13="TC13","YES",IF(AK13="TC15","YES",IF(AK13="SP-R","YES",)))))) -> 0 | AN13: =IFERROR(VLOOKUP(U13,'DAS Sat'!$F$20:$P$48,11,0),"Off") -> SP-H | AO13: =IF(AN13="TC1","7:40",IF(AN13="TC2","2:40",IF(AN13="TC3","2:40",IF(AN13="TC4","2:40",IF(AN13="TC5","7:40",IF(AN13="TC6","7:40",IF(AN13="TC7","3:50",IF(AN13="TC8","3:50",IF(AN13="TC9","3:50",IF(AN13="TC10","3:50",IF(AN13="TC11","3:50",IF(AN13="TC12","3:50",IF(AN13="TC13","3:50",IF(AN13="TC14","3:50",IF(AN13="SP-D","0",IF(AN13="SP-H","0",)))))))))))))))) -> 0 | AP13: =IF(AN13="TC7","YES",IF(AN13="TC9","YES",IF(AN13="TC11","YES",IF(AN13="TC13","YES",IF(AN13="TC15","YES",IF(AN13="SP-R","YES",)))))) -> 0 | AQ13: =W13+Z13+AC13+AF13+AI13+AL13+AO13 -> 0.31944444 | AR13: 0.63888889 | AS13: =COUNTIF(V13:AP13,"Yes") -> 2 | AU13: =TC!A15 -> Abdul Hamid Taher Al-Awad | AV13: 0.0625 | AW13: =IFERROR(VLOOKUP(AU13,'DAS Sun'!$F$11:$Q$60,12,0),"Off") -> Off | AX13: =IFERROR(VLOOKUP(AU13,'DAS Sun'!$F$11:$R$60,13,0),"Off") -> Off | AY13: =$AY$4-AX13 -> #VALUE! | AZ13: =AW13+AV13 -> #VALUE! | BA13: =IFERROR(VLOOKUP(AU13,'DAS Mon'!$F$9:$Q$60,12,0),"Off") -> 0.59236111 | BB13: =IFERROR(VLOOKUP(AU13,'DAS Mon'!$F$9:$R$60,13,0),"Off") -> 0.80486111 | BC13: =$AY$4-BB13 -> 0.19513889 | BD13: =BA13+AY13 -> #VALUE! | BE13: =IFERROR(VLOOKUP(AU13,'DAS Tue'!$F$9:$Q$58,12,0),"Off") -> 0.45833333 | BF13: =IFERROR(VLOOKUP(AU13,'DAS Tue'!$F$9:$R$58,13,0),"Off") -> 0.83333333 | BG13: =$AY$4-BF13 -> 0.16666667 | BH13: =BE13+BC13 -> 0.65347222 | BI13: =IFERROR(VLOOKUP(AU13,'DAS Wed'!$F$11:$Q$60,12,0),"Off") -> 0.48333333 | BJ13: =IFERROR(VLOOKUP(AU13,'DAS Wed'!$F$11:$R$60,13,0),"Off") -> 0.69166667 | BK13: =$AY$4-BJ13 -> 0.30833333 | BL13: =BI13+BG13 -> 0.65 | BM13: =IFERROR(VLOOKUP(AU13,'DAS Thu'!$F$9:$Q$61,12,0),"Off") -> Off | BN13: =IFERROR(VLOOKUP(AU13,'DAS Thu'!$F$9:$R$61,13,0),"Off") -> Off | BO13: =$AY$4-BN13 -> #VALUE! | BP13: =BM13+BK13 -> #VALUE! | BQ13: =IFERROR(VLOOKUP(AU13,'DAS Fri'!$F$9:$Q$61,12,0),"Off") -> 0.58333333 | BR13: =IFERROR(VLOOKUP(AU13,'DAS Fri'!$F$9:$R$61,13,0),"Off") -> 0.95833333 | BS13: =$AY$4-BR13 -> 0.041666667 | BT13: =BQ13+BO13 -> #VALUE! | BU13: =IFERROR(VLOOKUP(AU13,'DAS Sat'!$F$20:$Q$61,12,0),"Off") -> 0.58333333 | BV13: =IFERROR(VLOOKUP(AU13,'DAS Sat'!$F$20:$R$61,13,0),"Off") -> 0.95833333 | BW13: =$AY$4-BV13 -> 0.041666667 | BX13: =BU13+BS13 -> 0.625
B14: =TC!A16 -> Ahmed Abdulaziz Al-Ghwainem | C14: =IFERROR(VLOOKUP(B14,'DAS Sun'!$F$9:$O$50,10,0),"Off") -> Off | D14: =TC!E16 -> 0 | E14: =IFERROR(VLOOKUP(B14,'DAS Mon'!$F$9:$O$44,10,0),"Off") -> Off | F14: =TC!I16 -> 0 | G14: =IFERROR(VLOOKUP(B14,'DAS Tue'!$F$9:$O$44,10,0),"Off") -> 0.21527778 | H14: =TC!M16 -> 0.21527778 | I14: =IFERROR(VLOOKUP(B14,'DAS Wed'!$F$9:$O$50,10,0),"Off") -> 0.20833333 | J14: =TC!Q16 -> 0.20833333 | K14: =IFERROR(VLOOKUP(B14,'DAS Thu'!$F$9:$O$47,10,0),"Off") -> 0.2125 | L14: =TC!U16 -> 0.2125 | M14: =IFERROR(VLOOKUP(B14,'DAS Fri'!$F$9:$O$46,10,0),"Off") -> 0.375 | N14: =TC!Y16 -> 0.41666667 | O14: =IFERROR(VLOOKUP(B14,'DAS Sat'!$F$9:$O$48,10,0),"Off") -> 0.26041667 | P14: =TC!AC16 -> 0.20833333 | Q14: =SUM(C14,E14,G14,I14,K14,M14,O14) -> 1.2715278 | R14: =P14+N14+L14+J14+H14+F14+D14 -> 1.2611111 | S14: =COUNTIF(C14:P14,"Off") -> 2 | T14: =R14-Q14 -> -0.010416667 | U14: =TC!A16 -> Ahmed Abdulaziz Al-Ghwainem | V14: =IFERROR(VLOOKUP(U14,'DAS Sun'!$F$12:$P$50,11,0),"Off") -> Off | W14: =IF(V14="TC1","7:40",IF(V14="TC2","2:40",IF(V14="TC3","2:40",IF(V14="TC4","2:40",IF(V14="TC5","7:40",IF(V14="TC6","7:40",IF(V14="TC7","3:50",IF(V14="TC8","3:50",IF(V14="TC9","3:50",IF(V14="TC10","3:50",IF(V14="TC11","3:50",IF(V14="TC12","3:50",IF(V14="TC13","3:50",IF(V14="TC14","3:50",IF(V14="SP-D","0",IF(V14="SP-H","0",)))))))))))))))) -> 0 | X14: =IF(V14="TC1","YES",IF(V14="TC7","YES",IF(V14="TC9","YES",IF(V14="TC11","YES",IF(V14="TC13","YES",IF(V14="TC15","YES",IF(V14="SP-R","YES",))))))) -> 0 | Y14: =IFERROR(VLOOKUP(U14,'DAS Mon'!$F$9:$P$44,11,0),"Off") -> Off | Z14: =IF(Y14="TC1","7:40",IF(Y14="TC2","2:40",IF(Y14="TC3","2:40",IF(Y14="TC4","2:40",IF(Y14="TC5","7:40",IF(Y14="TC6","7:40",IF(Y14="TC7","3:50",IF(Y14="TC8","3:50",IF(Y14="TC9","3:50",IF(Y14="TC10","3:50",IF(Y14="TC11","3:50",IF(Y14="TC12","3:50",IF(Y14="TC13","3:50",IF(Y14="TC14","3:50",IF(Y14="SP-D","0",IF(Y14="SP-H","0",)))))))))))))))) -> 0 | AA14: =IF(Y14="TC1","YES",IF(Y14="TC7","YES",IF(Y14="TC9","YES",IF(Y14="TC11","YES",IF(Y14="TC13","YES",IF(Y14="TC15","YES",IF(Y14="SP-R","YES",))))))) -> 0 | AB14: =IFERROR(VLOOKUP(U14,'DAS Tue'!$F$9:$P$44,11,0),"Off") -> TC7 | AC14: =IF(AB14="TC1","7:40",IF(AB14="TC2","2:40",IF(AB14="TC3","2:40",IF(AB14="TC4","2:40",IF(AB14="TC5","7:40",IF(AB14="TC6","7:40",IF(AB14="TC7","3:50",IF(AB14="TC8","3:50",IF(AB14="TC9","3:50",IF(AB14="TC10","3:50",IF(AB14="TC11","3:50",IF(AB14="TC12","3:50",IF(AB14="TC13","3:50",IF(AB14="TC14","3:50",IF(AB14="SP-D","0",IF(AB14="SP-H","0",)))))))))))))))) -> 3:50 | AD14: =IF(AB14="TC1","YES",IF(AB14="TC7","YES",IF(AB14="TC9","YES",IF(AB14="TC11","YES",IF(AB14="TC13","YES",IF(AB14="TC15","YES",IF(AB14="SP-R","YES",))))))) -> YES | AE14: =IFERROR(VLOOKUP(U14,'DAS Wed'!$F$11:$P$50,11,0),"Off") -> TC6 | AF14: =IF(AE14="TC1","7:40",IF(AE14="TC2","2:40",IF(AE14="TC3","2:40",IF(AE14="TC4","2:40",IF(AE14="TC5","7:40",IF(AE14="TC6","7:40",IF(AE14="TC7","3:50",IF(AE14="TC8","3:50",IF(AE14="TC9","3:50",IF(AE14="TC10","3:50",IF(AE14="TC11","3:50",IF(AE14="TC12","3:50",IF(AE14="TC13","3:50",IF(AE14="TC14","3:50",IF(AE14="SP-D","0",IF(AE14="SP-H","0",)))))))))))))))) -> 7:40 | AG14: =IF(AE14="TC1","YES",IF(AE14="TC7","YES",IF(AE14="TC9","YES",IF(AE14="TC11","YES",IF(AE14="TC13","YES",IF(AE14="TC15","YES",IF(AE14="SP-R","YES",))))))) -> 0 | AH14: =IFERROR(VLOOKUP(U14,'DAS Thu'!$F$9:$P$45,11,0),"Off") -> TC1 | AI14: =IF(AH14="TC1","7:40",IF(AH14="TC2","2:40",IF(AH14="TC3","2:40",IF(AH14="TC4","2:40",IF(AH14="TC5","7:40",IF(AH14="TC6","7:40",IF(AH14="TC7","3:50",IF(AH14="TC8","3:50",IF(AH14="TC9","3:50",IF(AH14="TC10","3:50",IF(AH14="TC11","3:50",IF(AH14="TC12","3:50",IF(AH14="TC13","3:50",IF(AH14="TC14","3:50",IF(AH14="SP-D","0",IF(AH14="SP-H","0",)))))))))))))))) -> 7:40 | AJ14: =IF(AH14="TC1","YES",IF(AH14="TC7","YES",IF(AH14="TC9","YES",IF(AH14="TC11","YES",IF(AH14="TC13","YES",IF(AH14="TC15","YES",IF(AH14="SP-R","YES",))))))) -> YES | AK14: =IFERROR(VLOOKUP(U14,'DAS Fri'!$F$9:$P$46,11,0),"Off") -> SP-H | AL14: =IF(AK14="TC1","7:40",IF(AK14="TC2","2:40",IF(AK14="TC3","2:40",IF(AK14="TC4","2:40",IF(AK14="TC5","7:40",IF(AK14="TC6","7:40",IF(AK14="TC7","3:50",IF(AK14="TC8","3:50",IF(AK14="TC9","3:50",IF(AK14="TC10","3:50",IF(AK14="TC11","3:50",IF(AK14="TC12","3:50",IF(AK14="TC13","3:50",IF(AK14="TC14","3:50",IF(AK14="SP-D","0",IF(AK14="SP-H","0",)))))))))))))))) -> 0 | AM14: =IF(AK14="TC7","YES",IF(AK14="TC9","YES",IF(AK14="TC11","YES",IF(AK14="TC13","YES",IF(AK14="TC15","YES",IF(AK14="SP-R","YES",)))))) -> 0 | AN14: =IFERROR(VLOOKUP(U14,'DAS Sat'!$F$20:$P$48,11,0),"Off") -> SP-H | AO14: =IF(AN14="TC1","7:40",IF(AN14="TC2","2:40",IF(AN14="TC3","2:40",IF(AN14="TC4","2:40",IF(AN14="TC5","7:40",IF(AN14="TC6","7:40",IF(AN14="TC7","3:50",IF(AN14="TC8","3:50",IF(AN14="TC9","3:50",IF(AN14="TC10","3:50",IF(AN14="TC11","3:50",IF(AN14="TC12","3:50",IF(AN14="TC13","3:50",IF(AN14="TC14","3:50",IF(AN14="SP-D","0",IF(AN14="SP-H","0",)))))))))))))))) -> 0 | AP14: =IF(AN14="TC7","YES",IF(AN14="TC9","YES",IF(AN14="TC11","YES",IF(AN14="TC13","YES",IF(AN14="TC15","YES",IF(AN14="SP-R","YES",)))))) -> 0 | AQ14: =W14+Z14+AC14+AF14+AI14+AL14+AO14 -> 0.79861111 | AR14: 0.31944444 | AS14: =COUNTIF(V14:AP14,"Yes") -> 2 | AU14: =TC!A16 -> Ahmed Abdulaziz Al-Ghwainem | AV14: 0.30833333 | AW14: =IFERROR(VLOOKUP(AU14,'DAS Sun'!$F$11:$Q$60,12,0),"Off") -> Off | AX14: =IFERROR(VLOOKUP(AU14,'DAS Sun'!$F$11:$R$60,13,0),"Off") -> Off | AY14: =$AY$4-AX14 -> #VALUE! | AZ14: =AW14+AV14 -> #VALUE! | BA14: =IFERROR(VLOOKUP(AU14,'DAS Mon'!$F$9:$Q$60,12,0),"Off") -> Off | BB14: =IFERROR(VLOOKUP(AU14,'DAS Mon'!$F$9:$R$60,13,0),"Off") -> Off | BC14: =$AY$4-BB14 -> #VALUE! | BD14: =BA14+AY14 -> #VALUE! | BE14: =IFERROR(VLOOKUP(AU14,'DAS Tue'!$F$9:$Q$58,12,0),"Off") -> 0.46736111 | BF14: =IFERROR(VLOOKUP(AU14,'DAS Tue'!$F$9:$R$58,13,0),"Off") -> 0.68263889 | BG14: =$AY$4-BF14 -> 0.31736111 | BH14: =BE14+BC14 -> #VALUE! | BI14: =IFERROR(VLOOKUP(AU14,'DAS Wed'!$F$11:$Q$60,12,0),"Off") -> 0.27291667 | BJ14: =IFERROR(VLOOKUP(AU14,'DAS Wed'!$F$11:$R$60,13,0),"Off") -> 0.48125 | BK14: =$AY$4-BJ14 -> 0.51875 | BL14: =BI14+BG14 -> 0.59027778 | BM14: =IFERROR(VLOOKUP(AU14,'DAS Thu'!$F$9:$Q$61,12,0),"Off") -> 0.14444444 | BN14: =IFERROR(VLOOKUP(AU14,'DAS Thu'!$F$9:$R$61,13,0),"Off") -> 0.35694444 | BO14: =$AY$4-BN14 -> 0.64305556 | BP14: =BM14+BK14 -> 0.66319444 | BQ14: =IFERROR(VLOOKUP(AU14,'DAS Fri'!$F$9:$Q$61,12,0),"Off") -> 0.20833333 | BR14: =IFERROR(VLOOKUP(AU14,'DAS Fri'!$F$9:$R$61,13,0),"Off") -> 0.58333333 | BS14: =$AY$4-BR14 -> 0.41666667 | BT14: =BQ14+BO14 -> 0.85138889 | BU14: =IFERROR(VLOOKUP(AU14,'DAS Sat'!$F$20:$Q$61,12,0),"Off") -> 0.20833333 | BV14: =IFERROR(VLOOKUP(AU14,'DAS Sat'!$F$20:$R$61,13,0),"Off") -> 0.58333333 | BW14: =$AY$4-BV14 -> 0.41666667 | BX14: =BU14+BS14 -> 0.625
B15: =TC!A17 -> Humim Abdul Rahman Al-Dossary | C15: =IFERROR(VLOOKUP(B15,'DAS Sun'!$F$9:$O$50,10,0),"Off") -> 0.22430556 | D15: =TC!E17 -> 0.41666667 | E15: =IFERROR(VLOOKUP(B15,'DAS Mon'!$F$9:$O$44,10,0),"Off") -> 0.20972222 | F15: =TC!I17 -> 0.41666667 | G15: =IFERROR(VLOOKUP(B15,'DAS Tue'!$F$9:$O$44,10,0),"Off") -> 0.49791667 | H15: =TC!M17 -> 0.41666667 | I15: =IFERROR(VLOOKUP(B15,'DAS Wed'!$F$9:$O$50,10,0),"Off") -> 0.375 | J15: =TC!Q17 -> 0.41666667 | K15: =IFERROR(VLOOKUP(B15,'DAS Thu'!$F$9:$O$47,10,0),"Off") -> 0.375 | L15: =TC!U17 -> 0.47152778 | M15: =IFERROR(VLOOKUP(B15,'DAS Fri'!$F$9:$O$46,10,0),"Off") -> Off | N15: =TC!Y17 -> 0 | O15: =IFERROR(VLOOKUP(B15,'DAS Sat'!$F$9:$O$48,10,0),"Off") -> Off | P15: =TC!AC17 -> 0 | Q15: =SUM(C15,E15,G15,I15,K15,M15,O15) -> 1.6819444 | R15: =P15+N15+L15+J15+H15+F15+D15 -> 2.1381944 | S15: =COUNTIF(C15:P15,"Off") -> 2 | T15: =R15-Q15 -> 0.45625 | U15: =TC!A17 -> Humim Abdul Rahman Al-Dossary | V15: =IFERROR(VLOOKUP(U15,'DAS Sun'!$F$12:$P$50,11,0),"Off") -> TC13 | W15: =IF(V15="TC1","7:40",IF(V15="TC2","2:40",IF(V15="TC3","2:40",IF(V15="TC4","2:40",IF(V15="TC5","7:40",IF(V15="TC6","7:40",IF(V15="TC7","3:50",IF(V15="TC8","3:50",IF(V15="TC9","3:50",IF(V15="TC10","3:50",IF(V15="TC11","3:50",IF(V15="TC12","3:50",IF(V15="TC13","3:50",IF(V15="TC14","3:50",IF(V15="SP-D","0",IF(V15="SP-H","0",)))))))))))))))) -> 3:50 | X15: =IF(V15="TC1","YES",IF(V15="TC7","YES",IF(V15="TC9","YES",IF(V15="TC11","YES",IF(V15="TC13","YES",IF(V15="TC15","YES",IF(V15="SP-R","YES",))))))) -> YES | Y15: =IFERROR(VLOOKUP(U15,'DAS Mon'!$F$9:$P$44,11,0),"Off") -> TC14 | Z15: =IF(Y15="TC1","7:40",IF(Y15="TC2","2:40",IF(Y15="TC3","2:40",IF(Y15="TC4","2:40",IF(Y15="TC5","7:40",IF(Y15="TC6","7:40",IF(Y15="TC7","3:50",IF(Y15="TC8","3:50",IF(Y15="TC9","3:50",IF(Y15="TC10","3:50",IF(Y15="TC11","3:50",IF(Y15="TC12","3:50",IF(Y15="TC13","3:50",IF(Y15="TC14","3:50",IF(Y15="SP-D","0",IF(Y15="SP-H","0",)))))))))))))))) -> 3:50 | AA15: =IF(Y15="TC1","YES",IF(Y15="TC7","YES",IF(Y15="TC9","YES",IF(Y15="TC11","YES",IF(Y15="TC13","YES",IF(Y15="TC15","YES",IF(Y15="SP-R","YES",))))))) -> 0 | AB15: =IFERROR(VLOOKUP(U15,'DAS Tue'!$F$9:$P$44,11,0),"Off") -> TC7&16 | AC15: =IF(AB15="TC1","7:40",IF(AB15="TC2","2:40",IF(AB15="TC3","2:40",IF(AB15="TC4","2:40",IF(AB15="TC5","7:40",IF(AB15="TC6","7:40",IF(AB15="TC7","3:50",IF(AB15="TC8","3:50",IF(AB15="TC9","3:50",IF(AB15="TC10","3:50",IF(AB15="TC11","3:50",IF(AB15="TC12","3:50",IF(AB15="TC13","3:50",IF(AB15="TC14","3:50",IF(AB15="SP-D","0",IF(AB15="SP-H","0",)))))))))))))))) -> 0 | AD15: =IF(AB15="TC1","YES",IF(AB15="TC7","YES",IF(AB15="TC9","YES",IF(AB15="TC11","YES",IF(AB15="TC13","YES",IF(AB15="TC15","YES",IF(AB15="SP-R","YES",))))))) -> 0 | AE15: =IFERROR(VLOOKUP(U15,'DAS Wed'!$F$11:$P$50,11,0),"Off") -> SP-D | AF15: =IF(AE15="TC1","7:40",IF(AE15="TC2","2:40",IF(AE15="TC3","2:40",IF(AE15="TC4","2:40",IF(AE15="TC5","7:40",IF(AE15="TC6","7:40",IF(AE15="TC7","3:50",IF(AE15="TC8","3:50",IF(AE15="TC9","3:50",IF(AE15="TC10","3:50",IF(AE15="TC11","3:50",IF(AE15="TC12","3:50",IF(AE15="TC13","3:50",IF(AE15="TC14","3:50",IF(AE15="SP-D","0",IF(AE15="SP-H","0",)))))))))))))))) -> 0 | AG15: =IF(AE15="TC1","YES",IF(AE15="TC7","YES",IF(AE15="TC9","YES",IF(AE15="TC11","YES",IF(AE15="TC13","YES",IF(AE15="TC15","YES",IF(AE15="SP-R","YES",))))))) -> 0 | AH15: =IFERROR(VLOOKUP(U15,'DAS Thu'!$F$9:$P$45,11,0),"Off") -> SP-D | AI15: =IF(AH15="TC1","7:40",IF(AH15="TC2","2:40",IF(AH15="TC3","2:40",IF(AH15="TC4","2:40",IF(AH15="TC5","7:40",IF(AH15="TC6","7:40",IF(AH15="TC7","3:50",IF(AH15="TC8","3:50",IF(AH15="TC9","3:50",IF(AH15="TC10","3:50",IF(AH15="TC11","3:50",IF(AH15="TC12","3:50",IF(AH15="TC13","3:50",IF(AH15="TC14","3:50",IF(AH15="SP-D","0",IF(AH15="SP-H","0",)))))))))))))))) -> 0 | AJ15: =IF(AH15="TC1","YES",IF(AH15="TC7","YES",IF(AH15="TC9","YES",IF(AH15="TC11","YES",IF(AH15="TC13","YES",IF(AH15="TC15","YES",IF(AH15="SP-R","YES",))))))) -> 0 | AK15: =IFERROR(VLOOKUP(U15,'DAS Fri'!$F$9:$P$46,11,0),"Off") -> Off | AL15: =IF(AK15="TC1","7:40",IF(AK15="TC2","2:40",IF(AK15="TC3","2:40",IF(AK15="TC4","2:40",IF(AK15="TC5","7:40",IF(AK15="TC6","7:40",IF(AK15="TC7","3:50",IF(AK15="TC8","3:50",IF(AK15="TC9","3:50",IF(AK15="TC10","3:50",IF(AK15="TC11","3:50",IF(AK15="TC12","3:50",IF(AK15="TC13","3:50",IF(AK15="TC14","3:50",IF(AK15="SP-D","0",IF(AK15="SP-H","0",)))))))))))))))) -> 0 | AM15: =IF(AK15="TC7","YES",IF(AK15="TC9","YES",IF(AK15="TC11","YES",IF(AK15="TC13","YES",IF(AK15="TC15","YES",IF(AK15="SP-R","YES",)))))) -> 0 | AN15: =IFERROR(VLOOKUP(U15,'DAS Sat'!$F$20:$P$48,11,0),"Off") -> Off | AO15: =IF(AN15="TC1","7:40",IF(AN15="TC2","2:40",IF(AN15="TC3","2:40",IF(AN15="TC4","2:40",IF(AN15="TC5","7:40",IF(AN15="TC6","7:40",IF(AN15="TC7","3:50",IF(AN15="TC8","3:50",IF(AN15="TC9","3:50",IF(AN15="TC10","3:50",IF(AN15="TC11","3:50",IF(AN15="TC12","3:50",IF(AN15="TC13","3:50",IF(AN15="TC14","3:50",IF(AN15="SP-D","0",IF(AN15="SP-H","0",)))))))))))))))) -> 0 | AP15: =IF(AN15="TC7","YES",IF(AN15="TC9","YES",IF(AN15="TC11","YES",IF(AN15="TC13","YES",IF(AN15="TC15","YES",IF(AN15="SP-R","YES",)))))) -> 0 | AQ15: =W15+Z15+AC15+AF15+AI15+AL15+AO15 -> 0.31944444 | AR15: 0.31944444 | AS15: =COUNTIF(V15:AP15,"Yes") -> 1 | AU15: =TC!A17 -> Humim Abdul Rahman Al-Dossary | AV15: #VALUE! | AW15: =IFERROR(VLOOKUP(AU15,'DAS Sun'!$F$11:$Q$60,12,0),"Off") -> 0.62291667 | AX15: =IFERROR(VLOOKUP(AU15,'DAS Sun'!$F$11:$R$60,13,0),"Off") -> 0.84722222 | AY15: =$AY$4-AX15 -> 0.15277778 | AZ15: =AW15+AV15 -> #VALUE! | BA15: =IFERROR(VLOOKUP(AU15,'DAS Mon'!$F$9:$Q$60,12,0),"Off") -> 0.67083333 | BB15: =IFERROR(VLOOKUP(AU15,'DAS Mon'!$F$9:$R$60,13,0),"Off") -> 0.88055556 | BC15: =$AY$4-BB15 -> 0.11944444 | BD15: =BA15+AY15 -> 0.82361111 | BE15: =IFERROR(VLOOKUP(AU15,'DAS Tue'!$F$9:$Q$58,12,0),"Off") -> 0.46736111 | BF15: =IFERROR(VLOOKUP(AU15,'DAS Tue'!$F$9:$R$58,13,0),"Off") -> 0.96527778 | BG15: =$AY$4-BF15 -> 0.034722222 | BH15: =BE15+BC15 -> 0.58680556 | BI15: =IFERROR(VLOOKUP(AU15,'DAS Wed'!$F$11:$Q$60,12,0),"Off") -> 0.5625 | BJ15: =IFERROR(VLOOKUP(AU15,'DAS Wed'!$F$11:$R$60,13,0),"Off") -> 0.9375 | BK15: =$AY$4-BJ15 -> 0.0625 | BL15: =BI15+BG15 -> 0.59722222 | BM15: =IFERROR(VLOOKUP(AU15,'DAS Thu'!$F$9:$Q$61,12,0),"Off") -> 0.5625 | BN15: =IFERROR(VLOOKUP(AU15,'DAS Thu'!$F$9:$R$61,13,0),"Off") -> 0.9375 | BO15: =$AY$4-BN15 -> 0.0625 | BP15: =BM15+BK15 -> 0.625 | BQ15: =IFERROR(VLOOKUP(AU15,'DAS Fri'!$F$9:$Q$61,12,0),"Off") -> Off | BR15: =IFERROR(VLOOKUP(AU15,'DAS Fri'!$F$9:$R$61,13,0),"Off") -> Off | BS15: =$AY$4-BR15 -> #VALUE! | BT15: =BQ15+BO15 -> #VALUE! | BU15: =IFERROR(VLOOKUP(AU15,'DAS Sat'!$F$20:$Q$61,12,0),"Off") -> Off | BV15: =IFERROR(VLOOKUP(AU15,'DAS Sat'!$F$20:$R$61,13,0),"Off") -> Off | BW15: =$AY$4-BV15 -> #VALUE! | BX15: =BU15+BS15 -> #VALUE!
B16: =TC!A18 -> Saad Saeed Al-Omari | C16: =IFERROR(VLOOKUP(B16,'DAS Sun'!$F$9:$O$50,10,0),"Off") -> Off | D16: =TC!E18 -> 0 | E16: =IFERROR(VLOOKUP(B16,'DAS Mon'!$F$9:$O$44,10,0),"Off") -> 0.21527778 | F16: =TC!I18 -> 0.41666667 | G16: =IFERROR(VLOOKUP(B16,'DAS Tue'!$F$9:$O$44,10,0),"Off") -> 0.20833333 | H16: =TC!M18 -> 0.41666667 | I16: =IFERROR(VLOOKUP(B16,'DAS Wed'!$F$9:$O$50,10,0),"Off") -> 0.2125 | J16: =TC!Q18 -> 0.41666667 | K16: =IFERROR(VLOOKUP(B16,'DAS Thu'!$F$9:$O$47,10,0),"Off") -> 0.41666667 | L16: =TC!U18 -> 0.2125 | M16: =IFERROR(VLOOKUP(B16,'DAS Fri'!$F$9:$O$46,10,0),"Off") -> 0.25833333 | N16: =TC!Y18 -> 0.375 | O16: =IFERROR(VLOOKUP(B16,'DAS Sat'!$F$9:$O$48,10,0),"Off") -> 0.375 | P16: =TC!AC18 -> 0.20833333 | Q16: =SUM(C16,E16,G16,I16,K16,M16,O16) -> 1.6861111 | R16: =P16+N16+L16+J16+H16+F16+D16 -> 2.0458333 | S16: =COUNTIF(C16:P16,"Off") -> 1 | T16: =R16-Q16 -> 0.35972222 | U16: =TC!A18 -> Saad Saeed Al-Omari | V16: =IFERROR(VLOOKUP(U16,'DAS Sun'!$F$12:$P$50,11,0),"Off") -> Off | W16: =IF(V16="TC1","7:40",IF(V16="TC2","2:40",IF(V16="TC3","2:40",IF(V16="TC4","2:40",IF(V16="TC5","7:40",IF(V16="TC6","7:40",IF(V16="TC7","3:50",IF(V16="TC8","3:50",IF(V16="TC9","3:50",IF(V16="TC10","3:50",IF(V16="TC11","3:50",IF(V16="TC12","3:50",IF(V16="TC13","3:50",IF(V16="TC14","3:50",IF(V16="SP-D","0",IF(V16="SP-H","0",)))))))))))))))) -> 0 | X16: =IF(V16="TC1","YES",IF(V16="TC7","YES",IF(V16="TC9","YES",IF(V16="TC11","YES",IF(V16="TC13","YES",IF(V16="TC15","YES",IF(V16="SP-R","YES",))))))) -> 0 | Y16: =IFERROR(VLOOKUP(U16,'DAS Mon'!$F$9:$P$44,11,0),"Off") -> TC7 | Z16: =IF(Y16="TC1","7:40",IF(Y16="TC2","2:40",IF(Y16="TC3","2:40",IF(Y16="TC4","2:40",IF(Y16="TC5","7:40",IF(Y16="TC6","7:40",IF(Y16="TC7","3:50",IF(Y16="TC8","3:50",IF(Y16="TC9","3:50",IF(Y16="TC10","3:50",IF(Y16="TC11","3:50",IF(Y16="TC12","3:50",IF(Y16="TC13","3:50",IF(Y16="TC14","3:50",IF(Y16="SP-D","0",IF(Y16="SP-H","0",)))))))))))))))) -> 3:50 | AA16: =IF(Y16="TC1","YES",IF(Y16="TC7","YES",IF(Y16="TC9","YES",IF(Y16="TC11","YES",IF(Y16="TC13","YES",IF(Y16="TC15","YES",IF(Y16="SP-R","YES",))))))) -> YES | AB16: =IFERROR(VLOOKUP(U16,'DAS Tue'!$F$9:$P$44,11,0),"Off") -> TC6 | AC16: =IF(AB16="TC1","7:40",IF(AB16="TC2","2:40",IF(AB16="TC3","2:40",IF(AB16="TC4","2:40",IF(AB16="TC5","7:40",IF(AB16="TC6","7:40",IF(AB16="TC7","3:50",IF(AB16="TC8","3:50",IF(AB16="TC9","3:50",IF(AB16="TC10","3:50",IF(AB16="TC11","3:50",IF(AB16="TC12","3:50",IF(AB16="TC13","3:50",IF(AB16="TC14","3:50",IF(AB16="SP-D","0",IF(AB16="SP-H","0",)))))))))))))))) -> 7:40 | AD16: =IF(AB16="TC1","YES",IF(AB16="TC7","YES",IF(AB16="TC9","YES",IF(AB16="TC11","YES",IF(AB16="TC13","YES",IF(AB16="TC15","YES",IF(AB16="SP-R","YES",))))))) -> 0 | AE16: =IFERROR(VLOOKUP(U16,'DAS Wed'!$F$11:$P$50,11,0),"Off") -> TC1 | AF16: =IF(AE16="TC1","7:40",IF(AE16="TC2","2:40",IF(AE16="TC3","2:40",IF(AE16="TC4","2:40",IF(AE16="TC5","7:40",IF(AE16="TC6","7:40",IF(AE16="TC7","3:50",IF(AE16="TC8","3:50",IF(AE16="TC9","3:50",IF(AE16="TC10","3:50",IF(AE16="TC11","3:50",IF(AE16="TC12","3:50",IF(AE16="TC13","3:50",IF(AE16="TC14","3:50",IF(AE16="SP-D","0",IF(AE16="SP-H","0",)))))))))))))))) -> 7:40 | AG16: =IF(AE16="TC1","YES",IF(AE16="TC7","YES",IF(AE16="TC9","YES",IF(AE16="TC11","YES",IF(AE16="TC13","YES",IF(AE16="TC15","YES",IF(AE16="SP-R","YES",))))))) -> YES | AH16: =IFERROR(VLOOKUP(U16,'DAS Thu'!$F$9:$P$45,11,0),"Off") -> SP-R | AI16: =IF(AH16="TC1","7:40",IF(AH16="TC2","2:40",IF(AH16="TC3","2:40",IF(AH16="TC4","2:40",IF(AH16="TC5","7:40",IF(AH16="TC6","7:40",IF(AH16="TC7","3:50",IF(AH16="TC8","3:50",IF(AH16="TC9","3:50",IF(AH16="TC10","3:50",IF(AH16="TC11","3:50",IF(AH16="TC12","3:50",IF(AH16="TC13","3:50",IF(AH16="TC14","3:50",IF(AH16="SP-D","0",IF(AH16="SP-H","0",)))))))))))))))) -> 0 | AJ16: =IF(AH16="TC1","YES",IF(AH16="TC7","YES",IF(AH16="TC9","YES",IF(AH16="TC11","YES",IF(AH16="TC13","YES",IF(AH16="TC15","YES",IF(AH16="SP-R","YES",))))))) -> YES | AK16: =IFERROR(VLOOKUP(U16,'DAS Fri'!$F$9:$P$46,11,0),"Off") -> TC29&32 | AL16: =IF(AK16="TC1","7:40",IF(AK16="TC2","2:40",IF(AK16="TC3","2:40",IF(AK16="TC4","2:40",IF(AK16="TC5","7:40",IF(AK16="TC6","7:40",IF(AK16="TC7","3:50",IF(AK16="TC8","3:50",IF(AK16="TC9","3:50",IF(AK16="TC10","3:50",IF(AK16="TC11","3:50",IF(AK16="TC12","3:50",IF(AK16="TC13","3:50",IF(AK16="TC14","3:50",IF(AK16="SP-D","0",IF(AK16="SP-H","0",)))))))))))))))) -> 0 | AM16: =IF(AK16="TC7","YES",IF(AK16="TC9","YES",IF(AK16="TC11","YES",IF(AK16="TC13","YES",IF(AK16="TC15","YES",IF(AK16="SP-R","YES",)))))) -> 0 | AN16: =IFERROR(VLOOKUP(U16,'DAS Sat'!$F$20:$P$48,11,0),"Off") -> SP-D | AO16: =IF(AN16="TC1","7:40",IF(AN16="TC2","2:40",IF(AN16="TC3","2:40",IF(AN16="TC4","2:40",IF(AN16="TC5","7:40",IF(AN16="TC6","7:40",IF(AN16="TC7","3:50",IF(AN16="TC8","3:50",IF(AN16="TC9","3:50",IF(AN16="TC10","3:50",IF(AN16="TC11","3:50",IF(AN16="TC12","3:50",IF(AN16="TC13","3:50",IF(AN16="TC14","3:50",IF(AN16="SP-D","0",IF(AN16="SP-H","0",)))))))))))))))) -> 0 | AP16: =IF(AN16="TC7","YES",IF(AN16="TC9","YES",IF(AN16="TC11","YES",IF(AN16="TC13","YES",IF(AN16="TC15","YES",IF(AN16="SP-R","YES",)))))) -> 0 | AQ16: =W16+Z16+AC16+AF16+AI16+AL16+AO16 -> 0.79861111 | AR16: 0 | AS16: =COUNTIF(V16:AP16,"Yes") -> 3 | AU16: =TC!A18 -> Saad Saeed Al-Omari | AV16: #VALUE! | AW16: =IFERROR(VLOOKUP(AU16,'DAS Sun'!$F$11:$Q$60,12,0),"Off") -> Off | AX16: =IFERROR(VLOOKUP(AU16,'DAS Sun'!$F$11:$R$60,13,0),"Off") -> Off | AY16: =$AY$4-AX16 -> #VALUE! | AZ16: =AW16+AV16 -> #VALUE! | BA16: =IFERROR(VLOOKUP(AU16,'DAS Mon'!$F$9:$Q$60,12,0),"Off") -> 0.46736111 | BB16: =IFERROR(VLOOKUP(AU16,'DAS Mon'!$F$9:$R$60,13,0),"Off") -> 0.68263889 | BC16: =$AY$4-BB16 -> 0.31736111 | BD16: =BA16+AY16 -> #VALUE! | BE16: =IFERROR(VLOOKUP(AU16,'DAS Tue'!$F$9:$Q$58,12,0),"Off") -> 0.27291667 | BF16: =IFERROR(VLOOKUP(AU16,'DAS Tue'!$F$9:$R$58,13,0),"Off") -> 0.48125 | BG16: =$AY$4-BF16 -> 0.51875 | BH16: =BE16+BC16 -> 0.59027778 | BI16: =IFERROR(VLOOKUP(AU16,'DAS Wed'!$F$11:$Q$60,12,0),"Off") -> 0.14444444 | BJ16: =IFERROR(VLOOKUP(AU16,'DAS Wed'!$F$11:$R$60,13,0),"Off") -> 0.35694444 | BK16: =$AY$4-BJ16 -> 0.64305556 | BL16: =BI16+BG16 -> 0.66319444 | BM16: =IFERROR(VLOOKUP(AU16,'DAS Thu'!$F$9:$Q$61,12,0),"Off") -> 0.16666667 | BN16: =IFERROR(VLOOKUP(AU16,'DAS Thu'!$F$9:$R$61,13,0),"Off") -> 0.58333333 | BO16: =$AY$4-BN16 -> 0.41666667 | BP16: =BM16+BK16 -> 0.80972222 | BQ16: =IFERROR(VLOOKUP(AU16,'DAS Fri'!$F$9:$Q$61,12,0),"Off") -> 0.62291667 | BR16: =IFERROR(VLOOKUP(AU16,'DAS Fri'!$F$9:$R$61,13,0),"Off") -> 0.88125 | BS16: =$AY$4-BR16 -> 0.11875 | BT16: =BQ16+BO16 -> 1.0395833 | BU16: =IFERROR(VLOOKUP(AU16,'DAS Sat'!$F$20:$Q$61,12,0),"Off") -> 0.5625 | BV16: =IFERROR(VLOOKUP(AU16,'DAS Sat'!$F$20:$R$61,13,0),"Off") -> 0.9375 | BW16: =$AY$4-BV16 -> 0.0625 | BX16: =BU16+BS16 -> 0.68125
B17: =TC!A19 -> Ali Issa Muhammad Al Owais | C17: =IFERROR(VLOOKUP(B17,'DAS Sun'!$F$9:$O$50,10,0),"Off") -> 0.375 | D17: =TC!E19 -> 0.22430556 | E17: =IFERROR(VLOOKUP(B17,'DAS Mon'!$F$9:$O$44,10,0),"Off") -> 0.20833333 | F17: =TC!I19 -> 0.20972222 | G17: =IFERROR(VLOOKUP(B17,'DAS Tue'!$F$9:$O$44,10,0),"Off") -> Off | H17: =TC!M19 -> 0 | I17: =IFERROR(VLOOKUP(B17,'DAS Wed'!$F$9:$O$50,10,0),"Off") -> Off | J17: =TC!Q19 -> 0 | K17: =IFERROR(VLOOKUP(B17,'DAS Thu'!$F$9:$O$47,10,0),"Off") -> Off | L17: =TC!U19 -> 0.41666667 | M17: =IFERROR(VLOOKUP(B17,'DAS Fri'!$F$9:$O$46,10,0),"Off") -> Off | N17: =TC!Y19 -> 0.49791667 | O17: =IFERROR(VLOOKUP(B17,'DAS Sat'!$F$9:$O$48,10,0),"Off") -> Off | P17: =TC!AC19 -> 0.2125 | Q17: =SUM(C17,E17,G17,I17,K17,M17,O17) -> 0.58333333 | R17: =P17+N17+L17+J17+H17+F17+D17 -> 1.5611111 | S17: =COUNTIF(C17:P17,"Off") -> 5 | T17: =R17-Q17 -> 0.97777778 | U17: =TC!A19 -> Ali Issa Muhammad Al Owais | V17: =IFERROR(VLOOKUP(U17,'DAS Sun'!$F$12:$P$50,11,0),"Off") -> SP-R | W17: =IF(V17="TC1","7:40",IF(V17="TC2","2:40",IF(V17="TC3","2:40",IF(V17="TC4","2:40",IF(V17="TC5","7:40",IF(V17="TC6","7:40",IF(V17="TC7","3:50",IF(V17="TC8","3:50",IF(V17="TC9","3:50",IF(V17="TC10","3:50",IF(V17="TC11","3:50",IF(V17="TC12","3:50",IF(V17="TC13","3:50",IF(V17="TC14","3:50",IF(V17="SP-D","0",IF(V17="SP-H","0",)))))))))))))))) -> 0 | X17: =IF(V17="TC1","YES",IF(V17="TC7","YES",IF(V17="TC9","YES",IF(V17="TC11","YES",IF(V17="TC13","YES",IF(V17="TC15","YES",IF(V17="SP-R","YES",))))))) -> YES | Y17: =IFERROR(VLOOKUP(U17,'DAS Mon'!$F$9:$P$44,11,0),"Off") -> TC10 | Z17: =IF(Y17="TC1","7:40",IF(Y17="TC2","2:40",IF(Y17="TC3","2:40",IF(Y17="TC4","2:40",IF(Y17="TC5","7:40",IF(Y17="TC6","7:40",IF(Y17="TC7","3:50",IF(Y17="TC8","3:50",IF(Y17="TC9","3:50",IF(Y17="TC10","3:50",IF(Y17="TC11","3:50",IF(Y17="TC12","3:50",IF(Y17="TC13","3:50",IF(Y17="TC14","3:50",IF(Y17="SP-D","0",IF(Y17="SP-H","0",)))))))))))))))) -> 3:50 | AA17: =IF(Y17="TC1","YES",IF(Y17="TC7","YES",IF(Y17="TC9","YES",IF(Y17="TC11","YES",IF(Y17="TC13","YES",IF(Y17="TC15","YES",IF(Y17="SP-R","YES",))))))) -> 0 | AB17: =IFERROR(VLOOKUP(U17,'DAS Tue'!$F$9:$P$44,11,0),"Off") -> Off | AC17: =IF(AB17="TC1","7:40",IF(AB17="TC2","2:40",IF(AB17="TC3","2:40",IF(AB17="TC4","2:40",IF(AB17="TC5","7:40",IF(AB17="TC6","7:40",IF(AB17="TC7","3:50",IF(AB17="TC8","3:50",IF(AB17="TC9","3:50",IF(AB17="TC10","3:50",IF(AB17="TC11","3:50",IF(AB17="TC12","3:50",IF(AB17="TC13","3:50",IF(AB17="TC14","3:50",IF(AB17="SP-D","0",IF(AB17="SP-H","0",)))))))))))))))) -> 0 | AD17: =IF(AB17="TC1","YES",IF(AB17="TC7","YES",IF(AB17="TC9","YES",IF(AB17="TC11","YES",IF(AB17="TC13","YES",IF(AB17="TC15","YES",IF(AB17="SP-R","YES",))))))) -> 0 | AE17: =IFERROR(VLOOKUP(U17,'DAS Wed'!$F$11:$P$50,11,0),"Off") -> Off | AF17: =IF(AE17="TC1","7:40",IF(AE17="TC2","2:40",IF(AE17="TC3","2:40",IF(AE17="TC4","2:40",IF(AE17="TC5","7:40",IF(AE17="TC6","7:40",IF(AE17="TC7","3:50",IF(AE17="TC8","3:50",IF(AE17="TC9","3:50",IF(AE17="TC10","3:50",IF(AE17="TC11","3:50",IF(AE17="TC12","3:50",IF(AE17="TC13","3:50",IF(AE17="TC14","3:50",IF(AE17="SP-D","0",IF(AE17="SP-H","0",)))))))))))))))) -> 0 | AG17: =IF(AE17="TC1","YES",IF(AE17="TC7","YES",IF(AE17="TC9","YES",IF(AE17="TC11","YES",IF(AE17="TC13","YES",IF(AE17="TC15","YES",IF(AE17="SP-R","YES",))))))) -> 0 | AH17: =IFERROR(VLOOKUP(U17,'DAS Thu'!$F$9:$P$45,11,0),"Off") -> Off | AI17: =IF(AH17="TC1","7:40",IF(AH17="TC2","2:40",IF(AH17="TC3","2:40",IF(AH17="TC4","2:40",IF(AH17="TC5","7:40",IF(AH17="TC6","7:40",IF(AH17="TC7","3:50",IF(AH17="TC8","3:50",IF(AH17="TC9","3:50",IF(AH17="TC10","3:50",IF(AH17="TC11","3:50",IF(AH17="TC12","3:50",IF(AH17="TC13","3:50",IF(AH17="TC14","3:50",IF(AH17="SP-D","0",IF(AH17="SP-H","0",)))))))))))))))) -> 0 | AJ17: =IF(AH17="TC1","YES",IF(AH17="TC7","YES",IF(AH17="TC9","YES",IF(AH17="TC11","YES",IF(AH17="TC13","YES",IF(AH17="TC15","YES",IF(AH17="SP-R","YES",))))))) -> 0 | AK17: =IFERROR(VLOOKUP(U17,'DAS Fri'!$F$9:$P$46,11,0),"Off") -> Off | AL17: =IF(AK17="TC1","7:40",IF(AK17="TC2","2:40",IF(AK17="TC3","2:40",IF(AK17="TC4","2:40",IF(AK17="TC5","7:40",IF(AK17="TC6","7:40",IF(AK17="TC7","3:50",IF(AK17="TC8","3:50",IF(AK17="TC9","3:50",IF(AK17="TC10","3:50",IF(AK17="TC11","3:50",IF(AK17="TC12","3:50",IF(AK17="TC13","3:50",IF(AK17="TC14","3:50",IF(AK17="SP-D","0",IF(AK17="SP-H","0",)))))))))))))))) -> 0 | AM17: =IF(AK17="TC7","YES",IF(AK17="TC9","YES",IF(AK17="TC11","YES",IF(AK17="TC13","YES",IF(AK17="TC15","YES",IF(AK17="SP-R","YES",)))))) -> 0 | AN17: =IFERROR(VLOOKUP(U17,'DAS Sat'!$F$20:$P$48,11,0),"Off") -> Off | AO17: =IF(AN17="TC1","7:40",IF(AN17="TC2","2:40",IF(AN17="TC3","2:40",IF(AN17="TC4","2:40",IF(AN17="TC5","7:40",IF(AN17="TC6","7:40",IF(AN17="TC7","3:50",IF(AN17="TC8","3:50",IF(AN17="TC9","3:50",IF(AN17="TC10","3:50",IF(AN17="TC11","3:50",IF(AN17="TC12","3:50",IF(AN17="TC13","3:50",IF(AN17="TC14","3:50",IF(AN17="SP-D","0",IF(AN17="SP-H","0",)))))))))))))))) -> 0 | AP17: =IF(AN17="TC7","YES",IF(AN17="TC9","YES",IF(AN17="TC11","YES",IF(AN17="TC13","YES",IF(AN17="TC15","YES",IF(AN17="SP-R","YES",)))))) -> 0 | AQ17: =W17+Z17+AC17+AF17+AI17+AL17+AO17 -> 0.15972222 | AR17: 0 | AS17: =COUNTIF(V17:AP17,"Yes") -> 1 | AU17: =TC!A19 -> Ali Issa Muhammad Al Owais | AV17: 0.19513889 | AW17: =IFERROR(VLOOKUP(AU17,'DAS Sun'!$F$11:$Q$60,12,0),"Off") -> 0.45833333 | AX17: =IFERROR(VLOOKUP(AU17,'DAS Sun'!$F$11:$R$60,13,0),"Off") -> 0.83333333 | AY17: =$AY$4-AX17 -> 0.16666667 | AZ17: =AW17+AV17 -> 0.65347222 | BA17: =IFERROR(VLOOKUP(AU17,'DAS Mon'!$F$9:$Q$60,12,0),"Off") -> 0.48333333 | BB17: =IFERROR(VLOOKUP(AU17,'DAS Mon'!$F$9:$R$60,13,0),"Off") -> 0.69166667 | BC17: =$AY$4-BB17 -> 0.30833333 | BD17: =BA17+AY17 -> 0.65 | BE17: =IFERROR(VLOOKUP(AU17,'DAS Tue'!$F$9:$Q$58,12,0),"Off") -> Off | BF17: =IFERROR(VLOOKUP(AU17,'DAS Tue'!$F$9:$R$58,13,0),"Off") -> Off | BG17: =$AY$4-BF17 -> #VALUE! | BH17: =BE17+BC17 -> #VALUE! | BI17: =IFERROR(VLOOKUP(AU17,'DAS Wed'!$F$11:$Q$60,12,0),"Off") -> Off | BJ17: =IFERROR(VLOOKUP(AU17,'DAS Wed'!$F$11:$R$60,13,0),"Off") -> Off | BK17: =$AY$4-BJ17 -> #VALUE! | BL17: =BI17+BG17 -> #VALUE! | BM17: =IFERROR(VLOOKUP(AU17,'DAS Thu'!$F$9:$Q$61,12,0),"Off") -> Off | BN17: =IFERROR(VLOOKUP(AU17,'DAS Thu'!$F$9:$R$61,13,0),"Off") -> Off | BO17: =$AY$4-BN17 -> #VALUE! | BP17: =BM17+BK17 -> #VALUE! | BQ17: =IFERROR(VLOOKUP(AU17,'DAS Fri'!$F$9:$Q$61,12,0),"Off") -> Off | BR17: =IFERROR(VLOOKUP(AU17,'DAS Fri'!$F$9:$R$61,13,0),"Off") -> Off | BS17: =$AY$4-BR17 -> #VALUE! | BT17: =BQ17+BO17 -> #VALUE! | BU17: =IFERROR(VLOOKUP(AU17,'DAS Sat'!$F$20:$Q$61,12,0),"Off") -> Off | BV17: =IFERROR(VLOOKUP(AU17,'DAS Sat'!$F$20:$R$61,13,0),"Off") -> Off | BW17: =$AY$4-BV17 -> #VALUE! | BX17: =BU17+BS17 -> #VALUE!
B18: =TC!A20 -> Nasser Jamaan Al-Ghamdi | C18: =IFERROR(VLOOKUP(B18,'DAS Sun'!$F$9:$O$50,10,0),"Off") -> Off | D18: =TC!E20 -> 0.375 | E18: =IFERROR(VLOOKUP(B18,'DAS Mon'!$F$9:$O$44,10,0),"Off") -> Off | F18: =TC!I20 -> 0.20833333 | G18: =IFERROR(VLOOKUP(B18,'DAS Tue'!$F$9:$O$44,10,0),"Off") -> Off | H18: =TC!M20 -> 0 | I18: =IFERROR(VLOOKUP(B18,'DAS Wed'!$F$9:$O$50,10,0),"Off") -> Off | J18: =TC!Q20 -> 0 | K18: =IFERROR(VLOOKUP(B18,'DAS Thu'!$F$9:$O$47,10,0),"Off") -> Off | L18: =TC!U20 -> 0.375 | M18: =IFERROR(VLOOKUP(B18,'DAS Fri'!$F$9:$O$46,10,0),"Off") -> 0.34375 | N18: =TC!Y20 -> 0.375 | O18: =IFERROR(VLOOKUP(B18,'DAS Sat'!$F$9:$O$48,10,0),"Off") -> 0.34375 | P18: =TC!AC20 -> 0.2125 | Q18: =SUM(C18,E18,G18,I18,K18,M18,O18) -> 0.6875 | R18: =P18+N18+L18+J18+H18+F18+D18 -> 1.5458333 | S18: =COUNTIF(C18:P18,"Off") -> 5 | T18: =R18-Q18 -> 0.85833333 | U18: =TC!A20 -> Nasser Jamaan Al-Ghamdi | V18: =IFERROR(VLOOKUP(U18,'DAS Sun'!$F$12:$P$50,11,0),"Off") -> Off | W18: =IF(V18="TC1","7:40",IF(V18="TC2","2:40",IF(V18="TC3","2:40",IF(V18="TC4","2:40",IF(V18="TC5","7:40",IF(V18="TC6","7:40",IF(V18="TC7","3:50",IF(V18="TC8","3:50",IF(V18="TC9","3:50",IF(V18="TC10","3:50",IF(V18="TC11","3:50",IF(V18="TC12","3:50",IF(V18="TC13","3:50",IF(V18="TC14","3:50",IF(V18="SP-D","0",IF(V18="SP-H","0",)))))))))))))))) -> 0 | X18: =IF(V18="TC1","YES",IF(V18="TC7","YES",IF(V18="TC9","YES",IF(V18="TC11","YES",IF(V18="TC13","YES",IF(V18="TC15","YES",IF(V18="SP-R","YES",))))))) -> 0 | Y18: =IFERROR(VLOOKUP(U18,'DAS Mon'!$F$9:$P$44,11,0),"Off") -> Off | Z18: =IF(Y18="TC1","7:40",IF(Y18="TC2","2:40",IF(Y18="TC3","2:40",IF(Y18="TC4","2:40",IF(Y18="TC5","7:40",IF(Y18="TC6","7:40",IF(Y18="TC7","3:50",IF(Y18="TC8","3:50",IF(Y18="TC9","3:50",IF(Y18="TC10","3:50",IF(Y18="TC11","3:50",IF(Y18="TC12","3:50",IF(Y18="TC13","3:50",IF(Y18="TC14","3:50",IF(Y18="SP-D","0",IF(Y18="SP-H","0",)))))))))))))))) -> 0 | AA18: =IF(Y18="TC1","YES",IF(Y18="TC7","YES",IF(Y18="TC9","YES",IF(Y18="TC11","YES",IF(Y18="TC13","YES",IF(Y18="TC15","YES",IF(Y18="SP-R","YES",))))))) -> 0 | AB18: =IFERROR(VLOOKUP(U18,'DAS Tue'!$F$9:$P$44,11,0),"Off") -> Off | AC18: =IF(AB18="TC1","7:40",IF(AB18="TC2","2:40",IF(AB18="TC3","2:40",IF(AB18="TC4","2:40",IF(AB18="TC5","7:40",IF(AB18="TC6","7:40",IF(AB18="TC7","3:50",IF(AB18="TC8","3:50",IF(AB18="TC9","3:50",IF(AB18="TC10","3:50",IF(AB18="TC11","3:50",IF(AB18="TC12","3:50",IF(AB18="TC13","3:50",IF(AB18="TC14","3:50",IF(AB18="SP-D","0",IF(AB18="SP-H","0",)))))))))))))))) -> 0 | AD18: =IF(AB18="TC1","YES",IF(AB18="TC7","YES",IF(AB18="TC9","YES",IF(AB18="TC11","YES",IF(AB18="TC13","YES",IF(AB18="TC15","YES",IF(AB18="SP-R","YES",))))))) -> 0 | AE18: =IFERROR(VLOOKUP(U18,'DAS Wed'!$F$11:$P$50,11,0),"Off") -> Off | AF18: =IF(AE18="TC1","7:40",IF(AE18="TC2","2:40",IF(AE18="TC3","2:40",IF(AE18="TC4","2:40",IF(AE18="TC5","7:40",IF(AE18="TC6","7:40",IF(AE18="TC7","3:50",IF(AE18="TC8","3:50",IF(AE18="TC9","3:50",IF(AE18="TC10","3:50",IF(AE18="TC11","3:50",IF(AE18="TC12","3:50",IF(AE18="TC13","3:50",IF(AE18="TC14","3:50",IF(AE18="SP-D","0",IF(AE18="SP-H","0",)))))))))))))))) -> 0 | AG18: =IF(AE18="TC1","YES",IF(AE18="TC7","YES",IF(AE18="TC9","YES",IF(AE18="TC11","YES",IF(AE18="TC13","YES",IF(AE18="TC15","YES",IF(AE18="SP-R","YES",))))))) -> 0 | AH18: =IFERROR(VLOOKUP(U18,'DAS Thu'!$F$9:$P$45,11,0),"Off") -> Off | AI18: =IF(AH18="TC1","7:40",IF(AH18="TC2","2:40",IF(AH18="TC3","2:40",IF(AH18="TC4","2:40",IF(AH18="TC5","7:40",IF(AH18="TC6","7:40",IF(AH18="TC7","3:50",IF(AH18="TC8","3:50",IF(AH18="TC9","3:50",IF(AH18="TC10","3:50",IF(AH18="TC11","3:50",IF(AH18="TC12","3:50",IF(AH18="TC13","3:50",IF(AH18="TC14","3:50",IF(AH18="SP-D","0",IF(AH18="SP-H","0",)))))))))))))))) -> 0 | AJ18: =IF(AH18="TC1","YES",IF(AH18="TC7","YES",IF(AH18="TC9","YES",IF(AH18="TC11","YES",IF(AH18="TC13","YES",IF(AH18="TC15","YES",IF(AH18="SP-R","YES",))))))) -> 0 | AK18: =IFERROR(VLOOKUP(U18,'DAS Fri'!$F$9:$P$46,11,0),"Off") -> SP-D | AL18: =IF(AK18="TC1","7:40",IF(AK18="TC2","2:40",IF(AK18="TC3","2:40",IF(AK18="TC4","2:40",IF(AK18="TC5","7:40",IF(AK18="TC6","7:40",IF(AK18="TC7","3:50",IF(AK18="TC8","3:50",IF(AK18="TC9","3:50",IF(AK18="TC10","3:50",IF(AK18="TC11","3:50",IF(AK18="TC12","3:50",IF(AK18="TC13","3:50",IF(AK18="TC14","3:50",IF(AK18="SP-D","0",IF(AK18="SP-H","0",)))))))))))))))) -> 0 | AM18: =IF(AK18="TC7","YES",IF(AK18="TC9","YES",IF(AK18="TC11","YES",IF(AK18="TC13","YES",IF(AK18="TC15","YES",IF(AK18="SP-R","YES",)))))) -> 0 | AN18: =IFERROR(VLOOKUP(U18,'DAS Sat'!$F$20:$P$48,11,0),"Off") -> Off | AO18: =IF(AN18="TC1","7:40",IF(AN18="TC2","2:40",IF(AN18="TC3","2:40",IF(AN18="TC4","2:40",IF(AN18="TC5","7:40",IF(AN18="TC6","7:40",IF(AN18="TC7","3:50",IF(AN18="TC8","3:50",IF(AN18="TC9","3:50",IF(AN18="TC10","3:50",IF(AN18="TC11","3:50",IF(AN18="TC12","3:50",IF(AN18="TC13","3:50",IF(AN18="TC14","3:50",IF(AN18="SP-D","0",IF(AN18="SP-H","0",)))))))))))))))) -> 0 | AP18: =IF(AN18="TC7","YES",IF(AN18="TC9","YES",IF(AN18="TC11","YES",IF(AN18="TC13","YES",IF(AN18="TC15","YES",IF(AN18="SP-R","YES",)))))) -> 0 | AQ18: =W18+Z18+AC18+AF18+AI18+AL18+AO18 -> 0 | AR18: 0.47916667 | AS18: =COUNTIF(V18:AP18,"Yes") -> 0 | AU18: =TC!A20 -> Nasser Jamaan Al-Ghamdi | AV18: #VALUE! | AW18: =IFERROR(VLOOKUP(AU18,'DAS Sun'!$F$11:$Q$60,12,0),"Off") -> Off | AX18: =IFERROR(VLOOKUP(AU18,'DAS Sun'!$F$11:$R$60,13,0),"Off") -> Off | AY18: =$AY$4-AX18 -> #VALUE! | AZ18: =AW18+AV18 -> #VALUE! | BA18: =IFERROR(VLOOKUP(AU18,'DAS Mon'!$F$9:$Q$60,12,0),"Off") -> Off | BB18: =IFERROR(VLOOKUP(AU18,'DAS Mon'!$F$9:$R$60,13,0),"Off") -> Off | BC18: =$AY$4-BB18 -> #VALUE! | BD18: =BA18+AY18 -> #VALUE! | BE18: =IFERROR(VLOOKUP(AU18,'DAS Tue'!$F$9:$Q$58,12,0),"Off") -> Off | BF18: =IFERROR(VLOOKUP(AU18,'DAS Tue'!$F$9:$R$58,13,0),"Off") -> Off | BG18: =$AY$4-BF18 -> #VALUE! | BH18: =BE18+BC18 -> #VALUE! | BI18: =IFERROR(VLOOKUP(AU18,'DAS Wed'!$F$11:$Q$60,12,0),"Off") -> Off | BJ18: =IFERROR(VLOOKUP(AU18,'DAS Wed'!$F$11:$R$60,13,0),"Off") -> Off | BK18: =$AY$4-BJ18 -> #VALUE! | BL18: =BI18+BG18 -> #VALUE! | BM18: =IFERROR(VLOOKUP(AU18,'DAS Thu'!$F$9:$Q$61,12,0),"Off") -> Off | BN18: =IFERROR(VLOOKUP(AU18,'DAS Thu'!$F$9:$R$61,13,0),"Off") -> Off | BO18: =$AY$4-BN18 -> #VALUE! | BP18: =BM18+BK18 -> #VALUE! | BQ18: =IFERROR(VLOOKUP(AU18,'DAS Fri'!$F$9:$Q$61,12,0),"Off") -> 0.19791667 | BR18: =IFERROR(VLOOKUP(AU18,'DAS Fri'!$F$9:$R$61,13,0),"Off") -> 0.54166667 | BS18: =$AY$4-BR18 -> 0.45833333 | BT18: =BQ18+BO18 -> #VALUE! | BU18: =IFERROR(VLOOKUP(AU18,'DAS Sat'!$F$20:$Q$61,12,0),"Off") -> Off | BV18: =IFERROR(VLOOKUP(AU18,'DAS Sat'!$F$20:$R$61,13,0),"Off") -> Off | BW18: =$AY$4-BV18 -> #VALUE! | BX18: =BU18+BS18 -> #VALUE!
B19: =TC!A21 -> Faisal Turki Abu Falasa | C19: =IFERROR(VLOOKUP(B19,'DAS Sun'!$F$9:$O$50,10,0),"Off") -> Off | D19: =TC!E21 -> 0.20833333 | E19: =IFERROR(VLOOKUP(B19,'DAS Mon'!$F$9:$O$44,10,0),"Off") -> Off | F19: =TC!I21 -> 0.375 | G19: =IFERROR(VLOOKUP(B19,'DAS Tue'!$F$9:$O$44,10,0),"Off") -> Off | H19: =TC!M21 -> 0.375 | I19: =IFERROR(VLOOKUP(B19,'DAS Wed'!$F$9:$O$50,10,0),"Off") -> Off | J19: =TC!Q21 -> 0 | K19: =IFERROR(VLOOKUP(B19,'DAS Thu'!$F$9:$O$47,10,0),"Off") -> Off | L19: =TC!U21 -> 0 | M19: =IFERROR(VLOOKUP(B19,'DAS Fri'!$F$9:$O$46,10,0),"Off") -> Off | N19: =TC!Y21 -> 0.2125 | O19: =IFERROR(VLOOKUP(B19,'DAS Sat'!$F$9:$O$48,10,0),"Off") -> Off | P19: =TC!AC21 -> 0.20833333 | Q19: =SUM(C19,E19,G19,I19,K19,M19,O19) -> 0 | R19: =P19+N19+L19+J19+H19+F19+D19 -> 1.3791667 | S19: =COUNTIF(C19:P19,"Off") -> 7 | T19: =R19-Q19 -> 1.3791667 | U19: =TC!A21 -> Faisal Turki Abu Falasa | V19: =IFERROR(VLOOKUP(U19,'DAS Sun'!$F$12:$P$50,11,0),"Off") -> Off | W19: =IF(V19="TC1","7:40",IF(V19="TC2","2:40",IF(V19="TC3","2:40",IF(V19="TC4","2:40",IF(V19="TC5","7:40",IF(V19="TC6","7:40",IF(V19="TC7","3:50",IF(V19="TC8","3:50",IF(V19="TC9","3:50",IF(V19="TC10","3:50",IF(V19="TC11","3:50",IF(V19="TC12","3:50",IF(V19="TC13","3:50",IF(V19="TC14","3:50",IF(V19="SP-D","0",IF(V19="SP-H","0",)))))))))))))))) -> 0 | X19: =IF(V19="TC1","YES",IF(V19="TC7","YES",IF(V19="TC9","YES",IF(V19="TC11","YES",IF(V19="TC13","YES",IF(V19="TC15","YES",IF(V19="SP-R","YES",))))))) -> 0 | Y19: =IFERROR(VLOOKUP(U19,'DAS Mon'!$F$9:$P$44,11,0),"Off") -> Off | Z19: =IF(Y19="TC1","7:40",IF(Y19="TC2","2:40",IF(Y19="TC3","2:40",IF(Y19="TC4","2:40",IF(Y19="TC5","7:40",IF(Y19="TC6","7:40",IF(Y19="TC7","3:50",IF(Y19="TC8","3:50",IF(Y19="TC9","3:50",IF(Y19="TC10","3:50",IF(Y19="TC11","3:50",IF(Y19="TC12","3:50",IF(Y19="TC13","3:50",IF(Y19="TC14","3:50",IF(Y19="SP-D","0",IF(Y19="SP-H","0",)))))))))))))))) -> 0 | AA19: =IF(Y19="TC1","YES",IF(Y19="TC7","YES",IF(Y19="TC9","YES",IF(Y19="TC11","YES",IF(Y19="TC13","YES",IF(Y19="TC15","YES",IF(Y19="SP-R","YES",))))))) -> 0 | AB19: =IFERROR(VLOOKUP(U19,'DAS Tue'!$F$9:$P$44,11,0),"Off") -> Off | AC19: =IF(AB19="TC1","7:40",IF(AB19="TC2","2:40",IF(AB19="TC3","2:40",IF(AB19="TC4","2:40",IF(AB19="TC5","7:40",IF(AB19="TC6","7:40",IF(AB19="TC7","3:50",IF(AB19="TC8","3:50",IF(AB19="TC9","3:50",IF(AB19="TC10","3:50",IF(AB19="TC11","3:50",IF(AB19="TC12","3:50",IF(AB19="TC13","3:50",IF(AB19="TC14","3:50",IF(AB19="SP-D","0",IF(AB19="SP-H","0",)))))))))))))))) -> 0 | AD19: =IF(AB19="TC1","YES",IF(AB19="TC7","YES",IF(AB19="TC9","YES",IF(AB19="TC11","YES",IF(AB19="TC13","YES",IF(AB19="TC15","YES",IF(AB19="SP-R","YES",))))))) -> 0 | AE19: =IFERROR(VLOOKUP(U19,'DAS Wed'!$F$11:$P$50,11,0),"Off") -> Off | AF19: =IF(AE19="TC1","7:40",IF(AE19="TC2","2:40",IF(AE19="TC3","2:40",IF(AE19="TC4","2:40",IF(AE19="TC5","7:40",IF(AE19="TC6","7:40",IF(AE19="TC7","3:50",IF(AE19="TC8","3:50",IF(AE19="TC9","3:50",IF(AE19="TC10","3:50",IF(AE19="TC11","3:50",IF(AE19="TC12","3:50",IF(AE19="TC13","3:50",IF(AE19="TC14","3:50",IF(AE19="SP-D","0",IF(AE19="SP-H","0",)))))))))))))))) -> 0 | AG19: =IF(AE19="TC1","YES",IF(AE19="TC7","YES",IF(AE19="TC9","YES",IF(AE19="TC11","YES",IF(AE19="TC13","YES",IF(AE19="TC15","YES",IF(AE19="SP-R","YES",))))))) -> 0 | AH19: =IFERROR(VLOOKUP(U19,'DAS Thu'!$F$9:$P$45,11,0),"Off") -> Off | AI19: =IF(AH19="TC1","7:40",IF(AH19="TC2","2:40",IF(AH19="TC3","2:40",IF(AH19="TC4","2:40",IF(AH19="TC5","7:40",IF(AH19="TC6","7:40",IF(AH19="TC7","3:50",IF(AH19="TC8","3:50",IF(AH19="TC9","3:50",IF(AH19="TC10","3:50",IF(AH19="TC11","3:50",IF(AH19="TC12","3:50",IF(AH19="TC13","3:50",IF(AH19="TC14","3:50",IF(AH19="SP-D","0",IF(AH19="SP-H","0",)))))))))))))))) -> 0 | AJ19: =IF(AH19="TC1","YES",IF(AH19="TC7","YES",IF(AH19="TC9","YES",IF(AH19="TC11","YES",IF(AH19="TC13","YES",IF(AH19="TC15","YES",IF(AH19="SP-R","YES",))))))) -> 0 | AK19: =IFERROR(VLOOKUP(U19,'DAS Fri'!$F$9:$P$46,11,0),"Off") -> Off | AL19: =IF(AK19="TC1","7:40",IF(AK19="TC2","2:40",IF(AK19="TC3","2:40",IF(AK19="TC4","2:40",IF(AK19="TC5","7:40",IF(AK19="TC6","7:40",IF(AK19="TC7","3:50",IF(AK19="TC8","3:50",IF(AK19="TC9","3:50",IF(AK19="TC10","3:50",IF(AK19="TC11","3:50",IF(AK19="TC12","3:50",IF(AK19="TC13","3:50",IF(AK19="TC14","3:50",IF(AK19="SP-D","0",IF(AK19="SP-H","0",)))))))))))))))) -> 0 | AM19: =IF(AK19="TC7","YES",IF(AK19="TC9","YES",IF(AK19="TC11","YES",IF(AK19="TC13","YES",IF(AK19="TC15","YES",IF(AK19="SP-R","YES",)))))) -> 0 | AN19: =IFERROR(VLOOKUP(U19,'DAS Sat'!$F$20:$P$48,11,0),"Off") -> Off | AO19: =IF(AN19="TC1","7:40",IF(AN19="TC2","2:40",IF(AN19="TC3","2:40",IF(AN19="TC4","2:40",IF(AN19="TC5","7:40",IF(AN19="TC6","7:40",IF(AN19="TC7","3:50",IF(AN19="TC8","3:50",IF(AN19="TC9","3:50",IF(AN19="TC10","3:50",IF(AN19="TC11","3:50",IF(AN19="TC12","3:50",IF(AN19="TC13","3:50",IF(AN19="TC14","3:50",IF(AN19="SP-D","0",IF(AN19="SP-H","0",)))))))))))))))) -> 0 | AP19: =IF(AN19="TC7","YES",IF(AN19="TC9","YES",IF(AN19="TC11","YES",IF(AN19="TC13","YES",IF(AN19="TC15","YES",IF(AN19="SP-R","YES",)))))) -> 0 | AQ19: =W19+Z19+AC19+AF19+AI19+AL19+AO19 -> 0 | AR19: 0.15972222 | AS19: =COUNTIF(V19:AP19,"Yes") -> 0 | AU19: =TC!A21 -> Faisal Turki Abu Falasa | AV19: #VALUE! | AW19: =IFERROR(VLOOKUP(AU19,'DAS Sun'!$F$11:$Q$60,12,0),"Off") -> 0.375 | AX19: =IFERROR(VLOOKUP(AU19,'DAS Sun'!$F$11:$R$60,13,0),"Off") -> 0.625 | AY19: =$AY$4-AX19 -> 0.375 | AZ19: =AW19+AV19 -> #VALUE! | BA19: =IFERROR(VLOOKUP(AU19,'DAS Mon'!$F$9:$Q$60,12,0),"Off") -> 0.375 | BB19: =IFERROR(VLOOKUP(AU19,'DAS Mon'!$F$9:$R$60,13,0),"Off") -> 0.625 | BC19: =$AY$4-BB19 -> 0.375 | BD19: =BA19+AY19 -> 0.75 | BE19: =IFERROR(VLOOKUP(AU19,'DAS Tue'!$F$9:$Q$58,12,0),"Off") -> 0.375 | BF19: =IFERROR(VLOOKUP(AU19,'DAS Tue'!$F$9:$R$58,13,0),"Off") -> 0.625 | BG19: =$AY$4-BF19 -> 0.375 | BH19: =BE19+BC19 -> 0.75 | BI19: =IFERROR(VLOOKUP(AU19,'DAS Wed'!$F$11:$Q$60,12,0),"Off") -> 0.375 | BJ19: =IFERROR(VLOOKUP(AU19,'DAS Wed'!$F$11:$R$60,13,0),"Off") -> 0.625 | BK19: =$AY$4-BJ19 -> 0.375 | BL19: =BI19+BG19 -> 0.75 | BM19: =IFERROR(VLOOKUP(AU19,'DAS Thu'!$F$9:$Q$61,12,0),"Off") -> 0.375 | BN19: =IFERROR(VLOOKUP(AU19,'DAS Thu'!$F$9:$R$61,13,0),"Off") -> 0.625 | BO19: =$AY$4-BN19 -> 0.375 | BP19: =BM19+BK19 -> 0.75 | BQ19: =IFERROR(VLOOKUP(AU19,'DAS Fri'!$F$9:$Q$61,12,0),"Off") -> Off | BR19: =IFERROR(VLOOKUP(AU19,'DAS Fri'!$F$9:$R$61,13,0),"Off") -> Off | BS19: =$AY$4-BR19 -> #VALUE! | BT19: =BQ19+BO19 -> #VALUE! | BU19: =IFERROR(VLOOKUP(AU19,'DAS Sat'!$F$20:$Q$61,12,0),"Off") -> Off | BV19: =IFERROR(VLOOKUP(AU19,'DAS Sat'!$F$20:$R$61,13,0),"Off") -> Off | BW19: =$AY$4-BV19 -> #VALUE! | BX19: =BU19+BS19 -> #VALUE!
B20: =TC!A22 -> Ahmed Jassim Al-Hussein | C20: =IFERROR(VLOOKUP(B20,'DAS Sun'!$F$9:$O$50,10,0),"Off") -> 0.2125 | D20: =TC!E22 -> 0.2125 | E20: =IFERROR(VLOOKUP(B20,'DAS Mon'!$F$9:$O$44,10,0),"Off") -> 0.20833333 | F20: =TC!I22 -> 0.20833333 | G20: =IFERROR(VLOOKUP(B20,'DAS Tue'!$F$9:$O$44,10,0),"Off") -> 0.2125 | H20: =TC!M22 -> 0.2125 | I20: =IFERROR(VLOOKUP(B20,'DAS Wed'!$F$9:$O$50,10,0),"Off") -> 0.20833333 | J20: =TC!Q22 -> 0.20833333 | K20: =IFERROR(VLOOKUP(B20,'DAS Thu'!$F$9:$O$47,10,0),"Off") -> Off | L20: =TC!U22 -> 0 | M20: =IFERROR(VLOOKUP(B20,'DAS Fri'!$F$9:$O$46,10,0),"Off") -> Off | N20: =TC!Y22 -> 0 | O20: =IFERROR(VLOOKUP(B20,'DAS Sat'!$F$9:$O$48,10,0),"Off") -> 0.25833333 | P20: =TC!AC22 -> 0.42916667 | Q20: =SUM(C20,E20,G20,I20,K20,M20,O20) -> 1.1 | R20: =P20+N20+L20+J20+H20+F20+D20 -> 1.2708333 | S20: =COUNTIF(C20:P20,"Off") -> 2 | T20: =R20-Q20 -> 0.17083333 | U20: =TC!A22 -> Ahmed Jassim Al-Hussein | V20: =IFERROR(VLOOKUP(U20,'DAS Sun'!$F$12:$P$50,11,0),"Off") -> TC17 | W20: =IF(V20="TC1","7:40",IF(V20="TC2","2:40",IF(V20="TC3","2:40",IF(V20="TC4","2:40",IF(V20="TC5","7:40",IF(V20="TC6","7:40",IF(V20="TC7","3:50",IF(V20="TC8","3:50",IF(V20="TC9","3:50",IF(V20="TC10","3:50",IF(V20="TC11","3:50",IF(V20="TC12","3:50",IF(V20="TC13","3:50",IF(V20="TC14","3:50",IF(V20="SP-D","0",IF(V20="SP-H","0",)))))))))))))))) -> 0 | X20: =IF(V20="TC1","YES",IF(V20="TC7","YES",IF(V20="TC9","YES",IF(V20="TC11","YES",IF(V20="TC13","YES",IF(V20="TC15","YES",IF(V20="SP-R","YES",))))))) -> 0 | Y20: =IFERROR(VLOOKUP(U20,'DAS Mon'!$F$9:$P$44,11,0),"Off") -> TC18 | Z20: =IF(Y20="TC1","7:40",IF(Y20="TC2","2:40",IF(Y20="TC3","2:40",IF(Y20="TC4","2:40",IF(Y20="TC5","7:40",IF(Y20="TC6","7:40",IF(Y20="TC7","3:50",IF(Y20="TC8","3:50",IF(Y20="TC9","3:50",IF(Y20="TC10","3:50",IF(Y20="TC11","3:50",IF(Y20="TC12","3:50",IF(Y20="TC13","3:50",IF(Y20="TC14","3:50",IF(Y20="SP-D","0",IF(Y20="SP-H","0",)))))))))))))))) -> 0 | AA20: =IF(Y20="TC1","YES",IF(Y20="TC7","YES",IF(Y20="TC9","YES",IF(Y20="TC11","YES",IF(Y20="TC13","YES",IF(Y20="TC15","YES",IF(Y20="SP-R","YES",))))))) -> 0 | AB20: =IFERROR(VLOOKUP(U20,'DAS Tue'!$F$9:$P$44,11,0),"Off") -> TC17 | AC20: =IF(AB20="TC1","7:40",IF(AB20="TC2","2:40",IF(AB20="TC3","2:40",IF(AB20="TC4","2:40",IF(AB20="TC5","7:40",IF(AB20="TC6","7:40",IF(AB20="TC7","3:50",IF(AB20="TC8","3:50",IF(AB20="TC9","3:50",IF(AB20="TC10","3:50",IF(AB20="TC11","3:50",IF(AB20="TC12","3:50",IF(AB20="TC13","3:50",IF(AB20="TC14","3:50",IF(AB20="SP-D","0",IF(AB20="SP-H","0",)))))))))))))))) -> 0 | AD20: =IF(AB20="TC1","YES",IF(AB20="TC7","YES",IF(AB20="TC9","YES",IF(AB20="TC11","YES",IF(AB20="TC13","YES",IF(AB20="TC15","YES",IF(AB20="SP-R","YES",))))))) -> 0 | AE20: =IFERROR(VLOOKUP(U20,'DAS Wed'!$F$11:$P$50,11,0),"Off") -> TC18 | AF20: =IF(AE20="TC1","7:40",IF(AE20="TC2","2:40",IF(AE20="TC3","2:40",IF(AE20="TC4","2:40",IF(AE20="TC5","7:40",IF(AE20="TC6","7:40",IF(AE20="TC7","3:50",IF(AE20="TC8","3:50",IF(AE20="TC9","3:50",IF(AE20="TC10","3:50",IF(AE20="TC11","3:50",IF(AE20="TC12","3:50",IF(AE20="TC13","3:50",IF(AE20="TC14","3:50",IF(AE20="SP-D","0",IF(AE20="SP-H","0",)))))))))))))))) -> 0 | AG20: =IF(AE20="TC1","YES",IF(AE20="TC7","YES",IF(AE20="TC9","YES",IF(AE20="TC11","YES",IF(AE20="TC13","YES",IF(AE20="TC15","YES",IF(AE20="SP-R","YES",))))))) -> 0 | AH20: =IFERROR(VLOOKUP(U20,'DAS Thu'!$F$9:$P$45,11,0),"Off") -> Off | AI20: =IF(AH20="TC1","7:40",IF(AH20="TC2","2:40",IF(AH20="TC3","2:40",IF(AH20="TC4","2:40",IF(AH20="TC5","7:40",IF(AH20="TC6","7:40",IF(AH20="TC7","3:50",IF(AH20="TC8","3:50",IF(AH20="TC9","3:50",IF(AH20="TC10","3:50",IF(AH20="TC11","3:50",IF(AH20="TC12","3:50",IF(AH20="TC13","3:50",IF(AH20="TC14","3:50",IF(AH20="SP-D","0",IF(AH20="SP-H","0",)))))))))))))))) -> 0 | AJ20: =IF(AH20="TC1","YES",IF(AH20="TC7","YES",IF(AH20="TC9","YES",IF(AH20="TC11","YES",IF(AH20="TC13","YES",IF(AH20="TC15","YES",IF(AH20="SP-R","YES",))))))) -> 0 | AK20: =IFERROR(VLOOKUP(U20,'DAS Fri'!$F$9:$P$46,11,0),"Off") -> Off | AL20: =IF(AK20="TC1","7:40",IF(AK20="TC2","2:40",IF(AK20="TC3","2:40",IF(AK20="TC4","2:40",IF(AK20="TC5","7:40",IF(AK20="TC6","7:40",IF(AK20="TC7","3:50",IF(AK20="TC8","3:50",IF(AK20="TC9","3:50",IF(AK20="TC10","3:50",IF(AK20="TC11","3:50",IF(AK20="TC12","3:50",IF(AK20="TC13","3:50",IF(AK20="TC14","3:50",IF(AK20="SP-D","0",IF(AK20="SP-H","0",)))))))))))))))) -> 0 | AM20: =IF(AK20="TC7","YES",IF(AK20="TC9","YES",IF(AK20="TC11","YES",IF(AK20="TC13","YES",IF(AK20="TC15","YES",IF(AK20="SP-R","YES",)))))) -> 0 | AN20: =IFERROR(VLOOKUP(U20,'DAS Sat'!$F$20:$P$48,11,0),"Off") -> TC29&32 | AO20: =IF(AN20="TC1","7:40",IF(AN20="TC2","2:40",IF(AN20="TC3","2:40",IF(AN20="TC4","2:40",IF(AN20="TC5","7:40",IF(AN20="TC6","7:40",IF(AN20="TC7","3:50",IF(AN20="TC8","3:50",IF(AN20="TC9","3:50",IF(AN20="TC10","3:50",IF(AN20="TC11","3:50",IF(AN20="TC12","3:50",IF(AN20="TC13","3:50",IF(AN20="TC14","3:50",IF(AN20="SP-D","0",IF(AN20="SP-H","0",)))))))))))))))) -> 0 | AP20: =IF(AN20="TC7","YES",IF(AN20="TC9","YES",IF(AN20="TC11","YES",IF(AN20="TC13","YES",IF(AN20="TC15","YES",IF(AN20="SP-R","YES",)))))) -> 0 | AQ20: =W20+Z20+AC20+AF20+AI20+AL20+AO20 -> 0 | AR20: 0.15972222 | AS20: =COUNTIF(V20:AP20,"Yes") -> 0 | AU20: =TC!A22 -> Ahmed Jassim Al-Hussein | AV20: 0.0013888889 | AW20: =IFERROR(VLOOKUP(AU20,'DAS Sun'!$F$11:$Q$60,12,0),"Off") -> 0.78263889 | AX20: =IFERROR(VLOOKUP(AU20,'DAS Sun'!$F$11:$R$60,13,0),"Off") -> 0.99513889 | AY20: =$AY$4-AX20 -> 0.0048611111 | AZ20: =AW20+AV20 -> 0.78402778 | BA20: =IFERROR(VLOOKUP(AU20,'DAS Mon'!$F$9:$Q$60,12,0),"Off") -> 0.79027778 | BB20: =IFERROR(VLOOKUP(AU20,'DAS Mon'!$F$9:$R$60,13,0),"Off") -> 0.99861111 | BC20: =$AY$4-BB20 -> 0.0013888889 | BD20: =BA20+AY20 -> 0.79513889 | BE20: =IFERROR(VLOOKUP(AU20,'DAS Tue'!$F$9:$Q$58,12,0),"Off") -> 0.78263889 | BF20: =IFERROR(VLOOKUP(AU20,'DAS Tue'!$F$9:$R$58,13,0),"Off") -> 0.99513889 | BG20: =$AY$4-BF20 -> 0.0048611111 | BH20: =BE20+BC20 -> 0.78402778 | BI20: =IFERROR(VLOOKUP(AU20,'DAS Wed'!$F$11:$Q$60,12,0),"Off") -> 0.79027778 | BJ20: =IFERROR(VLOOKUP(AU20,'DAS Wed'!$F$11:$R$60,13,0),"Off") -> 0.99861111 | BK20: =$AY$4-BJ20 -> 0.0013888889 | BL20: =BI20+BG20 -> 0.79513889 | BM20: =IFERROR(VLOOKUP(AU20,'DAS Thu'!$F$9:$Q$61,12,0),"Off") -> Off | BN20: =IFERROR(VLOOKUP(AU20,'DAS Thu'!$F$9:$R$61,13,0),"Off") -> Off | BO20: =$AY$4-BN20 -> #VALUE! | BP20: =BM20+BK20 -> #VALUE! | BQ20: =IFERROR(VLOOKUP(AU20,'DAS Fri'!$F$9:$Q$61,12,0),"Off") -> Off | BR20: =IFERROR(VLOOKUP(AU20,'DAS Fri'!$F$9:$R$61,13,0),"Off") -> Off | BS20: =$AY$4-BR20 -> #VALUE! | BT20: =BQ20+BO20 -> #VALUE! | BU20: =IFERROR(VLOOKUP(AU20,'DAS Sat'!$F$20:$Q$61,12,0),"Off") -> 0.62291667 | BV20: =IFERROR(VLOOKUP(AU20,'DAS Sat'!$F$20:$R$61,13,0),"Off") -> 0.88125 | BW20: =$AY$4-BV20 -> 0.11875 | BX20: =BU20+BS20 -> #VALUE!
B21: =TC!A23 -> Mubarak Salem Al Shaiban | C21: =IFERROR(VLOOKUP(B21,'DAS Sun'!$F$9:$O$50,10,0),"Off") -> 0.42916667 | D21: =TC!E23 -> 0.42916667 | E21: =IFERROR(VLOOKUP(B21,'DAS Mon'!$F$9:$O$44,10,0),"Off") -> 0.22430556 | F21: =TC!I23 -> 0.22430556 | G21: =IFERROR(VLOOKUP(B21,'DAS Tue'!$F$9:$O$44,10,0),"Off") -> 0.20972222 | H21: =TC!M23 -> 0.20972222 | I21: =IFERROR(VLOOKUP(B21,'DAS Wed'!$F$9:$O$50,10,0),"Off") -> 0.2125 | J21: =TC!Q23 -> 0.2125 | K21: =IFERROR(VLOOKUP(B21,'DAS Thu'!$F$9:$O$47,10,0),"Off") -> 0.375 | L21: =TC!U23 -> 0.375 | M21: =IFERROR(VLOOKUP(B21,'DAS Fri'!$F$9:$O$46,10,0),"Off") -> 0.375 | N21: =TC!Y23 -> 0.20833333 | O21: =IFERROR(VLOOKUP(B21,'DAS Sat'!$F$9:$O$48,10,0),"Off") -> Off | P21: =TC!AC23 -> 0 | Q21: =SUM(C21,E21,G21,I21,K21,M21,O21) -> 1.8256944 | R21: =P21+N21+L21+J21+H21+F21+D21 -> 1.6590278 | S21: =COUNTIF(C21:P21,"Off") -> 1 | T21: =R21-Q21 -> -0.16666667 | U21: =TC!A23 -> Mubarak Salem Al Shaiban | V21: =IFERROR(VLOOKUP(U21,'DAS Sun'!$F$12:$P$50,11,0),"Off") -> TC5&12 | W21: =IF(V21="TC1","7:40",IF(V21="TC2","2:40",IF(V21="TC3","2:40",IF(V21="TC4","2:40",IF(V21="TC5","7:40",IF(V21="TC6","7:40",IF(V21="TC7","3:50",IF(V21="TC8","3:50",IF(V21="TC9","3:50",IF(V21="TC10","3:50",IF(V21="TC11","3:50",IF(V21="TC12","3:50",IF(V21="TC13","3:50",IF(V21="TC14","3:50",IF(V21="SP-D","0",IF(V21="SP-H","0",)))))))))))))))) -> 0 | X21: =IF(V21="TC1","YES",IF(V21="TC7","YES",IF(V21="TC9","YES",IF(V21="TC11","YES",IF(V21="TC13","YES",IF(V21="TC15","YES",IF(V21="SP-R","YES",))))))) -> 0 | Y21: =IFERROR(VLOOKUP(U21,'DAS Mon'!$F$9:$P$44,11,0),"Off") -> TC13 | Z21: =IF(Y21="TC1","7:40",IF(Y21="TC2","2:40",IF(Y21="TC3","2:40",IF(Y21="TC4","2:40",IF(Y21="TC5","7:40",IF(Y21="TC6","7:40",IF(Y21="TC7","3:50",IF(Y21="TC8","3:50",IF(Y21="TC9","3:50",IF(Y21="TC10","3:50",IF(Y21="TC11","3:50",IF(Y21="TC12","3:50",IF(Y21="TC13","3:50",IF(Y21="TC14","3:50",IF(Y21="SP-D","0",IF(Y21="SP-H","0",)))))))))))))))) -> 3:50 | AA21: =IF(Y21="TC1","YES",IF(Y21="TC7","YES",IF(Y21="TC9","YES",IF(Y21="TC11","YES",IF(Y21="TC13","YES",IF(Y21="TC15","YES",IF(Y21="SP-R","YES",))))))) -> YES | AB21: =IFERROR(VLOOKUP(U21,'DAS Tue'!$F$9:$P$44,11,0),"Off") -> TC14 | AC21: =IF(AB21="TC1","7:40",IF(AB21="TC2","2:40",IF(AB21="TC3","2:40",IF(AB21="TC4","2:40",IF(AB21="TC5","7:40",IF(AB21="TC6","7:40",IF(AB21="TC7","3:50",IF(AB21="TC8","3:50",IF(AB21="TC9","3:50",IF(AB21="TC10","3:50",IF(AB21="TC11","3:50",IF(AB21="TC12","3:50",IF(AB21="TC13","3:50",IF(AB21="TC14","3:50",IF(AB21="SP-D","0",IF(AB21="SP-H","0",)))))))))))))))) -> 3:50 | AD21: =IF(AB21="TC1","YES",IF(AB21="TC7","YES",IF(AB21="TC9","YES",IF(AB21="TC11","YES",IF(AB21="TC13","YES",IF(AB21="TC15","YES",IF(AB21="SP-R","YES",))))))) -> 0 | AE21: =IFERROR(VLOOKUP(U21,'DAS Wed'!$F$11:$P$50,11,0),"Off") -> TC9 | AF21: =IF(AE21="TC1","7:40",IF(AE21="TC2","2:40",IF(AE21="TC3","2:40",IF(AE21="TC4","2:40",IF(AE21="TC5","7:40",IF(AE21="TC6","7:40",IF(AE21="TC7","3:50",IF(AE21="TC8","3:50",IF(AE21="TC9","3:50",IF(AE21="TC10","3:50",IF(AE21="TC11","3:50",IF(AE21="TC12","3:50",IF(AE21="TC13","3:50",IF(AE21="TC14","3:50",IF(AE21="SP-D","0",IF(AE21="SP-H","0",)))))))))))))))) -> 3:50 | AG21: =IF(AE21="TC1","YES",IF(AE21="TC7","YES",IF(AE21="TC9","YES",IF(AE21="TC11","YES",IF(AE21="TC13","YES",IF(AE21="TC15","YES",IF(AE21="SP-R","YES",))))))) -> YES | AH21: =IFERROR(VLOOKUP(U21,'DAS Thu'!$F$9:$P$45,11,0),"Off") -> SP-R | AI21: =IF(AH21="TC1","7:40",IF(AH21="TC2","2:40",IF(AH21="TC3","2:40",IF(AH21="TC4","2:40",IF(AH21="TC5","7:40",IF(AH21="TC6","7:40",IF(AH21="TC7","3:50",IF(AH21="TC8","3:50",IF(AH21="TC9","3:50",IF(AH21="TC10","3:50",IF(AH21="TC11","3:50",IF(AH21="TC12","3:50",IF(AH21="TC13","3:50",IF(AH21="TC14","3:50",IF(AH21="SP-D","0",IF(AH21="SP-H","0",)))))))))))))))) -> 0 | AJ21: =IF(AH21="TC1","YES",IF(AH21="TC7","YES",IF(AH21="TC9","YES",IF(AH21="TC11","YES",IF(AH21="TC13","YES",IF(AH21="TC15","YES",IF(AH21="SP-R","YES",))))))) -> YES | AK21: =IFERROR(VLOOKUP(U21,'DAS Fri'!$F$9:$P$46,11,0),"Off") -> SP-D | AL21: =IF(AK21="TC1","7:40",IF(AK21="TC2","2:40",IF(AK21="TC3","2:40",IF(AK21="TC4","2:40",IF(AK21="TC5","7:40",IF(AK21="TC6","7:40",IF(AK21="TC7","3:50",IF(AK21="TC8","3:50",IF(AK21="TC9","3:50",IF(AK21="TC10","3:50",IF(AK21="TC11","3:50",IF(AK21="TC12","3:50",IF(AK21="TC13","3:50",IF(AK21="TC14","3:50",IF(AK21="SP-D","0",IF(AK21="SP-H","0",)))))))))))))))) -> 0 | AM21: =IF(AK21="TC7","YES",IF(AK21="TC9","YES",IF(AK21="TC11","YES",IF(AK21="TC13","YES",IF(AK21="TC15","YES",IF(AK21="SP-R","YES",)))))) -> 0 | AN21: =IFERROR(VLOOKUP(U21,'DAS Sat'!$F$20:$P$48,11,0),"Off") -> Off | AO21: =IF(AN21="TC1","7:40",IF(AN21="TC2","2:40",IF(AN21="TC3","2:40",IF(AN21="TC4","2:40",IF(AN21="TC5","7:40",IF(AN21="TC6","7:40",IF(AN21="TC7","3:50",IF(AN21="TC8","3:50",IF(AN21="TC9","3:50",IF(AN21="TC10","3:50",IF(AN21="TC11","3:50",IF(AN21="TC12","3:50",IF(AN21="TC13","3:50",IF(AN21="TC14","3:50",IF(AN21="SP-D","0",IF(AN21="SP-H","0",)))))))))))))))) -> 0 | AP21: =IF(AN21="TC7","YES",IF(AN21="TC9","YES",IF(AN21="TC11","YES",IF(AN21="TC13","YES",IF(AN21="TC15","YES",IF(AN21="SP-R","YES",)))))) -> 0 | AQ21: =W21+Z21+AC21+AF21+AI21+AL21+AO21 -> 0.47916667 | AR21: 0 | AS21: =COUNTIF(V21:AP21,"Yes") -> 3 | AU21: =TC!A23 -> Mubarak Salem Al Shaiban | AV21: 0.1875 | AW21: =IFERROR(VLOOKUP(AU21,'DAS Sun'!$F$11:$Q$60,12,0),"Off") -> 0.38333333 | AX21: =IFERROR(VLOOKUP(AU21,'DAS Sun'!$F$11:$R$60,13,0),"Off") -> 0.8125 | AY21: =$AY$4-AX21 -> 0.1875 | AZ21: =AW21+AV21 -> 0.57083333 | BA21: =IFERROR(VLOOKUP(AU21,'DAS Mon'!$F$9:$Q$60,12,0),"Off") -> 0.62291667 | BB21: =IFERROR(VLOOKUP(AU21,'DAS Mon'!$F$9:$R$60,13,0),"Off") -> 0.84722222 | BC21: =$AY$4-BB21 -> 0.15277778 | BD21: =BA21+AY21 -> 0.81041667 | BE21: =IFERROR(VLOOKUP(AU21,'DAS Tue'!$F$9:$Q$58,12,0),"Off") -> 0.67083333 | BF21: =IFERROR(VLOOKUP(AU21,'DAS Tue'!$F$9:$R$58,13,0),"Off") -> 0.88055556 | BG21: =$AY$4-BF21 -> 0.11944444 | BH21: =BE21+BC21 -> 0.82361111 | BI21: =IFERROR(VLOOKUP(AU21,'DAS Wed'!$F$11:$Q$60,12,0),"Off") -> 0.59236111 | BJ21: =IFERROR(VLOOKUP(AU21,'DAS Wed'!$F$11:$R$60,13,0),"Off") -> 0.80486111 | BK21: =$AY$4-BJ21 -> 0.19513889 | BL21: =BI21+BG21 -> 0.71180556 | BM21: =IFERROR(VLOOKUP(AU21,'DAS Thu'!$F$9:$Q$61,12,0),"Off") -> 0.45833333 | BN21: =IFERROR(VLOOKUP(AU21,'DAS Thu'!$F$9:$R$61,13,0),"Off") -> 0.83333333 | BO21: =$AY$4-BN21 -> 0.16666667 | BP21: =BM21+BK21 -> 0.65347222 | BQ21: =IFERROR(VLOOKUP(AU21,'DAS Fri'!$F$9:$Q$61,12,0),"Off") -> 0.5625 | BR21: =IFERROR(VLOOKUP(AU21,'DAS Fri'!$F$9:$R$61,13,0),"Off") -> 0.9375 | BS21: =$AY$4-BR21 -> 0.0625 | BT21: =BQ21+BO21 -> 0.72916667 | BU21: =IFERROR(VLOOKUP(AU21,'DAS Sat'!$F$20:$Q$61,12,0),"Off") -> Off | BV21: =IFERROR(VLOOKUP(AU21,'DAS Sat'!$F$20:$R$61,13,0),"Off") -> Off | BW21: =$AY$4-BV21 -> #VALUE! | BX21: =BU21+BS21 -> #VALUE!
B22: =TC!A24 -> Mohammed Abdul Karim Al Mazni | C22: =IFERROR(VLOOKUP(B22,'DAS Sun'!$F$9:$O$50,10,0),"Off") -> Off | D22: =TC!E24 -> 0 | E22: =IFERROR(VLOOKUP(B22,'DAS Mon'!$F$9:$O$44,10,0),"Off") -> Off | F22: =TC!I24 -> 0 | G22: =IFERROR(VLOOKUP(B22,'DAS Tue'!$F$9:$O$44,10,0),"Off") -> Off | H22: =TC!M24 -> 0.22430556 | I22: =IFERROR(VLOOKUP(B22,'DAS Wed'!$F$9:$O$50,10,0),"Off") -> Off | J22: =TC!Q24 -> 0.20972222 | K22: =IFERROR(VLOOKUP(B22,'DAS Thu'!$F$9:$O$47,10,0),"Off") -> Off | L22: =TC!U24 -> 0.375 | M22: =IFERROR(VLOOKUP(B22,'DAS Fri'!$F$9:$O$46,10,0),"Off") -> Off | N22: =TC!Y24 -> 0.375 | O22: =IFERROR(VLOOKUP(B22,'DAS Sat'!$F$9:$O$48,10,0),"Off") -> Off | P22: =TC!AC24 -> 0.375 | Q22: =SUM(C22,E22,G22,I22,K22,M22,O22) -> 0 | R22: =P22+N22+L22+J22+H22+F22+D22 -> 1.5590278 | S22: =COUNTIF(C22:P22,"Off") -> 7 | T22: =R22-Q22 -> 1.5590278 | U22: =TC!A24 -> Mohammed Abdul Karim Al Mazni | V22: =IFERROR(VLOOKUP(U22,'DAS Sun'!$F$12:$P$50,11,0),"Off") -> Off | W22: =IF(V22="TC1","7:40",IF(V22="TC2","2:40",IF(V22="TC3","2:40",IF(V22="TC4","2:40",IF(V22="TC5","7:40",IF(V22="TC6","7:40",IF(V22="TC7","3:50",IF(V22="TC8","3:50",IF(V22="TC9","3:50",IF(V22="TC10","3:50",IF(V22="TC11","3:50",IF(V22="TC12","3:50",IF(V22="TC13","3:50",IF(V22="TC14","3:50",IF(V22="SP-D","0",IF(V22="SP-H","0",)))))))))))))))) -> 0 | X22: =IF(V22="TC1","YES",IF(V22="TC7","YES",IF(V22="TC9","YES",IF(V22="TC11","YES",IF(V22="TC13","YES",IF(V22="TC15","YES",IF(V22="SP-R","YES",))))))) -> 0 | Y22: =IFERROR(VLOOKUP(U22,'DAS Mon'!$F$9:$P$44,11,0),"Off") -> Off | Z22: =IF(Y22="TC1","7:40",IF(Y22="TC2","2:40",IF(Y22="TC3","2:40",IF(Y22="TC4","2:40",IF(Y22="TC5","7:40",IF(Y22="TC6","7:40",IF(Y22="TC7","3:50",IF(Y22="TC8","3:50",IF(Y22="TC9","3:50",IF(Y22="TC10","3:50",IF(Y22="TC11","3:50",IF(Y22="TC12","3:50",IF(Y22="TC13","3:50",IF(Y22="TC14","3:50",IF(Y22="SP-D","0",IF(Y22="SP-H","0",)))))))))))))))) -> 0 | AA22: =IF(Y22="TC1","YES",IF(Y22="TC7","YES",IF(Y22="TC9","YES",IF(Y22="TC11","YES",IF(Y22="TC13","YES",IF(Y22="TC15","YES",IF(Y22="SP-R","YES",))))))) -> 0 | AB22: =IFERROR(VLOOKUP(U22,'DAS Tue'!$F$9:$P$44,11,0),"Off") -> Off | AC22: =IF(AB22="TC1","7:40",IF(AB22="TC2","2:40",IF(AB22="TC3","2:40",IF(AB22="TC4","2:40",IF(AB22="TC5","7:40",IF(AB22="TC6","7:40",IF(AB22="TC7","3:50",IF(AB22="TC8","3:50",IF(AB22="TC9","3:50",IF(AB22="TC10","3:50",IF(AB22="TC11","3:50",IF(AB22="TC12","3:50",IF(AB22="TC13","3:50",IF(AB22="TC14","3:50",IF(AB22="SP-D","0",IF(AB22="SP-H","0",)))))))))))))))) -> 0 | AD22: =IF(AB22="TC1","YES",IF(AB22="TC7","YES",IF(AB22="TC9","YES",IF(AB22="TC11","YES",IF(AB22="TC13","YES",IF(AB22="TC15","YES",IF(AB22="SP-R","YES",))))))) -> 0 | AE22: =IFERROR(VLOOKUP(U22,'DAS Wed'!$F$11:$P$50,11,0),"Off") -> Off | AF22: =IF(AE22="TC1","7:40",IF(AE22="TC2","2:40",IF(AE22="TC3","2:40",IF(AE22="TC4","2:40",IF(AE22="TC5","7:40",IF(AE22="TC6","7:40",IF(AE22="TC7","3:50",IF(AE22="TC8","3:50",IF(AE22="TC9","3:50",IF(AE22="TC10","3:50",IF(AE22="TC11","3:50",IF(AE22="TC12","3:50",IF(AE22="TC13","3:50",IF(AE22="TC14","3:50",IF(AE22="SP-D","0",IF(AE22="SP-H","0",)))))))))))))))) -> 0 | AG22: =IF(AE22="TC1","YES",IF(AE22="TC7","YES",IF(AE22="TC9","YES",IF(AE22="TC11","YES",IF(AE22="TC13","YES",IF(AE22="TC15","YES",IF(AE22="SP-R","YES",))))))) -> 0 | AH22: =IFERROR(VLOOKUP(U22,'DAS Thu'!$F$9:$P$45,11,0),"Off") -> Off | AI22: =IF(AH22="TC1","7:40",IF(AH22="TC2","2:40",IF(AH22="TC3","2:40",IF(AH22="TC4","2:40",IF(AH22="TC5","7:40",IF(AH22="TC6","7:40",IF(AH22="TC7","3:50",IF(AH22="TC8","3:50",IF(AH22="TC9","3:50",IF(AH22="TC10","3:50",IF(AH22="TC11","3:50",IF(AH22="TC12","3:50",IF(AH22="TC13","3:50",IF(AH22="TC14","3:50",IF(AH22="SP-D","0",IF(AH22="SP-H","0",)))))))))))))))) -> 0 | AJ22: =IF(AH22="TC1","YES",IF(AH22="TC7","YES",IF(AH22="TC9","YES",IF(AH22="TC11","YES",IF(AH22="TC13","YES",IF(AH22="TC15","YES",IF(AH22="SP-R","YES",))))))) -> 0 | AK22: =IFERROR(VLOOKUP(U22,'DAS Fri'!$F$9:$P$46,11,0),"Off") -> Off | AL22: =IF(AK22="TC1","7:40",IF(AK22="TC2","2:40",IF(AK22="TC3","2:40",IF(AK22="TC4","2:40",IF(AK22="TC5","7:40",IF(AK22="TC6","7:40",IF(AK22="TC7","3:50",IF(AK22="TC8","3:50",IF(AK22="TC9","3:50",IF(AK22="TC10","3:50",IF(AK22="TC11","3:50",IF(AK22="TC12","3:50",IF(AK22="TC13","3:50",IF(AK22="TC14","3:50",IF(AK22="SP-D","0",IF(AK22="SP-H","0",)))))))))))))))) -> 0 | AM22: =IF(AK22="TC7","YES",IF(AK22="TC9","YES",IF(AK22="TC11","YES",IF(AK22="TC13","YES",IF(AK22="TC15","YES",IF(AK22="SP-R","YES",)))))) -> 0 | AN22: =IFERROR(VLOOKUP(U22,'DAS Sat'!$F$20:$P$48,11,0),"Off") -> Off | AO22: =IF(AN22="TC1","7:40",IF(AN22="TC2","2:40",IF(AN22="TC3","2:40",IF(AN22="TC4","2:40",IF(AN22="TC5","7:40",IF(AN22="TC6","7:40",IF(AN22="TC7","3:50",IF(AN22="TC8","3:50",IF(AN22="TC9","3:50",IF(AN22="TC10","3:50",IF(AN22="TC11","3:50",IF(AN22="TC12","3:50",IF(AN22="TC13","3:50",IF(AN22="TC14","3:50",IF(AN22="SP-D","0",IF(AN22="SP-H","0",)))))))))))))))) -> 0 | AP22: =IF(AN22="TC7","YES",IF(AN22="TC9","YES",IF(AN22="TC11","YES",IF(AN22="TC13","YES",IF(AN22="TC15","YES",IF(AN22="SP-R","YES",)))))) -> 0 | AQ22: =W22+Z22+AC22+AF22+AI22+AL22+AO22 -> 0 | AR22: 0 | AS22: =COUNTIF(V22:AP22,"Yes") -> 0 | AU22: =TC!A24 -> Mohammed Abdul Karim Al Mazni | AV22: #VALUE! | AW22: =IFERROR(VLOOKUP(AU22,'DAS Sun'!$F$11:$Q$60,12,0),"Off") -> 0.375 | AX22: =IFERROR(VLOOKUP(AU22,'DAS Sun'!$F$11:$R$60,13,0),"Off") -> 0.625 | AY22: =$AY$4-AX22 -> 0.375 | AZ22: =AW22+AV22 -> #VALUE! | BA22: =IFERROR(VLOOKUP(AU22,'DAS Mon'!$F$9:$Q$60,12,0),"Off") -> 0.375 | BB22: =IFERROR(VLOOKUP(AU22,'DAS Mon'!$F$9:$R$60,13,0),"Off") -> 0.625 | BC22: =$AY$4-BB22 -> 0.375 | BD22: =BA22+AY22 -> 0.75 | BE22: =IFERROR(VLOOKUP(AU22,'DAS Tue'!$F$9:$Q$58,12,0),"Off") -> 0.375 | BF22: =IFERROR(VLOOKUP(AU22,'DAS Tue'!$F$9:$R$58,13,0),"Off") -> 0.625 | BG22: =$AY$4-BF22 -> 0.375 | BH22: =BE22+BC22 -> 0.75 | BI22: =IFERROR(VLOOKUP(AU22,'DAS Wed'!$F$11:$Q$60,12,0),"Off") -> 0.375 | BJ22: =IFERROR(VLOOKUP(AU22,'DAS Wed'!$F$11:$R$60,13,0),"Off") -> 0.625 | BK22: =$AY$4-BJ22 -> 0.375 | BL22: =BI22+BG22 -> 0.75 | BM22: =IFERROR(VLOOKUP(AU22,'DAS Thu'!$F$9:$Q$61,12,0),"Off") -> 0.375 | BN22: =IFERROR(VLOOKUP(AU22,'DAS Thu'!$F$9:$R$61,13,0),"Off") -> 0.625 | BO22: =$AY$4-BN22 -> 0.375 | BP22: =BM22+BK22 -> 0.75 | BQ22: =IFERROR(VLOOKUP(AU22,'DAS Fri'!$F$9:$Q$61,12,0),"Off") -> Off | BR22: =IFERROR(VLOOKUP(AU22,'DAS Fri'!$F$9:$R$61,13,0),"Off") -> Off | BS22: =$AY$4-BR22 -> #VALUE! | BT22: =BQ22+BO22 -> #VALUE! | BU22: =IFERROR(VLOOKUP(AU22,'DAS Sat'!$F$20:$Q$61,12,0),"Off") -> Off | BV22: =IFERROR(VLOOKUP(AU22,'DAS Sat'!$F$20:$R$61,13,0),"Off") -> Off | BW22: =$AY$4-BV22 -> #VALUE! | BX22: =BU22+BS22 -> #VALUE!
B23: =TC!A25 -> Hussein Muhammad Al-Omari | C23: =IFERROR(VLOOKUP(B23,'DAS Sun'!$F$9:$O$50,10,0),"Off") -> 0.20833333 | D23: =TC!E25 -> 0.375 | E23: =IFERROR(VLOOKUP(B23,'DAS Mon'!$F$9:$O$44,10,0),"Off") -> 0.375 | F23: =TC!I25 -> 0 | G23: =IFERROR(VLOOKUP(B23,'DAS Tue'!$F$9:$O$44,10,0),"Off") -> 0.375 | H23: =TC!M25 -> 0 | I23: =IFERROR(VLOOKUP(B23,'DAS Wed'!$F$9:$O$50,10,0),"Off") -> Off | J23: =TC!Q25 -> 0.21527778 | K23: =IFERROR(VLOOKUP(B23,'DAS Thu'!$F$9:$O$47,10,0),"Off") -> Off | L23: =TC!U25 -> 0.20833333 | M23: =IFERROR(VLOOKUP(B23,'DAS Fri'!$F$9:$O$46,10,0),"Off") -> 0.25763889 | N23: =TC!Y25 -> 0.21527778 | O23: =IFERROR(VLOOKUP(B23,'DAS Sat'!$F$9:$O$48,10,0),"Off") -> 0.375 | P23: =TC!AC25 -> 0.20833333 | Q23: =SUM(C23,E23,G23,I23,K23,M23,O23) -> 1.5909722 | R23: =P23+N23+L23+J23+H23+F23+D23 -> 1.2222222 | S23: =COUNTIF(C23:P23,"Off") -> 2 | T23: =R23-Q23 -> -0.36875 | U23: =TC!A25 -> Hussein Muhammad Al-Omari | V23: =IFERROR(VLOOKUP(U23,'DAS Sun'!$F$12:$P$50,11,0),"Off") -> TC10 | W23: =IF(V23="TC1","7:40",IF(V23="TC2","2:40",IF(V23="TC3","2:40",IF(V23="TC4","2:40",IF(V23="TC5","7:40",IF(V23="TC6","7:40",IF(V23="TC7","3:50",IF(V23="TC8","3:50",IF(V23="TC9","3:50",IF(V23="TC10","3:50",IF(V23="TC11","3:50",IF(V23="TC12","3:50",IF(V23="TC13","3:50",IF(V23="TC14","3:50",IF(V23="SP-D","0",IF(V23="SP-H","0",)))))))))))))))) -> 3:50 | X23: =IF(V23="TC1","YES",IF(V23="TC7","YES",IF(V23="TC9","YES",IF(V23="TC11","YES",IF(V23="TC13","YES",IF(V23="TC15","YES",IF(V23="SP-R","YES",))))))) -> 0 | Y23: =IFERROR(VLOOKUP(U23,'DAS Mon'!$F$9:$P$44,11,0),"Off") -> SP-D | Z23: =IF(Y23="TC1","7:40",IF(Y23="TC2","2:40",IF(Y23="TC3","2:40",IF(Y23="TC4","2:40",IF(Y23="TC5","7:40",IF(Y23="TC6","7:40",IF(Y23="TC7","3:50",IF(Y23="TC8","3:50",IF(Y23="TC9","3:50",IF(Y23="TC10","3:50",IF(Y23="TC11","3:50",IF(Y23="TC12","3:50",IF(Y23="TC13","3:50",IF(Y23="TC14","3:50",IF(Y23="SP-D","0",IF(Y23="SP-H","0",)))))))))))))))) -> 0 | AA23: =IF(Y23="TC1","YES",IF(Y23="TC7","YES",IF(Y23="TC9","YES",IF(Y23="TC11","YES",IF(Y23="TC13","YES",IF(Y23="TC15","YES",IF(Y23="SP-R","YES",))))))) -> 0 | AB23: =IFERROR(VLOOKUP(U23,'DAS Tue'!$F$9:$P$44,11,0),"Off") -> SP-D | AC23: =IF(AB23="TC1","7:40",IF(AB23="TC2","2:40",IF(AB23="TC3","2:40",IF(AB23="TC4","2:40",IF(AB23="TC5","7:40",IF(AB23="TC6","7:40",IF(AB23="TC7","3:50",IF(AB23="TC8","3:50",IF(AB23="TC9","3:50",IF(AB23="TC10","3:50",IF(AB23="TC11","3:50",IF(AB23="TC12","3:50",IF(AB23="TC13","3:50",IF(AB23="TC14","3:50",IF(AB23="SP-D","0",IF(AB23="SP-H","0",)))))))))))))))) -> 0 | AD23: =IF(AB23="TC1","YES",IF(AB23="TC7","YES",IF(AB23="TC9","YES",IF(AB23="TC11","YES",IF(AB23="TC13","YES",IF(AB23="TC15","YES",IF(AB23="SP-R","YES",))))))) -> 0 | AE23: =IFERROR(VLOOKUP(U23,'DAS Wed'!$F$11:$P$50,11,0),"Off") -> Off | AF23: =IF(AE23="TC1","7:40",IF(AE23="TC2","2:40",IF(AE23="TC3","2:40",IF(AE23="TC4","2:40",IF(AE23="TC5","7:40",IF(AE23="TC6","7:40",IF(AE23="TC7","3:50",IF(AE23="TC8","3:50",IF(AE23="TC9","3:50",IF(AE23="TC10","3:50",IF(AE23="TC11","3:50",IF(AE23="TC12","3:50",IF(AE23="TC13","3:50",IF(AE23="TC14","3:50",IF(AE23="SP-D","0",IF(AE23="SP-H","0",)))))))))))))))) -> 0 | AG23: =IF(AE23="TC1","YES",IF(AE23="TC7","YES",IF(AE23="TC9","YES",IF(AE23="TC11","YES",IF(AE23="TC13","YES",IF(AE23="TC15","YES",IF(AE23="SP-R","YES",))))))) -> 0 | AH23: =IFERROR(VLOOKUP(U23,'DAS Thu'!$F$9:$P$45,11,0),"Off") -> Off | AI23: =IF(AH23="TC1","7:40",IF(AH23="TC2","2:40",IF(AH23="TC3","2:40",IF(AH23="TC4","2:40",IF(AH23="TC5","7:40",IF(AH23="TC6","7:40",IF(AH23="TC7","3:50",IF(AH23="TC8","3:50",IF(AH23="TC9","3:50",IF(AH23="TC10","3:50",IF(AH23="TC11","3:50",IF(AH23="TC12","3:50",IF(AH23="TC13","3:50",IF(AH23="TC14","3:50",IF(AH23="SP-D","0",IF(AH23="SP-H","0",)))))))))))))))) -> 0 | AJ23: =IF(AH23="TC1","YES",IF(AH23="TC7","YES",IF(AH23="TC9","YES",IF(AH23="TC11","YES",IF(AH23="TC13","YES",IF(AH23="TC15","YES",IF(AH23="SP-R","YES",))))))) -> 0 | AK23: =IFERROR(VLOOKUP(U23,'DAS Fri'!$F$9:$P$46,11,0),"Off") -> TC31&34 | AL23: =IF(AK23="TC1","7:40",IF(AK23="TC2","2:40",IF(AK23="TC3","2:40",IF(AK23="TC4","2:40",IF(AK23="TC5","7:40",IF(AK23="TC6","7:40",IF(AK23="TC7","3:50",IF(AK23="TC8","3:50",IF(AK23="TC9","3:50",IF(AK23="TC10","3:50",IF(AK23="TC11","3:50",IF(AK23="TC12","3:50",IF(AK23="TC13","3:50",IF(AK23="TC14","3:50",IF(AK23="SP-D","0",IF(AK23="SP-H","0",)))))))))))))))) -> 0 | AM23: =IF(AK23="TC7","YES",IF(AK23="TC9","YES",IF(AK23="TC11","YES",IF(AK23="TC13","YES",IF(AK23="TC15","YES",IF(AK23="SP-R","YES",)))))) -> 0 | AN23: =IFERROR(VLOOKUP(U23,'DAS Sat'!$F$20:$P$48,11,0),"Off") -> SP-D | AO23: =IF(AN23="TC1","7:40",IF(AN23="TC2","2:40",IF(AN23="TC3","2:40",IF(AN23="TC4","2:40",IF(AN23="TC5","7:40",IF(AN23="TC6","7:40",IF(AN23="TC7","3:50",IF(AN23="TC8","3:50",IF(AN23="TC9","3:50",IF(AN23="TC10","3:50",IF(AN23="TC11","3:50",IF(AN23="TC12","3:50",IF(AN23="TC13","3:50",IF(AN23="TC14","3:50",IF(AN23="SP-D","0",IF(AN23="SP-H","0",)))))))))))))))) -> 0 | AP23: =IF(AN23="TC7","YES",IF(AN23="TC9","YES",IF(AN23="TC11","YES",IF(AN23="TC13","YES",IF(AN23="TC15","YES",IF(AN23="SP-R","YES",)))))) -> 0 | AQ23: =W23+Z23+AC23+AF23+AI23+AL23+AO23 -> 0.15972222 | AR23: 0 | AS23: =COUNTIF(V23:AP23,"Yes") -> 0 | AU23: =TC!A25 -> Hussein Muhammad Al-Omari | AV23: 0.16666667 | AW23: =IFERROR(VLOOKUP(AU23,'DAS Sun'!$F$11:$Q$60,12,0),"Off") -> 0.48333333 | AX23: =IFERROR(VLOOKUP(AU23,'DAS Sun'!$F$11:$R$60,13,0),"Off") -> 0.69166667 | AY23: =$AY$4-AX23 -> 0.30833333 | AZ23: =AW23+AV23 -> 0.65 | BA23: =IFERROR(VLOOKUP(AU23,'DAS Mon'!$F$9:$Q$60,12,0),"Off") -> 0.5625 | BB23: =IFERROR(VLOOKUP(AU23,'DAS Mon'!$F$9:$R$60,13,0),"Off") -> 0.9375 | BC23: =$AY$4-BB23 -> 0.0625 | BD23: =BA23+AY23 -> 0.87083333 | BE23: =IFERROR(VLOOKUP(AU23,'DAS Tue'!$F$9:$Q$58,12,0),"Off") -> 0.5625 | BF23: =IFERROR(VLOOKUP(AU23,'DAS Tue'!$F$9:$R$58,13,0),"Off") -> 0.9375 | BG23: =$AY$4-BF23 -> 0.0625 | BH23: =BE23+BC23 -> 0.625 | BI23: =IFERROR(VLOOKUP(AU23,'DAS Wed'!$F$11:$Q$60,12,0),"Off") -> Off | BJ23: =IFERROR(VLOOKUP(AU23,'DAS Wed'!$F$11:$R$60,13,0),"Off") -> Off | BK23: =$AY$4-BJ23 -> #VALUE! | BL23: =BI23+BG23 -> #VALUE! | BM23: =IFERROR(VLOOKUP(AU23,'DAS Thu'!$F$9:$Q$61,12,0),"Off") -> Off | BN23: =IFERROR(VLOOKUP(AU23,'DAS Thu'!$F$9:$R$61,13,0),"Off") -> Off | BO23: =$AY$4-BN23 -> #VALUE! | BP23: =BM23+BK23 -> #VALUE! | BQ23: =IFERROR(VLOOKUP(AU23,'DAS Fri'!$F$9:$Q$61,12,0),"Off") -> 0.70763889 | BR23: =IFERROR(VLOOKUP(AU23,'DAS Fri'!$F$9:$R$61,13,0),"Off") -> 0.96527778 | BS23: =$AY$4-BR23 -> 0.034722222 | BT23: =BQ23+BO23 -> #VALUE! | BU23: =IFERROR(VLOOKUP(AU23,'DAS Sat'!$F$20:$Q$61,12,0),"Off") -> 0.5625 | BV23: =IFERROR(VLOOKUP(AU23,'DAS Sat'!$F$20:$R$61,13,0),"Off") -> 0.9375 | BW23: =$AY$4-BV23 -> 0.0625 | BX23: =BU23+BS23 -> 0.59722222
B24: =TC!A26 -> Saleh Ahmed Al-Olayani | C24: =IFERROR(VLOOKUP(B24,'DAS Sun'!$F$9:$O$50,10,0),"Off") -> 0.49791667 | D24: =TC!E26 -> 0.49791667 | E24: =IFERROR(VLOOKUP(B24,'DAS Mon'!$F$9:$O$44,10,0),"Off") -> Off | F24: =TC!I26 -> 0 | G24: =IFERROR(VLOOKUP(B24,'DAS Tue'!$F$9:$O$44,10,0),"Off") -> Off | H24: =TC!M26 -> 0 | I24: =IFERROR(VLOOKUP(B24,'DAS Wed'!$F$9:$O$50,10,0),"Off") -> 0.21527778 | J24: =TC!Q26 -> 0.375 | K24: =IFERROR(VLOOKUP(B24,'DAS Thu'!$F$9:$O$47,10,0),"Off") -> 0.20833333 | L24: =TC!U26 -> 0.375 | M24: =IFERROR(VLOOKUP(B24,'DAS Fri'!$F$9:$O$46,10,0),"Off") -> Off | N24: =TC!Y26 -> 0.375 | O24: =IFERROR(VLOOKUP(B24,'DAS Sat'!$F$9:$O$48,10,0),"Off") -> Off | P24: =TC!AC26 -> 0.375 | Q24: =SUM(C24,E24,G24,I24,K24,M24,O24) -> 0.92152778 | R24: =P24+N24+L24+J24+H24+F24+D24 -> 1.9979167 | S24: =COUNTIF(C24:P24,"Off") -> 4 | T24: =R24-Q24 -> 1.0763889 | U24: =TC!A26 -> Saleh Ahmed Al-Olayani | V24: =IFERROR(VLOOKUP(U24,'DAS Sun'!$F$12:$P$50,11,0),"Off") -> TC7&16 | W24: =IF(V24="TC1","7:40",IF(V24="TC2","2:40",IF(V24="TC3","2:40",IF(V24="TC4","2:40",IF(V24="TC5","7:40",IF(V24="TC6","7:40",IF(V24="TC7","3:50",IF(V24="TC8","3:50",IF(V24="TC9","3:50",IF(V24="TC10","3:50",IF(V24="TC11","3:50",IF(V24="TC12","3:50",IF(V24="TC13","3:50",IF(V24="TC14","3:50",IF(V24="SP-D","0",IF(V24="SP-H","0",)))))))))))))))) -> 0 | X24: =IF(V24="TC1","YES",IF(V24="TC7","YES",IF(V24="TC9","YES",IF(V24="TC11","YES",IF(V24="TC13","YES",IF(V24="TC15","YES",IF(V24="SP-R","YES",))))))) -> 0 | Y24: =IFERROR(VLOOKUP(U24,'DAS Mon'!$F$9:$P$44,11,0),"Off") -> Off | Z24: =IF(Y24="TC1","7:40",IF(Y24="TC2","2:40",IF(Y24="TC3","2:40",IF(Y24="TC4","2:40",IF(Y24="TC5","7:40",IF(Y24="TC6","7:40",IF(Y24="TC7","3:50",IF(Y24="TC8","3:50",IF(Y24="TC9","3:50",IF(Y24="TC10","3:50",IF(Y24="TC11","3:50",IF(Y24="TC12","3:50",IF(Y24="TC13","3:50",IF(Y24="TC14","3:50",IF(Y24="SP-D","0",IF(Y24="SP-H","0",)))))))))))))))) -> 0 | AA24: =IF(Y24="TC1","YES",IF(Y24="TC7","YES",IF(Y24="TC9","YES",IF(Y24="TC11","YES",IF(Y24="TC13","YES",IF(Y24="TC15","YES",IF(Y24="SP-R","YES",))))))) -> 0 | AB24: =IFERROR(VLOOKUP(U24,'DAS Tue'!$F$9:$P$44,11,0),"Off") -> Off | AC24: =IF(AB24="TC1","7:40",IF(AB24="TC2","2:40",IF(AB24="TC3","2:40",IF(AB24="TC4","2:40",IF(AB24="TC5","7:40",IF(AB24="TC6","7:40",IF(AB24="TC7","3:50",IF(AB24="TC8","3:50",IF(AB24="TC9","3:50",IF(AB24="TC10","3:50",IF(AB24="TC11","3:50",IF(AB24="TC12","3:50",IF(AB24="TC13","3:50",IF(AB24="TC14","3:50",IF(AB24="SP-D","0",IF(AB24="SP-H","0",)))))))))))))))) -> 0 | AD24: =IF(AB24="TC1","YES",IF(AB24="TC7","YES",IF(AB24="TC9","YES",IF(AB24="TC11","YES",IF(AB24="TC13","YES",IF(AB24="TC15","YES",IF(AB24="SP-R","YES",))))))) -> 0 | AE24: =IFERROR(VLOOKUP(U24,'DAS Wed'!$F$11:$P$50,11,0),"Off") -> TC7 | AF24: =IF(AE24="TC1","7:40",IF(AE24="TC2","2:40",IF(AE24="TC3","2:40",IF(AE24="TC4","2:40",IF(AE24="TC5","7:40",IF(AE24="TC6","7:40",IF(AE24="TC7","3:50",IF(AE24="TC8","3:50",IF(AE24="TC9","3:50",IF(AE24="TC10","3:50",IF(AE24="TC11","3:50",IF(AE24="TC12","3:50",IF(AE24="TC13","3:50",IF(AE24="TC14","3:50",IF(AE24="SP-D","0",IF(AE24="SP-H","0",)))))))))))))))) -> 3:50 | AG24: =IF(AE24="TC1","YES",IF(AE24="TC7","YES",IF(AE24="TC9","YES",IF(AE24="TC11","YES",IF(AE24="TC13","YES",IF(AE24="TC15","YES",IF(AE24="SP-R","YES",))))))) -> YES | AH24: =IFERROR(VLOOKUP(U24,'DAS Thu'!$F$9:$P$45,11,0),"Off") -> TC6 | AI24: =IF(AH24="TC1","7:40",IF(AH24="TC2","2:40",IF(AH24="TC3","2:40",IF(AH24="TC4","2:40",IF(AH24="TC5","7:40",IF(AH24="TC6","7:40",IF(AH24="TC7","3:50",IF(AH24="TC8","3:50",IF(AH24="TC9","3:50",IF(AH24="TC10","3:50",IF(AH24="TC11","3:50",IF(AH24="TC12","3:50",IF(AH24="TC13","3:50",IF(AH24="TC14","3:50",IF(AH24="SP-D","0",IF(AH24="SP-H","0",)))))))))))))))) -> 7:40 | AJ24: =IF(AH24="TC1","YES",IF(AH24="TC7","YES",IF(AH24="TC9","YES",IF(AH24="TC11","YES",IF(AH24="TC13","YES",IF(AH24="TC15","YES",IF(AH24="SP-R","YES",))))))) -> 0 | AK24: =IFERROR(VLOOKUP(U24,'DAS Fri'!$F$9:$P$46,11,0),"Off") -> Off | AL24: =IF(AK24="TC1","7:40",IF(AK24="TC2","2:40",IF(AK24="TC3","2:40",IF(AK24="TC4","2:40",IF(AK24="TC5","7:40",IF(AK24="TC6","7:40",IF(AK24="TC7","3:50",IF(AK24="TC8","3:50",IF(AK24="TC9","3:50",IF(AK24="TC10","3:50",IF(AK24="TC11","3:50",IF(AK24="TC12","3:50",IF(AK24="TC13","3:50",IF(AK24="TC14","3:50",IF(AK24="SP-D","0",IF(AK24="SP-H","0",)))))))))))))))) -> 0 | AM24: =IF(AK24="TC7","YES",IF(AK24="TC9","YES",IF(AK24="TC11","YES",IF(AK24="TC13","YES",IF(AK24="TC15","YES",IF(AK24="SP-R","YES",)))))) -> 0 | AN24: =IFERROR(VLOOKUP(U24,'DAS Sat'!$F$20:$P$48,11,0),"Off") -> Off | AO24: =IF(AN24="TC1","7:40",IF(AN24="TC2","2:40",IF(AN24="TC3","2:40",IF(AN24="TC4","2:40",IF(AN24="TC5","7:40",IF(AN24="TC6","7:40",IF(AN24="TC7","3:50",IF(AN24="TC8","3:50",IF(AN24="TC9","3:50",IF(AN24="TC10","3:50",IF(AN24="TC11","3:50",IF(AN24="TC12","3:50",IF(AN24="TC13","3:50",IF(AN24="TC14","3:50",IF(AN24="SP-D","0",IF(AN24="SP-H","0",)))))))))))))))) -> 0 | AP24: =IF(AN24="TC7","YES",IF(AN24="TC9","YES",IF(AN24="TC11","YES",IF(AN24="TC13","YES",IF(AN24="TC15","YES",IF(AN24="SP-R","YES",)))))) -> 0 | AQ24: =W24+Z24+AC24+AF24+AI24+AL24+AO24 -> 0.47916667 | AR24: 0 | AS24: =COUNTIF(V24:AP24,"Yes") -> 1 | AU24: =TC!A26 -> Saleh Ahmed Al-Olayani | AV24: 0.43402778 | AW24: =IFERROR(VLOOKUP(AU24,'DAS Sun'!$F$11:$Q$60,12,0),"Off") -> 0.46736111 | AX24: =IFERROR(VLOOKUP(AU24,'DAS Sun'!$F$11:$R$60,13,0),"Off") -> 0.96527778 | AY24: =$AY$4-AX24 -> 0.034722222 | AZ24: =AW24+AV24 -> 0.90138889 | BA24: =IFERROR(VLOOKUP(AU24,'DAS Mon'!$F$9:$Q$60,12,0),"Off") -> Off | BB24: =IFERROR(VLOOKUP(AU24,'DAS Mon'!$F$9:$R$60,13,0),"Off") -> Off | BC24: =$AY$4-BB24 -> #VALUE! | BD24: =BA24+AY24 -> #VALUE! | BE24: =IFERROR(VLOOKUP(AU24,'DAS Tue'!$F$9:$Q$58,12,0),"Off") -> Off | BF24: =IFERROR(VLOOKUP(AU24,'DAS Tue'!$F$9:$R$58,13,0),"Off") -> Off | BG24: =$AY$4-BF24 -> #VALUE! | BH24: =BE24+BC24 -> #VALUE! | BI24: =IFERROR(VLOOKUP(AU24,'DAS Wed'!$F$11:$Q$60,12,0),"Off") -> 0.46736111 | BJ24: =IFERROR(VLOOKUP(AU24,'DAS Wed'!$F$11:$R$60,13,0),"Off") -> 0.68263889 | BK24: =$AY$4-BJ24 -> 0.31736111 | BL24: =BI24+BG24 -> #VALUE! | BM24: =IFERROR(VLOOKUP(AU24,'DAS Thu'!$F$9:$Q$61,12,0),"Off") -> 0.27291667 | BN24: =IFERROR(VLOOKUP(AU24,'DAS Thu'!$F$9:$R$61,13,0),"Off") -> 0.48125 | BO24: =$AY$4-BN24 -> 0.51875 | BP24: =BM24+BK24 -> 0.59027778 | BQ24: =IFERROR(VLOOKUP(AU24,'DAS Fri'!$F$9:$Q$61,12,0),"Off") -> Off | BR24: =IFERROR(VLOOKUP(AU24,'DAS Fri'!$F$9:$R$61,13,0),"Off") -> Off | BS24: =$AY$4-BR24 -> #VALUE! | BT24: =BQ24+BO24 -> #VALUE! | BU24: =IFERROR(VLOOKUP(AU24,'DAS Sat'!$F$20:$Q$61,12,0),"Off") -> Off | BV24: =IFERROR(VLOOKUP(AU24,'DAS Sat'!$F$20:$R$61,13,0),"Off") -> Off | BW24: =$AY$4-BV24 -> #VALUE! | BX24: =BU24+BS24 -> #VALUE!
