Workbook

Sheet Dvr 
A3: Week Commencing Sunday | B3: 45928 | J3: Dammam Drivers
B5: Sunday | F5: Monday | J5: Tuesday | N5: Wednesday | R5: Thursday | V5: Friday | Z5: Saturday
B6: Shift | C6: On | D6: Off | E6: Hours | F6: Shift | G6: On | H6: Off | I6: Hours | J6: Shift | K6: On | L6: Off | M6: Hours | N6: Shift | O6: On | P6: Off | Q6: Hours | R6: Shift | S6: On | T6: Off | U6: Hours | V6: Shift | W6: On | X6: Off | Y6: Hours | Z6: Shift | AA6: On | AB6: Off | AC6: Hours
A7: Zakaria Abdullah Al-Batran | C7: Rest | D7: Day | G7: Rest | H7: Day | J7: SP | K7: 0.15486111 | L7: 0.48819444 | M7: =L7-K7 -> 0.33333333 | N7: DSBY1 | O7: 0.16666667 | P7: 0.57986111 | Q7: =P7-O7 -> 0.41319444 | R7: MLD3 & 10 | S7: 0.23055556 | T7: 0.68819444 | U7: =T7-S7 -> 0.45763889 | V7: SP | W7: 0.25 | X7: 0.58333333 | Y7: =X7-W7 -> 0.33333333 | Z7: SP | AA7: 0.25 | AB7: 0.58333333 | AC7: =AB7-AA7 -> 0.33333333
A8: Ahmed Almadeh | C8: Rest | D8: Day | G8: Rest | H8: Day | K8: Rest | L8: Day | N8: MLD3&10 | O8: 0.23055556 | P8: 0.68819444 | Q8: =P8-O8 -> 0.45763889 | R8: SP | S8: 0.25 | T8: 0.58333333 | U8: =T8-S8 -> 0.33333333 | V8: SP | W8: 0.25 | X8: 0.58333333 | Y8: =X8-W8 -> 0.33333333 | Z8: SP | AA8: 0.25 | AB8: 0.58333333 | AC8: =AB8-AA8 -> 0.33333333
A9: Ali Ahmed Al-Farhan | B9: MLD5&12 | C9: 0.39375 | D9: 0.80902778 | E9: =D9-C9 -> 0.41527778 | G9: Rest | H9: Day | K9: Rest | L9: Day | O9: Rest | P9: Day | R9: SP | S9: 0.39375 | T9: 0.72708333 | U9: =T9-S9 -> 0.33333333 | V9: SP | W9: 0.39375 | X9: 0.72708333 | Y9: =X9-W9 -> 0.33333333 | Z9: SP | AA9: 0.39375 | AB9: 0.72708333 | AC9: =AB9-AA9 -> 0.33333333
A10: Nayef Khaled Al-Sahli | B10: DDD2 | C10: 0.58333333 | D10: 0.91666667 | E10: =D10-C10 -> 0.33333333 | F10: SP | G10: 0.58333333 | H10: 0.91666667 | I10: =H10-G10 -> 0.33333333 | J10: DDD2 | K10: 0.58333333 | L10: 0.91666667 | M10: =L10-K10 -> 0.33333333 | O10: Rest | P10: Day | S10: Rest | T10: Day | V10: SP | W10: 0.58333333 | X10: 0.91666667 | Y10: =X10-W10 -> 0.33333333 | Z10: SP | AA10: 0.58333333 | AB10: 0.91666667 | AC10: =AB10-AA10 -> 0.33333333
A11: Vacancy2 | B11: MLD9&18 | C11: 0.60277778 | D11: 0.99513889 | E11: =D11-C11 -> 0.39236111 | F11: DSBY2 | G11: 0.57986111 | H11: 0.99305556 | I11: =H11-G11 -> 0.41319444 | J11: SP | K11: 0.58333333 | L11: 0.91666667 | M11: =L11-K11 -> 0.33333333 | N11: MLD9&18 | O11: 0.60277778 | P11: 0.99513889 | Q11: =P11-O11 -> 0.39236111 | R11: DSBY2 | S11: 0.57986111 | T11: 0.99305556 | U11: =T11-S11 -> 0.41319444 | W11: Rest | X11: Day | AA11: Rest | AB11: Day
A12: Ali Hassan Almeer | B12: MLD13 | C12: 0.63333333 | D12: 0.84375 | E12: =D12-C12 -> 0.21041667 | F12: MLD14 | G12: 0.68125 | H12: 0.88958333 | I12: =H12-G12 -> 0.20833333 | J12: SP | K12: 0.58333333 | L12: 0.91666667 | M12: =L12-K12 -> 0.33333333 | N12: SP | O12: 0.58333333 | P12: 0.91666667 | Q12: =P12-O12 -> 0.33333333 | S12: Rest | T12: Day | W12: Rest | X12: Day | AA12: Rest | AB12: Day
A13: Mohammed Khaled Al-Muhanna | C13: Rest | D13: Day | F13: SP | G13: 0.58333333 | H13: 0.91666667 | I13: =H13-G13 -> 0.33333333 | J13: MLD9&18 | K13: 0.60277778 | L13: 0.99513889 | M13: =L13-K13 -> 0.39236111 | N13: SP | O13: 0.58333333 | P13: 0.91666667 | Q13: =P13-O13 -> 0.33333333 | R13: SP | S13: 0.58333333 | T13: 0.91666667 | U13: =T13-S13 -> 0.33333333 | W13: Rest | X13: Day | AA13: Rest | AB13: Day
A14: Khaled Saleh Al-Zahrani | C14: Rest | D14: Day | G14: Rest | H14: Day | K14: Rest | L14: Day | N14: SP | O14: 0.20833333 | P14: 0.54166667 | Q14: =P14-O14 -> 0.33333333 | R14: MLD13 | S14: 0.63333333 | T14: 0.84375 | U14: =T14-S14 -> 0.21041667 | V14: MLD8 | W14: 0.36805556 | X14: 0.57638889 | Y14: =X14-W14 -> 0.20833333 | Z14: DSBY1 | AA14: 0.16666667 | AB14: 0.57986111 | AC14: =AB14-AA14 -> 0.41319444
A15: Saeed Ali Hindi | B15: SP | C15: 0.39375 | D15: 0.72708333 | E15: =D15-C15 -> 0.33333333 | F15: SP | G15: 0.39375 | H15: 0.72708333 | I15: =H15-G15 -> 0.33333333 | K15: Rest | L15: Day | O15: Rest | P15: Day | R15: MLD5&12 | S15: 0.39375 | T15: 0.80902778 | U15: =T15-S15 -> 0.41527778 | V15: SP | W15: 0.33333333 | X15: 0.58333333 | Y15: =X15-W15 -> 0.25 | Z15: SP | AA15: 0.20833333 | AB15: 0.54166667 | AC15: =AB15-AA15 -> 0.33333333
A16: Zaki Mohammed Al Darwish | B16: SP | C16: 0.20833333 | D16: 0.54166667 | E16: =D16-C16 -> 0.33333333 | F16: SP | G16: 0.20833333 | H16: 0.54166667 | I16: =H16-G16 -> 0.33333333 | J16: SP | K16: 0.20833333 | L16: 0.54166667 | M16: =L16-K16 -> 0.33333333 | O16: Rest | P16: Day | S16: Rest | T16: Day | V16: MLD13 | W16: 0.63333333 | X16: 0.84375 | Y16: =X16-W16 -> 0.21041667 | Z16: MLD8 | AA16: 0.36805556 | AB16: 0.57638889 | AC16: =AB16-AA16 -> 0.20833333
A17: Attia Saad Al-Hazmi | B17: SP | C17: 0.58333333 | D17: 0.91666667 | E17: =D17-C17 -> 0.33333333 | F17: SP | G17: 0.58333333 | H17: 0.91666667 | I17: =H17-G17 -> 0.33333333 | J17: SP | K17: 0.58333333 | L17: 0.91666667 | M17: =L17-K17 -> 0.33333333 | N17: SP | O17: 0.58333333 | P17: 0.91666667 | Q17: =P17-O17 -> 0.33333333 | S17: Rest | T17: Day | W17: Rest | X17: Day | Z17: SP | AA17: 0.91041667 | AB17: 1.24375 | AC17: =AB17-AA17 -> 0.33333333
A18: Abdulkareem Hamid Al-Ghamdi | B18: SP | C18: 0.91041667 | D18: 1.24375 | E18: =D18-C18 -> 0.33333333 | F18: SP | G18: 0.91041667 | H18: 1.24375 | I18: =H18-G18 -> 0.33333333 | J18: SP | K18: 0.91041667 | L18: 1.24375 | M18: =L18-K18 -> 0.33333333 | N18: SP | O18: 0.91041667 | P18: 1.24375 | Q18: =P18-O18 -> 0.33333333 | R18: SP | S18: 0.91041667 | T18: 1.24375 | U18: =T18-S18 -> 0.33333333 | W18: Rest | X18: Day | AA18: Rest | AB18: Day
A19: Abdullah Abbas Al-Mari | C19: Rest | D19: Day | F19: MLD9&18 | G19: 0.60277778 | H19: 0.99513889 | I19: =H19-G19 -> 0.39236111 | J19: DSBY2 | K19: 0.57986111 | L19: 0.99305556 | M19: =L19-K19 -> 0.41319444 | N19: SP | O19: 0.58333333 | P19: 0.91666667 | Q19: =P19-O19 -> 0.33333333 | R19: MLD9&18 | S19: 0.60277778 | T19: 0.99513889 | U19: =T19-S19 -> 0.39236111 | W19: Rest | X19: Day | AA19: Rest | AB19: Day
A20: Ali Fadel Al-Hamada | C20: Rest | D20: Day | F20: MLD3&10 | G20: 0.23055556 | H20: 0.68819444 | I20: =H20-G20 -> 0.45763889 | J20: SP | K20: 0.20833333 | L20: 0.54166667 | M20: =L20-K20 -> 0.33333333 | N20: SP | O20: 0.20833333 | P20: 0.54166667 | Q20: =P20-O20 -> 0.33333333 | R20: SP | S20: 0.20833333 | T20: 0.54166667 | U20: =T20-S20 -> 0.33333333 | V20: SP | W20: 0.20833333 | X20: 0.54166667 | Y20: =X20-W20 -> 0.33333333 | AA20: Rest | AB20: Day
A21: Hussein Abdullah Al Hamid | C21: Rest | D21: Day | G21: Rest | H21: Day | J21: MLD9&18 | K21: 0.60277778 | L21: 0.99513889 | M21: =L21-K21 -> 0.39236111 | N21: MLD13 | O21: 0.63333333 | P21: 0.84375 | Q21: =P21-O21 -> 0.21041667 | R21: MLD14 | S21: 0.68125 | T21: 0.88958333 | U21: =T21-S21 -> 0.20833333 | V21: DD2 | W21: 0.58333333 | X21: 0.91666667 | Y21: =X21-W21 -> 0.33333333 | Z21: MLD9&18 | AA21: 0.60277778 | AB21: 0.99513889 | AC21: =AB21-AA21 -> 0.39236111
A22: Abdul Rahman Ahmed Al-Asiri | B22: DSBY2 | C22: 0.57986111 | D22: 0.99305556 | E22: =D22-C22 -> 0.41319444 | G22: Rest | H22: Day | K22: Rest | L22: Day | O22: Rest | P22: Day | R22: DD2 | S22: 0.58333333 | T22: 0.91666667 | U22: =T22-S22 -> 0.33333333 | V22: DSBY2 | W22: 0.57986111 | X22: 0.99305556 | Y22: =X22-W22 -> 0.41319444 | Z22: DSBY2 | AA22: 0.57986111 | AB22: 0.99305556 | AC22: =AB22-AA22 -> 0.41319444
A23: Omar Salem Al-Harbi | C23: Rest | D23: Day | G23: Rest | H23: Day | K23: Rest | L23: Day | N23: MLD5&12 | O23: 0.39375 | P23: 0.80902778 | Q23: =P23-O23 -> 0.41527778 | R23: SP | S23: 0.39375 | T23: 0.72708333 | U23: =T23-S23 -> 0.33333333 | V23: SP | W23: 0.39375 | X23: 0.72708333 | Y23: =X23-W23 -> 0.33333333 | Z23: SP | AA23: 0.39375 | AB23: 0.72708333 | AC23: =AB23-AA23 -> 0.33333333
A24: Sadiq Majid Al Zawad | B24: SP | C24: 0.25 | D24: 0.58333333 | E24: =D24-C24 -> 0.33333333 | F24: SP | G24: 0.25 | H24: 0.58333333 | I24: =H24-G24 -> 0.33333333 | J24: SP | K24: 0.25 | L24: 0.58333333 | M24: =L24-K24 -> 0.33333333 | O24: Rest | P24: Day | S24: Rest | T24: Day | V24: DSBY1 | W24: 0.16666667 | X24: 0.57986111 | Y24: =X24-W24 -> 0.41319444 | Z24: SP | AA24: 0.20833333 | AB24: 0.54166667 | AC24: =AB24-AA24 -> 0.33333333
A25: Faisal Abdul Rahman Al Naghmosh | B25: MLD3&10 | C25: 0.23055556 | D25: 0.68819444 | E25: =D25-C25 -> 0.45763889 | F25: SP | G25: 0.23055556 | H25: 0.56388889 | I25: =H25-G25 -> 0.33333333 | J25: DSBY1 | K25: 0.16666667 | L25: 0.57986111 | M25: =L25-K25 -> 0.41319444 | N25: SP | O25: 0.15486111 | P25: 0.48819444 | Q25: =P25-O25 -> 0.33333333 | S25: Rest | T25: Day | W25: Rest | X25: Day | AA25: Rest | AB25: Day
A26: Zaki Ali Al-Hendar | B26: SP | C26: 0.91041667 | D26: 1.24375 | E26: =D26-C26 -> 0.33333333 | F26: SP | G26: 0.91041667 | H26: 1.24375 | I26: =H26-G26 -> 0.33333333 | J26: MLD19&2 | K26: 0.91041667 | L26: 1.3152778 | M26: =L26-K26 -> 0.40486111 | N26: MLD19&2 | O26: 0.91041667 | P26: 1.3152778 | Q26: =P26-O26 -> 0.40486111 | R26: MLD19&2 | S26: 0.91041667 | T26: 1.3152778 | U26: =T26-S26 -> 0.40486111 | W26: Rest | X26: Day | AA26: Rest | AB26: Day
A27: Vacancy1 | C27: Rest | D27: Day | G27: Rest | H27: Day | J27: DD2 | K27: 0.58333333 | L27: 0.91666667 | M27: =L27-K27 -> 0.33333333 | N27: MLD9&18 | O27: 0.60277778 | P27: 0.99513889 | Q27: =P27-O27 -> 0.39236111 | R27: DDD2 | S27: 0.58333333 | T27: 0.91666667 | U27: =T27-S27 -> 0.33333333 | V27: DDD2 | W27: 0.58333333 | X27: 0.91666667 | Y27: =X27-W27 -> 0.33333333 | AA27: Rest | AB27: Day
A28: Ali Mohammed Alhadi | C28: Rest | D28: Day | F28: SP | G28: 0.58333333 | H28: 0.91666667 | I28: =H28-G28 -> 0.33333333 | J28: SP | K28: 0.58333333 | L28: 0.91666667 | M28: =L28-K28 -> 0.33333333 | N28: DSBY2 | O28: 0.57986111 | P28: 0.99305556 | Q28: =P28-O28 -> 0.41319444 | R28: SP | S28: 0.58333333 | T28: 0.91666667 | U28: =T28-S28 -> 0.33333333 | W28: Rest | X28: Day | AA28: Rest | AB28: Day
A29: Qasim Abdullah Al-Muhanna | B29: DSBY1 | C29: 0.16666667 | D29: 0.57986111 | E29: =D29-C29 -> 0.41319444 | F29: DSBY1 | G29: 0.16666667 | H29: 0.57986111 | I29: =H29-G29 -> 0.41319444 | J29: SP | K29: 0.20833333 | L29: 0.54166667 | M29: =L29-K29 -> 0.33333333 | N29: SP | O29: 0.20833333 | P29: 0.54166667 | Q29: =P29-O29 -> 0.33333333 | R29: DSBY1 | S29: 0.16666667 | T29: 0.57986111 | U29: =T29-S29 -> 0.41319444 | W29: Rest | X29: Day | AA29: Rest | AB29: Day
A30: Ahmed Hussein Al snaber | B30: MLD9&18 | C30: 0.60277778 | D30: 0.99513889 | E30: =D30-C30 -> 0.39236111 | F30: SP | G30: 0.58333333 | H30: 0.91666667 | I30: =H30-G30 -> 0.33333333 | J30: SP | K30: 0.58333333 | L30: 0.91666667 | M30: =L30-K30 -> 0.33333333 | N30: DDD2 | O30: 0.58333333 | P30: 0.91666667 | Q30: =P30-O30 -> 0.33333333 | S30: Rest | T30: Day | W30: Rest | X30: Day | Z30: MLD9&18 | AA30: 0.60277778 | AB30: 0.99513889 | AC30: =AB30-AA30 -> 0.39236111
A31: Abdulaziz Mohammed Al-Omani | B31: SP | C31: 0.58333333 | D31: 0.91666667 | E31: =D31-C31 -> 0.33333333 | F31: MLD9&18 | G31: 0.60277778 | H31: 0.99513889 | I31: =H31-G31 -> 0.39236111 | J31: SP | K31: 0.58333333 | L31: 0.91666667 | M31: =L31-K31 -> 0.33333333 | O31: Rest | P31: Day | S31: Rest | T31: Day | V31: SP | W31: 0.15486111 | X31: 0.48819444 | Y31: =X31-W31 -> 0.33333333 | Z31: SP | AA31: 0.15486111 | AB31: 0.48819444 | AC31: =AB31-AA31 -> 0.33333333
A32: Jamaan Ali Al-Zahrani | B32: SP | C32: 0.15486111 | D32: 0.48819444 | E32: =D32-C32 -> 0.33333333 | F32: SP | G32: 0.15486111 | H32: 0.48819444 | I32: =H32-G32 -> 0.33333333 | J32: MLD3&10 | K32: 0.23055556 | L32: 0.68819444 | M32: =L32-K32 -> 0.45763889 | O32: Rest | P32: Day | S32: Rest | T32: Day | V32: SP | W32: 0.91041667 | X32: 1.24375 | Y32: =X32-W32 -> 0.33333333 | Z32: MLD19&2 | AA32: 0.91041667 | AB32: 1.3152778 | AC32: =AB32-AA32 -> 0.40486111
A33: Suleiman Yahya Ghazwani | B33: MLD19&2 | C33: 0.91041667 | D33: 1.3152778 | E33: =D33-C33 -> 0.40486111 | F33: MLD19&2 | G33: 0.91041667 | H33: 1.3152778 | I33: =H33-G33 -> 0.40486111 | K33: Rest | L33: Day | O33: Rest | P33: Day | S33: Rest | T33: Day | V33: SP | W33: 0.58333333 | X33: 0.91666667 | Y33: =X33-W33 -> 0.33333333 | Z33: DDD2 | AA33: 0.58333333 | AB33: 0.91666667 | AC33: =AB33-AA33 -> 0.33333333
B35: Sunday | F35: Monday | J35: Tuesday | N35: Wednesday | R35: Thursday | V35: Friday | Z35: Saturday
B36: Shift | C36: On | D36: Off | E36: Hours | F36: Shift | G36: On | H36: Off | I36: Hours | J36: Shift | K36: On | L36: Off | M36: Hours | N36: Shift | O36: On | P36: Off | Q36: Hours | R36: Shift | S36: On | T36: Off | U36: Hours | V36: Shift | W36: On | X36: Off | Y36: Hours | Z36: Shift | AA36: On | AB36: Off | AC36: Hours
A37: Ali Saad Al-Ruwayjih | C37: Rest | D37: Day | G37: Rest | H37: Day | J37: HSBY 1 | K37: 0.20833333 | L37: 0.60416667 | M37: =L37-K37 -> 0.39583333 | N37: HSBY 1 | O37: 0.20833333 | P37: 0.60416667 | Q37: =P37-O37 -> 0.39583333 | R37: HSBY 1 | S37: 0.20833333 | T37: 0.60416667 | U37: =T37-S37 -> 0.39583333 | V37: HSBY 1 | W37: 0.20833333 | X37: 0.60416667 | Y37: =X37-W37 -> 0.39583333 | Z37: HSBY 1 | AA37: 0.20833333 | AB37: 0.60416667 | AC37: =AB37-AA37 -> 0.39583333
A38: Ahmed Mohammed Al-Mubarak | B38: HSBY 1 | C38: 0.20833333 | D38: 0.60416667 | E38: =D38-C38 -> 0.39583333 | F38: HSBY 1 | G38: 0.20833333 | H38: 0.60416667 | I38: =H38-G38 -> 0.39583333 | K38: Rest | L38: Day | O38: Rest | P38: Day | S38: Rest | T38: Day | V38: MLD11&20 | W38: 0.60277778 | X38: 0.99513889 | Y38: 0.39236111 | Z38: DD2 | AA38: 0.58333333 | AB38: 0.91666667 | AC38: =AB38-AA38 -> 0.33333333
A39: Muhammad Ali Al-Nasser | B39: HSBY 2 | C39: 0.60416667 | D39: 0.99652778 | E39: =D39-C39 -> 0.39236111 | F39: HSBY 2 | G39: 0.60416667 | H39: 0.99652778 | I39: =H39-G39 -> 0.39236111 | J39: HSBY 2 | K39: 0.60416667 | L39: 0.99652778 | M39: =L39-K39 -> 0.39236111 | N39: HSBY 2 | O39: 0.60416667 | P39: 0.99652778 | Q39: =P39-O39 -> 0.39236111 | S39: Rest | T39: Day | W39: Rest | X39: Day | AA39: Rest | AB39: Day
A40: Ahmed Habib Al-Mousa | C40: Rest | D40: Day | G40: Rest | H40: Day | J40: MLD13 | K40: 0.63333333 | L40: 0.84375 | M40: =L40-K40 -> 0.21041667 | N40: MLD14 | O40: 0.68125 | P40: 0.88958333 | Q40: =P40-O40 -> 0.20833333 | R40: HSBY 2 | S40: 0.60416667 | T40: 0.99652778 | U40: =T40-S40 -> 0.39236111 | V40: HSBY 2 | W40: 0.60416667 | X40: 0.99652778 | Y40: =X40-W40 -> 0.39236111 | Z40: HSBY 2 | AA40: 0.60416667 | AB40: 0.99652778 | AC40: =AB40-AA40 -> 0.39236111
A41: Ali Hussain Al-Rashed | C41: Rest | D41: Day | G41: Rest | H41: Day | K41: Rest | L41: Day | O41: Rest | P41: Day | R41: SP | S41: 0.20833333 | T41: 0.54166667 | U41: =T41-S41 -> 0.33333333 | V41: SP | W41: 0.20833333 | X41: 0.54166667 | Y41: =X41-W41 -> 0.33333333 | Z41: SP | AA41: 0.20833333 | AB41: 0.54166667 | AC41: =AB41-AA41 -> 0.33333333
A42: Mohammed Abdulrahman Al-Nwaiser | B42: DDD2 | C42: 0.58333333 | D42: 0.91666667 | E42: =D42-C42 -> 0.33333333 | F42: DDD2 | G42: 0.58333333 | H42: 0.91666667 | I42: =H42-G42 -> 0.33333333 | J42: SP | K42: 0.58333333 | L42: 0.91666667 | M42: =L42-K42 -> 0.33333333 | O42: Rest | P42: Day | S42: Rest | T42: Day | W42: Rest | X42: Day | Z42: MLD13 | AA42: 0.63333333 | AB42: 0.84375 | AC42: =AB42-AA42 -> 0.21041667
A43: Hassan Ali Al-Ghanem | B43: MLD14 | C43: 0.68125 | D43: 0.88958333 | E43: =D43-C43 -> 0.20833333 | F43: DD2 | G43: 0.58333333 | H43: 0.91666667 | I43: =H43-G43 -> 0.33333333 | K43: Rest | L43: Day | O43: Rest | P43: Day | S43: Rest | T43: Day | V43: SP | W43: 0.20833333 | X43: 0.54166667 | Y43: =X43-W43 -> 0.33333333 | Z43: MLD5&12 | AA43: 0.39375 | AB43: 0.80902778 | AC43: =AB43-AA43 -> 0.41527778
A44: Abdullah Fayez Al-Subaie | B44: SP | C44: 0.58333333 | D44: 0.91666667 | E44: =D44-C44 -> 0.33333333 | F44: MLD13 | G44: 0.63333333 | H44: 0.84375 | I44: =H44-G44 -> 0.21041667 | J44: MLD14 | K44: 0.68125 | L44: 0.88958333 | M44: =L44-K44 -> 0.20833333 | N44: DDD2 | O44: 0.58333333 | P44: 0.91666667 | Q44: =P44-O44 -> 0.33333333 | R44: MLD9&18 | S44: 0.60277778 | T44: 0.99513889 | U44: =T44-S44 -> 0.39236111 | W44: Rest | X44: Day | AA44: Rest | AB44: Day
B47: Sunday | F47: Monday | J47: Tuesday | N47: Wednesday | R47: Thursday | V47: Friday | Z47: Saturday
B48: Shift | C48: On | D48: Off | E48: Hours | F48: Shift | G48: On | H48: Off | I48: Hours | J48: Shift | K48: On | L48: Off | M48: Hours | N48: Shift | O48: On | P48: Off | Q48: Hours | R48: Shift | S48: On | T48: Off | U48: Hours | V48: Shift | W48: On | X48: Off | Y48: Hours | Z48: Shift | AA48: On | AB48: Off | AC48: Hours
A49: Ismail Khalifa Al- Amal | B49: DDD3 | C49: 0.91666667 | D49: 1.25 | E49: =D49-C49 -> 0.33333333 | F49: DDD3 | G49: 0.91666667 | H49: 1.25 | I49: =H49-G49 -> 0.33333333 | J49: DDD3 | K49: 0.91666667 | L49: 1.25 | M49: =L49-K49 -> 0.33333333 | N49: DDD3 | O49: 0.91666667 | P49: 1.25 | Q49: =P49-O49 -> 0.33333333 | R49: DDD3 | S49: 0.91666667 | T49: 1.25 | U49: =T49-S49 -> 0.33333333 | W49: Rest | X49: Day | AA49: Rest | AB49: Day
A50: Saleh A. Al Shehab | C50: Rest | D50: Day | G50: Rest | H50: Day | J50: DDD3 | K50: 0.91666667 | L50: 1.25 | M50: =L50-K50 -> 0.33333333 | N50: DDD3 | O50: 0.91666667 | P50: 1.25 | Q50: =P50-O50 -> 0.33333333 | R50: DDD3 | S50: 0.91666667 | T50: 1.25 | U50: =T50-S50 -> 0.33333333 | V50: DDD3 | W50: 0.91666667 | X50: 1.25 | Y50: =X50-W50 -> 0.33333333 | Z50: DDD3 | AA50: 0.91666667 | AB50: 1.25 | AC50: =AB50-AA50 -> 0.33333333
A51: Sami Hussein Al-Nazar | B51: DDD3 | C51: 0.91666667 | D51: 1.25 | E51: =D51-C51 -> 0.33333333 | F51: DDD3 | G51: 0.91666667 | H51: 1.25 | I51: =H51-G51 -> 0.33333333 | K51: Rest | L51: Day | O51: Rest | P51: Day | S51: Rest | T51: Day | V51: DDD1 | W51: 0.25 | X51: 0.58333333 | Y51: =X51-W51 -> 0.33333333 | Z51: DDD1 | AA51: 0.25 | AB51: 0.58333333 | AC51: =AB51-AA51 -> 0.33333333
A52: Saleh Hussein Al-Saleh | B52: DDD1 | C52: 0.25 | D52: 0.58333333 | E52: =D52-C52 -> 0.33333333 | F52: DDD1 | G52: 0.25 | H52: 0.58333333 | I52: =H52-G52 -> 0.33333333 | J52: DDD1 | K52: 0.25 | L52: 0.58333333 | M52: =L52-K52 -> 0.33333333 | N52: DDD1 | O52: 0.25 | P52: 0.58333333 | Q52: =P52-O52 -> 0.33333333 | R52: DDD1 | S52: 0.25 | T52: 0.58333333 | U52: =T52-S52 -> 0.33333333 | W52: Rest | X52: Day | AA52: Rest | AB52: Day
A53: Hussein Ali Al-Mubarak | C53: Rest | D53: Day | G53: Rest | H53: Day | J53: DDD1 | K53: 0.25 | L53: 0.58333333 | M53: =L53-K53 -> 0.33333333 | N53: DDD1 | O53: 0.25 | P53: 0.58333333 | Q53: =P53-O53 -> 0.33333333 | R53: DDD1 | S53: 0.25 | T53: 0.58333333 | U53: =T53-S53 -> 0.33333333 | V53: DDD1 | W53: 0.25 | X53: 0.58333333 | Y53: =X53-W53 -> 0.33333333 | Z53: DDD1 | AA53: 0.25 | AB53: 0.58333333 | AC53: =AB53-AA53 -> 0.33333333
A54: Ahmed Ali Al-Dossary | B54: DDD1 | C54: 0.25 | D54: 0.58333333 | E54: =D54-C54 -> 0.33333333 | F54: DDD1 | G54: 0.25 | H54: 0.58333333 | I54: =H54-G54 -> 0.33333333 | K54: Rest | L54: Day | O54: Rest | P54: Day | S54: Rest | T54: Day | V54: DDD3 | W54: 0.91666667 | X54: 1.25 | Y54: =X54-W54 -> 0.33333333 | Z54: DDD3 | AA54: 0.91666667 | AB54: 1.25 | AC54: =AB54-AA54 -> 0.33333333
B56: It is your responsibility to consult the Daily Alteration Sheet to ensure that you are aware of your shifts and any changes that may have taken place.
B59: All leave, sick, training, off roster etc. is shown on the Daily Sheets

Sheet DAS Sun
D2: Daily Alteration Sheet
B4: Sunday | D4: ='Dvr '!B3 -> 45928
B5: Driver | K5: Dammam
B8: Shift ID | C8: On Duty | D8: Off Duty | E8: Hours | F8: Name | J8: Comments
O9: =E9 -> 0 | P9: =B9 -> 0 | Q9: =C9 -> 0 | R9: =D9 -> 0
B10: SP | C10: 0.15486111 | D10: 0.48819444 | E10: =D10-C10 -> 0.33333333 | F10: ='Dvr '!A15 -> Saeed Ali Hindi | O10: =E10 -> 0.33333333 | P10: =B10 -> SP | Q10: =C10 -> 0.15486111 | R10: =D10 -> 0.48819444
O11: =E11 -> 0 | P11: =B11 -> 0 | Q11: =C11 -> 0 | R11: =D11 -> 0
B12: DSBY 1 | C12: 0.16666667 | D12: 0.57986111 | E12: =D12-C12 -> 0.41319444 | F12: ='Dvr '!A29 -> Qasim Abdullah Al-Muhanna | O12: =E12 -> 0.41319444 | P12: =B12 -> DSBY 1 | Q12: =C12 -> 0.16666667 | R12: =D12 -> 0.57986111
O13: =E13 -> 0 | P13: =B13 -> 0 | Q13: =C13 -> 0 | R13: =D13 -> 0
B14: SP | C14: 0.22708333 | D14: 0.54166667 | E14: =D14-C14 -> 0.31458333 | F14: ='Dvr '!A16 -> Zaki Mohammed Al Darwish | O14: =E14 -> 0.31458333 | P14: =B14 -> SP | Q14: =C14 -> 0.22708333 | R14: =D14 -> 0.54166667
O15: =E15 -> 0 | P15: =B15 -> 0 | Q15: =C15 -> 0 | R15: =D15 -> 0
B16: HSBY 1 | C16: 0.20833333 | D16: 0.60416667 | E16: =D16-C16 -> 0.39583333 | F16: ='Dvr '!A38 -> Ahmed Mohammed Al-Mubarak | O16: =E16 -> 0.39583333 | P16: =B16 -> HSBY 1 | Q16: =C16 -> 0.20833333 | R16: =D16 -> 0.60416667
O17: =E17 -> 0 | P17: =B17 -> 0 | Q17: =C17 -> 0 | R17: =D17 -> 0
B18: MLD3&10 | C18: 0.23055556 | D18: 0.68819444 | E18: =D18-C18 -> 0.45763889 | F18: ='Dvr '!A25 -> Faisal Abdul Rahman Al Naghmosh | O18: =E18 -> 0.45763889 | P18: =B18 -> MLD3&10 | Q18: =C18 -> 0.23055556 | R18: =D18 -> 0.68819444
O19: =E19 -> 0 | P19: =B19 -> 0 | Q19: =C19 -> 0 | R19: =D19 -> 0
B20: SP | C20: 0.5 | D20: 0.70833333 | E20: =D20-C20 -> 0.20833333 | F20: ='Dvr '!A24 -> Sadiq Majid Al Zawad | O20: =E20 -> 0.20833333 | P20: =B20 -> SP | Q20: =C20 -> 0.5 | R20: =D20 -> 0.70833333
O21: =E21 -> 0 | P21: =B21 -> 0 | Q21: =C21 -> 0 | R21: =D21 -> 0
B22: DDD1 | C22: 0.25 | D22: 0.58333333 | E22: =D22-C22 -> 0.33333333 | F22: ='Dvr '!A52 -> Saleh Hussein Al-Saleh | O22: =E22 -> 0.33333333 | P22: =B22 -> DDD1 | Q22: =C22 -> 0.25 | R22: =D22 -> 0.58333333
O23: =E23 -> 0 | P23: =B23 -> 0 | Q23: =C23 -> 0 | R23: =D23 -> 0
B24: DDD1 | C24: 0.25 | D24: 0.58333333 | E24: =D24-C24 -> 0.33333333 | F24: ='Dvr '!A54 -> Ahmed Ali Al-Dossary | O24: =E24 -> 0.33333333 | P24: =B24 -> DDD1 | Q24: =C24 -> 0.25 | R24: =D24 -> 0.58333333
O25: =E25 -> 0 | P25: =B25 -> 0 | Q25: =C25 -> 0 | R25: =D25 -> 0
B26: SP | C26: 0.41666667 | D26: 0.625 | E26: =D26-C26 -> 0.20833333 | F26: ='Dvr '!A42 -> Mohammed Abdulrahman Al-Nwaiser | O26: =E26 -> 0.20833333 | P26: =B26 -> SP | Q26: =C26 -> 0.41666667 | R26: =D26 -> 0.625
O27: =E27 -> 0 | P27: =B27 -> 0 | Q27: =C27 -> 0 | R27: =D27 -> 0
B28: MLD5&12 | C28: 0.39375 | D28: 0.80902778 | E28: =D28-C28 -> 0.41527778 | F28: ='Dvr '!A9 -> Ali Ahmed Al-Farhan | O28: =E28 -> 0.41527778 | P28: =B28 -> MLD5&12 | Q28: =C28 -> 0.39375 | R28: =D28 -> 0.80902778
O29: =E29 -> 0 | P29: =B29 -> 0 | Q29: =C29 -> 0 | R29: =D29 -> 0
B30: DSBY 2 | C30: 0.57986111 | D30: 0.99305556 | E30: =D30-C30 -> 0.41319444 | F30: ='Dvr '!A22 -> Abdul Rahman Ahmed Al-Asiri | O30: =E30 -> 0.41319444 | P30: =B30 -> DSBY 2 | Q30: =C30 -> 0.57986111 | R30: =D30 -> 0.99305556
O31: =E31 -> 0 | P31: =B31 -> 0 | Q31: =C31 -> 0 | R31: =D31 -> 0
B32: SP | C32: 0.58333333 | D32: 0.83333333 | E32: =D32-C32 -> 0.25 | F32: ='Dvr '!A32 -> Jamaan Ali Al-Zahrani | O32: =E32 -> 0.25 | P32: =B32 -> SP | Q32: =C32 -> 0.58333333 | R32: =D32 -> 0.83333333
O33: =E33 -> 0 | P33: =B33 -> 0 | Q33: =C33 -> 0 | R33: =D33 -> 0
B34: DDD2 | C34: 0.58333333 | D34: 0.83333333 | E34: =D34-C34 -> 0.25 | F34: ='Dvr '!A10 -> Nayef Khaled Al-Sahli | O34: =E34 -> 0.25 | P34: =B34 -> DDD2 | Q34: =C34 -> 0.58333333 | R34: =D34 -> 0.83333333
O35: =E35 -> 0 | P35: =B35 -> 0 | Q35: =C35 -> 0 | R35: =D35 -> 0
B36: DDD2 | C36: 0.58333333 | D36: 0.91666667 | E36: =D36-C36 -> 0.33333333 | F36: ='Dvr '!A31 -> Abdulaziz Mohammed Al-Omani | O36: =E36 -> 0.33333333 | P36: =B36 -> DDD2 | Q36: =C36 -> 0.58333333 | R36: =D36 -> 0.91666667
O37: =E37 -> 0 | P37: =B37 -> 0 | Q37: =C37 -> 0 | R37: =D37 -> 0
B38: MLD9&18 | C38: 0.60277778 | D38: 0.99513889 | E38: =D38-C38 -> 0.39236111 | F38: ='Dvr '!A30 -> Ahmed Hussein Al snaber | O38: =E38 -> 0.39236111 | P38: =B38 -> MLD9&18 | Q38: =C38 -> 0.60277778 | R38: =D38 -> 0.99513889
O39: =E39 -> 0 | P39: =B39 -> 0 | Q39: =C39 -> 0 | R39: =D39 -> 0
B40: MLD9&18 | C40: 0.60277778 | D40: 0.99513889 | E40: =D40-C40 -> 0.39236111 | F40: ='Dvr '!A17 -> Attia Saad Al-Hazmi | J40: ='Dvr '!A11 -> Vacancy2 | O40: =E40 -> 0.39236111 | P40: =B40 -> MLD9&18 | Q40: =C40 -> 0.60277778 | R40: =D40 -> 0.99513889
O41: =E41 -> 0 | P41: =B41 -> 0 | Q41: =C41 -> 0 | R41: =D41 -> 0
B42: HSBY 2 | C42: 0.60416667 | D42: 0.99652778 | E42: =D42-C42 -> 0.39236111 | F42: ='Dvr '!A44 -> Abdullah Fayez Al-Subaie | J42: Muhammed | O42: =E42 -> 0.39236111 | P42: =B42 -> HSBY 2 | Q42: =C42 -> 0.60416667 | R42: =D42 -> 0.99652778
O43: =E43 -> 0 | P43: =B43 -> 0 | Q43: =C43 -> 0 | R43: =D43 -> 0
B44: MLD13 | C44: 0.63333333 | D44: 0.84375 | E44: =D44-C44 -> 0.21041667 | F44: ='Dvr '!A12 -> Ali Hassan Almeer | O44: =E44 -> 0.21041667 | P44: =B44 -> MLD13 | Q44: =C44 -> 0.63333333 | R44: =D44 -> 0.84375
O45: =E45 -> 0 | P45: =B45 -> 0 | Q45: =C45 -> 0 | R45: =D45 -> 0
B46: MLD14 | C46: 0.68125 | D46: 0.88958333 | E46: =D46-C46 -> 0.20833333 | F46: ='Dvr '!A43 -> Hassan Ali Al-Ghanem | O46: =E46 -> 0.20833333 | P46: =B46 -> MLD14 | Q46: =C46 -> 0.68125 | R46: =D46 -> 0.88958333
O47: =E47 -> 0 | P47: =B47 -> 0 | Q47: =C47 -> 0 | R47: =D47 -> 0
B48: SP | C48: 0.91041667 | D48: 1.24375 | E48: =D48-C48 -> 0.33333333 | F48: ='Dvr '!A26 -> Zaki Ali Al-Hendar | O48: =E48 -> 0.33333333 | P48: =B48 -> SP | Q48: =C48 -> 0.91041667 | R48: =D48 -> 1.24375
O49: =E49 -> 0 | P49: =B49 -> 0 | Q49: =C49 -> 0 | R49: =D49 -> 0
B50: MLD19&2 | C50: 0.91041667 | D50: 1.3152778 | E50: =D50-C50 -> 0.40486111 | F50: ='Dvr '!A33 -> Suleiman Yahya Ghazwani | O50: =E50 -> 0.40486111 | P50: =B50 -> MLD19&2 | Q50: =C50 -> 0.91041667 | R50: =D50 -> 1.3152778
O51: =E51 -> 0 | P51: =B51 -> 0 | Q51: =C51 -> 0 | R51: =D51 -> 0
B52: DDD3 | C52: 0.91666667 | D52: 1.25 | E52: =D52-C52 -> 0.33333333 | F52: ='Dvr '!A49 -> Ismail Khalifa Al- Amal | O52: =E52 -> 0.33333333 | P52: =B52 -> DDD3 | Q52: =C52 -> 0.91666667 | R52: =D52 -> 1.25
O53: =E53 -> 0 | P53: =B53 -> 0 | Q53: =C53 -> 0 | R53: =D53 -> 0
B54: DDD3 | C54: 0.91666667 | D54: 1.25 | E54: =D54-C54 -> 0.33333333 | F54: ='Dvr '!A51 -> Sami Hussein Al-Nazar | O54: =E54 -> 0.33333333 | P54: =B54 -> DDD3 | Q54: =C54 -> 0.91666667 | R54: =D54 -> 1.25
O55: =E55 -> 0 | P55: =B55 -> 0 | Q55: =C55 -> 0 | R55: =D55 -> 0
B58: Off Roster
B59: Activity | C59: On Duty | D59: Off Duty | E59: Hours | F59: Name | J59: Comments
B60: DET | C60: 0.33333333 | D60: 0.66666667 | E60: 0.33333333 | F60: ='Dvr '!A18 -> Abdulkareem Hamid Al-Ghamdi
B61: DET | C61: 0.33333333 | D61: 0.66666667 | E61: 0.33333333 | F61: ='Dvr '!A39 -> Muhammad Ali Al-Nasser
B63: Other (Leave, Sick etc.) | I63: Rest Day Off
B64: Type | C64: Name | I64: Name
I65: ='Dvr '!A7 -> Zakaria Abdullah Al-Batran
I66: ='Dvr '!A8 -> Ahmed Almadeh
I67: ='Dvr '!A13 -> Mohammed Khaled Al-Muhanna
I68: ='Dvr '!A19 -> Abdullah Abbas Al-Mari
I69: ='Dvr '!A20 -> Ali Fadel Al-Hamada
I70: ='Dvr '!A21 -> Hussein Abdullah Al Hamid
I71: ='Dvr '!A27 -> Vacancy1
I72: ='Dvr '!A28 -> Ali Mohammed Alhadi
I73: ='Dvr '!A23 -> Omar Salem Al-Harbi
I74: ='Dvr '!A53 -> Hussein Ali Al-Mubarak
I75: ='Dvr '!A37 -> Ali Saad Al-Ruwayjih
I76: ='Dvr '!A50 -> Saleh A. Al Shehab
I77: ='Dvr '!A14 -> Khaled Saleh Al-Zahrani
I78: ='Dvr '!A40 -> Ahmed Habib Al-Mousa
I79: ='Dvr '!A41 -> Ali Hussain Al-Rashed

Sheet DAS Mon
D2: Daily Alteration Sheet
B4: Monday | D4: ='DAS Sun'!D4+1 -> 45929
B5: Driver | K5: Dammam
B8: Shift ID | C8: On Duty | D8: Off Duty | E8: Hours | F8: Name | J8: Comments
O9: =E9 -> 0 | P9: =B9 -> 0 | Q9: =C9 -> 0 | R9: =D9 -> 0
B10: SP | C10: 0.15486111 | D10: 0.48819444 | E10: =D10-C10 -> 0.33333333 | F10: ='Dvr '!A42 -> Mohammed Abdulrahman Al-Nwaiser | O10: =E10 -> 0.33333333 | P10: =B10 -> SP | Q10: =C10 -> 0.15486111 | R10: =D10 -> 0.48819444
O11: =E11 -> 0 | P11: =B11 -> 0 | Q11: =C11 -> 0 | R11: =D11 -> 0
B12: DSBY 1 | C12: 0.16666667 | D12: 0.57986111 | E12: =D12-C12 -> 0.41319444 | O12: =E12 -> 0.41319444 | P12: =B12 -> DSBY 1 | Q12: =C12 -> 0.16666667 | R12: =D12 -> 0.57986111
O13: =E13 -> 0 | P13: =B13 -> 0 | Q13: =C13 -> 0 | R13: =D13 -> 0
B14: HSBY 1 | C14: 0.20833333 | D14: 0.60416667 | E14: =D14-C14 -> 0.39583333 | F14: ='Dvr '!A38 -> Ahmed Mohammed Al-Mubarak | O14: =E14 -> 0.39583333 | P14: =B14 -> HSBY 1 | Q14: =C14 -> 0.20833333 | R14: =D14 -> 0.60416667
O15: =E15 -> 0 | P15: =B15 -> 0 | Q15: =C15 -> 0 | R15: =D15 -> 0
B16: MLD3&10 | C16: 0.23055556 | D16: 0.68819444 | E16: =D16-C16 -> 0.45763889 | F16: ='Dvr '!A20 -> Ali Fadel Al-Hamada | O16: =E16 -> 0.45763889 | P16: =B16 -> MLD3&10 | Q16: =C16 -> 0.23055556 | R16: =D16 -> 0.68819444
O17: =E17 -> 0 | P17: =B17 -> 0 | Q17: =C17 -> 0 | R17: =D17 -> 0
B18: DDD1 | C18: 0.25 | D18: 0.58333333 | E18: =D18-C18 -> 0.33333333 | F18: ='Dvr '!A54 -> Ahmed Ali Al-Dossary | O18: =E18 -> 0.33333333 | P18: =B18 -> DDD1 | Q18: =C18 -> 0.25 | R18: =D18 -> 0.58333333
O19: =E19 -> 0 | P19: =B19 -> 0 | Q19: =C19 -> 0 | R19: =D19 -> 0
B20: DDD1 | C20: 0.25 | D20: 0.58333333 | E20: =D20-C20 -> 0.33333333 | F20: ='Dvr '!A52 -> Saleh Hussein Al-Saleh | O20: =E20 -> 0.33333333 | P20: =B20 -> DDD1 | Q20: =C20 -> 0.25 | R20: =D20 -> 0.58333333
O21: =E21 -> 0 | P21: =B21 -> 0 | Q21: =C21 -> 0 | R21: =D21 -> 0
B22: DSBY 2 | C22: 0.57986111 | D22: 0.99305556 | E22: =D22-C22 -> 0.41319444 | F22: ='Dvr '!A15 -> Saeed Ali Hindi | J22: ='Dvr '!A11 -> Vacancy2 | O22: =E22 -> 0.41319444 | P22: =B22 -> DSBY 2 | Q22: =C22 -> 0.57986111 | R22: =D22 -> 0.99305556
O23: =E23 -> 0 | P23: =B23 -> 0 | Q23: =C23 -> 0 | R23: =D23 -> 0
B24: SP | C24: 0.58333333 | D24: 0.91666667 | E24: =D24-C24 -> 0.33333333 | F24: ='Dvr '!A30 -> Ahmed Hussein Al snaber | O24: =E24 -> 0.33333333 | P24: =B24 -> SP | Q24: =C24 -> 0.58333333 | R24: =D24 -> 0.91666667
O25: =E25 -> 0 | P25: =B25 -> 0 | Q25: =C25 -> 0 | R25: =D25 -> 0
B26: DDD2 | C26: 0.58333333 | D26: 0.91666667 | E26: =D26-C26 -> 0.33333333 | F26: ='Dvr '!A43 -> Hassan Ali Al-Ghanem | O26: =E26 -> 0.33333333 | P26: =B26 -> DDD2 | Q26: =C26 -> 0.58333333 | R26: =D26 -> 0.91666667
O27: =E27 -> 0 | P27: =B27 -> 0 | Q27: =C27 -> 0 | R27: =D27 -> 0
B28: DDD2 | C28: 0.58333333 | D28: 0.91666667 | E28: =D28-C28 -> 0.33333333 | F28: ='Dvr '!A17 -> Attia Saad Al-Hazmi | O28: =E28 -> 0.33333333 | P28: =B28 -> DDD2 | Q28: =C28 -> 0.58333333 | R28: =D28 -> 0.91666667
O29: =E29 -> 0 | P29: =B29 -> 0 | Q29: =C29 -> 0 | R29: =D29 -> 0
B30: MLD9&18 | C30: 0.60277778 | D30: 0.99513889 | E30: =D30-C30 -> 0.39236111 | F30: ='Dvr '!A19 -> Abdullah Abbas Al-Mari | O30: =E30 -> 0.39236111 | P30: =B30 -> MLD9&18 | Q30: =C30 -> 0.60277778 | R30: =D30 -> 0.99513889
O31: =E31 -> 0 | P31: =B31 -> 0 | Q31: =C31 -> 0 | R31: =D31 -> 0
B32: MLD9&18 | C32: 0.60277778 | D32: 0.99513889 | E32: =D32-C32 -> 0.39236111 | F32: ='Dvr '!A13 -> Mohammed Khaled Al-Muhanna | O32: =E32 -> 0.39236111 | P32: =B32 -> MLD9&18 | Q32: =C32 -> 0.60277778 | R32: =D32 -> 0.99513889
O33: =E33 -> 0 | P33: =B33 -> 0 | Q33: =C33 -> 0 | R33: =D33 -> 0
B34: HSBY 2 | C34: 0.60416667 | D34: 0.99652778 | E34: =D34-C34 -> 0.39236111 | F34: ='Dvr '!A44 -> Abdullah Fayez Al-Subaie | J34: Muhammed | O34: =E34 -> 0.39236111 | P34: =B34 -> HSBY 2 | Q34: =C34 -> 0.60416667 | R34: =D34 -> 0.99652778
O35: =E35 -> 0 | P35: =B35 -> 0 | Q35: =C35 -> 0 | R35: =D35 -> 0
B36: MLD13 | C36: 0.63333333 | D36: 0.84375 | E36: =D36-C36 -> 0.21041667 | F36: ='Dvr '!A28 -> Ali Mohammed Alhadi | O36: =E36 -> 0.21041667 | P36: =B36 -> MLD13 | Q36: =C36 -> 0.63333333 | R36: =D36 -> 0.84375
O37: =E37 -> 0 | P37: =B37 -> 0 | Q37: =C37 -> 0 | R37: =D37 -> 0
B38: MLD14 | C38: 0.68125 | D38: 0.88958333 | E38: =D38-C38 -> 0.20833333 | F38: ='Dvr '!A12 -> Ali Hassan Almeer | O38: =E38 -> 0.20833333 | P38: =B38 -> MLD14 | Q38: =C38 -> 0.68125 | R38: =D38 -> 0.88958333
O39: =E39 -> 0 | P39: =B39 -> 0 | Q39: =C39 -> 0 | R39: =D39 -> 0
B40: SP | C40: 0.91041667 | D40: 1.24375 | E40: =D40-C40 -> 0.33333333 | F40: ='Dvr '!A26 -> Zaki Ali Al-Hendar | O40: =E40 -> 0.33333333 | P40: =B40 -> SP | Q40: =C40 -> 0.91041667 | R40: =D40 -> 1.24375
O41: =E41 -> 0 | P41: =B41 -> 0 | Q41: =C41 -> 0 | R41: =D41 -> 0
B42: MLD19&2 | C42: 0.91041667 | D42: 1.3152778 | E42: =D42-C42 -> 0.40486111 | F42: ='Dvr '!A33 -> Suleiman Yahya Ghazwani | O42: =E42 -> 0.40486111 | P42: =B42 -> MLD19&2 | Q42: =C42 -> 0.91041667 | R42: =D42 -> 1.3152778
O43: =E43 -> 0 | P43: =B43 -> 0 | Q43: =C43 -> 0 | R43: =D43 -> 0
B44: DDD3 | C44: 0.91666667 | D44: 1.25 | E44: =D44-C44 -> 0.33333333 | F44: ='Dvr '!A49 -> Ismail Khalifa Al- Amal | O44: =E44 -> 0.33333333 | P44: =B44 -> DDD3 | Q44: =C44 -> 0.91666667 | R44: =D44 -> 1.25
O45: =E45 -> 0 | P45: =B45 -> 0 | Q45: =C45 -> 0 | R45: =D45 -> 0
B46: DDD3 | C46: 0.91666667 | D46: 1.25 | E46: =D46-C46 -> 0.33333333 | F46: ='Dvr '!A51 -> Sami Hussein Al-Nazar | O46: =E46 -> 0.33333333 | P46: =B46 -> DDD3 | Q46: =C46 -> 0.91666667 | R46: =D46 -> 1.25
O47: =E47 -> 0 | P47: =B47 -> 0 | Q47: =C47 -> 0 | R47: =D47 -> 0
B50: Off Roster
B51: Activity | C51: On Duty | D51: Off Duty | E51: Hours | F51: Name | J51: Comments
B52: DET | C52: 0.33333333 | D52: 0.66666667 | E52: 0.33333333 | F52: ='Dvr '!A39 -> Muhammad Ali Al-Nasser
B53: DET | C53: 0.33333333 | D53: 0.66666667 | E53: 0.33333333 | F53: ='Dvr '!A18 -> Abdulkareem Hamid Al-Ghamdi
B54: TRG | C54: 0.375 | D54: 0.70833333 | E54: 0.33333333 | F54: ='Dvr '!A25 -> Faisal Abdul Rahman Al Naghmosh
B55: TRG | C55: 0.375 | D55: 0.70833333 | E55: 0.33333333 | F55: ='Dvr '!A29 -> Qasim Abdullah Al-Muhanna
B56: TRG | C56: 0.375 | D56: 0.70833333 | E56: 0.33333333 | F56: ='Dvr '!A24 -> Sadiq Majid Al Zawad
B57: TRG | C57: 0.375 | D57: 0.70833333 | E57: 0.33333333 | F57: ='Dvr '!A32 -> Jamaan Ali Al-Zahrani
B58: TRG | C58: 0.375 | D58: 0.70833333 | E58: 0.33333333 | F58: ='Dvr '!A10 -> Nayef Khaled Al-Sahli
B59: TRG | C59: 0.375 | D59: 0.70833333 | E59: 0.33333333 | F59: ='Dvr '!A31 -> Abdulaziz Mohammed Al-Omani
B60: DET | C60: 0.375 | D60: 0.70833333 | E60: 0.33333333 | F60: ='Dvr '!A16 -> Zaki Mohammed Al Darwish | J60: Schedule Review Meeting
B62: Other (Leave, Sick etc.) | I62: Rest Day Off
B63: Type | C63: Name | I63: Name
I64: ='Dvr '!A7 -> Zakaria Abdullah Al-Batran
I65: ='Dvr '!A8 -> Ahmed Almadeh
I66: ='Dvr '!A23 -> Omar Salem Al-Harbi
I67: ='Dvr '!A14 -> Khaled Saleh Al-Zahrani
I68: ='Dvr '!A37 -> Ali Saad Al-Ruwayjih
I69: ='Dvr '!A53 -> Hussein Ali Al-Mubarak
I70: ='Dvr '!A27 -> Vacancy1
I71: ='Dvr '!A50 -> Saleh A. Al Shehab
I72: ='Dvr '!A41 -> Ali Hussain Al-Rashed
I73: ='Dvr '!A9 -> Ali Ahmed Al-Farhan
I74: ='Dvr '!A21 -> Hussein Abdullah Al Hamid
I75: ='Dvr '!A22 -> Abdul Rahman Ahmed Al-Asiri
I76: ='Dvr '!A40 -> Ahmed Habib Al-Mousa

Sheet DAS Tue
D2: Daily Alteration Sheet
B4: Tuesday | D4: ='DAS Mon'!D4+1 -> 45930
B5: Driver | K5: Dammam
B8: Shift ID | C8: On Duty | D8: Off Duty | E8: Hours | F8: Name | J8: Comments
O9: =E9 -> 0 | P9: =B9 -> 0 | Q9: =C9 -> 0 | R9: =D9 -> 0
B10: SP | C10: 0.15486111 | D10: 0.48819444 | E10: =D10-C10 -> 0.33333333 | F10: ='Dvr '!A7 -> Zakaria Abdullah Al-Batran | O10: =E10 -> 0.33333333 | P10: =B10 -> SP | Q10: =C10 -> 0.15486111 | R10: =D10 -> 0.48819444
O11: =E11 -> 0 | P11: =B11 -> 0 | Q11: =C11 -> 0 | R11: =D11 -> 0
B12: DSBY 1 | C12: 0.20833333 | D12: 0.57986111 | E12: =D12-C12 -> 0.37152778 | F12: ='Dvr '!A20 -> Ali Fadel Al-Hamada | O12: =E12 -> 0.37152778 | P12: =B12 -> DSBY 1 | Q12: =C12 -> 0.20833333 | R12: =D12 -> 0.57986111
O13: =E13 -> 0 | P13: =B13 -> 0 | Q13: =C13 -> 0 | R13: =D13 -> 0
B14: SP | C14: 0.20833333 | D14: 0.54166667 | E14: =D14-C14 -> 0.33333333 | F14: ='Dvr '!A16 -> Zaki Mohammed Al Darwish | O14: =E14 -> 0.33333333 | P14: =B14 -> SP | Q14: =C14 -> 0.20833333 | R14: =D14 -> 0.54166667
O15: =E15 -> 0 | P15: =B15 -> 0 | Q15: =C15 -> 0 | R15: =D15 -> 0
B16: HSBY 1 | C16: 0.20833333 | D16: 0.60416667 | E16: =D16-C16 -> 0.39583333 | F16: ='Dvr '!A37 -> Ali Saad Al-Ruwayjih | O16: =E16 -> 0.39583333 | P16: =B16 -> HSBY 1 | Q16: =C16 -> 0.20833333 | R16: =D16 -> 0.60416667
O17: =E17 -> 0 | P17: =B17 -> 0 | Q17: =C17 -> 0 | R17: =D17 -> 0
B18: MLD3&10 | C18: 0.23055556 | D18: 0.68819444 | E18: =D18-C18 -> 0.45763889 | F18: ='Dvr '!A42 -> Mohammed Abdulrahman Al-Nwaiser | O18: =E18 -> 0.45763889 | P18: =B18 -> MLD3&10 | Q18: =C18 -> 0.23055556 | R18: =D18 -> 0.68819444
O19: =E19 -> 0 | P19: =B19 -> 0 | Q19: =C19 -> 0 | R19: =D19 -> 0
B20: DDD1 | C20: 0.25 | D20: 0.58333333 | E20: =D20-C20 -> 0.33333333 | F20: ='Dvr '!A52 -> Saleh Hussein Al-Saleh | O20: =E20 -> 0.33333333 | P20: =B20 -> DDD1 | Q20: =C20 -> 0.25 | R20: =D20 -> 0.58333333
O21: =E21 -> 0 | P21: =B21 -> 0 | Q21: =C21 -> 0 | R21: =D21 -> 0
B22: DDD1 | C22: 0.25 | D22: 0.58333333 | E22: =D22-C22 -> 0.33333333 | F22: ='Dvr '!A53 -> Hussein Ali Al-Mubarak | O22: =E22 -> 0.33333333 | P22: =B22 -> DDD1 | Q22: =C22 -> 0.25 | R22: =D22 -> 0.58333333
O23: =E23 -> 0 | P23: =B23 -> 0 | Q23: =C23 -> 0 | R23: =D23 -> 0
B24: DSBY 2 | C24: 0.57986111 | D24: 0.99305556 | E24: =D24-C24 -> 0.41319444 | F24: ='Dvr '!A17 -> Attia Saad Al-Hazmi | O24: =E24 -> 0.41319444 | P24: =B24 -> DSBY 2 | Q24: =C24 -> 0.57986111 | R24: =D24 -> 0.99305556
O25: =E25 -> 0 | P25: =B25 -> 0 | Q25: =C25 -> 0 | R25: =D25 -> 0
B26: SP | C26: 0.58333333 | D26: 0.91666667 | E26: =D26-C26 -> 0.33333333 | F26: ='Dvr '!A12 -> Ali Hassan Almeer | O26: =E26 -> 0.33333333 | P26: =B26 -> SP | Q26: =C26 -> 0.58333333 | R26: =D26 -> 0.91666667
B28: DDD2 | C28: 0.58333333 | D28: 0.91666667 | E28: =D28-C28 -> 0.33333333 | F28: ='Dvr '!A19 -> Abdullah Abbas Al-Mari | O28: =E28 -> 0.33333333 | P28: =B28 -> DDD2 | Q28: =C28 -> 0.58333333 | R28: =D28 -> 0.91666667
O29: =E29 -> 0 | P29: =B29 -> 0 | Q29: =C29 -> 0 | R29: =D29 -> 0
B30: DDD2 | C30: 0.58333333 | D30: 0.91666667 | E30: =D30-C30 -> 0.33333333 | F30: ='Dvr '!A30 -> Ahmed Hussein Al snaber | J30: ='Dvr '!A27 -> Vacancy1 | O30: =E30 -> 0.33333333 | P30: =B30 -> DDD2 | Q30: =C30 -> 0.58333333 | R30: =D30 -> 0.91666667
O31: =E31 -> 0 | P31: =B31 -> 0 | Q31: =C31 -> 0 | R31: =D31 -> 0
B32: MLD9&18 | C32: 0.60277778 | D32: 0.99513889 | E32: =D32-C32 -> 0.39236111 | F32: ='Dvr '!A13 -> Mohammed Khaled Al-Muhanna | O32: =E32 -> 0.39236111 | P32: =B32 -> MLD9&18 | Q32: =C32 -> 0.60277778 | R32: =D32 -> 0.99513889
O33: =E33 -> 0 | P33: =B33 -> 0 | Q33: =C33 -> 0 | R33: =D33 -> 0
B34: MLD9&18 | C34: 0.60277778 | D34: 0.99513889 | E34: =D34-C34 -> 0.39236111 | F34: ='Dvr '!A21 -> Hussein Abdullah Al Hamid | O34: =E34 -> 0.39236111 | P34: =B34 -> MLD9&18 | Q34: =C34 -> 0.60277778 | R34: =D34 -> 0.99513889
O35: =E35 -> 0 | P35: =B35 -> 0 | Q35: =C35 -> 0 | R35: =D35 -> 0
B36: HSBY 2 | C36: 0.60416667 | D36: 0.99652778 | E36: =D36-C36 -> 0.39236111 | F36: ='Dvr '!A44 -> Abdullah Fayez Al-Subaie | J36: Muhammed | O36: =E36 -> 0.39236111 | P36: =B36 -> HSBY 2 | Q36: =C36 -> 0.60416667 | R36: =D36 -> 0.99652778
O37: =E37 -> 0 | P37: =B37 -> 0 | Q37: =C37 -> 0 | R37: =D37 -> 0
B38: MLD13 | C38: 0.63333333 | D38: 0.84375 | E38: =D38-C38 -> 0.21041667 | F38: ='Dvr '!A40 -> Ahmed Habib Al-Mousa | O38: =E38 -> 0.21041667 | P38: =B38 -> MLD13 | Q38: =C38 -> 0.63333333 | R38: =D38 -> 0.84375
O39: =E39 -> 0 | P39: =B39 -> 0 | Q39: =C39 -> 0 | R39: =D39 -> 0
B40: MLD14 | C40: 0.68125 | D40: 0.88958333 | E40: =D40-C40 -> 0.20833333 | F40: ='Dvr '!A28 -> Ali Mohammed Alhadi | O40: =E40 -> 0.20833333 | P40: =B40 -> MLD14 | Q40: =C40 -> 0.68125 | R40: =D40 -> 0.88958333
O41: =E41 -> 0 | P41: =B41 -> 0 | Q41: =C41 -> 0 | R41: =D41 -> 0
B42: MLD19&2 | C42: 0.91041667 | D42: 1.3152778 | E42: =D42-C42 -> 0.40486111 | F42: ='Dvr '!A26 -> Zaki Ali Al-Hendar | O42: =E42 -> 0.40486111 | P42: =B42 -> MLD19&2 | Q42: =C42 -> 0.91041667 | R42: =D42 -> 1.3152778
O43: =E43 -> 0 | P43: =B43 -> 0 | Q43: =C43 -> 0 | R43: =D43 -> 0
B44: DDD3 | C44: 0.91666667 | D44: 1.25 | E44: =D44-C44 -> 0.33333333 | F44: ='Dvr '!A49 -> Ismail Khalifa Al- Amal | O44: =E44 -> 0.33333333 | P44: =B44 -> DDD3 | Q44: =C44 -> 0.91666667 | R44: =D44 -> 1.25
O45: =E45 -> 0 | P45: =B45 -> 0 | Q45: =C45 -> 0 | R45: =D45 -> 0
B46: DDD3 | C46: 0.91666667 | D46: 1.25 | E46: =D46-C46 -> 0.33333333 | F46: ='Dvr '!A50 -> Saleh A. Al Shehab | O46: =E46 -> 0.33333333 | P46: =B46 -> DDD3 | Q46: =C46 -> 0.91666667 | R46: =D46 -> 1.25
B49: Off Roster
B50: Activity | C50: On Duty | D50: Off Duty | E50: Hours | F50: Name | J50: Comments
B51: DET | C51: 0.33333333 | D51: 0.66666667 | E51: 0.33333333 | F51: ='Dvr '!A39 -> Muhammad Ali Al-Nasser
B52: DET | C52: 0.33333333 | D52: 0.66666667 | E52: 0.33333333 | F52: ='Dvr '!A18 -> Abdulkareem Hamid Al-Ghamdi
B53: TRG | C53: 0.375 | D53: 0.70833333 | E53: 0.33333333 | F53: ='Dvr '!A25 -> Faisal Abdul Rahman Al Naghmosh
B54: TRG | C54: 0.375 | D54: 0.70833333 | E54: 0.33333333 | F54: ='Dvr '!A29 -> Qasim Abdullah Al-Muhanna
B55: TRG | C55: 0.375 | D55: 0.70833333 | E55: 0.33333333 | F55: ='Dvr '!A24 -> Sadiq Majid Al Zawad
B56: TRG | C56: 0.375 | D56: 0.70833333 | E56: 0.33333333 | F56: ='Dvr '!A32 -> Jamaan Ali Al-Zahrani
B57: TRG | C57: 0.375 | D57: 0.70833333 | E57: 0.33333333 | F57: ='Dvr '!A10 -> Nayef Khaled Al-Sahli
B58: TRG | C58: 0.375 | D58: 0.70833333 | E58: 0.33333333 | F58: ='Dvr '!A31 -> Abdulaziz Mohammed Al-Omani
B61: Other (Leave, Sick etc.)
I62: Rest Day Off
B63: Type | C63: Name | I63: Name
I64: ='Dvr '!A8 -> Ahmed Almadeh
I65: ='Dvr '!A9 -> Ali Ahmed Al-Farhan
I66: ='Dvr '!A14 -> Khaled Saleh Al-Zahrani
I67: ='Dvr '!A15 -> Saeed Ali Hindi
I68: ='Dvr '!A22 -> Abdul Rahman Ahmed Al-Asiri
I69: ='Dvr '!A41 -> Ali Hussain Al-Rashed
I70: ='Dvr '!A33 -> Suleiman Yahya Ghazwani
I71: ='Dvr '!A38 -> Ahmed Mohammed Al-Mubarak
I72: ='Dvr '!A23 -> Omar Salem Al-Harbi
I73: ='Dvr '!A43 -> Hassan Ali Al-Ghanem
I74: ='Dvr '!A51 -> Sami Hussein Al-Nazar
I75: ='Dvr '!A54 -> Ahmed Ali Al-Dossary
I76: ='Dvr '!A23 -> Omar Salem Al-Harbi

Sheet DAS Wed
D2: Daily Alteration Sheet
B4: Wednesday | D4: ='DAS Tue'!D4+1 -> 45931
B5: Driver | K5: Dammam
B8: Shift ID | C8: On Duty | D8: Off Duty | E8: Hours | F8: Name | J8: Comments
O9: =E9 -> 0 | P9: =B9 -> 0 | Q9: =C9 -> 0 | R9: =D9 -> 0
B10: SP | C10: 0.15486111 | D10: 0.48819444 | E10: =D10-C10 -> 0.33333333 | F10: ='Dvr '!A25 -> Faisal Abdul Rahman Al Naghmosh | O10: =E10 -> 0.33333333 | P10: =B10 -> SP | Q10: =C10 -> 0.15486111 | R10: =D10 -> 0.48819444
O11: =E11 -> 0 | P11: =B11 -> 0 | Q11: =C11 -> 0 | R11: =D11 -> 0
B12: DSBY 1 | C12: 0.16666667 | D12: 0.57986111 | E12: =D12-C12 -> 0.41319444 | F12: ='Dvr '!A7 -> Zakaria Abdullah Al-Batran | O12: =E12 -> 0.41319444 | P12: =B12 -> DSBY 1 | Q12: =C12 -> 0.16666667 | R12: =D12 -> 0.57986111
O13: =E13 -> 0 | P13: =B13 -> 0 | Q13: =C13 -> 0 | R13: =D13 -> 0
B14: SP | C14: 0.20833333 | D14: 0.54166667 | E14: =D14-C14 -> 0.33333333 | F14: ='Dvr '!A14 -> Khaled Saleh Al-Zahrani | O14: =E14 -> 0.33333333 | P14: =B14 -> SP | Q14: =C14 -> 0.20833333 | R14: =D14 -> 0.54166667
O15: =E15 -> 0 | P15: =B15 -> 0 | Q15: =C15 -> 0 | R15: =D15 -> 0
B16: SP | C16: 0.20833333 | D16: 0.54166667 | E16: =D16-C16 -> 0.33333333 | F16: ='Dvr '!A29 -> Qasim Abdullah Al-Muhanna | O16: =E16 -> 0.33333333 | P16: =B16 -> SP | Q16: =C16 -> 0.20833333 | R16: =D16 -> 0.54166667
O17: =E17 -> 0 | P17: =B17 -> 0 | Q17: =C17 -> 0 | R17: =D17 -> 0
B18: HSBY 1 | C18: 0.20833333 | D18: 0.60416667 | E18: =D18-C18 -> 0.39583333 | F18: ='Dvr '!A37 -> Ali Saad Al-Ruwayjih | O18: =E18 -> 0.39583333 | P18: =B18 -> HSBY 1 | Q18: =C18 -> 0.20833333 | R18: =D18 -> 0.60416667
O19: =E19 -> 0 | P19: =B19 -> 0 | Q19: =C19 -> 0 | R19: =D19 -> 0
B20: MLD3&10 | C20: 0.23055556 | D20: 0.68819444 | E20: =D20-C20 -> 0.45763889 | F20: ='Dvr '!A8 -> Ahmed Almadeh | O20: =E20 -> 0.45763889 | P20: =B20 -> MLD3&10 | Q20: =C20 -> 0.23055556 | R20: =D20 -> 0.68819444
O21: =E21 -> 0 | P21: =B21 -> 0 | Q21: =C21 -> 0 | R21: =D21 -> 0
B22: DDD1 | C22: 0.25 | D22: 0.58333333 | E22: =D22-C22 -> 0.33333333 | F22: ='Dvr '!A53 -> Hussein Ali Al-Mubarak | O22: =E22 -> 0.33333333 | P22: =B22 -> DDD1 | Q22: =C22 -> 0.25 | R22: =D22 -> 0.58333333
O23: =E23 -> 0 | P23: =B23 -> 0 | Q23: =C23 -> 0 | R23: =D23 -> 0
B24: DDD1 | C24: 0.25 | D24: 0.58333333 | E24: =D24-C24 -> 0.33333333 | F24: ='Dvr '!A52 -> Saleh Hussein Al-Saleh | O24: =E24 -> 0.33333333 | P24: =B24 -> DDD1 | Q24: =C24 -> 0.25 | R24: =D24 -> 0.58333333
O25: =E25 -> 0 | P25: =B25 -> 0 | Q25: =C25 -> 0 | R25: =D25 -> 0
B26: MLD5&12 | C26: 0.39375 | D26: 0.80902778 | E26: =D26-C26 -> 0.41527778 | F26: ='Dvr '!A20 -> Ali Fadel Al-Hamada | J26: Omar | O26: =E26 -> 0.41527778 | P26: =B26 -> MLD5&12 | Q26: =C26 -> 0.39375 | R26: =D26 -> 0.80902778
O27: =E27 -> 0 | P27: =B27 -> 0 | Q27: =C27 -> 0 | R27: =D27 -> 0
B28: DSBY 2 | C28: 0.57986111 | D28: 0.99305556 | E28: =D28-C28 -> 0.41319444 | F28: ='Dvr '!A19 -> Abdullah Abbas Al-Mari | O28: =E28 -> 0.41319444 | P28: =B28 -> DSBY 2 | Q28: =C28 -> 0.57986111 | R28: =D28 -> 0.99305556
O29: =E29 -> 0 | P29: =B29 -> 0 | Q29: =C29 -> 0 | R29: =D29 -> 0
B30: SP | C30: 0.58333333 | D30: 0.91666667 | E30: =D30-C30 -> 0.33333333 | F30: ='Dvr '!A28 -> Ali Mohammed Alhadi | O30: =E30 -> 0.33333333 | P30: =B30 -> SP | Q30: =C30 -> 0.58333333 | R30: =D30 -> 0.91666667
O31: =E31 -> 0 | P31: =B31 -> 0 | Q31: =C31 -> 0 | R31: =D31 -> 0
B32: DDD2 | C32: 0.58333333 | D32: 0.91666667 | E32: =D32-C32 -> 0.33333333 | F32: ='Dvr '!A30 -> Ahmed Hussein Al snaber | O32: =E32 -> 0.33333333 | P32: =B32 -> DDD2 | Q32: =C32 -> 0.58333333 | R32: =D32 -> 0.91666667
O33: =E33 -> 0 | P33: =B33 -> 0 | Q33: =C33 -> 0 | R33: =D33 -> 0
B34: DDD2 | C34: 0.58333333 | D34: 0.91666667 | E34: =D34-C34 -> 0.33333333 | F34: ='Dvr '!A13 -> Mohammed Khaled Al-Muhanna | O34: =E34 -> 0.33333333 | P34: =B34 -> DDD2 | Q34: =C34 -> 0.58333333 | R34: =D34 -> 0.91666667
O35: =E35 -> 0 | P35: =B35 -> 0 | Q35: =C35 -> 0 | R35: =D35 -> 0
B36: MLD9&18 | C36: 0.60277778 | D36: 0.99513889 | E36: =D36-C36 -> 0.39236111 | F36: ='Dvr '!A12 -> Ali Hassan Almeer | J36: ='Dvr '!A11 -> Vacancy2 | O36: =E36 -> 0.39236111 | P36: =B36 -> MLD9&18 | Q36: =C36 -> 0.60277778 | R36: =D36 -> 0.99513889
O37: =E37 -> 0 | P37: =B37 -> 0 | Q37: =C37 -> 0 | R37: =D37 -> 0
B38: MLD9&18 | C38: 0.60277778 | D38: 0.99513889 | E38: =D38-C38 -> 0.39236111 | F38: ='Dvr '!A17 -> Attia Saad Al-Hazmi | J38: ='Dvr '!A27 -> Vacancy1 | O38: =E38 -> 0.39236111 | P38: =B38 -> MLD9&18 | Q38: =C38 -> 0.60277778 | R38: =D38 -> 0.99513889
O39: =E39 -> 0 | P39: =B39 -> 0 | Q39: =C39 -> 0 | R39: =D39 -> 0
B40: HSBY 2 | C40: 0.60416667 | D40: 0.99652778 | E40: =D40-C40 -> 0.39236111 | F40: ='Dvr '!A44 -> Abdullah Fayez Al-Subaie | J40: Muhammed | O40: =E40 -> 0.39236111 | P40: =B40 -> HSBY 2 | Q40: =C40 -> 0.60416667 | R40: =D40 -> 0.99652778
O41: =E41 -> 0 | P41: =B41 -> 0 | Q41: =C41 -> 0 | R41: =D41 -> 0
B42: MLD13 | C42: 0.63333333 | D42: 0.84375 | E42: =D42-C42 -> 0.21041667 | F42: ='Dvr '!A21 -> Hussein Abdullah Al Hamid | O42: =E42 -> 0.21041667 | P42: =B42 -> MLD13 | Q42: =C42 -> 0.63333333 | R42: =D42 -> 0.84375
O43: =E43 -> 0 | P43: =B43 -> 0 | Q43: =C43 -> 0 | R43: =D43 -> 0
B44: MLD14 | C44: 0.68125 | D44: 0.88958333 | E44: =D44-C44 -> 0.20833333 | F44: ='Dvr '!A40 -> Ahmed Habib Al-Mousa | O44: =E44 -> 0.20833333 | P44: =B44 -> MLD14 | Q44: =C44 -> 0.68125 | R44: =D44 -> 0.88958333
O45: =E45 -> 0 | P45: =B45 -> 0 | Q45: =C45 -> 0 | R45: =D45 -> 0
B46: MLD19&2 | C46: 0.91041667 | D46: 1.3152778 | E46: =D46-C46 -> 0.40486111 | F46: ='Dvr '!A26 -> Zaki Ali Al-Hendar | O46: =E46 -> 0.40486111 | P46: =B46 -> MLD19&2 | Q46: =C46 -> 0.91041667 | R46: =D46 -> 1.3152778
O47: =E47 -> 0 | P47: =B47 -> 0 | Q47: =C47 -> 0 | R47: =D47 -> 0
B48: DDD3 | C48: 0.91666667 | D48: 1.25 | E48: =D48-C48 -> 0.33333333 | F48: ='Dvr '!A50 -> Saleh A. Al Shehab | O48: =E48 -> 0.33333333 | P48: =B48 -> DDD3 | Q48: =C48 -> 0.91666667 | R48: =D48 -> 1.25
O49: =E49 -> 0 | P49: =B49 -> 0 | Q49: =C49 -> 0 | R49: =D49 -> 0
B50: DDD3 | C50: 0.91666667 | D50: 1.25 | E50: =D50-C50 -> 0.33333333 | F50: ='Dvr '!A49 -> Ismail Khalifa Al- Amal | O50: =E50 -> 0.33333333 | P50: =B50 -> DDD3 | Q50: =C50 -> 0.91666667 | R50: =D50 -> 1.25
O51: =E51 -> 0 | P51: =B51 -> 0 | Q51: =C51 -> 0 | R51: =D51 -> 0
B55: Off Roster
B56: Activity | C56: On Duty | D56: Off Duty | E56: Hours | F56: Name | J56: Comments
B57: DET | C57: 0.33333333 | D57: 0.66666667 | E57: 0.33333333 | F57: ='Dvr '!A23 -> Omar Salem Al-Harbi
B58: DET | C58: 0.33333333 | D58: 0.66666667 | E58: 0.33333333 | F58: ='Dvr '!A18 -> Abdulkareem Hamid Al-Ghamdi
B59: DET | C59: 0.33333333 | D59: 0.66666667 | E59: 0.33333333 | F59: ='Dvr '!A39 -> Muhammad Ali Al-Nasser
B61: Other (Leave, Sick etc.) | I61: Rest Day Off
B62: Type | C62: Name | I62: Name
I63: ='Dvr '!A9 -> Ali Ahmed Al-Farhan
I64: ='Dvr '!A10 -> Nayef Khaled Al-Sahli
I65: ='Dvr '!A15 -> Saeed Ali Hindi
I66: ='Dvr '!A16 -> Zaki Mohammed Al Darwish
I67: ='Dvr '!A32 -> Jamaan Ali Al-Zahrani
I68: ='Dvr '!A24 -> Sadiq Majid Al Zawad
I69: ='Dvr '!A31 -> Abdulaziz Mohammed Al-Omani
I70: ='Dvr '!A22 -> Abdul Rahman Ahmed Al-Asiri
I71: ='Dvr '!A33 -> Suleiman Yahya Ghazwani
I72: ='Dvr '!A38 -> Ahmed Mohammed Al-Mubarak
I73: ='Dvr '!A41 -> Ali Hussain Al-Rashed
I74: ='Dvr '!A43 -> Hassan Ali Al-Ghanem
I75: ='Dvr '!A54 -> Ahmed Ali Al-Dossary
I76: ='Dvr '!A51 -> Sami Hussein Al-Nazar
I77: ='Dvr '!A42 -> Mohammed Abdulrahman Al-Nwaiser

Sheet DAS Thu
D2: Daily Alteration Sheet
B4: Thursday | D4: ='DAS Wed'!D4+1 -> 45932
B5: Driver | K5: Dammam
B8: Shift ID | C8: On Duty | D8: Off Duty | E8: Hours | F8: Name | J8: Comments
O9: =E9 -> 0 | P9: =B9 -> 0 | Q9: =C9 -> 0 | R9: =D9 -> 0
B10: DSBY 1 | C10: 0.16666667 | D10: 0.57986111 | E10: =D10-C10 -> 0.41319444 | F10: ='Dvr '!A29 -> Qasim Abdullah Al-Muhanna | O10: =E10 -> 0.41319444 | P10: =B10 -> DSBY 1 | Q10: =C10 -> 0.16666667 | R10: =D10 -> 0.57986111
O11: =E11 -> 0 | P11: =B11 -> 0 | Q11: =C11 -> 0 | R11: =D11 -> 0
B12: SP | C12: 0.15486111 | D12: 0.48819444 | E12: =D12-C12 -> 0.33333333 | F12: ='Dvr '!A41 -> Ali Hussain Al-Rashed | O12: =E12 -> 0.33333333 | P12: =B12 -> SP | Q12: =C12 -> 0.15486111 | R12: =D12 -> 0.48819444
O13: =E13 -> 0 | P13: =B13 -> 0 | Q13: =C13 -> 0 | R13: =D13 -> 0
B14: HSBY 1 | C14: 0.20833333 | D14: 0.60416667 | E14: =D14-C14 -> 0.39583333 | F14: ='Dvr '!A37 -> Ali Saad Al-Ruwayjih | O14: =E14 -> 0.39583333 | P14: =B14 -> HSBY 1 | Q14: =C14 -> 0.20833333 | R14: =D14 -> 0.60416667
O15: =E15 -> 0 | P15: =B15 -> 0 | Q15: =C15 -> 0 | R15: =D15 -> 0
B16: MLD3&10 | C16: 0.23055556 | D16: 0.68819444 | E16: =D16-C16 -> 0.45763889 | F16: ='Dvr '!A7 -> Zakaria Abdullah Al-Batran | O16: =E16 -> 0.45763889 | P16: =B16 -> MLD3&10 | Q16: =C16 -> 0.23055556 | R16: =D16 -> 0.68819444
O17: =E17 -> 0 | P17: =B17 -> 0 | Q17: =C17 -> 0 | R17: =D17 -> 0
B18: SP | C18: 0.25 | D18: 0.58333333 | E18: =D18-C18 -> 0.33333333 | F18: ='Dvr '!A8 -> Ahmed Almadeh | O18: =E18 -> 0.33333333 | P18: =B18 -> SP | Q18: =C18 -> 0.25 | R18: =D18 -> 0.58333333
O19: =E19 -> 0 | P19: =B19 -> 0 | Q19: =C19 -> 0 | R19: =D19 -> 0
B20: DDD1 | C20: 0.25 | D20: 0.58333333 | E20: =D20-C20 -> 0.33333333 | F20: ='Dvr '!A52 -> Saleh Hussein Al-Saleh | O20: =E20 -> 0.33333333 | P20: =B20 -> DDD1 | Q20: =C20 -> 0.25 | R20: =D20 -> 0.58333333
O21: =E21 -> 0 | P21: =B21 -> 0 | Q21: =C21 -> 0 | R21: =D21 -> 0
B22: DDD1 | C22: 0.25 | D22: 0.58333333 | E22: =D22-C22 -> 0.33333333 | F22: ='Dvr '!A53 -> Hussein Ali Al-Mubarak | O22: =E22 -> 0.33333333 | P22: =B22 -> DDD1 | Q22: =C22 -> 0.25 | R22: =D22 -> 0.58333333
O23: =E23 -> 0 | P23: =B23 -> 0 | Q23: =C23 -> 0 | R23: =D23 -> 0
B24: SP | C24: 0.39375 | D24: 0.72708333 | E24: =D24-C24 -> 0.33333333 | F24: ='Dvr '!A9 -> Ali Ahmed Al-Farhan | O24: =E24 -> 0.33333333 | P24: =B24 -> SP | Q24: =C24 -> 0.39375 | R24: =D24 -> 0.72708333
O25: =E25 -> 0 | P25: =B25 -> 0 | Q25: =C25 -> 0 | R25: =D25 -> 0
B26: MLD5&12 | C26: 0.39375 | D26: 0.80902778 | E26: =D26-C26 -> 0.41527778 | F26: ='Dvr '!A15 -> Saeed Ali Hindi | O26: =E26 -> 0.41527778 | P26: =B26 -> MLD5&12 | Q26: =C26 -> 0.39375 | R26: =D26 -> 0.80902778
O27: =E27 -> 0 | P27: =B27 -> 0 | Q27: =C27 -> 0 | R27: =D27 -> 0
B28: DSBY 2 | C28: 0.57986111 | D28: 0.99305556 | E28: =D28-C28 -> 0.41319444 | F28: ='Dvr '!A28 -> Ali Mohammed Alhadi | J28: ='Dvr '!A11 -> Vacancy2 | O28: =E28 -> 0.41319444 | P28: =B28 -> DSBY 2 | Q28: =C28 -> 0.57986111 | R28: =D28 -> 0.99305556
O29: =E29 -> 0 | P29: =B29 -> 0 | Q29: =C29 -> 0 | R29: =D29 -> 0
B30: MLD7&16 | C30: 0.47777778 | D30: 0.96527778 | E30: 0.4875 | F30: ='Dvr '!A13 -> Mohammed Khaled Al-Muhanna | O30: =E30 -> 0.4875 | P30: =B30 -> MLD7&16 | Q30: =C30 -> 0.47777778 | R30: =D30 -> 0.96527778
O31: =E31 -> 0 | P31: =B31 -> 0 | Q31: =C31 -> 0 | R31: =D31 -> 0
B32: SP | C32: 0.58333333 | D32: 0.91666667 | E32: 0.4875 | F32: ='Dvr '!A14 -> Khaled Saleh Al-Zahrani | O32: =E32 -> 0.4875 | P32: =B32 -> SP | Q32: =C32 -> 0.58333333 | R32: =D32 -> 0.91666667
O33: =E33 -> 0 | P33: =B33 -> 0 | Q33: =C33 -> 0 | R33: =D33 -> 0
B34: DDD2 | C34: 0.58333333 | D34: 0.91666667 | E34: =D34-C34 -> 0.33333333 | F34: ='Dvr '!A22 -> Abdul Rahman Ahmed Al-Asiri | O34: =E34 -> 0.33333333 | P34: =B34 -> DDD2 | Q34: =C34 -> 0.58333333 | R34: =D34 -> 0.91666667
O35: =E35 -> 0 | P35: =B35 -> 0 | Q35: =C35 -> 0 | R35: =D35 -> 0
B36: DDD2 | C36: 0.58333333 | D36: 0.91666667 | E36: =D36-C36 -> 0.33333333 | F36: ='Dvr '!A20 -> Ali Fadel Al-Hamada | J36: ='Dvr '!A27 -> Vacancy1 | O36: =E36 -> 0.33333333 | P36: =B36 -> DDD2 | Q36: =C36 -> 0.58333333 | R36: =D36 -> 0.91666667
O37: =E37 -> 0 | P37: =B37 -> 0 | Q37: =C37 -> 0 | R37: =D37 -> 0
B38: MLD9&18 | C38: 0.60277778 | D38: 0.99513889 | E38: =D38-C38 -> 0.39236111 | F38: ='Dvr '!A44 -> Abdullah Fayez Al-Subaie | O38: =E38 -> 0.39236111 | P38: =B38 -> MLD9&18 | Q38: =C38 -> 0.60277778 | R38: =D38 -> 0.99513889
O39: =E39 -> 0 | P39: =B39 -> 0 | Q39: =C39 -> 0 | R39: =D39 -> 0
B40: MLD9&18 | C40: 0.60277778 | D40: 0.99513889 | E40: =D40-C40 -> 0.39236111 | F40: ='Dvr '!A19 -> Abdullah Abbas Al-Mari | O40: =E40 -> 0.39236111 | P40: =B40 -> MLD9&18 | Q40: =C40 -> 0.60277778 | R40: =D40 -> 0.99513889
O41: =E41 -> 0 | P41: =B41 -> 0 | Q41: =C41 -> 0 | R41: =D41 -> 0
B42: HSBY 2 | C42: 0.60416667 | D42: 0.99652778 | E42: =D42-C42 -> 0.39236111 | F42: ='Dvr '!A40 -> Ahmed Habib Al-Mousa | O42: =E42 -> 0.39236111 | P42: =B42 -> HSBY 2 | Q42: =C42 -> 0.60416667 | R42: =D42 -> 0.99652778
O43: =E43 -> 0 | P43: =B43 -> 0 | Q43: =C43 -> 0 | R43: =D43 -> 0
B44: MLD14 | C44: 0.68125 | D44: 0.88958333 | E44: =D44-C44 -> 0.20833333 | F44: ='Dvr '!A21 -> Hussein Abdullah Al Hamid | O44: =E44 -> 0.20833333 | P44: =B44 -> MLD14 | Q44: =C44 -> 0.68125 | R44: =D44 -> 0.88958333
O45: =E45 -> 0 | P45: =B45 -> 0 | Q45: =C45 -> 0 | R45: =D45 -> 0
B46: MLD19&22 | C46: 0.91041667 | D46: 1.3152778 | E46: =D46-C46 -> 0.40486111 | F46: ='Dvr '!A26 -> Zaki Ali Al-Hendar | O46: =E46 -> 0.40486111 | P46: =B46 -> MLD19&22 | Q46: =C46 -> 0.91041667 | R46: =D46 -> 1.3152778
O47: =E47 -> 0 | P47: =B47 -> 0 | Q47: =C47 -> 0 | R47: =D47 -> 0
B48: DDD3 | C48: 0.91666667 | D48: 1.25 | E48: =D48-C48 -> 0.33333333 | F48: ='Dvr '!A49 -> Ismail Khalifa Al- Amal | O48: =E48 -> 0.33333333 | P48: =B48 -> DDD3 | Q48: =C48 -> 0.91666667 | R48: =D48 -> 1.25
O49: =E49 -> 0 | P49: =B49 -> 0 | Q49: =C49 -> 0 | R49: =D49 -> 0
B50: DDD3 | C50: 0.91666667 | D50: 1.25 | E50: =D50-C50 -> 0.33333333 | F50: ='Dvr '!A50 -> Saleh A. Al Shehab | O50: =E50 -> 0.33333333 | P50: =B50 -> DDD3 | Q50: =C50 -> 0.91666667 | R50: =D50 -> 1.25
O51: =E51 -> 0 | P51: =B51 -> 0 | Q51: =C51 -> 0 | R51: =D51 -> 0
B53: Off Roster
B54: Activity | C54: On Duty | D54: Off Duty | E54: Hours | F54: Name | J54: Comments
B55: DET | C55: 0.33333333 | D55: 0.66666667 | E55: 0.33333333 | F55: ='Dvr '!A23 -> Omar Salem Al-Harbi
B56: DET | C56: 0.33333333 | D56: 0.66666667 | E56: 0.33333333 | F56: ='Dvr '!A18 -> Abdulkareem Hamid Al-Ghamdi
B58: Other (Leave, Sick etc.) | I58: Rest Day Off
B59: Type | C59: Name | I59: Name
I60: ='Dvr '!A10 -> Nayef Khaled Al-Sahli
I61: ='Dvr '!A39 -> Muhammad Ali Al-Nasser
I62: ='Dvr '!A16 -> Zaki Mohammed Al Darwish
I63: ='Dvr '!A31 -> Abdulaziz Mohammed Al-Omani
I64: ='Dvr '!A24 -> Sadiq Majid Al Zawad
I65: ='Dvr '!A43 -> Hassan Ali Al-Ghanem
I66: ='Dvr '!A30 -> Ahmed Hussein Al snaber
I67: ='Dvr '!A54 -> Ahmed Ali Al-Dossary
I68: ='Dvr '!A32 -> Jamaan Ali Al-Zahrani
I69: ='Dvr '!A12 -> Ali Hassan Almeer
I70: ='Dvr '!A17 -> Attia Saad Al-Hazmi
I71: ='Dvr '!A25 -> Faisal Abdul Rahman Al Naghmosh
I72: ='Dvr '!A51 -> Sami Hussein Al-Nazar
I73: ='Dvr '!A42 -> Mohammed Abdulrahman Al-Nwaiser
I74: ='Dvr '!A33 -> Suleiman Yahya Ghazwani
I75: ='Dvr '!A38 -> Ahmed Mohammed Al-Mubarak

Sheet DAS Fri
D2: Daily Alteration Sheet
B4: Friday | D4: ='DAS Thu'!D4+1 -> 45933
B5: Driver | K5: Dammam
B8: Shift ID | C8: On Duty | D8: Off Duty | E8: Hours | F8: Name | J8: Comments
O9: =E9 -> 0 | P9: =B9 -> 0 | Q9: =C9 -> 0 | R9: =D9 -> 0
B10: SP | C10: 0.15486111 | D10: 0.48819444 | E10: =D10-C10 -> 0.33333333 | F10: ='Dvr '!A31 -> Abdulaziz Mohammed Al-Omani | O10: =E10 -> 0.33333333 | P10: =B10 -> SP | Q10: =C10 -> 0.15486111 | R10: =D10 -> 0.48819444
O11: =E11 -> 0 | P11: =B11 -> 0 | Q11: =C11 -> 0 | R11: =D11 -> 0
B12: DSBY 1 | C12: 0.16666667 | D12: 0.57986111 | E12: =D12-C12 -> 0.41319444 | F12: ='Dvr '!A24 -> Sadiq Majid Al Zawad | O12: =E12 -> 0.41319444 | P12: =B12 -> DSBY 1 | Q12: =C12 -> 0.16666667 | R12: =D12 -> 0.57986111
O13: =E13 -> 0 | P13: =B13 -> 0 | Q13: =C13 -> 0 | R13: =D13 -> 0
B14: SP-H | C14: 0.20833333 | D14: 0.54166667 | E14: =D14-C14 -> 0.33333333 | F14: ='Dvr '!A43 -> Hassan Ali Al-Ghanem | O14: =E22 -> 0.25347222 | P14: =B22 -> MLD21&24 | Q14: =C22 -> 0.22708333 | R14: =D22 -> 0.48055556
O15: =E15 -> 0 | P15: =B15 -> 0 | Q15: =C15 -> 0 | R15: =D15 -> 0
B16: MLD23&26 | C16: 0.39027778 | D16: 0.59861111 | E16: =D16-C16 -> 0.20833333 | F16: ='Dvr '!A41 -> Ali Hussain Al-Rashed | O16: =#REF! -> #REF! | P16: =#REF! -> #REF! | Q16: =#REF! -> #REF! | R16: =#REF! -> #REF!
O17: =E17 -> 0 | P17: =B17 -> 0 | Q17: =C17 -> 0 | R17: =D17 -> 0
B18: HSBY 1 | C18: 0.20833333 | D18: 0.60416667 | E18: =D18-C18 -> 0.39583333 | F18: ='Dvr '!A37 -> Ali Saad Al-Ruwayjih | O18: =E18 -> 0.39583333 | P18: =B18 -> HSBY 1 | Q18: =C18 -> 0.20833333 | R18: =D18 -> 0.60416667
O19: =E19 -> 0 | P19: =B19 -> 0 | Q19: =C19 -> 0 | R19: =D19 -> 0
B20: MLD25&28 | C20: 0.47986111 | D20: 0.69166667 | E20: =D20-C20 -> 0.21180556 | F20: ='Dvr '!A8 -> Ahmed Almadeh | O20: =#REF! -> #REF! | P20: =#REF! -> #REF! | Q20: =#REF! -> #REF! | R20: =#REF! -> #REF!
O21: =E21 -> 0 | P21: =B21 -> 0 | Q21: =C21 -> 0 | R21: =D21 -> 0
B22: MLD21&24 | C22: 0.22708333 | D22: 0.48055556 | E22: =D22-C22 -> 0.25347222 | F22: ='Dvr '!A7 -> Zakaria Abdullah Al-Batran | O22: =#REF! -> #REF! | P22: =#REF! -> #REF! | Q22: =#REF! -> #REF! | R22: =#REF! -> #REF!
O23: =E23 -> 0 | P23: =B23 -> 0 | Q23: =C23 -> 0 | R23: =D23 -> 0
B24: DDD1 | C24: 0.25 | D24: 0.58333333 | E24: =D24-C24 -> 0.33333333 | F24: ='Dvr '!A51 -> Sami Hussein Al-Nazar | O24: =E24 -> 0.33333333 | P24: =B24 -> DDD1 | Q24: =C24 -> 0.25 | R24: =D24 -> 0.58333333
O25: =E25 -> 0 | P25: =B25 -> 0 | Q25: =C25 -> 0 | R25: =D25 -> 0
B26: DDD1 | C26: 0.25 | D26: 0.58333333 | E26: =D26-C26 -> 0.33333333 | F26: ='Dvr '!A53 -> Hussein Ali Al-Mubarak | O26: =E26 -> 0.33333333 | P26: =B26 -> DDD1 | Q26: =C26 -> 0.25 | R26: =D26 -> 0.58333333
O27: =E27 -> 0 | P27: =B27 -> 0 | Q27: =C27 -> 0 | R27: =D27 -> 0
B28: SP | C28: 0.33333333 | D28: 0.58333333 | E28: =D28-C28 -> 0.25 | F28: ='Dvr '!A15 -> Saeed Ali Hindi | O28: =E28 -> 0.25 | P28: =B28 -> SP | Q28: =C28 -> 0.33333333 | R28: =D28 -> 0.58333333
O29: =E29 -> 0 | P29: =B29 -> 0 | Q29: =C29 -> 0 | R29: =D29 -> 0
B30: MLD27&30 | C30: 0.59930556 | D30: 0.80763889 | E30: =D30-C30 -> 0.20833333 | F30: ='Dvr '!A14 -> Khaled Saleh Al-Zahrani | O30: =E30 -> 0.20833333 | P30: =B30 -> MLD27&30 | Q30: =C30 -> 0.59930556 | R30: =D30 -> 0.80763889
O31: =E31 -> 0 | P31: =B31 -> 0 | Q31: =C31 -> 0 | R31: =D31 -> 0
B32: MLD29&32 | C32: 0.62986111 | D32: 0.88125 | E32: =D32-C32 -> 0.25138889 | F32: ='Dvr '!A9 -> Ali Ahmed Al-Farhan | O32: =E16 -> 0.20833333 | P32: =B16 -> MLD23&26 | Q32: =C16 -> 0.39027778 | R32: =D16 -> 0.59861111
O33: =E33 -> 0 | P33: =B33 -> 0 | Q33: =C33 -> 0 | R33: =D33 -> 0
B34: MLD31&34 | C34: 0.71458333 | D34: 0.96527778 | E34: =D34-C34 -> 0.25069444 | F34: ='Dvr '!A20 -> Ali Fadel Al-Hamada | O34: =E20 -> 0.21180556 | P34: =B20 -> MLD25&28 | Q34: =C20 -> 0.47986111 | R34: =D20 -> 0.69166667
O35: =E35 -> 0 | P35: =B35 -> 0 | Q35: =C35 -> 0 | R35: =D35 -> 0
B36: DSBY 2 | C36: 0.57986111 | D36: 0.99305556 | E36: =D36-C36 -> 0.41319444 | F36: ='Dvr '!A22 -> Abdul Rahman Ahmed Al-Asiri | O36: =E36 -> 0.41319444 | P36: =B36 -> DSBY 2 | Q36: =C36 -> 0.57986111 | R36: =D36 -> 0.99305556
O37: =E37 -> 0 | P37: =B37 -> 0 | Q37: =C37 -> 0 | R37: =D37 -> 0
B38: MLD33&38 | C38: 0.78958333 | D38: 0.99861111 | E38: =D38-C38 -> 0.20902778 | F38: ='Dvr '!A10 -> Nayef Khaled Al-Sahli | O38: =E32 -> 0.25138889 | P38: =B32 -> MLD29&32 | Q38: =C32 -> 0.62986111 | R38: =D32 -> 0.88125
O39: =E39 -> 0 | P39: =B39 -> 0 | Q39: =C39 -> 0 | R39: =D39 -> 0
B40: SP-H | C40: 0.58333333 | D40: 0.91666667 | E40: =D40-C40 -> 0.33333333 | F40: ='Dvr '!A38 -> Ahmed Mohammed Al-Mubarak | O40: =E34 -> 0.25069444 | P40: =B34 -> MLD31&34 | Q40: =C34 -> 0.71458333 | R40: =D34 -> 0.96527778
B42: SP | C42: 0.58333333 | D42: 0.91666667 | E42: =D42-C42 -> 0.33333333 | F42: ='Dvr '!A16 -> Zaki Mohammed Al Darwish
O43: =E43 -> 0 | P43: =B43 -> 0 | Q43: =C43 -> 0 | R43: =D43 -> 0
B44: DDD2 | C44: 0.58333333 | D44: 0.91666667 | E44: =D44-C44 -> 0.33333333 | F44: ='Dvr '!A21 -> Hussein Abdullah Al Hamid | O44: =E44 -> 0.33333333 | P44: =B44 -> DDD2 | Q44: =C44 -> 0.58333333 | R44: =D44 -> 0.91666667
O45: =E45 -> 0 | P45: =B45 -> 0 | Q45: =C45 -> 0 | R45: =D45 -> 0
B46: DDD2 | C46: 0.58333333 | D46: 0.91666667 | E46: =D46-C46 -> 0.33333333 | F46: ='Dvr '!A33 -> Suleiman Yahya Ghazwani | J46: ='Dvr '!A27 -> Vacancy1 | O46: =E46 -> 0.33333333 | P46: =B46 -> DDD2 | Q46: =C46 -> 0.58333333 | R46: =D46 -> 0.91666667
O47: =E47 -> 0 | P47: =B47 -> 0 | Q47: =C47 -> 0 | R47: =D47 -> 0
B48: HSBY 2 | C48: 0.60416667 | D48: 0.99652778 | E48: =D48-C48 -> 0.39236111 | F48: ='Dvr '!A40 -> Ahmed Habib Al-Mousa | O48: =E48 -> 0.39236111 | P48: =B48 -> HSBY 2 | Q48: =C48 -> 0.60416667 | R48: =D48 -> 0.99652778
O49: =E49 -> 0 | P49: =B49 -> 0 | Q49: =C49 -> 0 | R49: =D49 -> 0
B50: MLD35&2 | C50: 0.90694444 | D50: 1.31875 | E50: =D50-C50 -> 0.41180556 | F50: ='Dvr '!A32 -> Jamaan Ali Al-Zahrani | O50: =#REF! -> #REF! | P50: =#REF! -> #REF! | Q50: =#REF! -> #REF! | R50: =#REF! -> #REF!
O51: =E51 -> 0 | P51: =B51 -> 0 | Q51: =C51 -> 0 | R51: =D51 -> 0
B52: DDD3 | C52: 0.91666667 | D52: 1.25 | E52: =D52-C52 -> 0.33333333 | F52: ='Dvr '!A54 -> Ahmed Ali Al-Dossary | O52: =E52 -> 0.33333333 | P52: =B52 -> DDD3 | Q52: =C52 -> 0.91666667 | R52: =D52 -> 1.25
O53: =E53 -> 0 | P53: =B53 -> 0 | Q53: =C53 -> 0 | R53: =D53 -> 0
B54: DDD3 | C54: 0.91666667 | D54: 1.25 | E54: =D54-C54 -> 0.33333333 | F54: ='Dvr '!A50 -> Saleh A. Al Shehab | O54: =E54 -> 0.33333333 | P54: =B54 -> DDD3 | Q54: =C54 -> 0.91666667 | R54: =D54 -> 1.25
O55: =E55 -> 0 | P55: =B55 -> 0 | Q55: =C55 -> 0 | R55: =D55 -> 0
B57: Off Roster
B58: Activity | C58: On Duty | D58: Off Duty | E58: Hours | F58: Name | J58: Comments
B59: DET | C59: 0.33333333 | D59: 0.66666667 | E59: 0.33333333 | F59: ='Dvr '!A23 -> Omar Salem Al-Harbi
B62: Other (Leave, Sick etc.) | I62: Rest Day Off
B63: Type | C63: Name | I63: Name
I64: ='Dvr '!A11 -> Vacancy2
I65: ='Dvr '!A12 -> Ali Hassan Almeer
I66: ='Dvr '!A17 -> Attia Saad Al-Hazmi
I67: ='Dvr '!A26 -> Zaki Ali Al-Hendar
I68: ='Dvr '!A25 -> Faisal Abdul Rahman Al Naghmosh
I69: ='Dvr '!A30 -> Ahmed Hussein Al snaber
I70: ='Dvr '!A44 -> Abdullah Fayez Al-Subaie
I71: ='Dvr '!A29 -> Qasim Abdullah Al-Muhanna
I72: ='Dvr '!A52 -> Saleh Hussein Al-Saleh
I73: ='Dvr '!A18 -> Abdulkareem Hamid Al-Ghamdi
I74: ='Dvr '!A19 -> Abdullah Abbas Al-Mari
I75: ='Dvr '!A42 -> Mohammed Abdulrahman Al-Nwaiser
I76: ='Dvr '!A13 -> Mohammed Khaled Al-Muhanna
I77: ='Dvr '!A28 -> Ali Mohammed Alhadi
I78: ='Dvr '!A49 -> Ismail Khalifa Al- Amal
I79: ='Dvr '!A39 -> Muhammad Ali Al-Nasser

Sheet DAS Sat
D2: Daily Alteration Sheet
B4: Saturday | D4: ='DAS Fri'!D4+1 -> 45934
B5: Driver | K5: Dammam
B8: Shift ID | C8: On Duty | D8: Off Duty | E8: Hours | F8: Name | J8: Comments
O9: =E9 -> 0 | P9: =B9 -> 0 | Q9: =C9 -> 0 | R9: =D9 -> 0
B10: SP | C10: 0.15486111 | D10: 0.48819444 | E10: =D10-C10 -> 0.33333333 | F10: ='Dvr '!A31 -> Abdulaziz Mohammed Al-Omani | O10: =E10 -> 0.33333333 | P10: =B10 -> SP | Q10: =C10 -> 0.15486111 | R10: =D10 -> 0.48819444
O11: =E11 -> 0 | P11: =B11 -> 0 | Q11: =C11 -> 0 | R11: =D11 -> 0
B12: DSBY 1 | C12: 0.16666667 | D12: 0.57986111 | E12: =D12-C12 -> 0.41319444 | F12: ='Dvr '!A24 -> Sadiq Majid Al Zawad | O12: =E12 -> 0.41319444 | P12: =B12 -> DSBY 1 | Q12: =C12 -> 0.16666667 | R12: =D12 -> 0.57986111
O13: =E13 -> 0 | P13: =B13 -> 0 | Q13: =C13 -> 0 | R13: =D13 -> 0
B14: SP-H | C14: 0.20833333 | D14: 0.54166667 | E14: =D14-C14 -> 0.33333333 | F14: ='Dvr '!A43 -> Hassan Ali Al-Ghanem | O14: =E14 -> 0.33333333 | P14: =B14 -> SP-H | Q14: =C14 -> 0.20833333 | R14: =D14 -> 0.54166667
O15: =E15 -> 0 | P15: =B15 -> 0 | Q15: =C15 -> 0 | R15: =D15 -> 0
B16: SP | C16: 0.30763889 | D16: 0.54166667 | E16: =D16-C16 -> 0.23402778 | F16: ='Dvr '!A14 -> Khaled Saleh Al-Zahrani | O16: =E16 -> 0.23402778 | P16: =B16 -> SP | Q16: =C16 -> 0.30763889 | R16: =D16 -> 0.54166667
O17: =E17 -> 0 | P17: =B17 -> 0 | Q17: =C17 -> 0 | R17: =D17 -> 0
B18: MLD21&24 | C18: 0.22708333 | D18: 0.48055556 | E18: =D18-C18 -> 0.25347222 | F18: ='Dvr '!A15 -> Saeed Ali Hindi | O18: =E18 -> 0.25347222 | P18: =B18 -> MLD21&24 | Q18: =C18 -> 0.22708333 | R18: =D18 -> 0.48055556
O19: =E19 -> 0 | P19: =B19 -> 0 | Q19: =C19 -> 0 | R19: =D19 -> 0
B20: SP | C20: 0.39375 | D20: 0.72708333 | E20: =D20-C20 -> 0.33333333 | F20: ='Dvr '!A9 -> Ali Ahmed Al-Farhan | O20: =E20 -> 0.33333333 | P20: =B20 -> SP | Q20: =C20 -> 0.39375 | R20: =D20 -> 0.72708333
O21: =E21 -> 0 | P21: =B21 -> 0 | Q21: =C21 -> 0 | R21: =D21 -> 0
B22: HSBY 1 | C22: 0.20833333 | D22: 0.60416667 | E22: =D22-C22 -> 0.39583333 | F22: ='Dvr '!A37 -> Ali Saad Al-Ruwayjih | O22: =E22 -> 0.39583333 | P22: =B22 -> HSBY 1 | Q22: =C22 -> 0.20833333 | R22: =D22 -> 0.60416667
O23: =E23 -> 0 | P23: =B23 -> 0 | Q23: =C23 -> 0 | R23: =D23 -> 0
B24: SP | C24: 0.25 | D24: 0.58333333 | E24: =D24-C24 -> 0.33333333 | F24: ='Dvr '!A7 -> Zakaria Abdullah Al-Batran | O24: =E24 -> 0.33333333 | P24: =B24 -> SP | Q24: =C24 -> 0.25 | R24: =D24 -> 0.58333333
O25: =E25 -> 0 | P25: =B25 -> 0 | Q25: =C25 -> 0 | R25: =D25 -> 0
B26: SP | C26: 0.25 | D26: 0.58333333 | E26: =D26-C26 -> 0.33333333 | F26: ='Dvr '!A8 -> Ahmed Almadeh | O26: =E26 -> 0.33333333 | P26: =B26 -> SP | Q26: =C26 -> 0.25 | R26: =D26 -> 0.58333333
O27: =E27 -> 0 | P27: =B27 -> 0 | Q27: =C27 -> 0 | R27: =D27 -> 0
B28: DDD1 | C28: 0.25 | D28: 0.58333333 | E28: =D28-C28 -> 0.33333333 | F28: ='Dvr '!A51 -> Sami Hussein Al-Nazar | O28: =E28 -> 0.33333333 | P28: =B28 -> DDD1 | Q28: =C28 -> 0.25 | R28: =D28 -> 0.58333333
O29: =E29 -> 0 | P29: =B29 -> 0 | Q29: =C29 -> 0 | R29: =D29 -> 0
B30: DDD1 | C30: 0.25 | D30: 0.58333333 | E30: =D30-C30 -> 0.33333333 | F30: ='Dvr '!A53 -> Hussein Ali Al-Mubarak | O30: =E30 -> 0.33333333 | P30: =B30 -> DDD1 | Q30: =C30 -> 0.25 | R30: =D30 -> 0.58333333
O31: =E31 -> 0 | P31: =B31 -> 0 | Q31: =C31 -> 0 | R31: =D31 -> 0
B32: MLD25&28 | C32: 0.47986111 | D32: 0.69166667 | E32: =D32-C32 -> 0.21180556 | F32: ='Dvr '!A16 -> Zaki Mohammed Al Darwish | O32: =E32 -> 0.21180556 | P32: =B32 -> MLD25&28 | Q32: =C32 -> 0.47986111 | R32: =D32 -> 0.69166667
O33: =E33 -> 0 | P33: =B33 -> 0 | Q33: =C33 -> 0 | R33: =D33 -> 0
B34: MLD23&26 | C34: 0.39027778 | D34: 0.59861111 | E34: =D34-C34 -> 0.20833333 | F34: ='Dvr '!A41 -> Ali Hussain Al-Rashed | O34: =E34 -> 0.20833333 | P34: =B34 -> MLD23&26 | Q34: =C34 -> 0.39027778 | R34: =D34 -> 0.59861111
O35: =E35 -> 0 | P35: =B35 -> 0 | Q35: =C35 -> 0 | R35: =D35 -> 0
B36: DSBY 2 | C36: 0.57986111 | D36: 0.99305556 | E36: =D36-C36 -> 0.41319444 | F36: ='Dvr '!A22 -> Abdul Rahman Ahmed Al-Asiri | O36: =E36 -> 0.41319444 | P36: =B36 -> DSBY 2 | Q36: =C36 -> 0.57986111 | R36: =D36 -> 0.99305556
O37: =E37 -> 0 | P37: =B37 -> 0 | Q37: =C37 -> 0 | R37: =D37 -> 0
B38: MLD27&30 | C38: 0.59930556 | D38: 0.80763889 | E38: =D38-C38 -> 0.20833333 | F38: ='Dvr '!A42 -> Mohammed Abdulrahman Al-Nwaiser | O38: =E38 -> 0.20833333 | P38: =B38 -> MLD27&30 | Q38: =C38 -> 0.59930556 | R38: =D38 -> 0.80763889
O39: =E39 -> 0 | P39: =B39 -> 0 | Q39: =C39 -> 0 | R39: =D39 -> 0
B40: MLD33&38 | C40: 0.78958333 | D40: 0.99861111 | E40: =D40-C40 -> 0.20902778 | F40: ='Dvr '!A10 -> Nayef Khaled Al-Sahli | O40: =E40 -> 0.20902778 | P40: =B40 -> MLD33&38 | Q40: =C40 -> 0.78958333 | R40: =D40 -> 0.99861111
O41: =E41 -> 0 | P41: =B41 -> 0 | Q41: =C41 -> 0 | R41: =D41 -> 0
B42: DDD2 | C42: 0.58333333 | D42: 0.91666667 | E42: =D42-C42 -> 0.33333333 | F42: ='Dvr '!A38 -> Ahmed Mohammed Al-Mubarak | O42: =E42 -> 0.33333333 | P42: =B42 -> DDD2 | Q42: =C42 -> 0.58333333 | R42: =D42 -> 0.91666667
O43: =E43 -> 0 | P43: =B43 -> 0 | Q43: =C43 -> 0 | R43: =D43 -> 0
B44: DDD2 | C44: 0.58333333 | D44: 0.91666667 | E44: =D44-C44 -> 0.33333333 | F44: ='Dvr '!A33 -> Suleiman Yahya Ghazwani | O44: =E44 -> 0.33333333 | P44: =B44 -> DDD2 | Q44: =C44 -> 0.58333333 | R44: =D44 -> 0.91666667
O45: =E45 -> 0 | P45: =B45 -> 0 | Q45: =C45 -> 0 | R45: =D45 -> 0
B46: MLD29&32 | C46: 0.62986111 | D46: 0.88125 | E46: =D46-C46 -> 0.25138889 | F46: ='Dvr '!A21 -> Hussein Abdullah Al Hamid | O46: =E46 -> 0.25138889 | P46: =B46 -> MLD29&32 | Q46: =C46 -> 0.62986111 | R46: =D46 -> 0.88125
O47: =E47 -> 0 | P47: =B47 -> 0 | Q47: =C47 -> 0 | R47: =D47 -> 0
B48: MLD31&34 | C48: 0.71458333 | D48: 0.96527778 | E48: =D48-C48 -> 0.25069444 | F48: ='Dvr '!A30 -> Ahmed Hussein Al snaber | O48: =E48 -> 0.25069444 | P48: =B48 -> MLD31&34 | Q48: =C48 -> 0.71458333 | R48: =D48 -> 0.96527778
O49: =E49 -> 0 | P49: =B49 -> 0 | Q49: =C49 -> 0 | R49: =D49 -> 0
B50: HSBY 2 | C50: 0.60416667 | D50: 0.99652778 | E50: =D50-C50 -> 0.39236111 | F50: ='Dvr '!A40 -> Ahmed Habib Al-Mousa | O50: =E50 -> 0.39236111 | P50: =B50 -> HSBY 2 | Q50: =C50 -> 0.60416667 | R50: =D50 -> 0.99652778
O51: =E51 -> 0 | P51: =B51 -> 0 | Q51: =C51 -> 0 | R51: =D51 -> 0
B52: MLD35&2 | C52: 0.90694444 | D52: 1.31875 | E52: =D52-C52 -> 0.41180556 | F52: ='Dvr '!A17 -> Attia Saad Al-Hazmi | O52: =E52 -> 0.41180556 | P52: =B52 -> MLD35&2 | Q52: =C52 -> 0.90694444 | R52: =D52 -> 1.31875
O53: =E53 -> 0 | P53: =B53 -> 0 | Q53: =C53 -> 0 | R53: =D53 -> 0
B54: SP | C54: 0.91041667 | D54: 1.24375 | E54: =D54-C54 -> 0.33333333 | F54: ='Dvr '!A32 -> Jamaan Ali Al-Zahrani | O54: =E54 -> 0.33333333 | P54: =B54 -> SP | Q54: =C54 -> 0.91041667 | R54: =D54 -> 1.24375
O55: =E55 -> 0 | P55: =B55 -> 0 | Q55: =C55 -> 0 | R55: =D55 -> 0
B56: DDD3 | C56: 0.91666667 | D56: 1.25 | E56: =D56-C56 -> 0.33333333 | F56: ='Dvr '!A50 -> Saleh A. Al Shehab | O56: =E56 -> 0.33333333 | P56: =B56 -> DDD3 | Q56: =C56 -> 0.91666667 | R56: =D56 -> 1.25
O57: =E57 -> 0 | P57: =B57 -> 0 | Q57: =C57 -> 0 | R57: =D57 -> 0
B58: DDD3 | C58: 0.91666667 | D58: 1.25 | E58: =D58-C58 -> 0.33333333 | F58: ='Dvr '!A54 -> Ahmed Ali Al-Dossary | O58: =E58 -> 0.33333333 | P58: =B58 -> DDD3 | Q58: =C58 -> 0.91666667 | R58: =D58 -> 1.25
O59: =E59 -> 0 | P59: =B59 -> 0 | Q59: =C59 -> 0 | R59: =D59 -> 0
B65: Off Roster
B66: Activity | C66: On Duty | D66: Off Duty | E66: Hours | F66: Name | J66: Comments
B67: DET | C67: 0.33333333 | D67: 0.66666667 | E67: 0.33333333 | F67: ='Dvr '!A23 -> Omar Salem Al-Harbi
B71: Other (Leave, Sick etc.) | I71: Rest Day Off
B72: Type | C72: Name | I72: Name
I73: ='Dvr '!A12 -> Ali Hassan Almeer
I74: ='Dvr '!A18 -> Abdulkareem Hamid Al-Ghamdi
I75: ='Dvr '!A26 -> Zaki Ali Al-Hendar
I76: ='Dvr '!A52 -> Saleh Hussein Al-Saleh
I77: ='Dvr '!A28 -> Ali Mohammed Alhadi
I78: ='Dvr '!A27 -> Vacancy1
I79: ='Dvr '!A25 -> Faisal Abdul Rahman Al Naghmosh
I80: ='Dvr '!A19 -> Abdullah Abbas Al-Mari
I81: ='Dvr '!A20 -> Ali Fadel Al-Hamada
I82: ='Dvr '!A29 -> Qasim Abdullah Al-Muhanna
I83: ='Dvr '!A44 -> Abdullah Fayez Al-Subaie
I84: ='Dvr '!A49 -> Ismail Khalifa Al- Amal
I85: ='Dvr '!A11 -> Vacancy2
I86: ='Dvr '!A13 -> Mohammed Khaled Al-Muhanna
I87: ='Dvr '!A39 -> Muhammad Ali Al-Nasser

Sheet Tng & Det
A2: Training & Detachments
A6: Dammam | B6: Driver
C9: ='Dvr '!B3 -> 45928 | D9: =C9+1 -> 45929 | E9: =D9+1 -> 45930 | F9: =E9+1 -> 45931 | G9: =F9+1 -> 45932 | H9: =G9+1 -> 45933 | I9: =H9+1 -> 45934
A10: Name | B10: Description | C10: =C9 -> 45928 | D10: =D9 -> 45929 | E10: =E9 -> 45930 | F10: =F9 -> 45931 | G10: =G9 -> 45932 | H10: =H9 -> 45933 | I10: =I9 -> 45934

Sheet Phone#
A2: Contact Numbers
C6: Name | D6: Mobile#
C7: Zamil Ahmed Al-Amiri | D7: 053 789 9912
C8: Ahmed Hussein Al snaber | D8: 053 272 7786
C9: Zaki Ali Al-Hendar | D9: 055 841 9122
C10: Khaled Saleh Al-Zahrani | D10: 054 343 8188
C11: Zakaria Abdullah Al-Batran | D11: 054 074 0667
C12: Zaki Mohammed Al Darwish | D12: 050 480 5743
C13: Suleiman Yahya Ghazwani | D13: 055 620 0830
C14: Salah Abdel Aziz Bou Shlibi | D14: 054 588 8707
C15: Sadiq Majid Al Zawad | D15: 054 120 1764
C16: Abdul Rahman Ahmed Al-Asiri | D16: 053 448 6649
C17: Abdullah Abbas Al-Mari | D17: 050 589 6862
... C48: Hani Ali Al-Rowaimi | D48: 050 492 0925
A50: Operation Train Crew Office Ext: +966 (0) 11 525 0000 Ext:

Sheet Hours
C1: Dutty Hours | V1: Mainline & Depot Hours
C2: ='Dvr '!B3 -> 45928 | E2: =C2+1 -> 45929 | G2: =E2+1 -> 45930 | I2: =G2+1 -> 45931 | K2: =I2+1 -> 45932 | M2: =K2+1 -> 45933 | O2: =M2+1 -> 45934 | V2: ='Dvr '!B3 -> 45928 | AB2: =V2+1 -> 45929 | AH2: =AB2+1 -> 45930 | AN2: =AH2+1 -> 45931 | AT2: =AN2+1 -> 45932 | AZ2: =AT2+1 -> 45933 | BF2: =AZ2+1 -> 45934
C3: Sun | E3: Mon | G3: Tue | I3: Wed | K3: Thu | M3: Fri | O3: Sat | V3: Sunday | AB3: Monday | AH3: Tuesday | AN3: Wednesday | AT3: Thursday | AZ3: Friday | BF3: Saturday | BR3: =BS3-1 -> 45927 | BS3: ='Dvr '!B3 -> 45928 | BW3: =BS3+1 -> 45929 | CA3: =BW3+1 -> 45930 | CE3: =CA3+1 -> 45931 | CI3: =CE3+1 -> 45932 | CM3: =CI3+1 -> 45933 | CQ3: =CM3+1 -> 45934
C4: Actual | D4: BaseRoster | E4: Actual | F4: BaseRoster | G4: Actual | H4: BaseRoster | I4: Actual | J4: BaseRoster | K4: Actual | L4: BaseRoster | M4: Actual | N4: BaseRoster | O4: Actual | P4: BaseRoster | Q4: Actual Hours | R4: BaseRoster Hours | S4: Off | V4: Shift | W4: Mainline | X4: Depot | Y4: Accommodation | Z4: Location | AA4: Km | AB4: Shift | AC4: Mainline | AD4: Depot | AE4: Accommodation | AF4: Location | AG4: Km | AH4: Shift | AI4: Mainline | AJ4: Depot | AK4: Accommodation | AL4: Location | AM4: Km | AN4: Shift | AO4: Mainline | AP4: Depot | AQ4: Accommodation | AR4: Location | AS4: Km | AT4: Shift | AU4: Mainline | AV4: Depot | AW4: Accommodation | AX4: Location | AY4: Km | AZ4: Shift | BA4: Mainline | BB4: Depot | BC4: Accommodation | BD4: Location | BE4: Km | BF4: Shift | BG4: Mainline | BH4: Depot | BI4: Accommodation | BJ4: Location | BK4: Km | BL4: Actual Mainline Hours | BM4: BaseRoster Mainline Hours | BN4: Actual depot Hours | BO4: BaseRoster depot Hours | BR4: Sat | BS4: Sun | BU4: 1 | BW4: Mon | CA4: Tue | CE4: Wed | CI4: Thu | CM4: Fri | CQ4: Sat
B5: ='Dvr '!A7 -> Zakaria Abdullah Al-Batran | C5: =IFERROR(VLOOKUP(B5,'DAS Sun'!$F$9:$O$61,10,0),"Off") -> Off | D5: ='Dvr '!E7 -> 0 | E5: =IFERROR(VLOOKUP(B5,'DAS Mon'!$F$9:$O$49,10,0),"Off") -> Off | F5: ='Dvr '!I7 -> 0 | G5: =IFERROR(VLOOKUP(B5,'DAS Tue'!$F$9:$O$47,10,0),"Off") -> 0.33333333 | H5: ='Dvr '!M7 -> 0.33333333 | I5: =IFERROR(VLOOKUP(B5,'DAS Wed'!$F$9:$O$57,10,0),"Off") -> 0.41319444 | J5: ='Dvr '!Q7 -> 0.41319444 | K5: =IFERROR(VLOOKUP(B5,'DAS Thu'!$F$9:$O$59,10,0),"Off") -> 0.45763889 | L5: ='Dvr '!U7 -> 0.45763889 | M5: =IFERROR(VLOOKUP(B5,'DAS Fri'!$F$9:$O$63,10,0),"Off") -> Off | N5: ='Dvr '!Y7 -> 0.33333333 | O5: =IFERROR(VLOOKUP(B5,'DAS Sat'!$F$9:$O$65,10,0),"Off") -> 0.33333333 | P5: ='Dvr '!AC7 -> 0.33333333 | Q5: =SUM(C5,E5,G5,I5,K5,M5,O5) -> 1.5375 | R5: =SUM(D5,F5,H5,J5,L5,N5,P5) -> 1.8708333 | S5: =COUNTIF(C5:P5,"Off") -> 3 | U5: ='Dvr '!A7 -> Zakaria Abdullah Al-Batran | V5: =IFERROR(VLOOKUP(U5,'DAS Sun'!$F$10:$P$59,11,0),"Off") -> Off | W5: =IF(V5="MLD1&8","7:40",IF(V5="MLD3&4","2:40",IF(V5="MLD7&8","7:40",IF(V5="MLD5&10","7:40",IF(V5="MLD9&16","2:40",IF(V5="MLD17&2","2:40",IF(V5="MLD5","3:50",IF(V5="MLD13","3:50",IF(V5="MLD10","3:50",IF(V5="MLD12","3:50",IF(V5="MLD15","3:50",IF(V5="MLD14","3:50",IF(V5="SP-D","0",IF(V5="DST1","0",IF(V5="HST1","0",IF(V5="DDD1","0",IF(V5="DST2","0",IF(V5="DDD2","0",IF(V5="HST2","0",IF(V5="DDD3","0",)))))))))))))))))))) -> 0 | X5: =IF(V5="MLD1","0",IF(V5="MLD2","0",IF(V5="MLD3","0",IF(V5="MLD4","0",IF(V5="MLD5","0",IF(V5="MLD6","0",IF(V5="MLD7","0",IF(V5="SP-D","0",IF(V5="DST1","0",IF(V5="HST1","0",IF(V5="DDD1","8:00",IF(V5="DST2","0",IF(V5="DDD2","8:00",IF(V5="HST2","0",IF(V5="DDD3","8:00",))))))))))))))) -> 0 | Y5: =IF(V5="MLD5","YES",IF(V5="MLD13","YES",IF(V5="MLD15","YES",))) -> 0 | Z5: =IF(V5="MLD1&8","Riyadh",IF(V5="MLD7&18","Riyadh",IF(V5="MLD5&10","Riyadh",IF(V5="MLD3&4","Hufof",IF(V5="MLD9&16","Hufof",IF(V5="MLD17&2","Hufof",IF(V5="MLD5","Riyadh1",IF(V5="MLD10","Riyadh1",IF(V5="MLD13","Riyadh1",IF(V5="MLD12","Riyadh1",IF(V5="MLD15","Riyadh1",IF(V5="MLD14","Riyadh1",IF(V5="SP-D","Dammam",IF(V5="DST1","Dammam",IF(V5="DST2","Dammam",IF(V5="HST1","Hufof0",IF(V5="HST2","Hufof0",IF(V5="DDD1","Dammam",IF(V5="DDD2","Dammam",IF(V5="DDD3","Dammam",IF(V5="Q Path","Dammam",IF(V5="Off","Dammam")))))))))))))))))))))) -> Dammam | AA5: =IF(Z5="Riyadh","898",IF(Z5="Riyadh1","449",IF(Z5="Dammam","0",IF(Z5="Hufof","280",IF(Z5="Hufof0","0"))))) -> 0 | AB5: =IFERROR(VLOOKUP(U5,'DAS Mon'!$F$10:$P$51,11,0),"Off") -> Off | AC5: =IF(AB5="MLD1&8","7:40",IF(AB5="MLD3&4","2:40",IF(AB5="MLD7&8","7:40",IF(AB5="MLD5&10","7:40",IF(AB5="MLD9&16","2:40",IF(AB5="MLD17&2","2:40",IF(AB5="MLD5","3:50",IF(AB5="MLD13","3:50",IF(AB5="MLD10","3:50",IF(AB5="MLD12","3:50",IF(AB5="MLD15","3:50",IF(AB5="MLD14","3:50",IF(AB5="SP-D","0",IF(AB5="DST1","0",IF(AB5="HST1","0",IF(AB5="DDD1","0",IF(AB5="DST2","0",IF(AB5="DDD2","0",IF(AB5="HST2","0",IF(AB5="DDD3","0",)))))))))))))))))))) -> 0 | AD5: =IF(AB5="MLD1","0",IF(AB5="MLD2","0",IF(AB5="MLD3","0",IF(AB5="MLD4","0",IF(AB5="MLD5","0",IF(AB5="MLD6","0",IF(AB5="MLD7","0",IF(AB5="SP-D","0",IF(AB5="DST1","0",IF(AB5="HST1","0",IF(AB5="DDD1","8:00",IF(AB5="DST2","0",IF(AB5="DDD2","8:00",IF(AB5="HST2","0",IF(AB5="DDD3","8:00",))))))))))))))) -> 0 | AE5: =IF(AB5="MLD5","YES",IF(AB5="MLD13","YES",IF(AB5="MLD15","YES",))) -> 0 | AF5: =IF(AB5="MLD1&8","Riyadh",IF(AB5="MLD7&18","Riyadh",IF(AB5="MLD5&10","Riyadh",IF(AB5="MLD3&4","Hufof",IF(AB5="MLD9&16","Hufof",IF(AB5="MLD17&2","Hufof",IF(AB5="MLD5","Riyadh1",IF(AB5="MLD10","Riyadh1",IF(AB5="MLD13","Riyadh1",IF(AB5="MLD12","Riyadh1",IF(AB5="MLD15","Riyadh1",IF(AB5="MLD14","Riyadh1",IF(AB5="SP-D","Dammam",IF(AB5="DST1","Dammam",IF(AB5="DST2","Dammam",IF(AB5="HST1","Hufof0",IF(AB5="HST2","Hufof0",IF(AB5="DDD1","Dammam",IF(AB5="DDD2","Dammam",IF(AB5="DDD3","Dammam",IF(AB5="Q Path","Dammam",IF(AB5="Off","Dammam")))))))))))))))))))))) -> Dammam | AG5: =IF(AF5="Riyadh","898",IF(AF5="Riyadh1","449",IF(AF5="Dammam","0",IF(AF5="Hufof","280",IF(AF5="Hufof0","0"))))) -> 0 | AH5: =IFERROR(VLOOKUP(U5,'DAS Tue'!$F$9:$P$50,11,0),"Off") -> SP | AI5: =IF(AH5="MLD1&8","7:40",IF(AH5="MLD3&4","2:40",IF(AH5="MLD7&8","7:40",IF(AH5="MLD5&10","7:40",IF(AH5="MLD9&16","2:40",IF(AH5="MLD17&2","2:40",IF(AH5="MLD5","3:50",IF(AH5="MLD13","3:50",IF(AH5="MLD10","3:50",IF(AH5="MLD12","3:50",IF(AH5="MLD15","3:50",IF(AH5="MLD14","3:50",IF(AH5="SP-D","0",IF(AH5="DST1","0",IF(AH5="HST1","0",IF(AH5="DDD1","0",IF(AH5="DST2","0",IF(AH5="DDD2","0",IF(AH5="HST2","0",IF(AH5="DDD3","0",)))))))))))))))))))) -> 0 | AJ5: =IF(AH5="MLD1","0",IF(AH5="MLD2","0",IF(AH5="MLD3","0",IF(AH5="MLD4","0",IF(AH5="MLD5","0",IF(AH5="MLD6","0",IF(AH5="MLD7","0",IF(AH5="SP-D","0",IF(AH5="DST1","0",IF(AH5="HST1","0",IF(AH5="DDD1","8:00",IF(AH5="DST2","0",IF(AH5="DDD2","8:00",IF(AH5="HST2","0",IF(AH5="DDD3","8:00",))))))))))))))) -> 0 | AK5: =IF(AH5="MLD5","YES",IF(AH5="MLD13","YES",IF(AH5="MLD15","YES",))) -> 0 | AL5: =IF(AH5="MLD1&8","Riyadh",IF(AH5="MLD7&18","Riyadh",IF(AH5="MLD5&10","Riyadh",IF(AH5="MLD3&4","Hufof",IF(AH5="MLD9&16","Hufof",IF(AH5="MLD17&2","Hufof",IF(AH5="MLD5","Riyadh1",IF(AH5="MLD10","Riyadh1",IF(AH5="MLD13","Riyadh1",IF(AH5="MLD12","Riyadh1",IF(AH5="MLD15","Riyadh1",IF(AH5="MLD14","Riyadh1",IF(AH5="SP-D","Dammam",IF(AH5="DST1","Dammam",IF(AH5="DST2","Dammam",IF(AH5="HST1","Hufof0",IF(AH5="HST2","Hufof0",IF(AH5="DDD1","Dammam",IF(AH5="DDD2","Dammam",IF(AH5="DDD3","Dammam",IF(AH5="Q Path","Dammam",IF(AH5="Off","Dammam")))))))))))))))))))))) -> FALSE | AM5: =IF(AL5="Riyadh","898",IF(AL5="Riyadh1","449",IF(AL5="Dammam","0",IF(AL5="Hufof","280",IF(AL5="Hufof0","0"))))) -> FALSE | AN5: =IFERROR(VLOOKUP(U5,'DAS Wed'!$F$10:$P$56,11,0),"Off") -> DSBY 1 | AO5: =IF(AN5="MLD1&8","7:40",IF(AN5="MLD3&4","2:40",IF(AN5="MLD7&8","7:40",IF(AN5="MLD5&10","7:40",IF(AN5="MLD9&16","2:40",IF(AN5="MLD17&2","2:40",IF(AN5="MLD5","3:50",IF(AN5="MLD13","3:50",IF(AN5="MLD10","3:50",IF(AN5="MLD12","3:50",IF(AN5="MLD15","3:50",IF(AN5="MLD14","3:50",IF(AN5="SP-D","0",IF(AN5="DST1","0",IF(AN5="HST1","0",IF(AN5="DDD1","0",IF(AN5="DST2","0",IF(AN5="DDD2","0",IF(AN5="HST2","0",IF(AN5="DDD3","0",)))))))))))))))))))) -> 0 | AP5: =IF(AN5="MLD1","0",IF(AN5="MLD2","0",IF(AN5="MLD3","0",IF(AN5="MLD4","0",IF(AN5="MLD5","0",IF(AN5="MLD6","0",IF(AN5="MLD7","0",IF(AN5="SP-D","0",IF(AN5="DST1","0",IF(AN5="HST1","0",IF(AN5="DDD1","8:00",IF(AN5="DST2","0",IF(AN5="DDD2","8:00",IF(AN5="HST2","0",IF(AN5="DDD3","8:00",))))))))))))))) -> 0 | AQ5: =IF(AN5="MLD5","YES",IF(AN5="MLD13","YES",IF(AN5="MLD15","YES",))) -> 0 | AR5: =IF(AN5="MLD1&8","Riyadh",IF(AN5="MLD7&18","Riyadh",IF(AN5="MLD5&10","Riyadh",IF(AN5="MLD3&4","Hufof",IF(AN5="MLD9&16","Hufof",IF(AN5="MLD17&2","Hufof",IF(AN5="MLD5","Riyadh1",IF(AN5="MLD10","Riyadh1",IF(AN5="MLD13","Riyadh1",IF(AN5="MLD12","Riyadh1",IF(AN5="MLD15","Riyadh1",IF(AN5="MLD14","Riyadh1",IF(AN5="SP-D","Dammam",IF(AN5="DST1","Dammam",IF(AN5="DST2","Dammam",IF(AN5="HST1","Hufof0",IF(AN5="HST2","Hufof0",IF(AN5="DDD1","Dammam",IF(AN5="DDD2","Dammam",IF(AN5="DDD3","Dammam",IF(AN5="Q Path","Dammam",IF(AN5="Off","Dammam")))))))))))))))))))))) -> FALSE | AS5: =IF(AR5="Riyadh","898",IF(AR5="Riyadh1","449",IF(AR5="Dammam","0",IF(AR5="Hufof","280",IF(AR5="Hufof0","0"))))) -> FALSE | AT5: =IFERROR(VLOOKUP(U5,'DAS Thu'!$F$35:$P$51,11,0),"Off") -> Off | AU5: =IF(AT5="MLD1&8","7:40",IF(AT5="MLD3&4","2:40",IF(AT5="MLD7&8","7:40",IF(AT5="MLD5&10","7:40",IF(AT5="MLD9&16","2:40",IF(AT5="MLD17&2","2:40",IF(AT5="MLD5","3:50",IF(AT5="MLD13","3:50",IF(AT5="MLD10","3:50",IF(AT5="MLD12","3:50",IF(AT5="MLD15","3:50",IF(AT5="MLD14","3:50",IF(AT5="SP-D","0",IF(AT5="DST1","0",IF(AT5="HST1","0",IF(AT5="DDD1","0",IF(AT5="DST2","0",IF(AT5="DDD2","0",IF(AT5="HST2","0",IF(AT5="DDD3","0",)))))))))))))))))))) -> 0 | AV5: =IF(AT5="MLD1","0",IF(AT5="MLD2","0",IF(AT5="MLD3","0",IF(AT5="MLD4","0",IF(AT5="MLD5","0",IF(AT5="MLD6","0",IF(AT5="MLD7","0",IF(AT5="SP-D","0",IF(AT5="DST1","0",IF(AT5="HST1","0",IF(AT5="DDD1","8:00",IF(AT5="DST2","0",IF(AT5="DDD2","8:00",IF(AT5="HST2","0",IF(AT5="DDD3","8:00",))))))))))))))) -> 0 | AW5: =IF(AT5="MLD5","YES",IF(AT5="MLD13","YES",IF(AT5="MLD15","YES",))) -> 0 | AX5: =IF(AT5="MLD1&8","Riyadh",IF(AT5="MLD7&18","Riyadh",IF(AT5="MLD5&10","Riyadh",IF(AT5="MLD3&4","Hufof",IF(AT5="MLD9&16","Hufof",IF(AT5="MLD17&2","Hufof",IF(AT5="MLD5","Riyadh1",IF(AT5="MLD10","Riyadh1",IF(AT5="MLD13","Riyadh1",IF(AT5="MLD12","Riyadh1",IF(AT5="MLD15","Riyadh1",IF(AT5="MLD14","Riyadh1",IF(AT5="SP-D","Dammam",IF(AT5="DST1","Dammam",IF(AT5="DST2","Dammam",IF(AT5="HST1","Hufof0",IF(AT5="HST2","Hufof0",IF(AT5="DDD1","Dammam",IF(AT5="DDD2","Dammam",IF(AT5="DDD3","Dammam",IF(AT5="Q Path","Dammam",IF(AT5="Off","Dammam")))))))))))))))))))))) -> Dammam | AY5: =IF(AX5="Riyadh","898",IF(AX5="Riyadh1","449",IF(AX5="Dammam","0",IF(AX5="Hufof","280",IF(AX5="Hufof0","0"))))) -> 0 | AZ5: =IFERROR(VLOOKUP(U5,'DAS Fri'!$F$47:$P$60,11,0),"Off") -> Off | BA5: =IF(AZ5="MLD1&8","7:40",IF(AZ5="MLD3&4","2:40",IF(AZ5="MLD7&8","7:40",IF(AZ5="MLD5&10","7:40",IF(AZ5="MLD9&16","2:40",IF(AZ5="MLD17&2","2:40",IF(AZ5="MLD5","3:50",IF(AZ5="MLD13","3:50",IF(AZ5="MLD10","3:50",IF(AZ5="MLD12","3:50",IF(AZ5="MLD15","3:50",IF(AZ5="MLD14","3:50",IF(AZ5="SP-D","0",IF(AZ5="DST1","0",IF(AZ5="HST1","0",IF(AZ5="DDD1","0",IF(AZ5="DST2","0",IF(AZ5="DDD2","0",IF(AZ5="HST2","0",IF(AZ5="DDD3","0",)))))))))))))))))))) -> 0 | BB5: =IF(AZ5="MLD1","0",IF(AZ5="MLD2","0",IF(AZ5="MLD3","0",IF(AZ5="MLD4","0",IF(AZ5="MLD5","0",IF(AZ5="MLD6","0",IF(AZ5="MLD7","0",IF(AZ5="SP-D","0",IF(AZ5="DST1","0",IF(AZ5="HST1","0",IF(AZ5="DDD1","8:00",IF(AZ5="DST2","0",IF(AZ5="DDD2","8:00",IF(AZ5="HST2","0",IF(AZ5="DDD3","8:00",))))))))))))))) -> 0 | BC5: =IF(AZ5="MLD5","YES",IF(AZ5="MLD13","YES",IF(AZ5="MLD15","YES",))) -> 0 | BD5: =IF(AZ5="MLD1&8","Riyadh",IF(AZ5="MLD7&18","Riyadh",IF(AZ5="MLD5&10","Riyadh",IF(AZ5="MLD3&4","Hufof",IF(AZ5="MLD9&16","Hufof",IF(AZ5="MLD17&2","Hufof",IF(AZ5="MLD5","Riyadh1",IF(AZ5="MLD10","Riyadh1",IF(AZ5="MLD13","Riyadh1",IF(AZ5="MLD12","Riyadh1",IF(AZ5="MLD15","Riyadh1",IF(AZ5="MLD14","Riyadh1",IF(AZ5="SP-D","Dammam",IF(AZ5="DST1","Dammam",IF(AZ5="DST2","Dammam",IF(AZ5="HST1","Hufof0",IF(AZ5="HST2","Hufof0",IF(AZ5="DDD1","Dammam",IF(AZ5="DDD2","Dammam",IF(AZ5="DDD3","Dammam",IF(AZ5="Q Path","Dammam",IF(AZ5="Off","Dammam")))))))))))))))))))))) -> Dammam | BE5: =IF(BD5="Riyadh","898",IF(BD5="Riyadh1","449",IF(BD5="Dammam","0",IF(BD5="Hufof","280",IF(BD5="Hufof0","0"))))) -> 0 | BF5: =IFERROR(VLOOKUP(U5,'DAS Sat'!$F$9:$P$68,11,0),"Off") -> SP | BG5: =IF(BF5="MLD1&8","7:40",IF(BF5="MLD3&4","2:40",IF(BF5="MLD7&8","7:40",IF(BF5="MLD5&10","7:40",IF(BF5="MLD9&16","2:40",IF(BF5="MLD17&2","2:40",IF(BF5="MLD5","3:50",IF(BF5="MLD13","3:50",IF(BF5="MLD10","3:50",IF(BF5="MLD12","3:50",IF(BF5="MLD15","3:50",IF(BF5="MLD14","3:50",IF(BF5="SP-D","0",IF(BF5="DST1","0",IF(BF5="HST1","0",IF(BF5="DDD1","0",IF(BF5="DST2","0",IF(BF5="DDD2","0",IF(BF5="HST2","0",IF(BF5="DDD3","0",)))))))))))))))))))) -> 0 | BH5: =IF(BF5="MLD1","0",IF(BF5="MLD2","0",IF(BF5="MLD3","0",IF(BF5="MLD4","0",IF(BF5="MLD5","0",IF(BF5="MLD6","0",IF(BF5="MLD7","0",IF(BF5="SP-D","0",IF(BF5="DST1","0",IF(BF5="HST1","0",IF(BF5="DDD1","8:00",IF(BF5="DST2","0",IF(BF5="DDD2","8:00",IF(BF5="HST2","0",IF(BF5="DDD3","8:00",))))))))))))))) -> 0 | BI5: =IF(BF5="MLD5","YES",IF(BF5="MLD13","YES",IF(BF5="MLD15","YES",))) -> 0 | BJ5: =IF(BF5="MLD1&8","Riyadh",IF(BF5="MLD7&18","Riyadh",IF(BF5="MLD5&10","Riyadh",IF(BF5="MLD3&4","Hufof",IF(BF5="MLD9&16","Hufof",IF(BF5="MLD17&2","Hufof",IF(BF5="MLD5","Riyadh1",IF(BF5="MLD10","Riyadh1",IF(BF5="MLD13","Riyadh1",IF(BF5="MLD12","Riyadh1",IF(BF5="MLD15","Riyadh1",IF(BF5="MLD14","Riyadh1",IF(BF5="SP-D","Dammam",IF(BF5="DST1","Dammam",IF(BF5="DST2","Dammam",IF(BF5="HST1","Hufof0",IF(BF5="HST2","Hufof0",IF(BF5="DDD1","Dammam",IF(BF5="DDD2","Dammam",IF(BF5="DDD3","Dammam",IF(BF5="Q Path","Dammam",IF(BF5="Off","Dammam")))))))))))))))))))))) -> FALSE | BK5: =IF(BJ5="Riyadh","898",IF(BJ5="Riyadh1","449",IF(BJ5="Dammam","0",IF(BJ5="Hufof","280",IF(BJ5="Hufof0","0"))))) -> FALSE | BL5: =W5+AC5+AI5+AO5+AU5+BA5+BG5 -> 0 | BM5: 0.11111111 | BN5: =X5+AD5+AJ5+AP5+AV5+BB5+BH5 -> 0 | BO5: 0.66666667 | BR5: Off Duty | BS5: in | BT5: out | BV5: Hours Rest | BW5: in | BX5: out | BZ5: Hours Rest | CA5: in | CB5: out | CD5: Hours Rest | CE5: in | CF5: out | CH5: Hours Rest | CI5: in | CJ5: out | CL5: Hours Rest | CM5: in | CN5: out | CP5: Hours Rest | CQ5: in | CR5: out | CS5: Off Duty | CT5: Hours Rest
B6: ='Dvr '!A8 -> Ahmed Almadeh | C6: =IFERROR(VLOOKUP(B6,'DAS Sun'!$F$9:$O$61,10,0),"Off") -> Off | D6: ='Dvr '!E8 -> 0 | E6: =IFERROR(VLOOKUP(B6,'DAS Mon'!$F$9:$O$49,10,0),"Off") -> Off | F6: ='Dvr '!I8 -> 0 | G6: =IFERROR(VLOOKUP(B6,'DAS Tue'!$F$9:$O$47,10,0),"Off") -> Off | H6: ='Dvr '!M8 -> 0 | I6: =IFERROR(VLOOKUP(B6,'DAS Wed'!$F$9:$O$57,10,0),"Off") -> 0.45763889 | J6: ='Dvr '!Q8 -> 0.45763889 | K6: =IFERROR(VLOOKUP(B6,'DAS Thu'!$F$9:$O$59,10,0),"Off") -> 0.33333333 | L6: ='Dvr '!U8 -> 0.33333333 | M6: =IFERROR(VLOOKUP(B6,'DAS Fri'!$F$9:$O$63,10,0),"Off") -> Off | N6: ='Dvr '!Y8 -> 0.33333333 | O6: =IFERROR(VLOOKUP(B6,'DAS Sat'!$F$9:$O$65,10,0),"Off") -> 0.33333333 | P6: ='Dvr '!AC8 -> 0.33333333 | Q6: =SUM(C6,E6,G6,I6,K6,M6,O6) -> 1.1243056 | R6: =SUM(D6,F6,H6,J6,L6,N6,P6) -> 1.4576389 | S6: =COUNTIF(C6:P6,"Off") -> 4 | U6: ='Dvr '!A8 -> Ahmed Almadeh | V6: =IFERROR(VLOOKUP(U6,'DAS Sun'!$F$10:$P$59,11,0),"Off") -> Off | W6: =IF(V6="MLD1&8","7:40",IF(V6="MLD3&4","2:40",IF(V6="MLD7&8","7:40",IF(V6="MLD5&10","7:40",IF(V6="MLD9&16","2:40",IF(V6="MLD17&2","2:40",IF(V6="MLD5","3:50",IF(V6="MLD13","3:50",IF(V6="MLD10","3:50",IF(V6="MLD12","3:50",IF(V6="MLD15","3:50",IF(V6="MLD14","3:50",IF(V6="SP-D","0",IF(V6="DST1","0",IF(V6="HST1","0",IF(V6="DDD1","0",IF(V6="DST2","0",IF(V6="DDD2","0",IF(V6="HST2","0",IF(V6="DDD3","0",)))))))))))))))))))) -> 0 | X6: =IF(V6="MLD1","0",IF(V6="MLD2","0",IF(V6="MLD3","0",IF(V6="MLD4","0",IF(V6="MLD5","0",IF(V6="MLD6","0",IF(V6="MLD7","0",IF(V6="SP-D","0",IF(V6="DST1","0",IF(V6="HST1","0",IF(V6="DDD1","8:00",IF(V6="DST2","0",IF(V6="DDD2","8:00",IF(V6="HST2","0",IF(V6="DDD3","8:00",))))))))))))))) -> 0 | Y6: =IF(V6="MLD5","YES",IF(V6="MLD13","YES",IF(V6="MLD15","YES",))) -> 0 | Z6: =IF(V6="MLD1&8","Riyadh",IF(V6="MLD7&18","Riyadh",IF(V6="MLD5&10","Riyadh",IF(V6="MLD3&4","Hufof",IF(V6="MLD9&16","Hufof",IF(V6="MLD17&2","Hufof",IF(V6="MLD5","Riyadh1",IF(V6="MLD10","Riyadh1",IF(V6="MLD13","Riyadh1",IF(V6="MLD12","Riyadh1",IF(V6="MLD15","Riyadh1",IF(V6="MLD14","Riyadh1",IF(V6="SP-D","Dammam",IF(V6="DST1","Dammam",IF(V6="DST2","Dammam",IF(V6="HST1","Hufof0",IF(V6="HST2","Hufof0",IF(V6="DDD1","Dammam",IF(V6="DDD2","Dammam",IF(V6="DDD3","Dammam",IF(V6="Q Path","Dammam",IF(V6="Off","Dammam")))))))))))))))))))))) -> Dammam | AA6: =IF(Z6="Riyadh","898",IF(Z6="Riyadh1","449",IF(Z6="Dammam","0",IF(Z6="Hufof","280",IF(Z6="Hufof0","0"))))) -> 0 | AB6: =IFERROR(VLOOKUP(U6,'DAS Mon'!$F$10:$P$51,11,0),"Off") -> Off | AC6: =IF(AB6="MLD1&8","7:40",IF(AB6="MLD3&4","2:40",IF(AB6="MLD7&8","7:40",IF(AB6="MLD5&10","7:40",IF(AB6="MLD9&16","2:40",IF(AB6="MLD17&2","2:40",IF(AB6="MLD5","3:50",IF(AB6="MLD13","3:50",IF(AB6="MLD10","3:50",IF(AB6="MLD12","3:50",IF(AB6="MLD15","3:50",IF(AB6="MLD14","3:50",IF(AB6="SP-D","0",IF(AB6="DST1","0",IF(AB6="HST1","0",IF(AB6="DDD1","0",IF(AB6="DST2","0",IF(AB6="DDD2","0",IF(AB6="HST2","0",IF(AB6="DDD3","0",)))))))))))))))))))) -> 0 | AD6: =IF(AB6="MLD1","0",IF(AB6="MLD2","0",IF(AB6="MLD3","0",IF(AB6="MLD4","0",IF(AB6="MLD5","0",IF(AB6="MLD6","0",IF(AB6="MLD7","0",IF(AB6="SP-D","0",IF(AB6="DST1","0",IF(AB6="HST1","0",IF(AB6="DDD1","8:00",IF(AB6="DST2","0",IF(AB6="DDD2","8:00",IF(AB6="HST2","0",IF(AB6="DDD3","8:00",))))))))))))))) -> 0 | AE6: =IF(AB6="MLD5","YES",IF(AB6="MLD13","YES",IF(AB6="MLD15","YES",))) -> 0 | AF6: =IF(AB6="MLD1&8","Riyadh",IF(AB6="MLD7&18","Riyadh",IF(AB6="MLD5&10","Riyadh",IF(AB6="MLD3&4","Hufof",IF(AB6="MLD9&16","Hufof",IF(AB6="MLD17&2","Hufof",IF(AB6="MLD5","Riyadh1",IF(AB6="MLD10","Riyadh1",IF(AB6="MLD13","Riyadh1",IF(AB6="MLD12","Riyadh1",IF(AB6="MLD15","Riyadh1",IF(AB6="MLD14","Riyadh1",IF(AB6="SP-D","Dammam",IF(AB6="DST1","Dammam",IF(AB6="DST2","Dammam",IF(AB6="HST1","Hufof0",IF(AB6="HST2","Hufof0",IF(AB6="DDD1","Dammam",IF(AB6="DDD2","Dammam",IF(AB6="DDD3","Dammam",IF(AB6="Q Path","Dammam",IF(AB6="Off","Dammam")))))))))))))))))))))) -> Dammam | AG6: =IF(AF6="Riyadh","898",IF(AF6="Riyadh1","449",IF(AF6="Dammam","0",IF(AF6="Hufof","280",IF(AF6="Hufof0","0"))))) -> 0 | AH6: =IFERROR(VLOOKUP(U6,'DAS Tue'!$F$9:$P$50,11,0),"Off") -> Off | AI6: =IF(AH6="MLD1&8","7:40",IF(AH6="MLD3&4","2:40",IF(AH6="MLD7&8","7:40",IF(AH6="MLD5&10","7:40",IF(AH6="MLD9&16","2:40",IF(AH6="MLD17&2","2:40",IF(AH6="MLD5","3:50",IF(AH6="MLD13","3:50",IF(AH6="MLD10","3:50",IF(AH6="MLD12","3:50",IF(AH6="MLD15","3:50",IF(AH6="MLD14","3:50",IF(AH6="SP-D","0",IF(AH6="DST1","0",IF(AH6="HST1","0",IF(AH6="DDD1","0",IF(AH6="DST2","0",IF(AH6="DDD2","0",IF(AH6="HST2","0",IF(AH6="DDD3","0",)))))))))))))))))))) -> 0 | AJ6: =IF(AH6="MLD1","0",IF(AH6="MLD2","0",IF(AH6="MLD3","0",IF(AH6="MLD4","0",IF(AH6="MLD5","0",IF(AH6="MLD6","0",IF(AH6="MLD7","0",IF(AH6="SP-D","0",IF(AH6="DST1","0",IF(AH6="HST1","0",IF(AH6="DDD1","8:00",IF(AH6="DST2","0",IF(AH6="DDD2","8:00",IF(AH6="HST2","0",IF(AH6="DDD3","8:00",))))))))))))))) -> 0 | AK6: =IF(AH6="MLD5","YES",IF(AH6="MLD13","YES",IF(AH6="MLD15","YES",))) -> 0 | AL6: =IF(AH6="MLD1&8","Riyadh",IF(AH6="MLD7&18","Riyadh",IF(AH6="MLD5&10","Riyadh",IF(AH6="MLD3&4","Hufof",IF(AH6="MLD9&16","Hufof",IF(AH6="MLD17&2","Hufof",IF(AH6="MLD5","Riyadh1",IF(AH6="MLD10","Riyadh1",IF(AH6="MLD13","Riyadh1",IF(AH6="MLD12","Riyadh1",IF(AH6="MLD15","Riyadh1",IF(AH6="MLD14","Riyadh1",IF(AH6="SP-D","Dammam",IF(AH6="DST1","Dammam",IF(AH6="DST2","Dammam",IF(AH6="HST1","Hufof0",IF(AH6="HST2","Hufof0",IF(AH6="DDD1","Dammam",IF(AH6="DDD2","Dammam",IF(AH6="DDD3","Dammam",IF(AH6="Q Path","Dammam",IF(AH6="Off","Dammam")))))))))))))))))))))) -> Dammam | AM6: =IF(AL6="Riyadh","898",IF(AL6="Riyadh1","449",IF(AL6="Dammam","0",IF(AL6="Hufof","280",IF(AL6="Hufof0","0"))))) -> 0 | AN6: =IFERROR(VLOOKUP(U6,'DAS Wed'!$F$10:$P$56,11,0),"Off") -> MLD3&10 | AO6: =IF(AN6="MLD1&8","7:40",IF(AN6="MLD3&4","2:40",IF(AN6="MLD7&8","7:40",IF(AN6="MLD5&10","7:40",IF(AN6="MLD9&16","2:40",IF(AN6="MLD17&2","2:40",IF(AN6="MLD5","3:50",IF(AN6="MLD13","3:50",IF(AN6="MLD10","3:50",IF(AN6="MLD12","3:50",IF(AN6="MLD15","3:50",IF(AN6="MLD14","3:50",IF(AN6="SP-D","0",IF(AN6="DST1","0",IF(AN6="HST1","0",IF(AN6="DDD1","0",IF(AN6="DST2","0",IF(AN6="DDD2","0",IF(AN6="HST2","0",IF(AN6="DDD3","0",)))))))))))))))))))) -> 0 | AP6: =IF(AN6="MLD1","0",IF(AN6="MLD2","0",IF(AN6="MLD3","0",IF(AN6="MLD4","0",IF(AN6="MLD5","0",IF(AN6="MLD6","0",IF(AN6="MLD7","0",IF(AN6="SP-D","0",IF(AN6="DST1","0",IF(AN6="HST1","0",IF(AN6="DDD1","8:00",IF(AN6="DST2","0",IF(AN6="DDD2","8:00",IF(AN6="HST2","0",IF(AN6="DDD3","8:00",))))))))))))))) -> 0 | AQ6: =IF(AN6="MLD5","YES",IF(AN6="MLD13","YES",IF(AN6="MLD15","YES",))) -> 0 | AR6: =IF(AN6="MLD1&8","Riyadh",IF(AN6="MLD7&18","Riyadh",IF(AN6="MLD5&10","Riyadh",IF(AN6="MLD3&4","Hufof",IF(AN6="MLD9&16","Hufof",IF(AN6="MLD17&2","Hufof",IF(AN6="MLD5","Riyadh1",IF(AN6="MLD10","Riyadh1",IF(AN6="MLD13","Riyadh1",IF(AN6="MLD12","Riyadh1",IF(AN6="MLD15","Riyadh1",IF(AN6="MLD14","Riyadh1",IF(AN6="SP-D","Dammam",IF(AN6="DST1","Dammam",IF(AN6="DST2","Dammam",IF(AN6="HST1","Hufof0",IF(AN6="HST2","Hufof0",IF(AN6="DDD1","Dammam",IF(AN6="DDD2","Dammam",IF(AN6="DDD3","Dammam",IF(AN6="Q Path","Dammam",IF(AN6="Off","Dammam")))))))))))))))))))))) -> FALSE | AS6: =IF(AR6="Riyadh","898",IF(AR6="Riyadh1","449",IF(AR6="Dammam","0",IF(AR6="Hufof","280",IF(AR6="Hufof0","0"))))) -> FALSE | AT6: =IFERROR(VLOOKUP(U6,'DAS Thu'!$F$35:$P$51,11,0),"Off") -> Off | AU6: =IF(AT6="MLD1&8","7:40",IF(AT6="MLD3&4","2:40",IF(AT6="MLD7&8","7:40",IF(AT6="MLD5&10","7:40",IF(AT6="MLD9&16","2:40",IF(AT6="MLD17&2","2:40",IF(AT6="MLD5","3:50",IF(AT6="MLD13","3:50",IF(AT6="MLD10","3:50",IF(AT6="MLD12","3:50",IF(AT6="MLD15","3:50",IF(AT6="MLD14","3:50",IF(AT6="SP-D","0",IF(AT6="DST1","0",IF(AT6="HST1","0",IF(AT6="DDD1","0",IF(AT6="DST2","0",IF(AT6="DDD2","0",IF(AT6="HST2","0",IF(AT6="DDD3","0",)))))))))))))))))))) -> 0 | AV6: =IF(AT6="MLD1","0",IF(AT6="MLD2","0",IF(AT6="MLD3","0",IF(AT6="MLD4","0",IF(AT6="MLD5","0",IF(AT6="MLD6","0",IF(AT6="MLD7","0",IF(AT6="SP-D","0",IF(AT6="DST1","0",IF(AT6="HST1","0",IF(AT6="DDD1","8:00",IF(AT6="DST2","0",IF(AT6="DDD2","8:00",IF(AT6="HST2","0",IF(AT6="DDD3","8:00",))))))))))))))) -> 0 | AW6: =IF(AT6="MLD5","YES",IF(AT6="MLD13","YES",IF(AT6="MLD15","YES",))) -> 0 | AX6: =IF(AT6="MLD1&8","Riyadh",IF(AT6="MLD7&18","Riyadh",IF(AT6="MLD5&10","Riyadh",IF(AT6="MLD3&4","Hufof",IF(AT6="MLD9&16","Hufof",IF(AT6="MLD17&2","Hufof",IF(AT6="MLD5","Riyadh1",IF(AT6="MLD10","Riyadh1",IF(AT6="MLD13","Riyadh1",IF(AT6="MLD12","Riyadh1",IF(AT6="MLD15","Riyadh1",IF(AT6="MLD14","Riyadh1",IF(AT6="SP-D","Dammam",IF(AT6="DST1","Dammam",IF(AT6="DST2","Dammam",IF(AT6="HST1","Hufof0",IF(AT6="HST2","Hufof0",IF(AT6="DDD1","Dammam",IF(AT6="DDD2","Dammam",IF(AT6="DDD3","Dammam",IF(AT6="Q Path","Dammam",IF(AT6="Off","Dammam")))))))))))))))))))))) -> Dammam | AY6: =IF(AX6="Riyadh","898",IF(AX6="Riyadh1","449",IF(AX6="Dammam","0",IF(AX6="Hufof","280",IF(AX6="Hufof0","0"))))) -> 0 | AZ6: =IFERROR(VLOOKUP(U6,'DAS Fri'!$F$47:$P$55,11,0),"Off") -> Off | BA6: =IF(AZ6="MLD1&8","7:40",IF(AZ6="MLD3&4","2:40",IF(AZ6="MLD7&8","7:40",IF(AZ6="MLD5&10","7:40",IF(AZ6="MLD9&16","2:40",IF(AZ6="MLD17&2","2:40",IF(AZ6="MLD5","3:50",IF(AZ6="MLD13","3:50",IF(AZ6="MLD10","3:50",IF(AZ6="MLD12","3:50",IF(AZ6="MLD15","3:50",IF(AZ6="MLD14","3:50",IF(AZ6="SP-D","0",IF(AZ6="DST1","0",IF(AZ6="HST1","0",IF(AZ6="DDD1","0",IF(AZ6="DST2","0",IF(AZ6="DDD2","0",IF(AZ6="HST2","0",IF(AZ6="DDD3","0",)))))))))))))))))))) -> 0 | BB6: =IF(AZ6="MLD1","0",IF(AZ6="MLD2","0",IF(AZ6="MLD3","0",IF(AZ6="MLD4","0",IF(AZ6="MLD5","0",IF(AZ6="MLD6","0",IF(AZ6="MLD7","0",IF(AZ6="SP-D","0",IF(AZ6="DST1","0",IF(AZ6="HST1","0",IF(AZ6="DDD1","8:00",IF(AZ6="DST2","0",IF(AZ6="DDD2","8:00",IF(AZ6="HST2","0",IF(AZ6="DDD3","8:00",))))))))))))))) -> 0 | BC6: =IF(AZ6="MLD5","YES",IF(AZ6="MLD13","YES",IF(AZ6="MLD15","YES",))) -> 0 | BD6: =IF(AZ6="MLD1&8","Riyadh",IF(AZ6="MLD7&18","Riyadh",IF(AZ6="MLD5&10","Riyadh",IF(AZ6="MLD3&4","Hufof",IF(AZ6="MLD9&16","Hufof",IF(AZ6="MLD17&2","Hufof",IF(AZ6="MLD5","Riyadh1",IF(AZ6="MLD10","Riyadh1",IF(AZ6="MLD13","Riyadh1",IF(AZ6="MLD12","Riyadh1",IF(AZ6="MLD15","Riyadh1",IF(AZ6="MLD14","Riyadh1",IF(AZ6="SP-D","Dammam",IF(AZ6="DST1","Dammam",IF(AZ6="DST2","Dammam",IF(AZ6="HST1","Hufof0",IF(AZ6="HST2","Hufof0",IF(AZ6="DDD1","Dammam",IF(AZ6="DDD2","Dammam",IF(AZ6="DDD3","Dammam",IF(AZ6="Q Path","Dammam",IF(AZ6="Off","Dammam")))))))))))))))))))))) -> Dammam | BE6: =IF(BD6="Riyadh","898",IF(BD6="Riyadh1","449",IF(BD6="Dammam","0",IF(BD6="Hufof","280",IF(BD6="Hufof0","0"))))) -> 0 | BF6: =IFERROR(VLOOKUP(U6,'DAS Sat'!$F$9:$P$63,11,0),"Off") -> SP | BG6: =IF(BF6="MLD1&8","7:40",IF(BF6="MLD3&4","2:40",IF(BF6="MLD7&8","7:40",IF(BF6="MLD5&10","7:40",IF(BF6="MLD9&16","2:40",IF(BF6="MLD17&2","2:40",IF(BF6="MLD5","3:50",IF(BF6="MLD13","3:50",IF(BF6="MLD10","3:50",IF(BF6="MLD12","3:50",IF(BF6="MLD15","3:50",IF(BF6="MLD14","3:50",IF(BF6="SP-D","0",IF(BF6="DST1","0",IF(BF6="HST1","0",IF(BF6="DDD1","0",IF(BF6="DST2","0",IF(BF6="DDD2","0",IF(BF6="HST2","0",IF(BF6="DDD3","0",)))))))))))))))))))) -> 0 | BH6: =IF(BF6="MLD1","0",IF(BF6="MLD2","0",IF(BF6="MLD3","0",IF(BF6="MLD4","0",IF(BF6="MLD5","0",IF(BF6="MLD6","0",IF(BF6="MLD7","0",IF(BF6="SP-D","0",IF(BF6="DST1","0",IF(BF6="HST1","0",IF(BF6="DDD1","8:00",IF(BF6="DST2","0",IF(BF6="DDD2","8:00",IF(BF6="HST2","0",IF(BF6="DDD3","8:00",))))))))))))))) -> 0 | BI6: =IF(BF6="MLD5","YES",IF(BF6="MLD13","YES",IF(BF6="MLD15","YES",))) -> 0 | BJ6: =IF(BF6="MLD1&8","Riyadh",IF(BF6="MLD7&18","Riyadh",IF(BF6="MLD5&10","Riyadh",IF(BF6="MLD3&4","Hufof",IF(BF6="MLD9&16","Hufof",IF(BF6="MLD17&2","Hufof",IF(BF6="MLD5","Riyadh1",IF(BF6="MLD10","Riyadh1",IF(BF6="MLD13","Riyadh1",IF(BF6="MLD12","Riyadh1",IF(BF6="MLD15","Riyadh1",IF(BF6="MLD14","Riyadh1",IF(BF6="SP-D","Dammam",IF(BF6="DST1","Dammam",IF(BF6="DST2","Dammam",IF(BF6="HST1","Hufof0",IF(BF6="HST2","Hufof0",IF(BF6="DDD1","Dammam",IF(BF6="DDD2","Dammam",IF(BF6="DDD3","Dammam",IF(BF6="Q Path","Dammam",IF(BF6="Off","Dammam")))))))))))))))))))))) -> FALSE | BK6: =IF(BJ6="Riyadh","898",IF(BJ6="Riyadh1","449",IF(BJ6="Dammam","0",IF(BJ6="Hufof","280",IF(BJ6="Hufof0","0"))))) -> FALSE | BL6: =W6+AC6+AI6+AO6+AU6+BA6+BG6 -> 0 | BM6: 0.11111111 | BN6: =X6+AD6+AJ6+AP6+AV6+BB6+BH6 -> 0 | BO6: 0.66666667 | BQ6: ='Dvr '!A7 -> Zakaria Abdullah Al-Batran | BR6: -0.25 | BS6: =IFERROR(VLOOKUP(BQ6,'DAS Sun'!$F$9:$Q$61,12,0),"Off") -> Off | BT6: =IFERROR(VLOOKUP(BQ6,'DAS Sun'!$F$9:$R$61,13,0),"Off") -> Off | BU6: =$BU$4-BT6 -> #VALUE! | BV6: =BS6+#REF! -> #VALUE! | BW6: =IFERROR(VLOOKUP(BQ6,'DAS Mon'!$F$9:$Q$49,12,0),"Off") -> Off | BX6: =IFERROR(VLOOKUP(BQ6,'DAS Mon'!$F$9:$R$49,13,0),"Off") -> Off | BY6: =$BU$4-BX6 -> #VALUE! | BZ6: =BW6+BU6 -> #VALUE! | CA6: =IFERROR(VLOOKUP(BQ6,'DAS Tue'!$F$9:$Q$49,12,0),"Off") -> 0.15486111 | CB6: =IFERROR(VLOOKUP(BQ6,'DAS Tue'!$F$9:$R$49,13,0),"Off") -> 0.48819444 | CC6: =$BU$4-CB6 -> 0.51180556 | CD6: =CA6+BY6 -> #VALUE! | CE6: =IFERROR(VLOOKUP(BQ6,'DAS Wed'!$F$9:$Q$58,12,0),"Off") -> 0.16666667 | CF6: =IFERROR(VLOOKUP(BQ6,'DAS Wed'!$F$9:$R$58,13,0),"Off") -> 0.57986111 | CG6: =$BU$4-CF6 -> 0.42013889 | CH6: =CE6+CC6 -> 0.67847222 | CI6: =IFERROR(VLOOKUP(BQ6,'DAS Thu'!$F$9:$Q$59,12,0),"Off") -> 0.23055556 | CJ6: =IFERROR(VLOOKUP(BQ6,'DAS Thu'!$F$9:$R$59,13,0),"Off") -> 0.68819444 | CK6: =$BU$4-CJ6 -> 0.31180556 | CL6: =CI6+CG6 -> 0.65069444 | CM6: =IFERROR(VLOOKUP(BQ6,'DAS Fri'!$F$9:$Q$63,12,0),"Off") -> Off | CN6: =IFERROR(VLOOKUP(BQ6,'DAS Fri'!$F$9:$R$63,13,0),"Off") -> Off | CO6: =$BU$4-CN6 -> #VALUE! | CP6: =CM6+CK6 -> #VALUE! | CQ6: =IFERROR(VLOOKUP(BQ6,'DAS Sat'!$F$9:$Q$65,12,0),"Off") -> 0.25 | CR6: =IFERROR(VLOOKUP(BQ6,'DAS Sat'!$F$9:$R$65,13,0),"Off") -> 0.58333333 | CS6: =$BU$4-CR6 -> 0.41666667 | CT6: =CQ6+CO6 -> #VALUE!
B7: ='Dvr '!A9 -> Ali Ahmed Al-Farhan | C7: =IFERROR(VLOOKUP(B7,'DAS Sun'!$F$9:$O$61,10,0),"Off") -> 0.41527778 | D7: ='Dvr '!E9 -> 0.41527778 | E7: =IFERROR(VLOOKUP(B7,'DAS Mon'!$F$9:$O$49,10,0),"Off") -> Off | F7: ='Dvr '!I9 -> 0 | G7: =IFERROR(VLOOKUP(B7,'DAS Tue'!$F$9:$O$47,10,0),"Off") -> Off | H7: ='Dvr '!M9 -> 0 | I7: =IFERROR(VLOOKUP(B7,'DAS Wed'!$F$9:$O$57,10,0),"Off") -> Off | J7: ='Dvr '!Q9 -> 0 | K7: =IFERROR(VLOOKUP(B7,'DAS Thu'!$F$9:$O$59,10,0),"Off") -> 0.33333333 | L7: ='Dvr '!U9 -> 0.33333333 | M7: =IFERROR(VLOOKUP(B7,'DAS Fri'!$F$9:$O$63,10,0),"Off") -> 0.20833333 | N7: ='Dvr '!Y9 -> 0.33333333 | O7: =IFERROR(VLOOKUP(B7,'DAS Sat'!$F$9:$O$65,10,0),"Off") -> 0.33333333 | P7: ='Dvr '!AC9 -> 0.33333333 | Q7: =SUM(C7,E7,G7,I7,K7,M7,O7) -> 1.2902778 | R7: =SUM(D7,F7,H7,J7,L7,N7,P7) -> 1.4152778 | S7: =COUNTIF(C7:P7,"Off") -> 3 | U7: ='Dvr '!A9 -> Ali Ahmed Al-Farhan | V7: =IFERROR(VLOOKUP(U7,'DAS Sun'!$F$10:$P$59,11,0),"Off") -> MLD5&12 | W7: =IF(V7="MLD1&8","7:40",IF(V7="MLD3&4","2:40",IF(V7="MLD7&8","7:40",IF(V7="MLD5&10","7:40",IF(V7="MLD9&16","2:40",IF(V7="MLD17&2","2:40",IF(V7="MLD5","3:50",IF(V7="MLD13","3:50",IF(V7="MLD10","3:50",IF(V7="MLD12","3:50",IF(V7="MLD15","3:50",IF(V7="MLD14","3:50",IF(V7="SP-D","0",IF(V7="DST1","0",IF(V7="HST1","0",IF(V7="DDD1","0",IF(V7="DST2","0",IF(V7="DDD2","0",IF(V7="HST2","0",IF(V7="DDD3","0",)))))))))))))))))))) -> 0 | X7: =IF(V7="MLD1","0",IF(V7="MLD2","0",IF(V7="MLD3","0",IF(V7="MLD4","0",IF(V7="MLD5","0",IF(V7="MLD6","0",IF(V7="MLD7","0",IF(V7="SP-D","0",IF(V7="DST1","0",IF(V7="HST1","0",IF(V7="DDD1","8:00",IF(V7="DST2","0",IF(V7="DDD2","8:00",IF(V7="HST2","0",IF(V7="DDD3","8:00",))))))))))))))) -> 0 | Y7: =IF(V7="MLD5","YES",IF(V7="MLD13","YES",IF(V7="MLD15","YES",))) -> 0 | Z7: =IF(V7="MLD1&8","Riyadh",IF(V7="MLD7&18","Riyadh",IF(V7="MLD5&10","Riyadh",IF(V7="MLD3&4","Hufof",IF(V7="MLD9&16","Hufof",IF(V7="MLD17&2","Hufof",IF(V7="MLD5","Riyadh1",IF(V7="MLD10","Riyadh1",IF(V7="MLD13","Riyadh1",IF(V7="MLD12","Riyadh1",IF(V7="MLD15","Riyadh1",IF(V7="MLD14","Riyadh1",IF(V7="SP-D","Dammam",IF(V7="DST1","Dammam",IF(V7="DST2","Dammam",IF(V7="HST1","Hufof0",IF(V7="HST2","Hufof0",IF(V7="DDD1","Dammam",IF(V7="DDD2","Dammam",IF(V7="DDD3","Dammam",IF(V7="Q Path","Dammam",IF(V7="Off","Dammam")))))))))))))))))))))) -> FALSE | AA7: =IF(Z7="Riyadh","898",IF(Z7="Riyadh1","449",IF(Z7="Dammam","0",IF(Z7="Hufof","280",IF(Z7="Hufof0","0"))))) -> FALSE | AB7: =IFERROR(VLOOKUP(U7,'DAS Mon'!$F$10:$P$51,11,0),"Off") -> Off | AC7: =IF(AB7="MLD1&8","7:40",IF(AB7="MLD3&4","2:40",IF(AB7="MLD7&8","7:40",IF(AB7="MLD5&10","7:40",IF(AB7="MLD9&16","2:40",IF(AB7="MLD17&2","2:40",IF(AB7="MLD5","3:50",IF(AB7="MLD13","3:50",IF(AB7="MLD10","3:50",IF(AB7="MLD12","3:50",IF(AB7="MLD15","3:50",IF(AB7="MLD14","3:50",IF(AB7="SP-D","0",IF(AB7="DST1","0",IF(AB7="HST1","0",IF(AB7="DDD1","0",IF(AB7="DST2","0",IF(AB7="DDD2","0",IF(AB7="HST2","0",IF(AB7="DDD3","0",)))))))))))))))))))) -> 0 | AD7: =IF(AB7="MLD1","0",IF(AB7="MLD2","0",IF(AB7="MLD3","0",IF(AB7="MLD4","0",IF(AB7="MLD5","0",IF(AB7="MLD6","0",IF(AB7="MLD7","0",IF(AB7="SP-D","0",IF(AB7="DST1","0",IF(AB7="HST1","0",IF(AB7="DDD1","8:00",IF(AB7="DST2","0",IF(AB7="DDD2","8:00",IF(AB7="HST2","0",IF(AB7="DDD3","8:00",))))))))))))))) -> 0 | AE7: =IF(AB7="MLD5","YES",IF(AB7="MLD13","YES",IF(AB7="MLD15","YES",))) -> 0 | AF7: =IF(AB7="MLD1&8","Riyadh",IF(AB7="MLD7&18","Riyadh",IF(AB7="MLD5&10","Riyadh",IF(AB7="MLD3&4","Hufof",IF(AB7="MLD9&16","Hufof",IF(AB7="MLD17&2","Hufof",IF(AB7="MLD5","Riyadh1",IF(AB7="MLD10","Riyadh1",IF(AB7="MLD13","Riyadh1",IF(AB7="MLD12","Riyadh1",IF(AB7="MLD15","Riyadh1",IF(AB7="MLD14","Riyadh1",IF(AB7="SP-D","Dammam",IF(AB7="DST1","Dammam",IF(AB7="DST2","Dammam",IF(AB7="HST1","Hufof0",IF(AB7="HST2","Hufof0",IF(AB7="DDD1","Dammam",IF(AB7="DDD2","Dammam",IF(AB7="DDD3","Dammam",IF(AB7="Q Path","Dammam",IF(AB7="Off","Dammam")))))))))))))))))))))) -> Dammam | AG7: =IF(AF7="Riyadh","898",IF(AF7="Riyadh1","449",IF(AF7="Dammam","0",IF(AF7="Hufof","280",IF(AF7="Hufof0","0"))))) -> 0 | AH7: =IFERROR(VLOOKUP(U7,'DAS Tue'!$F$9:$P$50,11,0),"Off") -> Off | AI7: =IF(AH7="MLD1&8","7:40",IF(AH7="MLD3&4","2:40",IF(AH7="MLD7&8","7:40",IF(AH7="MLD5&10","7:40",IF(AH7="MLD9&16","2:40",IF(AH7="MLD17&2","2:40",IF(AH7="MLD5","3:50",IF(AH7="MLD13","3:50",IF(AH7="MLD10","3:50",IF(AH7="MLD12","3:50",IF(AH7="MLD15","3:50",IF(AH7="MLD14","3:50",IF(AH7="SP-D","0",IF(AH7="DST1","0",IF(AH7="HST1","0",IF(AH7="DDD1","0",IF(AH7="DST2","0",IF(AH7="DDD2","0",IF(AH7="HST2","0",IF(AH7="DDD3","0",)))))))))))))))))))) -> 0 | AJ7: =IF(AH7="MLD1","0",IF(AH7="MLD2","0",IF(AH7="MLD3","0",IF(AH7="MLD4","0",IF(AH7="MLD5","0",IF(AH7="MLD6","0",IF(AH7="MLD7","0",IF(AH7="SP-D","0",IF(AH7="DST1","0",IF(AH7="HST1","0",IF(AH7="DDD1","8:00",IF(AH7="DST2","0",IF(AH7="DDD2","8:00",IF(AH7="HST2","0",IF(AH7="DDD3","8:00",))))))))))))))) -> 0 | AK7: =IF(AH7="MLD5","YES",IF(AH7="MLD13","YES",IF(AH7="MLD15","YES",))) -> 0 | AL7: =IF(AH7="MLD1&8","Riyadh",IF(AH7="MLD7&18","Riyadh",IF(AH7="MLD5&10","Riyadh",IF(AH7="MLD3&4","Hufof",IF(AH7="MLD9&16","Hufof",IF(AH7="MLD17&2","Hufof",IF(AH7="MLD5","Riyadh1",IF(AH7="MLD10","Riyadh1",IF(AH7="MLD13","Riyadh1",IF(AH7="MLD12","Riyadh1",IF(AH7="MLD15","Riyadh1",IF(AH7="MLD14","Riyadh1",IF(AH7="SP-D","Dammam",IF(AH7="DST1","Dammam",IF(AH7="DST2","Dammam",IF(AH7="HST1","Hufof0",IF(AH7="HST2","Hufof0",IF(AH7="DDD1","Dammam",IF(AH7="DDD2","Dammam",IF(AH7="DDD3","Dammam",IF(AH7="Q Path","Dammam",IF(AH7="Off","Dammam")))))))))))))))))))))) -> Dammam | AM7: =IF(AL7="Riyadh","898",IF(AL7="Riyadh1","449",IF(AL7="Dammam","0",IF(AL7="Hufof","280",IF(AL7="Hufof0","0"))))) -> 0 | AN7: =IFERROR(VLOOKUP(U7,'DAS Wed'!$F$10:$P$56,11,0),"Off") -> Off | AO7: =IF(AN7="MLD1&8","7:40",IF(AN7="MLD3&4","2:40",IF(AN7="MLD7&8","7:40",IF(AN7="MLD5&10","7:40",IF(AN7="MLD9&16","2:40",IF(AN7="MLD17&2","2:40",IF(AN7="MLD5","3:50",IF(AN7="MLD13","3:50",IF(AN7="MLD10","3:50",IF(AN7="MLD12","3:50",IF(AN7="MLD15","3:50",IF(AN7="MLD14","3:50",IF(AN7="SP-D","0",IF(AN7="DST1","0",IF(AN7="HST1","0",IF(AN7="DDD1","0",IF(AN7="DST2","0",IF(AN7="DDD2","0",IF(AN7="HST2","0",IF(AN7="DDD3","0",)))))))))))))))))))) -> 0 | AP7: =IF(AN7="MLD1","0",IF(AN7="MLD2","0",IF(AN7="MLD3","0",IF(AN7="MLD4","0",IF(AN7="MLD5","0",IF(AN7="MLD6","0",IF(AN7="MLD7","0",IF(AN7="SP-D","0",IF(AN7="DST1","0",IF(AN7="HST1","0",IF(AN7="DDD1","8:00",IF(AN7="DST2","0",IF(AN7="DDD2","8:00",IF(AN7="HST2","0",IF(AN7="DDD3","8:00",))))))))))))))) -> 0 | AQ7: =IF(AN7="MLD5","YES",IF(AN7="MLD13","YES",IF(AN7="MLD15","YES",))) -> 0 | AR7: =IF(AN7="MLD1&8","Riyadh",IF(AN7="MLD7&18","Riyadh",IF(AN7="MLD5&10","Riyadh",IF(AN7="MLD3&4","Hufof",IF(AN7="MLD9&16","Hufof",IF(AN7="MLD17&2","Hufof",IF(AN7="MLD5","Riyadh1",IF(AN7="MLD10","Riyadh1",IF(AN7="MLD13","Riyadh1",IF(AN7="MLD12","Riyadh1",IF(AN7="MLD15","Riyadh1",IF(AN7="MLD14","Riyadh1",IF(AN7="SP-D","Dammam",IF(AN7="DST1","Dammam",IF(AN7="DST2","Dammam",IF(AN7="HST1","Hufof0",IF(AN7="HST2","Hufof0",IF(AN7="DDD1","Dammam",IF(AN7="DDD2","Dammam",IF(AN7="DDD3","Dammam",IF(AN7="Q Path","Dammam",IF(AN7="Off","Dammam")))))))))))))))))))))) -> Dammam | AS7: =IF(AR7="Riyadh","898",IF(AR7="Riyadh1","449",IF(AR7="Dammam","0",IF(AR7="Hufof","280",IF(AR7="Hufof0","0"))))) -> 0 | AT7: =IFERROR(VLOOKUP(U7,'DAS Thu'!$F$35:$P$51,11,0),"Off") -> Off | AU7: =IF(AT7="MLD1&8","7:40",IF(AT7="MLD3&4","2:40",IF(AT7="MLD7&8","7:40",IF(AT7="MLD5&10","7:40",IF(AT7="MLD9&16","2:40",IF(AT7="MLD17&2","2:40",IF(AT7="MLD5","3:50",IF(AT7="MLD13","3:50",IF(AT7="MLD10","3:50",IF(AT7="MLD12","3:50",IF(AT7="MLD15","3:50",IF(AT7="MLD14","3:50",IF(AT7="SP-D","0",IF(AT7="DST1","0",IF(AT7="HST1","0",IF(AT7="DDD1","0",IF(AT7="DST2","0",IF(AT7="DDD2","0",IF(AT7="HST2","0",IF(AT7="DDD3","0",)))))))))))))))))))) -> 0 | AV7: =IF(AT7="MLD1","0",IF(AT7="MLD2","0",IF(AT7="MLD3","0",IF(AT7="MLD4","0",IF(AT7="MLD5","0",IF(AT7="MLD6","0",IF(AT7="MLD7","0",IF(AT7="SP-D","0",IF(AT7="DST1","0",IF(AT7="HST1","0",IF(AT7="DDD1","8:00",IF(AT7="DST2","0",IF(AT7="DDD2","8:00",IF(AT7="HST2","0",IF(AT7="DDD3","8:00",))))))))))))))) -> 0 | AW7: =IF(AT7="MLD5","YES",IF(AT7="MLD13","YES",IF(AT7="MLD15","YES",))) -> 0 | AX7: =IF(AT7="MLD1&8","Riyadh",IF(AT7="MLD7&18","Riyadh",IF(AT7="MLD5&10","Riyadh",IF(AT7="MLD3&4","Hufof",IF(AT7="MLD9&16","Hufof",IF(AT7="MLD17&2","Hufof",IF(AT7="MLD5","Riyadh1",IF(AT7="MLD10","Riyadh1",IF(AT7="MLD13","Riyadh1",IF(AT7="MLD12","Riyadh1",IF(AT7="MLD15","Riyadh1",IF(AT7="MLD14","Riyadh1",IF(AT7="SP-D","Dammam",IF(AT7="DST1","Dammam",IF(AT7="DST2","Dammam",IF(AT7="HST1","Hufof0",IF(AT7="HST2","Hufof0",IF(AT7="DDD1","Dammam",IF(AT7="DDD2","Dammam",IF(AT7="DDD3","Dammam",IF(AT7="Q Path","Dammam",IF(AT7="Off","Dammam")))))))))))))))))))))) -> Dammam | AY7: =IF(AX7="Riyadh","898",IF(AX7="Riyadh1","449",IF(AX7="Dammam","0",IF(AX7="Hufof","280",IF(AX7="Hufof0","0"))))) -> 0 | AZ7: =IFERROR(VLOOKUP(U7,'DAS Fri'!$F$47:$P$55,11,0),"Off") -> Off | BA7: =IF(AZ7="MLD1&8","7:40",IF(AZ7="MLD3&4","2:40",IF(AZ7="MLD7&8","7:40",IF(AZ7="MLD5&10","7:40",IF(AZ7="MLD9&16","2:40",IF(AZ7="MLD17&2","2:40",IF(AZ7="MLD5","3:50",IF(AZ7="MLD13","3:50",IF(AZ7="MLD10","3:50",IF(AZ7="MLD12","3:50",IF(AZ7="MLD15","3:50",IF(AZ7="MLD14","3:50",IF(AZ7="SP-D","0",IF(AZ7="DST1","0",IF(AZ7="HST1","0",IF(AZ7="DDD1","0",IF(AZ7="DST2","0",IF(AZ7="DDD2","0",IF(AZ7="HST2","0",IF(AZ7="DDD3","0",)))))))))))))))))))) -> 0 | BB7: =IF(AZ7="MLD1","0",IF(AZ7="MLD2","0",IF(AZ7="MLD3","0",IF(AZ7="MLD4","0",IF(AZ7="MLD5","0",IF(AZ7="MLD6","0",IF(AZ7="MLD7","0",IF(AZ7="SP-D","0",IF(AZ7="DST1","0",IF(AZ7="HST1","0",IF(AZ7="DDD1","8:00",IF(AZ7="DST2","0",IF(AZ7="DDD2","8:00",IF(AZ7="HST2","0",IF(AZ7="DDD3","8:00",))))))))))))))) -> 0 | BC7: =IF(AZ7="MLD5","YES",IF(AZ7="MLD13","YES",IF(AZ7="MLD15","YES",))) -> 0 | BD7: =IF(AZ7="MLD1&8","Riyadh",IF(AZ7="MLD7&18","Riyadh",IF(AZ7="MLD5&10","Riyadh",IF(AZ7="MLD3&4","Hufof",IF(AZ7="MLD9&16","Hufof",IF(AZ7="MLD17&2","Hufof",IF(AZ7="MLD5","Riyadh1",IF(AZ7="MLD10","Riyadh1",IF(AZ7="MLD13","Riyadh1",IF(AZ7="MLD12","Riyadh1",IF(AZ7="MLD15","Riyadh1",IF(AZ7="MLD14","Riyadh1",IF(AZ7="SP-D","Dammam",IF(AZ7="DST1","Dammam",IF(AZ7="DST2","Dammam",IF(AZ7="HST1","Hufof0",IF(AZ7="HST2","Hufof0",IF(AZ7="DDD1","Dammam",IF(AZ7="DDD2","Dammam",IF(AZ7="DDD3","Dammam",IF(AZ7="Q Path","Dammam",IF(AZ7="Off","Dammam")))))))))))))))))))))) -> Dammam | BE7: =IF(BD7="Riyadh","898",IF(BD7="Riyadh1","449",IF(BD7="Dammam","0",IF(BD7="Hufof","280",IF(BD7="Hufof0","0"))))) -> 0 | BF7: =IFERROR(VLOOKUP(U7,'DAS Sat'!$F$9:$P$63,11,0),"Off") -> SP | BG7: =IF(BF7="MLD1&8","7:40",IF(BF7="MLD3&4","2:40",IF(BF7="MLD7&8","7:40",IF(BF7="MLD5&10","7:40",IF(BF7="MLD9&16","2:40",IF(BF7="MLD17&2","2:40",IF(BF7="MLD5","3:50",IF(BF7="MLD13","3:50",IF(BF7="MLD10","3:50",IF(BF7="MLD12","3:50",IF(BF7="MLD15","3:50",IF(BF7="MLD14","3:50",IF(BF7="SP-D","0",IF(BF7="DST1","0",IF(BF7="HST1","0",IF(BF7="DDD1","0",IF(BF7="DST2","0",IF(BF7="DDD2","0",IF(BF7="HST2","0",IF(BF7="DDD3","0",)))))))))))))))))))) -> 0 | BH7: =IF(BF7="MLD1","0",IF(BF7="MLD2","0",IF(BF7="MLD3","0",IF(BF7="MLD4","0",IF(BF7="MLD5","0",IF(BF7="MLD6","0",IF(BF7="MLD7","0",IF(BF7="SP-D","0",IF(BF7="DST1","0",IF(BF7="HST1","0",IF(BF7="DDD1","8:00",IF(BF7="DST2","0",IF(BF7="DDD2","8:00",IF(BF7="HST2","0",IF(BF7="DDD3","8:00",))))))))))))))) -> 0 | BI7: =IF(BF7="MLD5","YES",IF(BF7="MLD13","YES",IF(BF7="MLD15","YES",))) -> 0 | BJ7: =IF(BF7="MLD1&8","Riyadh",IF(BF7="MLD7&18","Riyadh",IF(BF7="MLD5&10","Riyadh",IF(BF7="MLD3&4","Hufof",IF(BF7="MLD9&16","Hufof",IF(BF7="MLD17&2","Hufof",IF(BF7="MLD5","Riyadh1",IF(BF7="MLD10","Riyadh1",IF(BF7="MLD13","Riyadh1",IF(BF7="MLD12","Riyadh1",IF(BF7="MLD15","Riyadh1",IF(BF7="MLD14","Riyadh1",IF(BF7="SP-D","Dammam",IF(BF7="DST1","Dammam",IF(BF7="DST2","Dammam",IF(BF7="HST1","Hufof0",IF(BF7="HST2","Hufof0",IF(BF7="DDD1","Dammam",IF(BF7="DDD2","Dammam",IF(BF7="DDD3","Dammam",IF(BF7="Q Path","Dammam",IF(BF7="Off","Dammam")))))))))))))))))))))) -> FALSE | BK7: =IF(BJ7="Riyadh","898",IF(BJ7="Riyadh1","449",IF(BJ7="Dammam","0",IF(BJ7="Hufof","280",IF(BJ7="Hufof0","0"))))) -> FALSE | BL7: =W7+AC7+AI7+AO7+AU7+BA7+BG7 -> 0 | BM7: 0 | BN7: =X7+AD7+AJ7+AP7+AV7+BB7+BH7 -> 0 | BO7: 0 | BQ7: ='Dvr '!A8 -> Ahmed Almadeh | BR7: #VALUE! | BS7: =IFERROR(VLOOKUP(BQ7,'DAS Sun'!$F$9:$Q$61,12,0),"Off") -> Off | BT7: =IFERROR(VLOOKUP(BQ7,'DAS Sun'!$F$9:$R$61,13,0),"Off") -> Off | BU7: =$BU$4-BT7 -> #VALUE! | BV7: =BS7+BR7 -> #VALUE! | BW7: =IFERROR(VLOOKUP(BQ7,'DAS Mon'!$F$9:$Q$49,12,0),"Off") -> Off | BX7: =IFERROR(VLOOKUP(BQ7,'DAS Mon'!$F$9:$R$49,13,0),"Off") -> Off | BY7: =$BU$4-BX7 -> #VALUE! | BZ7: =BW7+BU7 -> #VALUE! | CA7: =IFERROR(VLOOKUP(BQ7,'DAS Tue'!$F$9:$Q$49,12,0),"Off") -> Off | CB7: =IFERROR(VLOOKUP(BQ7,'DAS Tue'!$F$9:$R$49,13,0),"Off") -> Off | CC7: =$BU$4-CB7 -> #VALUE! | CD7: =CA7+BY7 -> #VALUE! | CE7: =IFERROR(VLOOKUP(BQ7,'DAS Wed'!$F$9:$Q$58,12,0),"Off") -> 0.23055556 | CF7: =IFERROR(VLOOKUP(BQ7,'DAS Wed'!$F$9:$R$58,13,0),"Off") -> 0.68819444 | CG7: =$BU$4-CF7 -> 0.31180556 | CH7: =CE7+CC7 -> #VALUE! | CI7: =IFERROR(VLOOKUP(BQ7,'DAS Thu'!$F$9:$Q$59,12,0),"Off") -> 0.25 | CJ7: =IFERROR(VLOOKUP(BQ7,'DAS Thu'!$F$9:$R$59,13,0),"Off") -> 0.58333333 | CK7: =$BU$4-CJ7 -> 0.41666667 | CL7: =CI7+CG7 -> 0.56180556 | CM7: =IFERROR(VLOOKUP(BQ7,'DAS Fri'!$F$9:$Q$63,12,0),"Off") -> Off | CN7: =IFERROR(VLOOKUP(BQ7,'DAS Fri'!$F$9:$R$63,13,0),"Off") -> Off | CO7: =$BU$4-CN7 -> #VALUE! | CP7: =CM7+CK7 -> #VALUE! | CQ7: =IFERROR(VLOOKUP(BQ7,'DAS Sat'!$F$9:$Q$65,12,0),"Off") -> 0.25 | CR7: =IFERROR(VLOOKUP(BQ7,'DAS Sat'!$F$9:$R$65,13,0),"Off") -> 0.58333333 | CS7: =$BU$4-CR7 -> 0.41666667 | CT7: =CQ7+CO7 -> #VALUE!
B8: ='Dvr '!A10 -> Nayef Khaled Al-Sahli | C8: =IFERROR(VLOOKUP(B8,'DAS Sun'!$F$9:$O$61,10,0),"Off") -> 0.25 | D8: ='Dvr '!E10 -> 0.33333333 | E8: =IFERROR(VLOOKUP(B8,'DAS Mon'!$F$9:$O$49,10,0),"Off") -> Off | F8: ='Dvr '!I10 -> 0.33333333 | G8: =IFERROR(VLOOKUP(B8,'DAS Tue'!$F$9:$O$47,10,0),"Off") -> Off | H8: ='Dvr '!M10 -> 0.33333333 | I8: =IFERROR(VLOOKUP(B8,'DAS Wed'!$F$9:$O$57,10,0),"Off") -> Off | J8: ='Dvr '!Q10 -> 0 | K8: =IFERROR(VLOOKUP(B8,'DAS Thu'!$F$9:$O$59,10,0),"Off") -> Off | L8: ='Dvr '!U10 -> 0 | M8: =IFERROR(VLOOKUP(B8,'DAS Fri'!$F$9:$O$63,10,0),"Off") -> 0.25138889 | N8: ='Dvr '!Y10 -> 0.33333333 | O8: =IFERROR(VLOOKUP(B8,'DAS Sat'!$F$9:$O$65,10,0),"Off") -> 0.20902778 | P8: ='Dvr '!AC10 -> 0.33333333 | Q8: =SUM(C8,E8,G8,I8,K8,M8,O8) -> 0.71041667 | R8: =SUM(D8,F8,H8,J8,L8,N8,P8) -> 1.6666667 | S8: =COUNTIF(C8:P8,"Off") -> 4 | U8: ='Dvr '!A10 -> Nayef Khaled Al-Sahli | V8: =IFERROR(VLOOKUP(U8,'DAS Sun'!$F$10:$P$59,11,0),"Off") -> DDD2 | W8: =IF(V8="MLD1&8","7:40",IF(V8="MLD3&4","2:40",IF(V8="MLD7&8","7:40",IF(V8="MLD5&10","7:40",IF(V8="MLD9&16","2:40",IF(V8="MLD17&2","2:40",IF(V8="MLD5","3:50",IF(V8="MLD13","3:50",IF(V8="MLD10","3:50",IF(V8="MLD12","3:50",IF(V8="MLD15","3:50",IF(V8="MLD14","3:50",IF(V8="SP-D","0",IF(V8="DST1","0",IF(V8="HST1","0",IF(V8="DDD1","0",IF(V8="DST2","0",IF(V8="DDD2","0",IF(V8="HST2","0",IF(V8="DDD3","0",)))))))))))))))))))) -> 0 | X8: =IF(V8="MLD1","0",IF(V8="MLD2","0",IF(V8="MLD3","0",IF(V8="MLD4","0",IF(V8="MLD5","0",IF(V8="MLD6","0",IF(V8="MLD7","0",IF(V8="SP-D","0",IF(V8="DST1","0",IF(V8="HST1","0",IF(V8="DDD1","8:00",IF(V8="DST2","0",IF(V8="DDD2","8:00",IF(V8="HST2","0",IF(V8="DDD3","8:00",))))))))))))))) -> 8:00 | Y8: =IF(V8="MLD5","YES",IF(V8="MLD13","YES",IF(V8="MLD15","YES",))) -> 0 | Z8: =IF(V8="MLD1&8","Riyadh",IF(V8="MLD7&18","Riyadh",IF(V8="MLD5&10","Riyadh",IF(V8="MLD3&4","Hufof",IF(V8="MLD9&16","Hufof",IF(V8="MLD17&2","Hufof",IF(V8="MLD5","Riyadh1",IF(V8="MLD10","Riyadh1",IF(V8="MLD13","Riyadh1",IF(V8="MLD12","Riyadh1",IF(V8="MLD15","Riyadh1",IF(V8="MLD14","Riyadh1",IF(V8="SP-D","Dammam",IF(V8="DST1","Dammam",IF(V8="DST2","Dammam",IF(V8="HST1","Hufof0",IF(V8="HST2","Hufof0",IF(V8="DDD1","Dammam",IF(V8="DDD2","Dammam",IF(V8="DDD3","Dammam",IF(V8="Q Path","Dammam",IF(V8="Off","Dammam")))))))))))))))))))))) -> Dammam | AA8: =IF(Z8="Riyadh","898",IF(Z8="Riyadh1","449",IF(Z8="Dammam","0",IF(Z8="Hufof","280",IF(Z8="Hufof0","0"))))) -> 0 | AB8: =IFERROR(VLOOKUP(U8,'DAS Mon'!$F$10:$P$51,11,0),"Off") -> Off | AC8: =IF(AB8="MLD1&8","7:40",IF(AB8="MLD3&4","2:40",IF(AB8="MLD7&8","7:40",IF(AB8="MLD5&10","7:40",IF(AB8="MLD9&16","2:40",IF(AB8="MLD17&2","2:40",IF(AB8="MLD5","3:50",IF(AB8="MLD13","3:50",IF(AB8="MLD10","3:50",IF(AB8="MLD12","3:50",IF(AB8="MLD15","3:50",IF(AB8="MLD14","3:50",IF(AB8="SP-D","0",IF(AB8="DST1","0",IF(AB8="HST1","0",IF(AB8="DDD1","0",IF(AB8="DST2","0",IF(AB8="DDD2","0",IF(AB8="HST2","0",IF(AB8="DDD3","0",)))))))))))))))))))) -> 0 | AD8: =IF(AB8="MLD1","0",IF(AB8="MLD2","0",IF(AB8="MLD3","0",IF(AB8="MLD4","0",IF(AB8="MLD5","0",IF(AB8="MLD6","0",IF(AB8="MLD7","0",IF(AB8="SP-D","0",IF(AB8="DST1","0",IF(AB8="HST1","0",IF(AB8="DDD1","8:00",IF(AB8="DST2","0",IF(AB8="DDD2","8:00",IF(AB8="HST2","0",IF(AB8="DDD3","8:00",))))))))))))))) -> 0 | AE8: =IF(AB8="MLD5","YES",IF(AB8="MLD13","YES",IF(AB8="MLD15","YES",))) -> 0 | AF8: =IF(AB8="MLD1&8","Riyadh",IF(AB8="MLD7&18","Riyadh",IF(AB8="MLD5&10","Riyadh",IF(AB8="MLD3&4","Hufof",IF(AB8="MLD9&16","Hufof",IF(AB8="MLD17&2","Hufof",IF(AB8="MLD5","Riyadh1",IF(AB8="MLD10","Riyadh1",IF(AB8="MLD13","Riyadh1",IF(AB8="MLD12","Riyadh1",IF(AB8="MLD15","Riyadh1",IF(AB8="MLD14","Riyadh1",IF(AB8="SP-D","Dammam",IF(AB8="DST1","Dammam",IF(AB8="DST2","Dammam",IF(AB8="HST1","Hufof0",IF(AB8="HST2","Hufof0",IF(AB8="DDD1","Dammam",IF(AB8="DDD2","Dammam",IF(AB8="DDD3","Dammam",IF(AB8="Q Path","Dammam",IF(AB8="Off","Dammam")))))))))))))))))))))) -> Dammam | AG8: =IF(AF8="Riyadh","898",IF(AF8="Riyadh1","449",IF(AF8="Dammam","0",IF(AF8="Hufof","280",IF(AF8="Hufof0","0"))))) -> 0 | AH8: =IFERROR(VLOOKUP(U8,'DAS Tue'!$F$9:$P$50,11,0),"Off") -> Off | AI8: =IF(AH8="MLD1&8","7:40",IF(AH8="MLD3&4","2:40",IF(AH8="MLD7&8","7:40",IF(AH8="MLD5&10","7:40",IF(AH8="MLD9&16","2:40",IF(AH8="MLD17&2","2:40",IF(AH8="MLD5","3:50",IF(AH8="MLD13","3:50",IF(AH8="MLD10","3:50",IF(AH8="MLD12","3:50",IF(AH8="MLD15","3:50",IF(AH8="MLD14","3:50",IF(AH8="SP-D","0",IF(AH8="DST1","0",IF(AH8="HST1","0",IF(AH8="DDD1","0",IF(AH8="DST2","0",IF(AH8="DDD2","0",IF(AH8="HST2","0",IF(AH8="DDD3","0",)))))))))))))))))))) -> 0 | AJ8: =IF(AH8="MLD1","0",IF(AH8="MLD2","0",IF(AH8="MLD3","0",IF(AH8="MLD4","0",IF(AH8="MLD5","0",IF(AH8="MLD6","0",IF(AH8="MLD7","0",IF(AH8="SP-D","0",IF(AH8="DST1","0",IF(AH8="HST1","0",IF(AH8="DDD1","8:00",IF(AH8="DST2","0",IF(AH8="DDD2","8:00",IF(AH8="HST2","0",IF(AH8="DDD3","8:00",))))))))))))))) -> 0 | AK8: =IF(AH8="MLD5","YES",IF(AH8="MLD13","YES",IF(AH8="MLD15","YES",))) -> 0 | AL8: =IF(AH8="MLD1&8","Riyadh",IF(AH8="MLD7&18","Riyadh",IF(AH8="MLD5&10","Riyadh",IF(AH8="MLD3&4","Hufof",IF(AH8="MLD9&16","Hufof",IF(AH8="MLD17&2","Hufof",IF(AH8="MLD5","Riyadh1",IF(AH8="MLD10","Riyadh1",IF(AH8="MLD13","Riyadh1",IF(AH8="MLD12","Riyadh1",IF(AH8="MLD15","Riyadh1",IF(AH8="MLD14","Riyadh1",IF(AH8="SP-D","Dammam",IF(AH8="DST1","Dammam",IF(AH8="DST2","Dammam",IF(AH8="HST1","Hufof0",IF(AH8="HST2","Hufof0",IF(AH8="DDD1","Dammam",IF(AH8="DDD2","Dammam",IF(AH8="DDD3","Dammam",IF(AH8="Q Path","Dammam",IF(AH8="Off","Dammam")))))))))))))))))))))) -> Dammam | AM8: =IF(AL8="Riyadh","898",IF(AL8="Riyadh1","449",IF(AL8="Dammam","0",IF(AL8="Hufof","280",IF(AL8="Hufof0","0"))))) -> 0 | AN8: =IFERROR(VLOOKUP(U8,'DAS Wed'!$F$10:$P$56,11,0),"Off") -> Off | AO8: =IF(AN8="MLD1&8","7:40",IF(AN8="MLD3&4","2:40",IF(AN8="MLD7&8","7:40",IF(AN8="MLD5&10","7:40",IF(AN8="MLD9&16","2:40",IF(AN8="MLD17&2","2:40",IF(AN8="MLD5","3:50",IF(AN8="MLD13","3:50",IF(AN8="MLD10","3:50",IF(AN8="MLD12","3:50",IF(AN8="MLD15","3:50",IF(AN8="MLD14","3:50",IF(AN8="SP-D","0",IF(AN8="DST1","0",IF(AN8="HST1","0",IF(AN8="DDD1","0",IF(AN8="DST2","0",IF(AN8="DDD2","0",IF(AN8="HST2","0",IF(AN8="DDD3","0",)))))))))))))))))))) -> 0 | AP8: =IF(AN8="MLD1","0",IF(AN8="MLD2","0",IF(AN8="MLD3","0",IF(AN8="MLD4","0",IF(AN8="MLD5","0",IF(AN8="MLD6","0",IF(AN8="MLD7","0",IF(AN8="SP-D","0",IF(AN8="DST1","0",IF(AN8="HST1","0",IF(AN8="DDD1","8:00",IF(AN8="DST2","0",IF(AN8="DDD2","8:00",IF(AN8="HST2","0",IF(AN8="DDD3","8:00",))))))))))))))) -> 0 | AQ8: =IF(AN8="MLD5","YES",IF(AN8="MLD13","YES",IF(AN8="MLD15","YES",))) -> 0 | AR8: =IF(AN8="MLD1&8","Riyadh",IF(AN8="MLD7&18","Riyadh",IF(AN8="MLD5&10","Riyadh",IF(AN8="MLD3&4","Hufof",IF(AN8="MLD9&16","Hufof",IF(AN8="MLD17&2","Hufof",IF(AN8="MLD5","Riyadh1",IF(AN8="MLD10","Riyadh1",IF(AN8="MLD13","Riyadh1",IF(AN8="MLD12","Riyadh1",IF(AN8="MLD15","Riyadh1",IF(AN8="MLD14","Riyadh1",IF(AN8="SP-D","Dammam",IF(AN8="DST1","Dammam",IF(AN8="DST2","Dammam",IF(AN8="HST1","Hufof0",IF(AN8="HST2","Hufof0",IF(AN8="DDD1","Dammam",IF(AN8="DDD2","Dammam",IF(AN8="DDD3","Dammam",IF(AN8="Q Path","Dammam",IF(AN8="Off","Dammam")))))))))))))))))))))) -> Dammam | AS8: =IF(AR8="Riyadh","898",IF(AR8="Riyadh1","449",IF(AR8="Dammam","0",IF(AR8="Hufof","280",IF(AR8="Hufof0","0"))))) -> 0 | AT8: =IFERROR(VLOOKUP(U8,'DAS Thu'!$F$35:$P$51,11,0),"Off") -> Off | AU8: =IF(AT8="MLD1&8","7:40",IF(AT8="MLD3&4","2:40",IF(AT8="MLD7&8","7:40",IF(AT8="MLD5&10","7:40",IF(AT8="MLD9&16","2:40",IF(AT8="MLD17&2","2:40",IF(AT8="MLD5","3:50",IF(AT8="MLD13","3:50",IF(AT8="MLD10","3:50",IF(AT8="MLD12","3:50",IF(AT8="MLD15","3:50",IF(AT8="MLD14","3:50",IF(AT8="SP-D","0",IF(AT8="DST1","0",IF(AT8="HST1","0",IF(AT8="DDD1","0",IF(AT8="DST2","0",IF(AT8="DDD2","0",IF(AT8="HST2","0",IF(AT8="DDD3","0",)))))))))))))))))))) -> 0 | AV8: =IF(AT8="MLD1","0",IF(AT8="MLD2","0",IF(AT8="MLD3","0",IF(AT8="MLD4","0",IF(AT8="MLD5","0",IF(AT8="MLD6","0",IF(AT8="MLD7","0",IF(AT8="SP-D","0",IF(AT8="DST1","0",IF(AT8="HST1","0",IF(AT8="DDD1","8:00",IF(AT8="DST2","0",IF(AT8="DDD2","8:00",IF(AT8="HST2","0",IF(AT8="DDD3","8:00",))))))))))))))) -> 0 | AW8: =IF(AT8="MLD5","YES",IF(AT8="MLD13","YES",IF(AT8="MLD15","YES",))) -> 0 | AX8: =IF(AT8="MLD1&8","Riyadh",IF(AT8="MLD7&18","Riyadh",IF(AT8="MLD5&10","Riyadh",IF(AT8="MLD3&4","Hufof",IF(AT8="MLD9&16","Hufof",IF(AT8="MLD17&2","Hufof",IF(AT8="MLD5","Riyadh1",IF(AT8="MLD10","Riyadh1",IF(AT8="MLD13","Riyadh1",IF(AT8="MLD12","Riyadh1",IF(AT8="MLD15","Riyadh1",IF(AT8="MLD14","Riyadh1",IF(AT8="SP-D","Dammam",IF(AT8="DST1","Dammam",IF(AT8="DST2","Dammam",IF(AT8="HST1","Hufof0",IF(AT8="HST2","Hufof0",IF(AT8="DDD1","Dammam",IF(AT8="DDD2","Dammam",IF(AT8="DDD3","Dammam",IF(AT8="Q Path","Dammam",IF(AT8="Off","Dammam")))))))))))))))))))))) -> Dammam | AY8: =IF(AX8="Riyadh","898",IF(AX8="Riyadh1","449",IF(AX8="Dammam","0",IF(AX8="Hufof","280",IF(AX8="Hufof0","0"))))) -> 0 | AZ8: =IFERROR(VLOOKUP(U8,'DAS Fri'!$F$47:$P$55,11,0),"Off") -> Off | BA8: =IF(AZ8="MLD1&8","7:40",IF(AZ8="MLD3&4","2:40",IF(AZ8="MLD7&8","7:40",IF(AZ8="MLD5&10","7:40",IF(AZ8="MLD9&16","2:40",IF(AZ8="MLD17&2","2:40",IF(AZ8="MLD5","3:50",IF(AZ8="MLD13","3:50",IF(AZ8="MLD10","3:50",IF(AZ8="MLD12","3:50",IF(AZ8="MLD15","3:50",IF(AZ8="MLD14","3:50",IF(AZ8="SP-D","0",IF(AZ8="DST1","0",IF(AZ8="HST1","0",IF(AZ8="DDD1","0",IF(AZ8="DST2","0",IF(AZ8="DDD2","0",IF(AZ8="HST2","0",IF(AZ8="DDD3","0",)))))))))))))))))))) -> 0 | BB8: =IF(AZ8="MLD1","0",IF(AZ8="MLD2","0",IF(AZ8="MLD3","0",IF(AZ8="MLD4","0",IF(AZ8="MLD5","0",IF(AZ8="MLD6","0",IF(AZ8="MLD7","0",IF(AZ8="SP-D","0",IF(AZ8="DST1","0",IF(AZ8="HST1","0",IF(AZ8="DDD1","8:00",IF(AZ8="DST2","0",IF(AZ8="DDD2","8:00",IF(AZ8="HST2","0",IF(AZ8="DDD3","8:00",))))))))))))))) -> 0 | BC8: =IF(AZ8="MLD5","YES",IF(AZ8="MLD13","YES",IF(AZ8="MLD15","YES",))) -> 0 | BD8: =IF(AZ8="MLD1&8","Riyadh",IF(AZ8="MLD7&18","Riyadh",IF(AZ8="MLD5&10","Riyadh",IF(AZ8="MLD3&4","Hufof",IF(AZ8="MLD9&16","Hufof",IF(AZ8="MLD17&2","Hufof",IF(AZ8="MLD5","Riyadh1",IF(AZ8="MLD10","Riyadh1",IF(AZ8="MLD13","Riyadh1",IF(AZ8="MLD12","Riyadh1",IF(AZ8="MLD15","Riyadh1",IF(AZ8="MLD14","Riyadh1",IF(AZ8="SP-D","Dammam",IF(AZ8="DST1","Dammam",IF(AZ8="DST2","Dammam",IF(AZ8="HST1","Hufof0",IF(AZ8="HST2","Hufof0",IF(AZ8="DDD1","Dammam",IF(AZ8="DDD2","Dammam",IF(AZ8="DDD3","Dammam",IF(AZ8="Q Path","Dammam",IF(AZ8="Off","Dammam")))))))))))))))))))))) -> Dammam | BE8: =IF(BD8="Riyadh","898",IF(BD8="Riyadh1","449",IF(BD8="Dammam","0",IF(BD8="Hufof","280",IF(BD8="Hufof0","0"))))) -> 0 | BF8: =IFERROR(VLOOKUP(U8,'DAS Sat'!$F$9:$P$63,11,0),"Off") -> MLD33&38 | BG8: =IF(BF8="MLD1&8","7:40",IF(BF8="MLD3&4","2:40",IF(BF8="MLD7&8","7:40",IF(BF8="MLD5&10","7:40",IF(BF8="MLD9&16","2:40",IF(BF8="MLD17&2","2:40",IF(BF8="MLD5","3:50",IF(BF8="MLD13","3:50",IF(BF8="MLD10","3:50",IF(BF8="MLD12","3:50",IF(BF8="MLD15","3:50",IF(BF8="MLD14","3:50",IF(BF8="SP-D","0",IF(BF8="DST1","0",IF(BF8="HST1","0",IF(BF8="DDD1","0",IF(BF8="DST2","0",IF(BF8="DDD2","0",IF(BF8="HST2","0",IF(BF8="DDD3","0",)))))))))))))))))))) -> 0 | BH8: =IF(BF8="MLD1","0",IF(BF8="MLD2","0",IF(BF8="MLD3","0",IF(BF8="MLD4","0",IF(BF8="MLD5","0",IF(BF8="MLD6","0",IF(BF8="MLD7","0",IF(BF8="SP-D","0",IF(BF8="DST1","0",IF(BF8="HST1","0",IF(BF8="DDD1","8:00",IF(BF8="DST2","0",IF(BF8="DDD2","8:00",IF(BF8="HST2","0",IF(BF8="DDD3","8:00",))))))))))))))) -> 0 | BI8: =IF(BF8="MLD5","YES",IF(BF8="MLD13","YES",IF(BF8="MLD15","YES",))) -> 0 | BJ8: =IF(BF8="MLD1&8","Riyadh",IF(BF8="MLD7&18","Riyadh",IF(BF8="MLD5&10","Riyadh",IF(BF8="MLD3&4","Hufof",IF(BF8="MLD9&16","Hufof",IF(BF8="MLD17&2","Hufof",IF(BF8="MLD5","Riyadh1",IF(BF8="MLD10","Riyadh1",IF(BF8="MLD13","Riyadh1",IF(BF8="MLD12","Riyadh1",IF(BF8="MLD15","Riyadh1",IF(BF8="MLD14","Riyadh1",IF(BF8="SP-D","Dammam",IF(BF8="DST1","Dammam",IF(BF8="DST2","Dammam",IF(BF8="HST1","Hufof0",IF(BF8="HST2","Hufof0",IF(BF8="DDD1","Dammam",IF(BF8="DDD2","Dammam",IF(BF8="DDD3","Dammam",IF(BF8="Q Path","Dammam",IF(BF8="Off","Dammam")))))))))))))))))))))) -> FALSE | BK8: =IF(BJ8="Riyadh","898",IF(BJ8="Riyadh1","449",IF(BJ8="Dammam","0",IF(BJ8="Hufof","280",IF(BJ8="Hufof0","0"))))) -> FALSE | BL8: =W8+AC8+AI8+AO8+AU8+BA8+BG8 -> 0 | BM8: 0.11111111 | BN8: =X8+AD8+AJ8+AP8+AV8+BB8+BH8 -> 0.33333333 | BO8: 0 | BQ8: ='Dvr '!A9 -> Ali Ahmed Al-Farhan | BR8: 0.41666667 | BS8: =IFERROR(VLOOKUP(BQ8,'DAS Sun'!$F$9:$Q$61,12,0),"Off") -> 0.39375 | BT8: =IFERROR(VLOOKUP(BQ8,'DAS Sun'!$F$9:$R$61,13,0),"Off") -> 0.80902778 | BU8: =$BU$4-BT8 -> 0.19097222 | BV8: =BS8+BR8 -> 0.81041667 | BW8: =IFERROR(VLOOKUP(BQ8,'DAS Mon'!$F$9:$Q$49,12,0),"Off") -> Off | BX8: =IFERROR(VLOOKUP(BQ8,'DAS Mon'!$F$9:$R$49,13,0),"Off") -> Off | BY8: =$BU$4-BX8 -> #VALUE! | BZ8: =BW8+BU8 -> #VALUE! | CA8: =IFERROR(VLOOKUP(BQ8,'DAS Tue'!$F$9:$Q$49,12,0),"Off") -> Off | CB8: =IFERROR(VLOOKUP(BQ8,'DAS Tue'!$F$9:$R$49,13,0),"Off") -> Off | CC8: =$BU$4-CB8 -> #VALUE! | CD8: =CA8+BY8 -> #VALUE! | CE8: =IFERROR(VLOOKUP(BQ8,'DAS Wed'!$F$9:$Q$58,12,0),"Off") -> Off | CF8: =IFERROR(VLOOKUP(BQ8,'DAS Wed'!$F$9:$R$58,13,0),"Off") -> Off | CG8: =$BU$4-CF8 -> #VALUE! | CH8: =CE8+CC8 -> #VALUE! | CI8: =IFERROR(VLOOKUP(BQ8,'DAS Thu'!$F$9:$Q$59,12,0),"Off") -> 0.39375 | CJ8: =IFERROR(VLOOKUP(BQ8,'DAS Thu'!$F$9:$R$59,13,0),"Off") -> 0.72708333 | CK8: =$BU$4-CJ8 -> 0.27291667 | CL8: =CI8+CG8 -> #VALUE! | CM8: =IFERROR(VLOOKUP(BQ8,'DAS Fri'!$F$9:$Q$63,12,0),"Off") -> 0.39027778 | CN8: =IFERROR(VLOOKUP(BQ8,'DAS Fri'!$F$9:$R$63,13,0),"Off") -> 0.59861111 | CO8: =$BU$4-CN8 -> 0.40138889 | CP8: =CM8+CK8 -> 0.66319444 | CQ8: =IFERROR(VLOOKUP(BQ8,'DAS Sat'!$F$9:$Q$65,12,0),"Off") -> 0.39375 | CR8: =IFERROR(VLOOKUP(BQ8,'DAS Sat'!$F$9:$R$65,13,0),"Off") -> 0.72708333 | CS8: =$BU$4-CR8 -> 0.27291667 | CT8: =CQ8+CO8 -> 0.79513889
B9: ='Dvr '!A11 -> Vacancy2 | C9: =IFERROR(VLOOKUP(B9,'DAS Sun'!$F$9:$O$61,10,0),"Off") -> Off | D9: ='Dvr '!E11 -> 0.39236111 | E9: =IFERROR(VLOOKUP(B9,'DAS Mon'!$F$9:$O$49,10,0),"Off") -> Off | F9: ='Dvr '!I11 -> 0.41319444 | G9: =IFERROR(VLOOKUP(B9,'DAS Tue'!$F$9:$O$47,10,0),"Off") -> Off | H9: ='Dvr '!M11 -> 0.33333333 | I9: =IFERROR(VLOOKUP(B9,'DAS Wed'!$F$9:$O$57,10,0),"Off") -> Off | J9: ='Dvr '!Q11 -> 0.39236111 | K9: =IFERROR(VLOOKUP(B9,'DAS Thu'!$F$9:$O$59,10,0),"Off") -> Off | L9: ='Dvr '!U11 -> 0.41319444 | M9: =IFERROR(VLOOKUP(B9,'DAS Fri'!$F$9:$O$63,10,0),"Off") -> Off | N9: ='Dvr '!Y11 -> 0 | O9: =IFERROR(VLOOKUP(B9,'DAS Sat'!$F$9:$O$65,10,0),"Off") -> Off | P9: ='Dvr '!AC11 -> 0 | Q9: =SUM(C9,E9,G9,I9,K9,M9,O9) -> 0 | R9: =SUM(D9,F9,H9,J9,L9,N9,P9) -> 1.9444444 | S9: =COUNTIF(C9:P9,"Off") -> 7 | U9: ='Dvr '!A11 -> Vacancy2 | V9: =IFERROR(VLOOKUP(U9,'DAS Sun'!$F$10:$P$59,11,0),"Off") -> Off | W9: =IF(V9="MLD1&8","7:40",IF(V9="MLD3&4","2:40",IF(V9="MLD7&8","7:40",IF(V9="MLD5&10","7:40",IF(V9="MLD9&16","2:40",IF(V9="MLD17&2","2:40",IF(V9="MLD5","3:50",IF(V9="MLD13","3:50",IF(V9="MLD10","3:50",IF(V9="MLD12","3:50",IF(V9="MLD15","3:50",IF(V9="MLD14","3:50",IF(V9="SP-D","0",IF(V9="DST1","0",IF(V9="HST1","0",IF(V9="DDD1","0",IF(V9="DST2","0",IF(V9="DDD2","0",IF(V9="HST2","0",IF(V9="DDD3","0",)))))))))))))))))))) -> 0 | X9: =IF(V9="MLD1","0",IF(V9="MLD2","0",IF(V9="MLD3","0",IF(V9="MLD4","0",IF(V9="MLD5","0",IF(V9="MLD6","0",IF(V9="MLD7","0",IF(V9="SP-D","0",IF(V9="DST1","0",IF(V9="HST1","0",IF(V9="DDD1","8:00",IF(V9="DST2","0",IF(V9="DDD2","8:00",IF(V9="HST2","0",IF(V9="DDD3","8:00",))))))))))))))) -> 0 | Y9: =IF(V9="MLD5","YES",IF(V9="MLD13","YES",IF(V9="MLD15","YES",))) -> 0 | Z9: =IF(V9="MLD1&8","Riyadh",IF(V9="MLD7&18","Riyadh",IF(V9="MLD5&10","Riyadh",IF(V9="MLD3&4","Hufof",IF(V9="MLD9&16","Hufof",IF(V9="MLD17&2","Hufof",IF(V9="MLD5","Riyadh1",IF(V9="MLD10","Riyadh1",IF(V9="MLD13","Riyadh1",IF(V9="MLD12","Riyadh1",IF(V9="MLD15","Riyadh1",IF(V9="MLD14","Riyadh1",IF(V9="SP-D","Dammam",IF(V9="DST1","Dammam",IF(V9="DST2","Dammam",IF(V9="HST1","Hufof0",IF(V9="HST2","Hufof0",IF(V9="DDD1","Dammam",IF(V9="DDD2","Dammam",IF(V9="DDD3","Dammam",IF(V9="Q Path","Dammam",IF(V9="Off","Dammam")))))))))))))))))))))) -> Dammam | AA9: =IF(Z9="Riyadh","898",IF(Z9="Riyadh1","449",IF(Z9="Dammam","0",IF(Z9="Hufof","280",IF(Z9="Hufof0","0"))))) -> 0 | AB9: =IFERROR(VLOOKUP(U9,'DAS Mon'!$F$10:$P$51,11,0),"Off") -> Off | AC9: =IF(AB9="MLD1&8","7:40",IF(AB9="MLD3&4","2:40",IF(AB9="MLD7&8","7:40",IF(AB9="MLD5&10","7:40",IF(AB9="MLD9&16","2:40",IF(AB9="MLD17&2","2:40",IF(AB9="MLD5","3:50",IF(AB9="MLD13","3:50",IF(AB9="MLD10","3:50",IF(AB9="MLD12","3:50",IF(AB9="MLD15","3:50",IF(AB9="MLD14","3:50",IF(AB9="SP-D","0",IF(AB9="DST1","0",IF(AB9="HST1","0",IF(AB9="DDD1","0",IF(AB9="DST2","0",IF(AB9="DDD2","0",IF(AB9="HST2","0",IF(AB9="DDD3","0",)))))))))))))))))))) -> 0 | AD9: =IF(AB9="MLD1","0",IF(AB9="MLD2","0",IF(AB9="MLD3","0",IF(AB9="MLD4","0",IF(AB9="MLD5","0",IF(AB9="MLD6","0",IF(AB9="MLD7","0",IF(AB9="SP-D","0",IF(AB9="DST1","0",IF(AB9="HST1","0",IF(AB9="DDD1","8:00",IF(AB9="DST2","0",IF(AB9="DDD2","8:00",IF(AB9="HST2","0",IF(AB9="DDD3","8:00",))))))))))))))) -> 0 | AE9: =IF(AB9="MLD5","YES",IF(AB9="MLD13","YES",IF(AB9="MLD15","YES",))) -> 0 | AF9: =IF(AB9="MLD1&8","Riyadh",IF(AB9="MLD7&18","Riyadh",IF(AB9="MLD5&10","Riyadh",IF(AB9="MLD3&4","Hufof",IF(AB9="MLD9&16","Hufof",IF(AB9="MLD17&2","Hufof",IF(AB9="MLD5","Riyadh1",IF(AB9="MLD10","Riyadh1",IF(AB9="MLD13","Riyadh1",IF(AB9="MLD12","Riyadh1",IF(AB9="MLD15","Riyadh1",IF(AB9="MLD14","Riyadh1",IF(AB9="SP-D","Dammam",IF(AB9="DST1","Dammam",IF(AB9="DST2","Dammam",IF(AB9="HST1","Hufof0",IF(AB9="HST2","Hufof0",IF(AB9="DDD1","Dammam",IF(AB9="DDD2","Dammam",IF(AB9="DDD3","Dammam",IF(AB9="Q Path","Dammam",IF(AB9="Off","Dammam")))))))))))))))))))))) -> Dammam | AG9: =IF(AF9="Riyadh","898",IF(AF9="Riyadh1","449",IF(AF9="Dammam","0",IF(AF9="Hufof","280",IF(AF9="Hufof0","0"))))) -> 0 | AH9: =IFERROR(VLOOKUP(U9,'DAS Tue'!$F$9:$P$50,11,0),"Off") -> Off | AI9: =IF(AH9="MLD1&8","7:40",IF(AH9="MLD3&4","2:40",IF(AH9="MLD7&8","7:40",IF(AH9="MLD5&10","7:40",IF(AH9="MLD9&16","2:40",IF(AH9="MLD17&2","2:40",IF(AH9="MLD5","3:50",IF(AH9="MLD13","3:50",IF(AH9="MLD10","3:50",IF(AH9="MLD12","3:50",IF(AH9="MLD15","3:50",IF(AH9="MLD14","3:50",IF(AH9="SP-D","0",IF(AH9="DST1","0",IF(AH9="HST1","0",IF(AH9="DDD1","0",IF(AH9="DST2","0",IF(AH9="DDD2","0",IF(AH9="HST2","0",IF(AH9="DDD3","0",)))))))))))))))))))) -> 0 | AJ9: =IF(AH9="MLD1","0",IF(AH9="MLD2","0",IF(AH9="MLD3","0",IF(AH9="MLD4","0",IF(AH9="MLD5","0",IF(AH9="MLD6","0",IF(AH9="MLD7","0",IF(AH9="SP-D","0",IF(AH9="DST1","0",IF(AH9="HST1","0",IF(AH9="DDD1","8:00",IF(AH9="DST2","0",IF(AH9="DDD2","8:00",IF(AH9="HST2","0",IF(AH9="DDD3","8:00",))))))))))))))) -> 0 | AK9: =IF(AH9="MLD5","YES",IF(AH9="MLD13","YES",IF(AH9="MLD15","YES",))) -> 0 | AL9: =IF(AH9="MLD1&8","Riyadh",IF(AH9="MLD7&18","Riyadh",IF(AH9="MLD5&10","Riyadh",IF(AH9="MLD3&4","Hufof",IF(AH9="MLD9&16","Hufof",IF(AH9="MLD17&2","Hufof",IF(AH9="MLD5","Riyadh1",IF(AH9="MLD10","Riyadh1",IF(AH9="MLD13","Riyadh1",IF(AH9="MLD12","Riyadh1",IF(AH9="MLD15","Riyadh1",IF(AH9="MLD14","Riyadh1",IF(AH9="SP-D","Dammam",IF(AH9="DST1","Dammam",IF(AH9="DST2","Dammam",IF(AH9="HST1","Hufof0",IF(AH9="HST2","Hufof0",IF(AH9="DDD1","Dammam",IF(AH9="DDD2","Dammam",IF(AH9="DDD3","Dammam",IF(AH9="Q Path","Dammam",IF(AH9="Off","Dammam")))))))))))))))))))))) -> Dammam | AM9: =IF(AL9="Riyadh","898",IF(AL9="Riyadh1","449",IF(AL9="Dammam","0",IF(AL9="Hufof","280",IF(AL9="Hufof0","0"))))) -> 0 | AN9: =IFERROR(VLOOKUP(U9,'DAS Wed'!$F$10:$P$56,11,0),"Off") -> Off | AO9: =IF(AN9="MLD1&8","7:40",IF(AN9="MLD3&4","2:40",IF(AN9="MLD7&8","7:40",IF(AN9="MLD5&10","7:40",IF(AN9="MLD9&16","2:40",IF(AN9="MLD17&2","2:40",IF(AN9="MLD5","3:50",IF(AN9="MLD13","3:50",IF(AN9="MLD10","3:50",IF(AN9="MLD12","3:50",IF(AN9="MLD15","3:50",IF(AN9="MLD14","3:50",IF(AN9="SP-D","0",IF(AN9="DST1","0",IF(AN9="HST1","0",IF(AN9="DDD1","0",IF(AN9="DST2","0",IF(AN9="DDD2","0",IF(AN9="HST2","0",IF(AN9="DDD3","0",)))))))))))))))))))) -> 0 | AP9: =IF(AN9="MLD1","0",IF(AN9="MLD2","0",IF(AN9="MLD3","0",IF(AN9="MLD4","0",IF(AN9="MLD5","0",IF(AN9="MLD6","0",IF(AN9="MLD7","0",IF(AN9="SP-D","0",IF(AN9="DST1","0",IF(AN9="HST1","0",IF(AN9="DDD1","8:00",IF(AN9="DST2","0",IF(AN9="DDD2","8:00",IF(AN9="HST2","0",IF(AN9="DDD3","8:00",))))))))))))))) -> 0 | AQ9: =IF(AN9="MLD5","YES",IF(AN9="MLD13","YES",IF(AN9="MLD15","YES",))) -> 0 | AR9: =IF(AN9="MLD1&8","Riyadh",IF(AN9="MLD7&18","Riyadh",IF(AN9="MLD5&10","Riyadh",IF(AN9="MLD3&4","Hufof",IF(AN9="MLD9&16","Hufof",IF(AN9="MLD17&2","Hufof",IF(AN9="MLD5","Riyadh1",IF(AN9="MLD10","Riyadh1",IF(AN9="MLD13","Riyadh1",IF(AN9="MLD12","Riyadh1",IF(AN9="MLD15","Riyadh1",IF(AN9="MLD14","Riyadh1",IF(AN9="SP-D","Dammam",IF(AN9="DST1","Dammam",IF(AN9="DST2","Dammam",IF(AN9="HST1","Hufof0",IF(AN9="HST2","Hufof0",IF(AN9="DDD1","Dammam",IF(AN9="DDD2","Dammam",IF(AN9="DDD3","Dammam",IF(AN9="Q Path","Dammam",IF(AN9="Off","Dammam")))))))))))))))))))))) -> Dammam | AS9: =IF(AR9="Riyadh","898",IF(AR9="Riyadh1","449",IF(AR9="Dammam","0",IF(AR9="Hufof","280",IF(AR9="Hufof0","0"))))) -> 0 | AT9: =IFERROR(VLOOKUP(U9,'DAS Thu'!$F$35:$P$51,11,0),"Off") -> Off | AU9: =IF(AT9="MLD1&8","7:40",IF(AT9="MLD3&4","2:40",IF(AT9="MLD7&8","7:40",IF(AT9="MLD5&10","7:40",IF(AT9="MLD9&16","2:40",IF(AT9="MLD17&2","2:40",IF(AT9="MLD5","3:50",IF(AT9="MLD13","3:50",IF(AT9="MLD10","3:50",IF(AT9="MLD12","3:50",IF(AT9="MLD15","3:50",IF(AT9="MLD14","3:50",IF(AT9="SP-D","0",IF(AT9="DST1","0",IF(AT9="HST1","0",IF(AT9="DDD1","0",IF(AT9="DST2","0",IF(AT9="DDD2","0",IF(AT9="HST2","0",IF(AT9="DDD3","0",)))))))))))))))))))) -> 0 | AV9: =IF(AT9="MLD1","0",IF(AT9="MLD2","0",IF(AT9="MLD3","0",IF(AT9="MLD4","0",IF(AT9="MLD5","0",IF(AT9="MLD6","0",IF(AT9="MLD7","0",IF(AT9="SP-D","0",IF(AT9="DST1","0",IF(AT9="HST1","0",IF(AT9="DDD1","8:00",IF(AT9="DST2","0",IF(AT9="DDD2","8:00",IF(AT9="HST2","0",IF(AT9="DDD3","8:00",))))))))))))))) -> 0 | AW9: =IF(AT9="MLD5","YES",IF(AT9="MLD13","YES",IF(AT9="MLD15","YES",))) -> 0 | AX9: =IF(AT9="MLD1&8","Riyadh",IF(AT9="MLD7&18","Riyadh",IF(AT9="MLD5&10","Riyadh",IF(AT9="MLD3&4","Hufof",IF(AT9="MLD9&16","Hufof",IF(AT9="MLD17&2","Hufof",IF(AT9="MLD5","Riyadh1",IF(AT9="MLD10","Riyadh1",IF(AT9="MLD13","Riyadh1",IF(AT9="MLD12","Riyadh1",IF(AT9="MLD15","Riyadh1",IF(AT9="MLD14","Riyadh1",IF(AT9="SP-D","Dammam",IF(AT9="DST1","Dammam",IF(AT9="DST2","Dammam",IF(AT9="HST1","Hufof0",IF(AT9="HST2","Hufof0",IF(AT9="DDD1","Dammam",IF(AT9="DDD2","Dammam",IF(AT9="DDD3","Dammam",IF(AT9="Q Path","Dammam",IF(AT9="Off","Dammam")))))))))))))))))))))) -> Dammam | AY9: =IF(AX9="Riyadh","898",IF(AX9="Riyadh1","449",IF(AX9="Dammam","0",IF(AX9="Hufof","280",IF(AX9="Hufof0","0"))))) -> 0 | AZ9: =IFERROR(VLOOKUP(U9,'DAS Fri'!$F$47:$P$55,11,0),"Off") -> Off | BA9: =IF(AZ9="MLD1&8","7:40",IF(AZ9="MLD3&4","2:40",IF(AZ9="MLD7&8","7:40",IF(AZ9="MLD5&10","7:40",IF(AZ9="MLD9&16","2:40",IF(AZ9="MLD17&2","2:40",IF(AZ9="MLD5","3:50",IF(AZ9="MLD13","3:50",IF(AZ9="MLD10","3:50",IF(AZ9="MLD12","3:50",IF(AZ9="MLD15","3:50",IF(AZ9="MLD14","3:50",IF(AZ9="SP-D","0",IF(AZ9="DST1","0",IF(AZ9="HST1","0",IF(AZ9="DDD1","0",IF(AZ9="DST2","0",IF(AZ9="DDD2","0",IF(AZ9="HST2","0",IF(AZ9="DDD3","0",)))))))))))))))))))) -> 0 | BB9: =IF(AZ9="MLD1","0",IF(AZ9="MLD2","0",IF(AZ9="MLD3","0",IF(AZ9="MLD4","0",IF(AZ9="MLD5","0",IF(AZ9="MLD6","0",IF(AZ9="MLD7","0",IF(AZ9="SP-D","0",IF(AZ9="DST1","0",IF(AZ9="HST1","0",IF(AZ9="DDD1","8:00",IF(AZ9="DST2","0",IF(AZ9="DDD2","8:00",IF(AZ9="HST2","0",IF(AZ9="DDD3","8:00",))))))))))))))) -> 0 | BC9: =IF(AZ9="MLD5","YES",IF(AZ9="MLD13","YES",IF(AZ9="MLD15","YES",))) -> 0 | BD9: =IF(AZ9="MLD1&8","Riyadh",IF(AZ9="MLD7&18","Riyadh",IF(AZ9="MLD5&10","Riyadh",IF(AZ9="MLD3&4","Hufof",IF(AZ9="MLD9&16","Hufof",IF(AZ9="MLD17&2","Hufof",IF(AZ9="MLD5","Riyadh1",IF(AZ9="MLD10","Riyadh1",IF(AZ9="MLD13","Riyadh1",IF(AZ9="MLD12","Riyadh1",IF(AZ9="MLD15","Riyadh1",IF(AZ9="MLD14","Riyadh1",IF(AZ9="SP-D","Dammam",IF(AZ9="DST1","Dammam",IF(AZ9="DST2","Dammam",IF(AZ9="HST1","Hufof0",IF(AZ9="HST2","Hufof0",IF(AZ9="DDD1","Dammam",IF(AZ9="DDD2","Dammam",IF(AZ9="DDD3","Dammam",IF(AZ9="Q Path","Dammam",IF(AZ9="Off","Dammam")))))))))))))))))))))) -> Dammam | BE9: =IF(BD9="Riyadh","898",IF(BD9="Riyadh1","449",IF(BD9="Dammam","0",IF(BD9="Hufof","280",IF(BD9="Hufof0","0"))))) -> 0 | BF9: =IFERROR(VLOOKUP(U9,'DAS Sat'!$F$9:$P$63,11,0),"Off") -> Off | BG9: =IF(BF9="MLD1&8","7:40",IF(BF9="MLD3&4","2:40",IF(BF9="MLD7&8","7:40",IF(BF9="MLD5&10","7:40",IF(BF9="MLD9&16","2:40",IF(BF9="MLD17&2","2:40",IF(BF9="MLD5","3:50",IF(BF9="MLD13","3:50",IF(BF9="MLD10","3:50",IF(BF9="MLD12","3:50",IF(BF9="MLD15","3:50",IF(BF9="MLD14","3:50",IF(BF9="SP-D","0",IF(BF9="DST1","0",IF(BF9="HST1","0",IF(BF9="DDD1","0",IF(BF9="DST2","0",IF(BF9="DDD2","0",IF(BF9="HST2","0",IF(BF9="DDD3","0",)))))))))))))))))))) -> 0 | BH9: =IF(BF9="MLD1","0",IF(BF9="MLD2","0",IF(BF9="MLD3","0",IF(BF9="MLD4","0",IF(BF9="MLD5","0",IF(BF9="MLD6","0",IF(BF9="MLD7","0",IF(BF9="SP-D","0",IF(BF9="DST1","0",IF(BF9="HST1","0",IF(BF9="DDD1","8:00",IF(BF9="DST2","0",IF(BF9="DDD2","8:00",IF(BF9="HST2","0",IF(BF9="DDD3","8:00",))))))))))))))) -> 0 | BI9: =IF(BF9="MLD5","YES",IF(BF9="MLD13","YES",IF(BF9="MLD15","YES",))) -> 0 | BJ9: =IF(BF9="MLD1&8","Riyadh",IF(BF9="MLD7&18","Riyadh",IF(BF9="MLD5&10","Riyadh",IF(BF9="MLD3&4","Hufof",IF(BF9="MLD9&16","Hufof",IF(BF9="MLD17&2","Hufof",IF(BF9="MLD5","Riyadh1",IF(BF9="MLD10","Riyadh1",IF(BF9="MLD13","Riyadh1",IF(BF9="MLD12","Riyadh1",IF(BF9="MLD15","Riyadh1",IF(BF9="MLD14","Riyadh1",IF(BF9="SP-D","Dammam",IF(BF9="DST1","Dammam",IF(BF9="DST2","Dammam",IF(BF9="HST1","Hufof0",IF(BF9="HST2","Hufof0",IF(BF9="DDD1","Dammam",IF(BF9="DDD2","Dammam",IF(BF9="DDD3","Dammam",IF(BF9="Q Path","Dammam",IF(BF9="Off","Dammam")))))))))))))))))))))) -> Dammam | BK9: =IF(BJ9="Riyadh","898",IF(BJ9="Riyadh1","449",IF(BJ9="Dammam","0",IF(BJ9="Hufof","280",IF(BJ9="Hufof0","0"))))) -> 0 | BL9: =W9+AC9+AI9+AO9+AU9+BA9+BG9 -> 0 | BM9: 0.15972222 | BN9: =X9+AD9+AJ9+AP9+AV9+BB9+BH9 -> 0 | BO9: 0 | BQ9: ='Dvr '!A10 -> Nayef Khaled Al-Sahli | BR9: 0.083333333 | BS9: =IFERROR(VLOOKUP(BQ9,'DAS Sun'!$F$9:$Q$61,12,0),"Off") -> 0.58333333 | BT9: =IFERROR(VLOOKUP(BQ9,'DAS Sun'!$F$9:$R$61,13,0),"Off") -> 0.83333333 | BU9: =$BU$4-BT9 -> 0.16666667 | BV9: =BS9+BR9 -> 0.66666667 | BW9: =IFERROR(VLOOKUP(BQ9,'DAS Mon'!$F$9:$Q$49,12,0),"Off") -> Off | BX9: =IFERROR(VLOOKUP(BQ9,'DAS Mon'!$F$9:$R$49,13,0),"Off") -> Off | BY9: =$BU$4-BX9 -> #VALUE! | BZ9: =BW9+BU9 -> #VALUE! | CA9: =IFERROR(VLOOKUP(BQ9,'DAS Tue'!$F$9:$Q$49,12,0),"Off") -> Off | CB9: =IFERROR(VLOOKUP(BQ9,'DAS Tue'!$F$9:$R$49,13,0),"Off") -> Off | CC9: =$BU$4-CB9 -> #VALUE! | CD9: =CA9+BY9 -> #VALUE! | CE9: =IFERROR(VLOOKUP(BQ9,'DAS Wed'!$F$9:$Q$58,12,0),"Off") -> Off | CF9: =IFERROR(VLOOKUP(BQ9,'DAS Wed'!$F$9:$R$58,13,0),"Off") -> Off | CG9: =$BU$4-CF9 -> #VALUE! | CH9: =CE9+CC9 -> #VALUE! | CI9: =IFERROR(VLOOKUP(BQ9,'DAS Thu'!$F$9:$Q$59,12,0),"Off") -> Off | CJ9: =IFERROR(VLOOKUP(BQ9,'DAS Thu'!$F$9:$R$59,13,0),"Off") -> Off | CK9: =$BU$4-CJ9 -> #VALUE! | CL9: =CI9+CG9 -> #VALUE! | CM9: =IFERROR(VLOOKUP(BQ9,'DAS Fri'!$F$9:$Q$63,12,0),"Off") -> 0.62986111 | CN9: =IFERROR(VLOOKUP(BQ9,'DAS Fri'!$F$9:$R$63,13,0),"Off") -> 0.88125 | CO9: =$BU$4-CN9 -> 0.11875 | CP9: =CM9+CK9 -> #VALUE! | CQ9: =IFERROR(VLOOKUP(BQ9,'DAS Sat'!$F$9:$Q$65,12,0),"Off") -> 0.78958333 | CR9: =IFERROR(VLOOKUP(BQ9,'DAS Sat'!$F$9:$R$65,13,0),"Off") -> 0.99861111 | CS9: =$BU$4-CR9 -> 0.0013888889 | CT9: =CQ9+CO9 -> 0.90833333
B10: ='Dvr '!A12 -> Ali Hassan Almeer | C10: =IFERROR(VLOOKUP(B10,'DAS Sun'!$F$9:$O$61,10,0),"Off") -> 0.21041667 | D10: ='Dvr '!E12 -> 0.21041667 | E10: =IFERROR(VLOOKUP(B10,'DAS Mon'!$F$9:$O$49,10,0),"Off") -> 0.20833333 | F10: ='Dvr '!I12 -> 0.20833333 | G10: =IFERROR(VLOOKUP(B10,'DAS Tue'!$F$9:$O$47,10,0),"Off") -> 0.33333333 | H10: ='Dvr '!M12 -> 0.33333333 | I10: =IFERROR(VLOOKUP(B10,'DAS Wed'!$F$9:$O$57,10,0),"Off") -> 0.39236111 | J10: ='Dvr '!Q12 -> 0.33333333 | K10: =IFERROR(VLOOKUP(B10,'DAS Thu'!$F$9:$O$59,10,0),"Off") -> Off | L10: ='Dvr '!U12 -> 0 | M10: =IFERROR(VLOOKUP(B10,'DAS Fri'!$F$9:$O$63,10,0),"Off") -> Off | N10: ='Dvr '!Y12 -> 0 | O10: =IFERROR(VLOOKUP(B10,'DAS Sat'!$F$9:$O$65,10,0),"Off") -> Off | P10: ='Dvr '!AC12 -> 0 | Q10: =SUM(C10,E10,G10,I10,K10,M10,O10) -> 1.1444444 | R10: =SUM(D10,F10,H10,J10,L10,N10,P10) -> 1.0854167 | S10: =COUNTIF(C10:P10,"Off") -> 3 | U10: ='Dvr '!A12 -> Ali Hassan Almeer | V10: =IFERROR(VLOOKUP(U10,'DAS Sun'!$F$10:$P$59,11,0),"Off") -> MLD13 | W10: =IF(V10="MLD1&8","7:40",IF(V10="MLD3&4","2:40",IF(V10="MLD7&8","7:40",IF(V10="MLD5&10","7:40",IF(V10="MLD9&16","2:40",IF(V10="MLD17&2","2:40",IF(V10="MLD5","3:50",IF(V10="MLD13","3:50",IF(V10="MLD10","3:50",IF(V10="MLD12","3:50",IF(V10="MLD15","3:50",IF(V10="MLD14","3:50",IF(V10="SP-D","0",IF(V10="DST1","0",IF(V10="HST1","0",IF(V10="DDD1","0",IF(V10="DST2","0",IF(V10="DDD2","0",IF(V10="HST2","0",IF(V10="DDD3","0",)))))))))))))))))))) -> 3:50 | X10: =IF(V10="MLD1","0",IF(V10="MLD2","0",IF(V10="MLD3","0",IF(V10="MLD4","0",IF(V10="MLD5","0",IF(V10="MLD6","0",IF(V10="MLD7","0",IF(V10="SP-D","0",IF(V10="DST1","0",IF(V10="HST1","0",IF(V10="DDD1","8:00",IF(V10="DST2","0",IF(V10="DDD2","8:00",IF(V10="HST2","0",IF(V10="DDD3","8:00",))))))))))))))) -> 0 | Y10: =IF(V10="MLD5","YES",IF(V10="MLD13","YES",IF(V10="MLD15","YES",))) -> YES | Z10: =IF(V10="MLD1&8","Riyadh",IF(V10="MLD7&18","Riyadh",IF(V10="MLD5&10","Riyadh",IF(V10="MLD3&4","Hufof",IF(V10="MLD9&16","Hufof",IF(V10="MLD17&2","Hufof",IF(V10="MLD5","Riyadh1",IF(V10="MLD10","Riyadh1",IF(V10="MLD13","Riyadh1",IF(V10="MLD12","Riyadh1",IF(V10="MLD15","Riyadh1",IF(V10="MLD14","Riyadh1",IF(V10="SP-D","Dammam",IF(V10="DST1","Dammam",IF(V10="DST2","Dammam",IF(V10="HST1","Hufof0",IF(V10="HST2","Hufof0",IF(V10="DDD1","Dammam",IF(V10="DDD2","Dammam",IF(V10="DDD3","Dammam",IF(V10="Q Path","Dammam",IF(V10="Off","Dammam")))))))))))))))))))))) -> Riyadh1 | AA10: =IF(Z10="Riyadh","898",IF(Z10="Riyadh1","449",IF(Z10="Dammam","0",IF(Z10="Hufof","280",IF(Z10="Hufof0","0"))))) -> 449 | AB10: =IFERROR(VLOOKUP(U10,'DAS Mon'!$F$10:$P$51,11,0),"Off") -> MLD14 | AC10: =IF(AB10="MLD1&8","7:40",IF(AB10="MLD3&4","2:40",IF(AB10="MLD7&8","7:40",IF(AB10="MLD5&10","7:40",IF(AB10="MLD9&16","2:40",IF(AB10="MLD17&2","2:40",IF(AB10="MLD5","3:50",IF(AB10="MLD13","3:50",IF(AB10="MLD10","3:50",IF(AB10="MLD12","3:50",IF(AB10="MLD15","3:50",IF(AB10="MLD14","3:50",IF(AB10="SP-D","0",IF(AB10="DST1","0",IF(AB10="HST1","0",IF(AB10="DDD1","0",IF(AB10="DST2","0",IF(AB10="DDD2","0",IF(AB10="HST2","0",IF(AB10="DDD3","0",)))))))))))))))))))) -> 3:50 | AD10: =IF(AB10="MLD1","0",IF(AB10="MLD2","0",IF(AB10="MLD3","0",IF(AB10="MLD4","0",IF(AB10="MLD5","0",IF(AB10="MLD6","0",IF(AB10="MLD7","0",IF(AB10="SP-D","0",IF(AB10="DST1","0",IF(AB10="HST1","0",IF(AB10="DDD1","8:00",IF(AB10="DST2","0",IF(AB10="DDD2","8:00",IF(AB10="HST2","0",IF(AB10="DDD3","8:00",))))))))))))))) -> 0 | AE10: =IF(AB10="MLD5","YES",IF(AB10="MLD13","YES",IF(AB10="MLD15","YES",))) -> 0 | AF10: =IF(AB10="MLD1&8","Riyadh",IF(AB10="MLD7&18","Riyadh",IF(AB10="MLD5&10","Riyadh",IF(AB10="MLD3&4","Hufof",IF(AB10="MLD9&16","Hufof",IF(AB10="MLD17&2","Hufof",IF(AB10="MLD5","Riyadh1",IF(AB10="MLD10","Riyadh1",IF(AB10="MLD13","Riyadh1",IF(AB10="MLD12","Riyadh1",IF(AB10="MLD15","Riyadh1",IF(AB10="MLD14","Riyadh1",IF(AB10="SP-D","Dammam",IF(AB10="DST1","Dammam",IF(AB10="DST2","Dammam",IF(AB10="HST1","Hufof0",IF(AB10="HST2","Hufof0",IF(AB10="DDD1","Dammam",IF(AB10="DDD2","Dammam",IF(AB10="DDD3","Dammam",IF(AB10="Q Path","Dammam",IF(AB10="Off","Dammam")))))))))))))))))))))) -> Riyadh1 | AG10: =IF(AF10="Riyadh","898",IF(AF10="Riyadh1","449",IF(AF10="Dammam","0",IF(AF10="Hufof","280",IF(AF10="Hufof0","0"))))) -> 449 | AH10: =IFERROR(VLOOKUP(U10,'DAS Tue'!$F$9:$P$50,11,0),"Off") -> SP | AI10: =IF(AH10="MLD1&8","7:40",IF(AH10="MLD3&4","2:40",IF(AH10="MLD7&8","7:40",IF(AH10="MLD5&10","7:40",IF(AH10="MLD9&16","2:40",IF(AH10="MLD17&2","2:40",IF(AH10="MLD5","3:50",IF(AH10="MLD13","3:50",IF(AH10="MLD10","3:50",IF(AH10="MLD12","3:50",IF(AH10="MLD15","3:50",IF(AH10="MLD14","3:50",IF(AH10="SP-D","0",IF(AH10="DST1","0",IF(AH10="HST1","0",IF(AH10="DDD1","0",IF(AH10="DST2","0",IF(AH10="DDD2","0",IF(AH10="HST2","0",IF(AH10="DDD3","0",)))))))))))))))))))) -> 0 | AJ10: =IF(AH10="MLD1","0",IF(AH10="MLD2","0",IF(AH10="MLD3","0",IF(AH10="MLD4","0",IF(AH10="MLD5","0",IF(AH10="MLD6","0",IF(AH10="MLD7","0",IF(AH10="SP-D","0",IF(AH10="DST1","0",IF(AH10="HST1","0",IF(AH10="DDD1","8:00",IF(AH10="DST2","0",IF(AH10="DDD2","8:00",IF(AH10="HST2","0",IF(AH10="DDD3","8:00",))))))))))))))) -> 0 | AK10: =IF(AH10="MLD5","YES",IF(AH10="MLD13","YES",IF(AH10="MLD15","YES",))) -> 0 | AL10: =IF(AH10="MLD1&8","Riyadh",IF(AH10="MLD7&18","Riyadh",IF(AH10="MLD5&10","Riyadh",IF(AH10="MLD3&4","Hufof",IF(AH10="MLD9&16","Hufof",IF(AH10="MLD17&2","Hufof",IF(AH10="MLD5","Riyadh1",IF(AH10="MLD10","Riyadh1",IF(AH10="MLD13","Riyadh1",IF(AH10="MLD12","Riyadh1",IF(AH10="MLD15","Riyadh1",IF(AH10="MLD14","Riyadh1",IF(AH10="SP-D","Dammam",IF(AH10="DST1","Dammam",IF(AH10="DST2","Dammam",IF(AH10="HST1","Hufof0",IF(AH10="HST2","Hufof0",IF(AH10="DDD1","Dammam",IF(AH10="DDD2","Dammam",IF(AH10="DDD3","Dammam",IF(AH10="Q Path","Dammam",IF(AH10="Off","Dammam")))))))))))))))))))))) -> FALSE | AM10: =IF(AL10="Riyadh","898",IF(AL10="Riyadh1","449",IF(AL10="Dammam","0",IF(AL10="Hufof","280",IF(AL10="Hufof0","0"))))) -> FALSE | AN10: =IFERROR(VLOOKUP(U10,'DAS Wed'!$F$10:$P$56,11,0),"Off") -> MLD9&18 | AO10: =IF(AN10="MLD1&8","7:40",IF(AN10="MLD3&4","2:40",IF(AN10="MLD7&8","7:40",IF(AN10="MLD5&10","7:40",IF(AN10="MLD9&16","2:40",IF(AN10="MLD17&2","2:40",IF(AN10="MLD5","3:50",IF(AN10="MLD13","3:50",IF(AN10="MLD10","3:50",IF(AN10="MLD12","3:50",IF(AN10="MLD15","3:50",IF(AN10="MLD14","3:50",IF(AN10="SP-D","0",IF(AN10="DST1","0",IF(AN10="HST1","0",IF(AN10="DDD1","0",IF(AN10="DST2","0",IF(AN10="DDD2","0",IF(AN10="HST2","0",IF(AN10="DDD3","0",)))))))))))))))))))) -> 0 | AP10: =IF(AN10="MLD1","0",IF(AN10="MLD2","0",IF(AN10="MLD3","0",IF(AN10="MLD4","0",IF(AN10="MLD5","0",IF(AN10="MLD6","0",IF(AN10="MLD7","0",IF(AN10="SP-D","0",IF(AN10="DST1","0",IF(AN10="HST1","0",IF(AN10="DDD1","8:00",IF(AN10="DST2","0",IF(AN10="DDD2","8:00",IF(AN10="HST2","0",IF(AN10="DDD3","8:00",))))))))))))))) -> 0 | AQ10: =IF(AN10="MLD5","YES",IF(AN10="MLD13","YES",IF(AN10="MLD15","YES",))) -> 0 | AR10: =IF(AN10="MLD1&8","Riyadh",IF(AN10="MLD7&18","Riyadh",IF(AN10="MLD5&10","Riyadh",IF(AN10="MLD3&4","Hufof",IF(AN10="MLD9&16","Hufof",IF(AN10="MLD17&2","Hufof",IF(AN10="MLD5","Riyadh1",IF(AN10="MLD10","Riyadh1",IF(AN10="MLD13","Riyadh1",IF(AN10="MLD12","Riyadh1",IF(AN10="MLD15","Riyadh1",IF(AN10="MLD14","Riyadh1",IF(AN10="SP-D","Dammam",IF(AN10="DST1","Dammam",IF(AN10="DST2","Dammam",IF(AN10="HST1","Hufof0",IF(AN10="HST2","Hufof0",IF(AN10="DDD1","Dammam",IF(AN10="DDD2","Dammam",IF(AN10="DDD3","Dammam",IF(AN10="Q Path","Dammam",IF(AN10="Off","Dammam")))))))))))))))))))))) -> FALSE | AS10: =IF(AR10="Riyadh","898",IF(AR10="Riyadh1","449",IF(AR10="Dammam","0",IF(AR10="Hufof","280",IF(AR10="Hufof0","0"))))) -> FALSE | AT10: =IFERROR(VLOOKUP(U10,'DAS Thu'!$F$35:$P$51,11,0),"Off") -> Off | AU10: =IF(AT10="MLD1&8","7:40",IF(AT10="MLD3&4","2:40",IF(AT10="MLD7&8","7:40",IF(AT10="MLD5&10","7:40",IF(AT10="MLD9&16","2:40",IF(AT10="MLD17&2","2:40",IF(AT10="MLD5","3:50",IF(AT10="MLD13","3:50",IF(AT10="MLD10","3:50",IF(AT10="MLD12","3:50",IF(AT10="MLD15","3:50",IF(AT10="MLD14","3:50",IF(AT10="SP-D","0",IF(AT10="DST1","0",IF(AT10="HST1","0",IF(AT10="DDD1","0",IF(AT10="DST2","0",IF(AT10="DDD2","0",IF(AT10="HST2","0",IF(AT10="DDD3","0",)))))))))))))))))))) -> 0 | AV10: =IF(AT10="MLD1","0",IF(AT10="MLD2","0",IF(AT10="MLD3","0",IF(AT10="MLD4","0",IF(AT10="MLD5","0",IF(AT10="MLD6","0",IF(AT10="MLD7","0",IF(AT10="SP-D","0",IF(AT10="DST1","0",IF(AT10="HST1","0",IF(AT10="DDD1","8:00",IF(AT10="DST2","0",IF(AT10="DDD2","8:00",IF(AT10="HST2","0",IF(AT10="DDD3","8:00",))))))))))))))) -> 0 | AW10: =IF(AT10="MLD5","YES",IF(AT10="MLD13","YES",IF(AT10="MLD15","YES",))) -> 0 | AX10: =IF(AT10="MLD1&8","Riyadh",IF(AT10="MLD7&18","Riyadh",IF(AT10="MLD5&10","Riyadh",IF(AT10="MLD3&4","Hufof",IF(AT10="MLD9&16","Hufof",IF(AT10="MLD17&2","Hufof",IF(AT10="MLD5","Riyadh1",IF(AT10="MLD10","Riyadh1",IF(AT10="MLD13","Riyadh1",IF(AT10="MLD12","Riyadh1",IF(AT10="MLD15","Riyadh1",IF(AT10="MLD14","Riyadh1",IF(AT10="SP-D","Dammam",IF(AT10="DST1","Dammam",IF(AT10="DST2","Dammam",IF(AT10="HST1","Hufof0",IF(AT10="HST2","Hufof0",IF(AT10="DDD1","Dammam",IF(AT10="DDD2","Dammam",IF(AT10="DDD3","Dammam",IF(AT10="Q Path","Dammam",IF(AT10="Off","Dammam")))))))))))))))))))))) -> Dammam | AY10: =IF(AX10="Riyadh","898",IF(AX10="Riyadh1","449",IF(AX10="Dammam","0",IF(AX10="Hufof","280",IF(AX10="Hufof0","0"))))) -> 0 | AZ10: =IFERROR(VLOOKUP(U10,'DAS Fri'!$F$47:$P$55,11,0),"Off") -> Off | BA10: =IF(AZ10="MLD1&8","7:40",IF(AZ10="MLD3&4","2:40",IF(AZ10="MLD7&8","7:40",IF(AZ10="MLD5&10","7:40",IF(AZ10="MLD9&16","2:40",IF(AZ10="MLD17&2","2:40",IF(AZ10="MLD5","3:50",IF(AZ10="MLD13","3:50",IF(AZ10="MLD10","3:50",IF(AZ10="MLD12","3:50",IF(AZ10="MLD15","3:50",IF(AZ10="MLD14","3:50",IF(AZ10="SP-D","0",IF(AZ10="DST1","0",IF(AZ10="HST1","0",IF(AZ10="DDD1","0",IF(AZ10="DST2","0",IF(AZ10="DDD2","0",IF(AZ10="HST2","0",IF(AZ10="DDD3","0",)))))))))))))))))))) -> 0 | BB10: =IF(AZ10="MLD1","0",IF(AZ10="MLD2","0",IF(AZ10="MLD3","0",IF(AZ10="MLD4","0",IF(AZ10="MLD5","0",IF(AZ10="MLD6","0",IF(AZ10="MLD7","0",IF(AZ10="SP-D","0",IF(AZ10="DST1","0",IF(AZ10="HST1","0",IF(AZ10="DDD1","8:00",IF(AZ10="DST2","0",IF(AZ10="DDD2","8:00",IF(AZ10="HST2","0",IF(AZ10="DDD3","8:00",))))))))))))))) -> 0 | BC10: =IF(AZ10="MLD5","YES",IF(AZ10="MLD13","YES",IF(AZ10="MLD15","YES",))) -> 0 | BD10: =IF(AZ10="MLD1&8","Riyadh",IF(AZ10="MLD7&18","Riyadh",IF(AZ10="MLD5&10","Riyadh",IF(AZ10="MLD3&4","Hufof",IF(AZ10="MLD9&16","Hufof",IF(AZ10="MLD17&2","Hufof",IF(AZ10="MLD5","Riyadh1",IF(AZ10="MLD10","Riyadh1",IF(AZ10="MLD13","Riyadh1",IF(AZ10="MLD12","Riyadh1",IF(AZ10="MLD15","Riyadh1",IF(AZ10="MLD14","Riyadh1",IF(AZ10="SP-D","Dammam",IF(AZ10="DST1","Dammam",IF(AZ10="DST2","Dammam",IF(AZ10="HST1","Hufof0",IF(AZ10="HST2","Hufof0",IF(AZ10="DDD1","Dammam",IF(AZ10="DDD2","Dammam",IF(AZ10="DDD3","Dammam",IF(AZ10="Q Path","Dammam",IF(AZ10="Off","Dammam")))))))))))))))))))))) -> Dammam | BE10: =IF(BD10="Riyadh","898",IF(BD10="Riyadh1","449",IF(BD10="Dammam","0",IF(BD10="Hufof","280",IF(BD10="Hufof0","0"))))) -> 0 | BF10: =IFERROR(VLOOKUP(U10,'DAS Sat'!$F$9:$P$63,11,0),"Off") -> Off | BG10: =IF(BF10="MLD1&8","7:40",IF(BF10="MLD3&4","2:40",IF(BF10="MLD7&8","7:40",IF(BF10="MLD5&10","7:40",IF(BF10="MLD9&16","2:40",IF(BF10="MLD17&2","2:40",IF(BF10="MLD5","3:50",IF(BF10="MLD13","3:50",IF(BF10="MLD10","3:50",IF(BF10="MLD12","3:50",IF(BF10="MLD15","3:50",IF(BF10="MLD14","3:50",IF(BF10="SP-D","0",IF(BF10="DST1","0",IF(BF10="HST1","0",IF(BF10="DDD1","0",IF(BF10="DST2","0",IF(BF10="DDD2","0",IF(BF10="HST2","0",IF(BF10="DDD3","0",)))))))))))))))))))) -> 0 | BH10: =IF(BF10="MLD1","0",IF(BF10="MLD2","0",IF(BF10="MLD3","0",IF(BF10="MLD4","0",IF(BF10="MLD5","0",IF(BF10="MLD6","0",IF(BF10="MLD7","0",IF(BF10="SP-D","0",IF(BF10="DST1","0",IF(BF10="HST1","0",IF(BF10="DDD1","8:00",IF(BF10="DST2","0",IF(BF10="DDD2","8:00",IF(BF10="HST2","0",IF(BF10="DDD3","8:00",))))))))))))))) -> 0 | BI10: =IF(BF10="MLD5","YES",IF(BF10="MLD13","YES",IF(BF10="MLD15","YES",))) -> 0 | BJ10: =IF(BF10="MLD1&8","Riyadh",IF(BF10="MLD7&18","Riyadh",IF(BF10="MLD5&10","Riyadh",IF(BF10="MLD3&4","Hufof",IF(BF10="MLD9&16","Hufof",IF(BF10="MLD17&2","Hufof",IF(BF10="MLD5","Riyadh1",IF(BF10="MLD10","Riyadh1",IF(BF10="MLD13","Riyadh1",IF(BF10="MLD12","Riyadh1",IF(BF10="MLD15","Riyadh1",IF(BF10="MLD14","Riyadh1",IF(BF10="SP-D","Dammam",IF(BF10="DST1","Dammam",IF(BF10="DST2","Dammam",IF(BF10="HST1","Hufof0",IF(BF10="HST2","Hufof0",IF(BF10="DDD1","Dammam",IF(BF10="DDD2","Dammam",IF(BF10="DDD3","Dammam",IF(BF10="Q Path","Dammam",IF(BF10="Off","Dammam")))))))))))))))))))))) -> Dammam | BK10: =IF(BJ10="Riyadh","898",IF(BJ10="Riyadh1","449",IF(BJ10="Dammam","0",IF(BJ10="Hufof","280",IF(BJ10="Hufof0","0"))))) -> 0 | BL10: =W10+AC10+AI10+AO10+AU10+BA10+BG10 -> 0.31944444 | BM10: 0 | BN10: =X10+AD10+AJ10+AP10+AV10+BB10+BH10 -> 0 | BO10: 0 | BQ10: ='Dvr '!A11 -> Vacancy2 | BR10: #VALUE! | BS10: =IFERROR(VLOOKUP(BQ10,'DAS Sun'!$F$9:$Q$61,12,0),"Off") -> Off | BT10: =IFERROR(VLOOKUP(BQ10,'DAS Sun'!$F$9:$R$61,13,0),"Off") -> Off | BU10: =$BU$4-BT10 -> #VALUE! | BV10: =BS10+BR10 -> #VALUE! | BW10: =IFERROR(VLOOKUP(BQ10,'DAS Mon'!$F$9:$Q$49,12,0),"Off") -> Off | BX10: =IFERROR(VLOOKUP(BQ10,'DAS Mon'!$F$9:$R$49,13,0),"Off") -> Off | BY10: =$BU$4-BX10 -> #VALUE! | BZ10: =BW10+BU10 -> #VALUE! | CA10: =IFERROR(VLOOKUP(BQ10,'DAS Tue'!$F$9:$Q$49,12,0),"Off") -> Off | CB10: =IFERROR(VLOOKUP(BQ10,'DAS Tue'!$F$9:$R$49,13,0),"Off") -> Off | CC10: =$BU$4-CB10 -> #VALUE! | CD10: =CA10+BY10 -> #VALUE! | CE10: =IFERROR(VLOOKUP(BQ10,'DAS Wed'!$F$9:$Q$58,12,0),"Off") -> Off | CF10: =IFERROR(VLOOKUP(BQ10,'DAS Wed'!$F$9:$R$58,13,0),"Off") -> Off | CG10: =$BU$4-CF10 -> #VALUE! | CH10: =CE10+CC10 -> #VALUE! | CI10: =IFERROR(VLOOKUP(BQ10,'DAS Thu'!$F$9:$Q$59,12,0),"Off") -> Off | CJ10: =IFERROR(VLOOKUP(BQ10,'DAS Thu'!$F$9:$R$59,13,0),"Off") -> Off | CK10: =$BU$4-CJ10 -> #VALUE! | CL10: =CI10+CG10 -> #VALUE! | CM10: =IFERROR(VLOOKUP(BQ10,'DAS Fri'!$F$9:$Q$63,12,0),"Off") -> Off | CN10: =IFERROR(VLOOKUP(BQ10,'DAS Fri'!$F$9:$R$63,13,0),"Off") -> Off | CO10: =$BU$4-CN10 -> #VALUE! | CP10: =CM10+CK10 -> #VALUE! | CQ10: =IFERROR(VLOOKUP(BQ10,'DAS Sat'!$F$9:$Q$65,12,0),"Off") -> Off | CR10: =IFERROR(VLOOKUP(BQ10,'DAS Sat'!$F$9:$R$65,13,0),"Off") -> Off | CS10: =$BU$4-CR10 -> #VALUE! | CT10: =CQ10+CO10 -> #VALUE!
B11: ='Dvr '!A13 -> Mohammed Khaled Al-Muhanna | C11: =IFERROR(VLOOKUP(B11,'DAS Sun'!$F$9:$O$61,10,0),"Off") -> Off | D11: ='Dvr '!E13 -> 0 | E11: =IFERROR(VLOOKUP(B11,'DAS Mon'!$F$9:$O$49,10,0),"Off") -> 0.39236111 | F11: ='Dvr '!I13 -> 0.33333333 | G11: =IFERROR(VLOOKUP(B11,'DAS Tue'!$F$9:$O$47,10,0),"Off") -> 0.39236111 | H11: ='Dvr '!M13 -> 0.39236111 | I11: =IFERROR(VLOOKUP(B11,'DAS Wed'!$F$9:$O$57,10,0),"Off") -> 0.33333333 | J11: ='Dvr '!Q13 -> 0.33333333 | K11: =IFERROR(VLOOKUP(B11,'DAS Thu'!$F$9:$O$59,10,0),"Off") -> 0.4875 | L11: ='Dvr '!U13 -> 0.33333333 | M11: =IFERROR(VLOOKUP(B11,'DAS Fri'!$F$9:$O$63,10,0),"Off") -> Off | N11: ='Dvr '!Y13 -> 0 | O11: =IFERROR(VLOOKUP(B11,'DAS Sat'!$F$9:$O$65,10,0),"Off") -> Off | P11: ='Dvr '!AC13 -> 0 | Q11: =SUM(C11,E11,G11,I11,K11,M11,O11) -> 1.6055556 | R11: =SUM(D11,F11,H11,J11,L11,N11,P11) -> 1.3923611 | S11: =COUNTIF(C11:P11,"Off") -> 3 | U11: ='Dvr '!A13 -> Mohammed Khaled Al-Muhanna | V11: =IFERROR(VLOOKUP(U11,'DAS Sun'!$F$10:$P$59,11,0),"Off") -> Off | W11: =IF(V11="MLD1&8","7:40",IF(V11="MLD3&4","2:40",IF(V11="MLD7&8","7:40",IF(V11="MLD5&10","7:40",IF(V11="MLD9&16","2:40",IF(V11="MLD17&2","2:40",IF(V11="MLD5","3:50",IF(V11="MLD13","3:50",IF(V11="MLD10","3:50",IF(V11="MLD12","3:50",IF(V11="MLD15","3:50",IF(V11="MLD14","3:50",IF(V11="SP-D","0",IF(V11="DST1","0",IF(V11="HST1","0",IF(V11="DDD1","0",IF(V11="DST2","0",IF(V11="DDD2","0",IF(V11="HST2","0",IF(V11="DDD3","0",)))))))))))))))))))) -> 0 | X11: =IF(V11="MLD1","0",IF(V11="MLD2","0",IF(V11="MLD3","0",IF(V11="MLD4","0",IF(V11="MLD5","0",IF(V11="MLD6","0",IF(V11="MLD7","0",IF(V11="SP-D","0",IF(V11="DST1","0",IF(V11="HST1","0",IF(V11="DDD1","8:00",IF(V11="DST2","0",IF(V11="DDD2","8:00",IF(V11="HST2","0",IF(V11="DDD3","8:00",))))))))))))))) -> 0 | Y11: =IF(V11="MLD5","YES",IF(V11="MLD13","YES",IF(V11="MLD15","YES",))) -> 0 | Z11: =IF(V11="MLD1&8","Riyadh",IF(V11="MLD7&18","Riyadh",IF(V11="MLD5&10","Riyadh",IF(V11="MLD3&4","Hufof",IF(V11="MLD9&16","Hufof",IF(V11="MLD17&2","Hufof",IF(V11="MLD5","Riyadh1",IF(V11="MLD10","Riyadh1",IF(V11="MLD13","Riyadh1",IF(V11="MLD12","Riyadh1",IF(V11="MLD15","Riyadh1",IF(V11="MLD14","Riyadh1",IF(V11="SP-D","Dammam",IF(V11="DST1","Dammam",IF(V11="DST2","Dammam",IF(V11="HST1","Hufof0",IF(V11="HST2","Hufof0",IF(V11="DDD1","Dammam",IF(V11="DDD2","Dammam",IF(V11="DDD3","Dammam",IF(V11="Q Path","Dammam",IF(V11="Off","Dammam")))))))))))))))))))))) -> Dammam | AA11: =IF(Z11="Riyadh","898",IF(Z11="Riyadh1","449",IF(Z11="Dammam","0",IF(Z11="Hufof","280",IF(Z11="Hufof0","0"))))) -> 0 | AB11: =IFERROR(VLOOKUP(U11,'DAS Mon'!$F$10:$P$51,11,0),"Off") -> MLD9&18 | AC11: =IF(AB11="MLD1&8","7:40",IF(AB11="MLD3&4","2:40",IF(AB11="MLD7&8","7:40",IF(AB11="MLD5&10","7:40",IF(AB11="MLD9&16","2:40",IF(AB11="MLD17&2","2:40",IF(AB11="MLD5","3:50",IF(AB11="MLD13","3:50",IF(AB11="MLD10","3:50",IF(AB11="MLD12","3:50",IF(AB11="MLD15","3:50",IF(AB11="MLD14","3:50",IF(AB11="SP-D","0",IF(AB11="DST1","0",IF(AB11="HST1","0",IF(AB11="DDD1","0",IF(AB11="DST2","0",IF(AB11="DDD2","0",IF(AB11="HST2","0",IF(AB11="DDD3","0",)))))))))))))))))))) -> 0 | AD11: =IF(AB11="MLD1","0",IF(AB11="MLD2","0",IF(AB11="MLD3","0",IF(AB11="MLD4","0",IF(AB11="MLD5","0",IF(AB11="MLD6","0",IF(AB11="MLD7","0",IF(AB11="SP-D","0",IF(AB11="DST1","0",IF(AB11="HST1","0",IF(AB11="DDD1","8:00",IF(AB11="DST2","0",IF(AB11="DDD2","8:00",IF(AB11="HST2","0",IF(AB11="DDD3","8:00",))))))))))))))) -> 0 | AE11: =IF(AB11="MLD5","YES",IF(AB11="MLD13","YES",IF(AB11="MLD15","YES",))) -> 0 | AF11: =IF(AB11="MLD1&8","Riyadh",IF(AB11="MLD7&18","Riyadh",IF(AB11="MLD5&10","Riyadh",IF(AB11="MLD3&4","Hufof",IF(AB11="MLD9&16","Hufof",IF(AB11="MLD17&2","Hufof",IF(AB11="MLD5","Riyadh1",IF(AB11="MLD10","Riyadh1",IF(AB11="MLD13","Riyadh1",IF(AB11="MLD12","Riyadh1",IF(AB11="MLD15","Riyadh1",IF(AB11="MLD14","Riyadh1",IF(AB11="SP-D","Dammam",IF(AB11="DST1","Dammam",IF(AB11="DST2","Dammam",IF(AB11="HST1","Hufof0",IF(AB11="HST2","Hufof0",IF(AB11="DDD1","Dammam",IF(AB11="DDD2","Dammam",IF(AB11="DDD3","Dammam",IF(AB11="Q Path","Dammam",IF(AB11="Off","Dammam")))))))))))))))))))))) -> FALSE | AG11: =IF(AF11="Riyadh","898",IF(AF11="Riyadh1","449",IF(AF11="Dammam","0",IF(AF11="Hufof","280",IF(AF11="Hufof0","0"))))) -> FALSE | AH11: =IFERROR(VLOOKUP(U11,'DAS Tue'!$F$9:$P$50,11,0),"Off") -> MLD9&18 | AI11: =IF(AH11="MLD1&8","7:40",IF(AH11="MLD3&4","2:40",IF(AH11="MLD7&8","7:40",IF(AH11="MLD5&10","7:40",IF(AH11="MLD9&16","2:40",IF(AH11="MLD17&2","2:40",IF(AH11="MLD5","3:50",IF(AH11="MLD13","3:50",IF(AH11="MLD10","3:50",IF(AH11="MLD12","3:50",IF(AH11="MLD15","3:50",IF(AH11="MLD14","3:50",IF(AH11="SP-D","0",IF(AH11="DST1","0",IF(AH11="HST1","0",IF(AH11="DDD1","0",IF(AH11="DST2","0",IF(AH11="DDD2","0",IF(AH11="HST2","0",IF(AH11="DDD3","0",)))))))))))))))))))) -> 0 | AJ11: =IF(AH11="MLD1","0",IF(AH11="MLD2","0",IF(AH11="MLD3","0",IF(AH11="MLD4","0",IF(AH11="MLD5","0",IF(AH11="MLD6","0",IF(AH11="MLD7","0",IF(AH11="SP-D","0",IF(AH11="DST1","0",IF(AH11="HST1","0",IF(AH11="DDD1","8:00",IF(AH11="DST2","0",IF(AH11="DDD2","8:00",IF(AH11="HST2","0",IF(AH11="DDD3","8:00",))))))))))))))) -> 0 | AK11: =IF(AH11="MLD5","YES",IF(AH11="MLD13","YES",IF(AH11="MLD15","YES",))) -> 0 | AL11: =IF(AH11="MLD1&8","Riyadh",IF(AH11="MLD7&18","Riyadh",IF(AH11="MLD5&10","Riyadh",IF(AH11="MLD3&4","Hufof",IF(AH11="MLD9&16","Hufof",IF(AH11="MLD17&2","Hufof",IF(AH11="MLD5","Riyadh1",IF(AH11="MLD10","Riyadh1",IF(AH11="MLD13","Riyadh1",IF(AH11="MLD12","Riyadh1",IF(AH11="MLD15","Riyadh1",IF(AH11="MLD14","Riyadh1",IF(AH11="SP-D","Dammam",IF(AH11="DST1","Dammam",IF(AH11="DST2","Dammam",IF(AH11="HST1","Hufof0",IF(AH11="HST2","Hufof0",IF(AH11="DDD1","Dammam",IF(AH11="DDD2","Dammam",IF(AH11="DDD3","Dammam",IF(AH11="Q Path","Dammam",IF(AH11="Off","Dammam")))))))))))))))))))))) -> FALSE | AM11: =IF(AL11="Riyadh","898",IF(AL11="Riyadh1","449",IF(AL11="Dammam","0",IF(AL11="Hufof","280",IF(AL11="Hufof0","0"))))) -> FALSE | AN11: =IFERROR(VLOOKUP(U11,'DAS Wed'!$F$10:$P$56,11,0),"Off") -> DDD2 | AO11: =IF(AN11="MLD1&8","7:40",IF(AN11="MLD3&4","2:40",IF(AN11="MLD7&8","7:40",IF(AN11="MLD5&10","7:40",IF(AN11="MLD9&16","2:40",IF(AN11="MLD17&2","2:40",IF(AN11="MLD5","3:50",IF(AN11="MLD13","3:50",IF(AN11="MLD10","3:50",IF(AN11="MLD12","3:50",IF(AN11="MLD15","3:50",IF(AN11="MLD14","3:50",IF(AN11="SP-D","0",IF(AN11="DST1","0",IF(AN11="HST1","0",IF(AN11="DDD1","0",IF(AN11="DST2","0",IF(AN11="DDD2","0",IF(AN11="HST2","0",IF(AN11="DDD3","0",)))))))))))))))))))) -> 0 | AP11: =IF(AN11="MLD1","0",IF(AN11="MLD2","0",IF(AN11="MLD3","0",IF(AN11="MLD4","0",IF(AN11="MLD5","0",IF(AN11="MLD6","0",IF(AN11="MLD7","0",IF(AN11="SP-D","0",IF(AN11="DST1","0",IF(AN11="HST1","0",IF(AN11="DDD1","8:00",IF(AN11="DST2","0",IF(AN11="DDD2","8:00",IF(AN11="HST2","0",IF(AN11="DDD3","8:00",))))))))))))))) -> 8:00 | AQ11: =IF(AN11="MLD5","YES",IF(AN11="MLD13","YES",IF(AN11="MLD15","YES",))) -> 0 | AR11: =IF(AN11="MLD1&8","Riyadh",IF(AN11="MLD7&18","Riyadh",IF(AN11="MLD5&10","Riyadh",IF(AN11="MLD3&4","Hufof",IF(AN11="MLD9&16","Hufof",IF(AN11="MLD17&2","Hufof",IF(AN11="MLD5","Riyadh1",IF(AN11="MLD10","Riyadh1",IF(AN11="MLD13","Riyadh1",IF(AN11="MLD12","Riyadh1",IF(AN11="MLD15","Riyadh1",IF(AN11="MLD14","Riyadh1",IF(AN11="SP-D","Dammam",IF(AN11="DST1","Dammam",IF(AN11="DST2","Dammam",IF(AN11="HST1","Hufof0",IF(AN11="HST2","Hufof0",IF(AN11="DDD1","Dammam",IF(AN11="DDD2","Dammam",IF(AN11="DDD3","Dammam",IF(AN11="Q Path","Dammam",IF(AN11="Off","Dammam")))))))))))))))))))))) -> Dammam | AS11: =IF(AR11="Riyadh","898",IF(AR11="Riyadh1","449",IF(AR11="Dammam","0",IF(AR11="Hufof","280",IF(AR11="Hufof0","0"))))) -> 0 | AT11: =IFERROR(VLOOKUP(U11,'DAS Thu'!$F$35:$P$51,11,0),"Off") -> Off | AU11: =IF(AT11="MLD1&8","7:40",IF(AT11="MLD3&4","2:40",IF(AT11="MLD7&8","7:40",IF(AT11="MLD5&10","7:40",IF(AT11="MLD9&16","2:40",IF(AT11="MLD17&2","2:40",IF(AT11="MLD5","3:50",IF(AT11="MLD13","3:50",IF(AT11="MLD10","3:50",IF(AT11="MLD12","3:50",IF(AT11="MLD15","3:50",IF(AT11="MLD14","3:50",IF(AT11="SP-D","0",IF(AT11="DST1","0",IF(AT11="HST1","0",IF(AT11="DDD1","0",IF(AT11="DST2","0",IF(AT11="DDD2","0",IF(AT11="HST2","0",IF(AT11="DDD3","0",)))))))))))))))))))) -> 0 | AV11: =IF(AT11="MLD1","0",IF(AT11="MLD2","0",IF(AT11="MLD3","0",IF(AT11="MLD4","0",IF(AT11="MLD5","0",IF(AT11="MLD6","0",IF(AT11="MLD7","0",IF(AT11="SP-D","0",IF(AT11="DST1","0",IF(AT11="HST1","0",IF(AT11="DDD1","8:00",IF(AT11="DST2","0",IF(AT11="DDD2","8:00",IF(AT11="HST2","0",IF(AT11="DDD3","8:00",))))))))))))))) -> 0 | AW11: =IF(AT11="MLD5","YES",IF(AT11="MLD13","YES",IF(AT11="MLD15","YES",))) -> 0 | AX11: =IF(AT11="MLD1&8","Riyadh",IF(AT11="MLD7&18","Riyadh",IF(AT11="MLD5&10","Riyadh",IF(AT11="MLD3&4","Hufof",IF(AT11="MLD9&16","Hufof",IF(AT11="MLD17&2","Hufof",IF(AT11="MLD5","Riyadh1",IF(AT11="MLD10","Riyadh1",IF(AT11="MLD13","Riyadh1",IF(AT11="MLD12","Riyadh1",IF(AT11="MLD15","Riyadh1",IF(AT11="MLD14","Riyadh1",IF(AT11="SP-D","Dammam",IF(AT11="DST1","Dammam",IF(AT11="DST2","Dammam",IF(AT11="HST1","Hufof0",IF(AT11="HST2","Hufof0",IF(AT11="DDD1","Dammam",IF(AT11="DDD2","Dammam",IF(AT11="DDD3","Dammam",IF(AT11="Q Path","Dammam",IF(AT11="Off","Dammam")))))))))))))))))))))) -> Dammam | AY11: =IF(AX11="Riyadh","898",IF(AX11="Riyadh1","449",IF(AX11="Dammam","0",IF(AX11="Hufof","280",IF(AX11="Hufof0","0"))))) -> 0 | AZ11: =IFERROR(VLOOKUP(U11,'DAS Fri'!$F$47:$P$55,11,0),"Off") -> Off | BA11: =IF(AZ11="MLD1&8","7:40",IF(AZ11="MLD3&4","2:40",IF(AZ11="MLD7&8","7:40",IF(AZ11="MLD5&10","7:40",IF(AZ11="MLD9&16","2:40",IF(AZ11="MLD17&2","2:40",IF(AZ11="MLD5","3:50",IF(AZ11="MLD13","3:50",IF(AZ11="MLD10","3:50",IF(AZ11="MLD12","3:50",IF(AZ11="MLD15","3:50",IF(AZ11="MLD14","3:50",IF(AZ11="SP-D","0",IF(AZ11="DST1","0",IF(AZ11="HST1","0",IF(AZ11="DDD1","0",IF(AZ11="DST2","0",IF(AZ11="DDD2","0",IF(AZ11="HST2","0",IF(AZ11="DDD3","0",)))))))))))))))))))) -> 0 | BB11: =IF(AZ11="MLD1","0",IF(AZ11="MLD2","0",IF(AZ11="MLD3","0",IF(AZ11="MLD4","0",IF(AZ11="MLD5","0",IF(AZ11="MLD6","0",IF(AZ11="MLD7","0",IF(AZ11="SP-D","0",IF(AZ11="DST1","0",IF(AZ11="HST1","0",IF(AZ11="DDD1","8:00",IF(AZ11="DST2","0",IF(AZ11="DDD2","8:00",IF(AZ11="HST2","0",IF(AZ11="DDD3","8:00",))))))))))))))) -> 0 | BC11: =IF(AZ11="MLD5","YES",IF(AZ11="MLD13","YES",IF(AZ11="MLD15","YES",))) -> 0 | BD11: =IF(AZ11="MLD1&8","Riyadh",IF(AZ11="MLD7&18","Riyadh",IF(AZ11="MLD5&10","Riyadh",IF(AZ11="MLD3&4","Hufof",IF(AZ11="MLD9&16","Hufof",IF(AZ11="MLD17&2","Hufof",IF(AZ11="MLD5","Riyadh1",IF(AZ11="MLD10","Riyadh1",IF(AZ11="MLD13","Riyadh1",IF(AZ11="MLD12","Riyadh1",IF(AZ11="MLD15","Riyadh1",IF(AZ11="MLD14","Riyadh1",IF(AZ11="SP-D","Dammam",IF(AZ11="DST1","Dammam",IF(AZ11="DST2","Dammam",IF(AZ11="HST1","Hufof0",IF(AZ11="HST2","Hufof0",IF(AZ11="DDD1","Dammam",IF(AZ11="DDD2","Dammam",IF(AZ11="DDD3","Dammam",IF(AZ11="Q Path","Dammam",IF(AZ11="Off","Dammam")))))))))))))))))))))) -> Dammam | BE11: =IF(BD11="Riyadh","898",IF(BD11="Riyadh1","449",IF(BD11="Dammam","0",IF(BD11="Hufof","280",IF(BD11="Hufof0","0"))))) -> 0 | BF11: =IFERROR(VLOOKUP(U11,'DAS Sat'!$F$9:$P$63,11,0),"Off") -> Off | BG11: =IF(BF11="MLD1&8","7:40",IF(BF11="MLD3&4","2:40",IF(BF11="MLD7&8","7:40",IF(BF11="MLD5&10","7:40",IF(BF11="MLD9&16","2:40",IF(BF11="MLD17&2","2:40",IF(BF11="MLD5","3:50",IF(BF11="MLD13","3:50",IF(BF11="MLD10","3:50",IF(BF11="MLD12","3:50",IF(BF11="MLD15","3:50",IF(BF11="MLD14","3:50",IF(BF11="SP-D","0",IF(BF11="DST1","0",IF(BF11="HST1","0",IF(BF11="DDD1","0",IF(BF11="DST2","0",IF(BF11="DDD2","0",IF(BF11="HST2","0",IF(BF11="DDD3","0",)))))))))))))))))))) -> 0 | BH11: =IF(BF11="MLD1","0",IF(BF11="MLD2","0",IF(BF11="MLD3","0",IF(BF11="MLD4","0",IF(BF11="MLD5","0",IF(BF11="MLD6","0",IF(BF11="MLD7","0",IF(BF11="SP-D","0",IF(BF11="DST1","0",IF(BF11="HST1","0",IF(BF11="DDD1","8:00",IF(BF11="DST2","0",IF(BF11="DDD2","8:00",IF(BF11="HST2","0",IF(BF11="DDD3","8:00",))))))))))))))) -> 0 | BI11: =IF(BF11="MLD5","YES",IF(BF11="MLD13","YES",IF(BF11="MLD15","YES",))) -> 0 | BJ11: =IF(BF11="MLD1&8","Riyadh",IF(BF11="MLD7&18","Riyadh",IF(BF11="MLD5&10","Riyadh",IF(BF11="MLD3&4","Hufof",IF(BF11="MLD9&16","Hufof",IF(BF11="MLD17&2","Hufof",IF(BF11="MLD5","Riyadh1",IF(BF11="MLD10","Riyadh1",IF(BF11="MLD13","Riyadh1",IF(BF11="MLD12","Riyadh1",IF(BF11="MLD15","Riyadh1",IF(BF11="MLD14","Riyadh1",IF(BF11="SP-D","Dammam",IF(BF11="DST1","Dammam",IF(BF11="DST2","Dammam",IF(BF11="HST1","Hufof0",IF(BF11="HST2","Hufof0",IF(BF11="DDD1","Dammam",IF(BF11="DDD2","Dammam",IF(BF11="DDD3","Dammam",IF(BF11="Q Path","Dammam",IF(BF11="Off","Dammam")))))))))))))))))))))) -> Dammam | BK11: =IF(BJ11="Riyadh","898",IF(BJ11="Riyadh1","449",IF(BJ11="Dammam","0",IF(BJ11="Hufof","280",IF(BJ11="Hufof0","0"))))) -> 0 | BL11: =W11+AC11+AI11+AO11+AU11+BA11+BG11 -> 0 | BM11: 0.11111111 | BN11: =X11+AD11+AJ11+AP11+AV11+BB11+BH11 -> 0.33333333 | BO11: 0 | BQ11: ='Dvr '!A12 -> Ali Hassan Almeer | BR11: #VALUE! | BS11: =IFERROR(VLOOKUP(BQ11,'DAS Sun'!$F$9:$Q$61,12,0),"Off") -> 0.63333333 | BT11: =IFERROR(VLOOKUP(BQ11,'DAS Sun'!$F$9:$R$61,13,0),"Off") -> 0.84375 | BU11: =$BU$4-BT11 -> 0.15625 | BV11: =BS11+BR11 -> #VALUE! | BW11: =IFERROR(VLOOKUP(BQ11,'DAS Mon'!$F$9:$Q$49,12,0),"Off") -> 0.68125 | BX11: =IFERROR(VLOOKUP(BQ11,'DAS Mon'!$F$9:$R$49,13,0),"Off") -> 0.88958333 | BY11: =$BU$4-BX11 -> 0.11041667 | BZ11: =BW11+BU11 -> 0.8375 | CA11: =IFERROR(VLOOKUP(BQ11,'DAS Tue'!$F$9:$Q$49,12,0),"Off") -> 0.58333333 | CB11: =IFERROR(VLOOKUP(BQ11,'DAS Tue'!$F$9:$R$49,13,0),"Off") -> 0.91666667 | CC11: =$BU$4-CB11 -> 0.083333333 | CD11: =CA11+BY11 -> 0.69375 | CE11: =IFERROR(VLOOKUP(BQ11,'DAS Wed'!$F$9:$Q$58,12,0),"Off") -> 0.60277778 | CF11: =IFERROR(VLOOKUP(BQ11,'DAS Wed'!$F$9:$R$58,13,0),"Off") -> 0.99513889 | CG11: =$BU$4-CF11 -> 0.0048611111 | CH11: =CE11+CC11 -> 0.68611111 | CI11: =IFERROR(VLOOKUP(BQ11,'DAS Thu'!$F$9:$Q$59,12,0),"Off") -> Off | CJ11: =IFERROR(VLOOKUP(BQ11,'DAS Thu'!$F$9:$R$59,13,0),"Off") -> Off | CK11: =$BU$4-CJ11 -> #VALUE! | CL11: =CI11+CG11 -> #VALUE! | CM11: =IFERROR(VLOOKUP(BQ11,'DAS Fri'!$F$9:$Q$63,12,0),"Off") -> Off | CN11: =IFERROR(VLOOKUP(BQ11,'DAS Fri'!$F$9:$R$63,13,0),"Off") -> Off | CO11: =$BU$4-CN11 -> #VALUE! | CP11: =CM11+CK11 -> #VALUE! | CQ11: =IFERROR(VLOOKUP(BQ11,'DAS Sat'!$F$9:$Q$65,12,0),"Off") -> Off | CR11: =IFERROR(VLOOKUP(BQ11,'DAS Sat'!$F$9:$R$65,13,0),"Off") -> Off | CS11: =$BU$4-CR11 -> #VALUE! | CT11: =CQ11+CO11 -> #VALUE!
B12: ='Dvr '!A14 -> Khaled Saleh Al-Zahrani | C12: =IFERROR(VLOOKUP(B12,'DAS Sun'!$F$9:$O$61,10,0),"Off") -> Off | D12: ='Dvr '!E14 -> 0 | E12: =IFERROR(VLOOKUP(B12,'DAS Mon'!$F$9:$O$49,10,0),"Off") -> Off | F12: ='Dvr '!I14 -> 0 | G12: =IFERROR(VLOOKUP(B12,'DAS Tue'!$F$9:$O$47,10,0),"Off") -> Off | H12: ='Dvr '!M14 -> 0 | I12: =IFERROR(VLOOKUP(B12,'DAS Wed'!$F$9:$O$57,10,0),"Off") -> 0.33333333 | J12: ='Dvr '!Q14 -> 0.33333333 | K12: =IFERROR(VLOOKUP(B12,'DAS Thu'!$F$9:$O$59,10,0),"Off") -> 0.4875 | L12: ='Dvr '!U14 -> 0.21041667 | M12: =IFERROR(VLOOKUP(B12,'DAS Fri'!$F$9:$O$63,10,0),"Off") -> 0.20833333 | N12: ='Dvr '!Y14 -> 0.20833333 | O12: =IFERROR(VLOOKUP(B12,'DAS Sat'!$F$9:$O$65,10,0),"Off") -> 0.23402778 | P12: ='Dvr '!AC14 -> 0.41319444 | Q12: =SUM(C12,E12,G12,I12,K12,M12,O12) -> 1.2631944 | R12: =SUM(D12,F12,H12,J12,L12,N12,P12) -> 1.1652778 | S12: =COUNTIF(C12:P12,"Off") -> 3 | U12: ='Dvr '!A14 -> Khaled Saleh Al-Zahrani | V12: =IFERROR(VLOOKUP(U12,'DAS Sun'!$F$10:$P$59,11,0),"Off") -> Off | W12: =IF(V12="MLD1&8","7:40",IF(V12="MLD3&4","2:40",IF(V12="MLD7&8","7:40",IF(V12="MLD5&10","7:40",IF(V12="MLD9&16","2:40",IF(V12="MLD17&2","2:40",IF(V12="MLD5","3:50",IF(V12="MLD13","3:50",IF(V12="MLD10","3:50",IF(V12="MLD12","3:50",IF(V12="MLD15","3:50",IF(V12="MLD14","3:50",IF(V12="SP-D","0",IF(V12="DST1","0",IF(V12="HST1","0",IF(V12="DDD1","0",IF(V12="DST2","0",IF(V12="DDD2","0",IF(V12="HST2","0",IF(V12="DDD3","0",)))))))))))))))))))) -> 0 | X12: =IF(V12="MLD1","0",IF(V12="MLD2","0",IF(V12="MLD3","0",IF(V12="MLD4","0",IF(V12="MLD5","0",IF(V12="MLD6","0",IF(V12="MLD7","0",IF(V12="SP-D","0",IF(V12="DST1","0",IF(V12="HST1","0",IF(V12="DDD1","8:00",IF(V12="DST2","0",IF(V12="DDD2","8:00",IF(V12="HST2","0",IF(V12="DDD3","8:00",))))))))))))))) -> 0 | Y12: =IF(V12="MLD5","YES",IF(V12="MLD13","YES",IF(V12="MLD15","YES",))) -> 0 | Z12: =IF(V12="MLD1&8","Riyadh",IF(V12="MLD7&18","Riyadh",IF(V12="MLD5&10","Riyadh",IF(V12="MLD3&4","Hufof",IF(V12="MLD9&16","Hufof",IF(V12="MLD17&2","Hufof",IF(V12="MLD5","Riyadh1",IF(V12="MLD10","Riyadh1",IF(V12="MLD13","Riyadh1",IF(V12="MLD12","Riyadh1",IF(V12="MLD15","Riyadh1",IF(V12="MLD14","Riyadh1",IF(V12="SP-D","Dammam",IF(V12="DST1","Dammam",IF(V12="DST2","Dammam",IF(V12="HST1","Hufof0",IF(V12="HST2","Hufof0",IF(V12="DDD1","Dammam",IF(V12="DDD2","Dammam",IF(V12="DDD3","Dammam",IF(V12="Q Path","Dammam",IF(V12="Off","Dammam")))))))))))))))))))))) -> Dammam | AA12: =IF(Z12="Riyadh","898",IF(Z12="Riyadh1","449",IF(Z12="Dammam","0",IF(Z12="Hufof","280",IF(Z12="Hufof0","0"))))) -> 0 | AB12: =IFERROR(VLOOKUP(U12,'DAS Mon'!$F$10:$P$51,11,0),"Off") -> Off | AC12: =IF(AB12="MLD1&8","7:40",IF(AB12="MLD3&4","2:40",IF(AB12="MLD7&8","7:40",IF(AB12="MLD5&10","7:40",IF(AB12="MLD9&16","2:40",IF(AB12="MLD17&2","2:40",IF(AB12="MLD5","3:50",IF(AB12="MLD13","3:50",IF(AB12="MLD10","3:50",IF(AB12="MLD12","3:50",IF(AB12="MLD15","3:50",IF(AB12="MLD14","3:50",IF(AB12="SP-D","0",IF(AB12="DST1","0",IF(AB12="HST1","0",IF(AB12="DDD1","0",IF(AB12="DST2","0",IF(AB12="DDD2","0",IF(AB12="HST2","0",IF(AB12="DDD3","0",)))))))))))))))))))) -> 0 | AD12: =IF(AB12="MLD1","0",IF(AB12="MLD2","0",IF(AB12="MLD3","0",IF(AB12="MLD4","0",IF(AB12="MLD5","0",IF(AB12="MLD6","0",IF(AB12="MLD7","0",IF(AB12="SP-D","0",IF(AB12="DST1","0",IF(AB12="HST1","0",IF(AB12="DDD1","8:00",IF(AB12="DST2","0",IF(AB12="DDD2","8:00",IF(AB12="HST2","0",IF(AB12="DDD3","8:00",))))))))))))))) -> 0 | AE12: =IF(AB12="MLD5","YES",IF(AB12="MLD13","YES",IF(AB12="MLD15","YES",))) -> 0 | AF12: =IF(AB12="MLD1&8","Riyadh",IF(AB12="MLD7&18","Riyadh",IF(AB12="MLD5&10","Riyadh",IF(AB12="MLD3&4","Hufof",IF(AB12="MLD9&16","Hufof",IF(AB12="MLD17&2","Hufof",IF(AB12="MLD5","Riyadh1",IF(AB12="MLD10","Riyadh1",IF(AB12="MLD13","Riyadh1",IF(AB12="MLD12","Riyadh1",IF(AB12="MLD15","Riyadh1",IF(AB12="MLD14","Riyadh1",IF(AB12="SP-D","Dammam",IF(AB12="DST1","Dammam",IF(AB12="DST2","Dammam",IF(AB12="HST1","Hufof0",IF(AB12="HST2","Hufof0",IF(AB12="DDD1","Dammam",IF(AB12="DDD2","Dammam",IF(AB12="DDD3","Dammam",IF(AB12="Q Path","Dammam",IF(AB12="Off","Dammam")))))))))))))))))))))) -> Dammam | AG12: =IF(AF12="Riyadh","898",IF(AF12="Riyadh1","449",IF(AF12="Dammam","0",IF(AF12="Hufof","280",IF(AF12="Hufof0","0"))))) -> 0 | AH12: =IFERROR(VLOOKUP(U12,'DAS Tue'!$F$9:$P$50,11,0),"Off") -> Off | AI12: =IF(AH12="MLD1&8","7:40",IF(AH12="MLD3&4","2:40",IF(AH12="MLD7&8","7:40",IF(AH12="MLD5&10","7:40",IF(AH12="MLD9&16","2:40",IF(AH12="MLD17&2","2:40",IF(AH12="MLD5","3:50",IF(AH12="MLD13","3:50",IF(AH12="MLD10","3:50",IF(AH12="MLD12","3:50",IF(AH12="MLD15","3:50",IF(AH12="MLD14","3:50",IF(AH12="SP-D","0",IF(AH12="DST1","0",IF(AH12="HST1","0",IF(AH12="DDD1","0",IF(AH12="DST2","0",IF(AH12="DDD2","0",IF(AH12="HST2","0",IF(AH12="DDD3","0",)))))))))))))))))))) -> 0 | AJ12: =IF(AH12="MLD1","0",IF(AH12="MLD2","0",IF(AH12="MLD3","0",IF(AH12="MLD4","0",IF(AH12="MLD5","0",IF(AH12="MLD6","0",IF(AH12="MLD7","0",IF(AH12="SP-D","0",IF(AH12="DST1","0",IF(AH12="HST1","0",IF(AH12="DDD1","8:00",IF(AH12="DST2","0",IF(AH12="DDD2","8:00",IF(AH12="HST2","0",IF(AH12="DDD3","8:00",))))))))))))))) -> 0 | AK12: =IF(AH12="MLD5","YES",IF(AH12="MLD13","YES",IF(AH12="MLD15","YES",))) -> 0 | AL12: =IF(AH12="MLD1&8","Riyadh",IF(AH12="MLD7&18","Riyadh",IF(AH12="MLD5&10","Riyadh",IF(AH12="MLD3&4","Hufof",IF(AH12="MLD9&16","Hufof",IF(AH12="MLD17&2","Hufof",IF(AH12="MLD5","Riyadh1",IF(AH12="MLD10","Riyadh1",IF(AH12="MLD13","Riyadh1",IF(AH12="MLD12","Riyadh1",IF(AH12="MLD15","Riyadh1",IF(AH12="MLD14","Riyadh1",IF(AH12="SP-D","Dammam",IF(AH12="DST1","Dammam",IF(AH12="DST2","Dammam",IF(AH12="HST1","Hufof0",IF(AH12="HST2","Hufof0",IF(AH12="DDD1","Dammam",IF(AH12="DDD2","Dammam",IF(AH12="DDD3","Dammam",IF(AH12="Q Path","Dammam",IF(AH12="Off","Dammam")))))))))))))))))))))) -> Dammam | AM12: =IF(AL12="Riyadh","898",IF(AL12="Riyadh1","449",IF(AL12="Dammam","0",IF(AL12="Hufof","280",IF(AL12="Hufof0","0"))))) -> 0 | AN12: =IFERROR(VLOOKUP(U12,'DAS Wed'!$F$10:$P$56,11,0),"Off") -> SP | AO12: =IF(AN12="MLD1&8","7:40",IF(AN12="MLD3&4","2:40",IF(AN12="MLD7&8","7:40",IF(AN12="MLD5&10","7:40",IF(AN12="MLD9&16","2:40",IF(AN12="MLD17&2","2:40",IF(AN12="MLD5","3:50",IF(AN12="MLD13","3:50",IF(AN12="MLD10","3:50",IF(AN12="MLD12","3:50",IF(AN12="MLD15","3:50",IF(AN12="MLD14","3:50",IF(AN12="SP-D","0",IF(AN12="DST1","0",IF(AN12="HST1","0",IF(AN12="DDD1","0",IF(AN12="DST2","0",IF(AN12="DDD2","0",IF(AN12="HST2","0",IF(AN12="DDD3","0",)))))))))))))))))))) -> 0 | AP12: =IF(AN12="MLD1","0",IF(AN12="MLD2","0",IF(AN12="MLD3","0",IF(AN12="MLD4","0",IF(AN12="MLD5","0",IF(AN12="MLD6","0",IF(AN12="MLD7","0",IF(AN12="SP-D","0",IF(AN12="DST1","0",IF(AN12="HST1","0",IF(AN12="DDD1","8:00",IF(AN12="DST2","0",IF(AN12="DDD2","8:00",IF(AN12="HST2","0",IF(AN12="DDD3","8:00",))))))))))))))) -> 0 | AQ12: =IF(AN12="MLD5","YES",IF(AN12="MLD13","YES",IF(AN12="MLD15","YES",))) -> 0 | AR12: =IF(AN12="MLD1&8","Riyadh",IF(AN12="MLD7&18","Riyadh",IF(AN12="MLD5&10","Riyadh",IF(AN12="MLD3&4","Hufof",IF(AN12="MLD9&16","Hufof",IF(AN12="MLD17&2","Hufof",IF(AN12="MLD5","Riyadh1",IF(AN12="MLD10","Riyadh1",IF(AN12="MLD13","Riyadh1",IF(AN12="MLD12","Riyadh1",IF(AN12="MLD15","Riyadh1",IF(AN12="MLD14","Riyadh1",IF(AN12="SP-D","Dammam",IF(AN12="DST1","Dammam",IF(AN12="DST2","Dammam",IF(AN12="HST1","Hufof0",IF(AN12="HST2","Hufof0",IF(AN12="DDD1","Dammam",IF(AN12="DDD2","Dammam",IF(AN12="DDD3","Dammam",IF(AN12="Q Path","Dammam",IF(AN12="Off","Dammam")))))))))))))))))))))) -> FALSE | AS12: =IF(AR12="Riyadh","898",IF(AR12="Riyadh1","449",IF(AR12="Dammam","0",IF(AR12="Hufof","280",IF(AR12="Hufof0","0"))))) -> FALSE | AT12: =IFERROR(VLOOKUP(U12,'DAS Thu'!$F$35:$P$51,11,0),"Off") -> Off | AU12: =IF(AT12="MLD1&8","7:40",IF(AT12="MLD3&4","2:40",IF(AT12="MLD7&8","7:40",IF(AT12="MLD5&10","7:40",IF(AT12="MLD9&16","2:40",IF(AT12="MLD17&2","2:40",IF(AT12="MLD5","3:50",IF(AT12="MLD13","3:50",IF(AT12="MLD10","3:50",IF(AT12="MLD12","3:50",IF(AT12="MLD15","3:50",IF(AT12="MLD14","3:50",IF(AT12="SP-D","0",IF(AT12="DST1","0",IF(AT12="HST1","0",IF(AT12="DDD1","0",IF(AT12="DST2","0",IF(AT12="DDD2","0",IF(AT12="HST2","0",IF(AT12="DDD3","0",)))))))))))))))))))) -> 0 | AV12: =IF(AT12="MLD1","0",IF(AT12="MLD2","0",IF(AT12="MLD3","0",IF(AT12="MLD4","0",IF(AT12="MLD5","0",IF(AT12="MLD6","0",IF(AT12="MLD7","0",IF(AT12="SP-D","0",IF(AT12="DST1","0",IF(AT12="HST1","0",IF(AT12="DDD1","8:00",IF(AT12="DST2","0",IF(AT12="DDD2","8:00",IF(AT12="HST2","0",IF(AT12="DDD3","8:00",))))))))))))))) -> 0 | AW12: =IF(AT12="MLD5","YES",IF(AT12="MLD13","YES",IF(AT12="MLD15","YES",))) -> 0 | AX12: =IF(AT12="MLD1&8","Riyadh",IF(AT12="MLD7&18","Riyadh",IF(AT12="MLD5&10","Riyadh",IF(AT12="MLD3&4","Hufof",IF(AT12="MLD9&16","Hufof",IF(AT12="MLD17&2","Hufof",IF(AT12="MLD5","Riyadh1",IF(AT12="MLD10","Riyadh1",IF(AT12="MLD13","Riyadh1",IF(AT12="MLD12","Riyadh1",IF(AT12="MLD15","Riyadh1",IF(AT12="MLD14","Riyadh1",IF(AT12="SP-D","Dammam",IF(AT12="DST1","Dammam",IF(AT12="DST2","Dammam",IF(AT12="HST1","Hufof0",IF(AT12="HST2","Hufof0",IF(AT12="DDD1","Dammam",IF(AT12="DDD2","Dammam",IF(AT12="DDD3","Dammam",IF(AT12="Q Path","Dammam",IF(AT12="Off","Dammam")))))))))))))))))))))) -> Dammam | AY12: =IF(AX12="Riyadh","898",IF(AX12="Riyadh1","449",IF(AX12="Dammam","0",IF(AX12="Hufof","280",IF(AX12="Hufof0","0"))))) -> 0 | AZ12: =IFERROR(VLOOKUP(U12,'DAS Fri'!$F$47:$P$55,11,0),"Off") -> Off | BA12: =IF(AZ12="MLD1&8","7:40",IF(AZ12="MLD3&4","2:40",IF(AZ12="MLD7&8","7:40",IF(AZ12="MLD5&10","7:40",IF(AZ12="MLD9&16","2:40",IF(AZ12="MLD17&2","2:40",IF(AZ12="MLD5","3:50",IF(AZ12="MLD13","3:50",IF(AZ12="MLD10","3:50",IF(AZ12="MLD12","3:50",IF(AZ12="MLD15","3:50",IF(AZ12="MLD14","3:50",IF(AZ12="SP-D","0",IF(AZ12="DST1","0",IF(AZ12="HST1","0",IF(AZ12="DDD1","0",IF(AZ12="DST2","0",IF(AZ12="DDD2","0",IF(AZ12="HST2","0",IF(AZ12="DDD3","0",)))))))))))))))))))) -> 0 | BB12: =IF(AZ12="MLD1","0",IF(AZ12="MLD2","0",IF(AZ12="MLD3","0",IF(AZ12="MLD4","0",IF(AZ12="MLD5","0",IF(AZ12="MLD6","0",IF(AZ12="MLD7","0",IF(AZ12="SP-D","0",IF(AZ12="DST1","0",IF(AZ12="HST1","0",IF(AZ12="DDD1","8:00",IF(AZ12="DST2","0",IF(AZ12="DDD2","8:00",IF(AZ12="HST2","0",IF(AZ12="DDD3","8:00",))))))))))))))) -> 0 | BC12: =IF(AZ12="MLD5","YES",IF(AZ12="MLD13","YES",IF(AZ12="MLD15","YES",))) -> 0 | BD12: =IF(AZ12="MLD1&8","Riyadh",IF(AZ12="MLD7&18","Riyadh",IF(AZ12="MLD5&10","Riyadh",IF(AZ12="MLD3&4","Hufof",IF(AZ12="MLD9&16","Hufof",IF(AZ12="MLD17&2","Hufof",IF(AZ12="MLD5","Riyadh1",IF(AZ12="MLD10","Riyadh1",IF(AZ12="MLD13","Riyadh1",IF(AZ12="MLD12","Riyadh1",IF(AZ12="MLD15","Riyadh1",IF(AZ12="MLD14","Riyadh1",IF(AZ12="SP-D","Dammam",IF(AZ12="DST1","Dammam",IF(AZ12="DST2","Dammam",IF(AZ12="HST1","Hufof0",IF(AZ12="HST2","Hufof0",IF(AZ12="DDD1","Dammam",IF(AZ12="DDD2","Dammam",IF(AZ12="DDD3","Dammam",IF(AZ12="Q Path","Dammam",IF(AZ12="Off","Dammam")))))))))))))))))))))) -> Dammam | BE12: =IF(BD12="Riyadh","898",IF(BD12="Riyadh1","449",IF(BD12="Dammam","0",IF(BD12="Hufof","280",IF(BD12="Hufof0","0"))))) -> 0 | BF12: =IFERROR(VLOOKUP(U12,'DAS Sat'!$F$9:$P$63,11,0),"Off") -> SP | BG12: =IF(BF12="MLD1&8","7:40",IF(BF12="MLD3&4","2:40",IF(BF12="MLD7&8","7:40",IF(BF12="MLD5&10","7:40",IF(BF12="MLD9&16","2:40",IF(BF12="MLD17&2","2:40",IF(BF12="MLD5","3:50",IF(BF12="MLD13","3:50",IF(BF12="MLD10","3:50",IF(BF12="MLD12","3:50",IF(BF12="MLD15","3:50",IF(BF12="MLD14","3:50",IF(BF12="SP-D","0",IF(BF12="DST1","0",IF(BF12="HST1","0",IF(BF12="DDD1","0",IF(BF12="DST2","0",IF(BF12="DDD2","0",IF(BF12="HST2","0",IF(BF12="DDD3","0",)))))))))))))))))))) -> 0 | BH12: =IF(BF12="MLD1","0",IF(BF12="MLD2","0",IF(BF12="MLD3","0",IF(BF12="MLD4","0",IF(BF12="MLD5","0",IF(BF12="MLD6","0",IF(BF12="MLD7","0",IF(BF12="SP-D","0",IF(BF12="DST1","0",IF(BF12="HST1","0",IF(BF12="DDD1","8:00",IF(BF12="DST2","0",IF(BF12="DDD2","8:00",IF(BF12="HST2","0",IF(BF12="DDD3","8:00",))))))))))))))) -> 0 | BI12: =IF(BF12="MLD5","YES",IF(BF12="MLD13","YES",IF(BF12="MLD15","YES",))) -> 0 | BJ12: =IF(BF12="MLD1&8","Riyadh",IF(BF12="MLD7&18","Riyadh",IF(BF12="MLD5&10","Riyadh",IF(BF12="MLD3&4","Hufof",IF(BF12="MLD9&16","Hufof",IF(BF12="MLD17&2","Hufof",IF(BF12="MLD5","Riyadh1",IF(BF12="MLD10","Riyadh1",IF(BF12="MLD13","Riyadh1",IF(BF12="MLD12","Riyadh1",IF(BF12="MLD15","Riyadh1",IF(BF12="MLD14","Riyadh1",IF(BF12="SP-D","Dammam",IF(BF12="DST1","Dammam",IF(BF12="DST2","Dammam",IF(BF12="HST1","Hufof0",IF(BF12="HST2","Hufof0",IF(BF12="DDD1","Dammam",IF(BF12="DDD2","Dammam",IF(BF12="DDD3","Dammam",IF(BF12="Q Path","Dammam",IF(BF12="Off","Dammam")))))))))))))))))))))) -> FALSE | BK12: =IF(BJ12="Riyadh","898",IF(BJ12="Riyadh1","449",IF(BJ12="Dammam","0",IF(BJ12="Hufof","280",IF(BJ12="Hufof0","0"))))) -> FALSE | BL12: =W12+AC12+AI12+AO12+AU12+BA12+BG12 -> 0 | BM12: 0.15972222 | BN12: =X12+AD12+AJ12+AP12+AV12+BB12+BH12 -> 0 | BO12: 0.33333333 | BQ12: ='Dvr '!A13 -> Mohammed Khaled Al-Muhanna | BR12: #VALUE! | BS12: =IFERROR(VLOOKUP(BQ12,'DAS Sun'!$F$9:$Q$61,12,0),"Off") -> Off | BT12: =IFERROR(VLOOKUP(BQ12,'DAS Sun'!$F$9:$R$61,13,0),"Off") -> Off | BU12: =$BU$4-BT12 -> #VALUE! | BV12: =BS12+BR12 -> #VALUE! | BW12: =IFERROR(VLOOKUP(BQ12,'DAS Mon'!$F$9:$Q$49,12,0),"Off") -> 0.60277778 | BX12: =IFERROR(VLOOKUP(BQ12,'DAS Mon'!$F$9:$R$49,13,0),"Off") -> 0.99513889 | BY12: =$BU$4-BX12 -> 0.0048611111 | BZ12: =BW12+BU12 -> #VALUE! | CA12: =IFERROR(VLOOKUP(BQ12,'DAS Tue'!$F$9:$Q$49,12,0),"Off") -> 0.60277778 | CB12: =IFERROR(VLOOKUP(BQ12,'DAS Tue'!$F$9:$R$49,13,0),"Off") -> 0.99513889 | CC12: =$BU$4-CB12 -> 0.0048611111 | CD12: =CA12+BY12 -> 0.60763889 | CE12: =IFERROR(VLOOKUP(BQ12,'DAS Wed'!$F$9:$Q$58,12,0),"Off") -> 0.58333333 | CF12: =IFERROR(VLOOKUP(BQ12,'DAS Wed'!$F$9:$R$58,13,0),"Off") -> 0.91666667 | CG12: =$BU$4-CF12 -> 0.083333333 | CH12: =CE12+CC12 -> 0.58819444 | CI12: =IFERROR(VLOOKUP(BQ12,'DAS Thu'!$F$9:$Q$59,12,0),"Off") -> 0.47777778 | CJ12: =IFERROR(VLOOKUP(BQ12,'DAS Thu'!$F$9:$R$59,13,0),"Off") -> 0.96527778 | CK12: =$BU$4-CJ12 -> 0.034722222 | CL12: =CI12+CG12 -> 0.56111111 | CM12: =IFERROR(VLOOKUP(BQ12,'DAS Fri'!$F$9:$Q$63,12,0),"Off") -> Off | CN12: =IFERROR(VLOOKUP(BQ12,'DAS Fri'!$F$9:$R$63,13,0),"Off") -> Off | CO12: =$BU$4-CN12 -> #VALUE! | CP12: =CM12+CK12 -> #VALUE! | CQ12: =IFERROR(VLOOKUP(BQ12,'DAS Sat'!$F$9:$Q$65,12,0),"Off") -> Off | CR12: =IFERROR(VLOOKUP(BQ12,'DAS Sat'!$F$9:$R$65,13,0),"Off") -> Off | CS12: =$BU$4-CR12 -> #VALUE! | CT12: =CQ12+CO12 -> #VALUE!
B13: ='Dvr '!A15 -> Saeed Ali Hindi | C13: =IFERROR(VLOOKUP(B13,'DAS Sun'!$F$9:$O$61,10,0),"Off") -> 0.33333333 | D13: ='Dvr '!E15 -> 0.33333333 | E13: =IFERROR(VLOOKUP(B13,'DAS Mon'!$F$9:$O$49,10,0),"Off") -> 0.41319444 | F13: ='Dvr '!I15 -> 0.33333333 | G13: =IFERROR(VLOOKUP(B13,'DAS Tue'!$F$9:$O$47,10,0),"Off") -> Off | H13: ='Dvr '!M15 -> 0 | I13: =IFERROR(VLOOKUP(B13,'DAS Wed'!$F$9:$O$57,10,0),"Off") -> Off | J13: ='Dvr '!Q15 -> 0 | K13: =IFERROR(VLOOKUP(B13,'DAS Thu'!$F$9:$O$59,10,0),"Off") -> 0.41527778 | L13: ='Dvr '!U15 -> 0.41527778 | M13: =IFERROR(VLOOKUP(B13,'DAS Fri'!$F$9:$O$63,10,0),"Off") -> 0.25 | N13: ='Dvr '!Y15 -> 0.25 | O13: =IFERROR(VLOOKUP(B13,'DAS Sat'!$F$9:$O$65,10,0),"Off") -> 0.25347222 | P13: ='Dvr '!AC15 -> 0.33333333 | Q13: =SUM(C13,E13,G13,I13,K13,M13,O13) -> 1.6652778 | R13: =SUM(D13,F13,H13,J13,L13,N13,P13) -> 1.6652778 | S13: =COUNTIF(C13:P13,"Off") -> 2 | U13: ='Dvr '!A15 -> Saeed Ali Hindi | V13: =IFERROR(VLOOKUP(U13,'DAS Sun'!$F$10:$P$59,11,0),"Off") -> SP | W13: =IF(V13="MLD1&8","7:40",IF(V13="MLD3&4","2:40",IF(V13="MLD7&8","7:40",IF(V13="MLD5&10","7:40",IF(V13="MLD9&16","2:40",IF(V13="MLD17&2","2:40",IF(V13="MLD5","3:50",IF(V13="MLD13","3:50",IF(V13="MLD10","3:50",IF(V13="MLD12","3:50",IF(V13="MLD15","3:50",IF(V13="MLD14","3:50",IF(V13="SP-D","0",IF(V13="DST1","0",IF(V13="HST1","0",IF(V13="DDD1","0",IF(V13="DST2","0",IF(V13="DDD2","0",IF(V13="HST2","0",IF(V13="DDD3","0",)))))))))))))))))))) -> 0 | X13: =IF(V13="MLD1","0",IF(V13="MLD2","0",IF(V13="MLD3","0",IF(V13="MLD4","0",IF(V13="MLD5","0",IF(V13="MLD6","0",IF(V13="MLD7","0",IF(V13="SP-D","0",IF(V13="DST1","0",IF(V13="HST1","0",IF(V13="DDD1","8:00",IF(V13="DST2","0",IF(V13="DDD2","8:00",IF(V13="HST2","0",IF(V13="DDD3","8:00",))))))))))))))) -> 0 | Y13: =IF(V13="MLD5","YES",IF(V13="MLD13","YES",IF(V13="MLD15","YES",))) -> 0 | Z13: =IF(V13="MLD1&8","Riyadh",IF(V13="MLD7&18","Riyadh",IF(V13="MLD5&10","Riyadh",IF(V13="MLD3&4","Hufof",IF(V13="MLD9&16","Hufof",IF(V13="MLD17&2","Hufof",IF(V13="MLD5","Riyadh1",IF(V13="MLD10","Riyadh1",IF(V13="MLD13","Riyadh1",IF(V13="MLD12","Riyadh1",IF(V13="MLD15","Riyadh1",IF(V13="MLD14","Riyadh1",IF(V13="SP-D","Dammam",IF(V13="DST1","Dammam",IF(V13="DST2","Dammam",IF(V13="HST1","Hufof0",IF(V13="HST2","Hufof0",IF(V13="DDD1","Dammam",IF(V13="DDD2","Dammam",IF(V13="DDD3","Dammam",IF(V13="Q Path","Dammam",IF(V13="Off","Dammam")))))))))))))))))))))) -> FALSE | AA13: =IF(Z13="Riyadh","898",IF(Z13="Riyadh1","449",IF(Z13="Dammam","0",IF(Z13="Hufof","280",IF(Z13="Hufof0","0"))))) -> FALSE | AB13: =IFERROR(VLOOKUP(U13,'DAS Mon'!$F$10:$P$51,11,0),"Off") -> DSBY 2 | AC13: =IF(AB13="MLD1&8","7:40",IF(AB13="MLD3&4","2:40",IF(AB13="MLD7&8","7:40",IF(AB13="MLD5&10","7:40",IF(AB13="MLD9&16","2:40",IF(AB13="MLD17&2","2:40",IF(AB13="MLD5","3:50",IF(AB13="MLD13","3:50",IF(AB13="MLD10","3:50",IF(AB13="MLD12","3:50",IF(AB13="MLD15","3:50",IF(AB13="MLD14","3:50",IF(AB13="SP-D","0",IF(AB13="DST1","0",IF(AB13="HST1","0",IF(AB13="DDD1","0",IF(AB13="DST2","0",IF(AB13="DDD2","0",IF(AB13="HST2","0",IF(AB13="DDD3","0",)))))))))))))))))))) -> 0 | AD13: =IF(AB13="MLD1","0",IF(AB13="MLD2","0",IF(AB13="MLD3","0",IF(AB13="MLD4","0",IF(AB13="MLD5","0",IF(AB13="MLD6","0",IF(AB13="MLD7","0",IF(AB13="SP-D","0",IF(AB13="DST1","0",IF(AB13="HST1","0",IF(AB13="DDD1","8:00",IF(AB13="DST2","0",IF(AB13="DDD2","8:00",IF(AB13="HST2","0",IF(AB13="DDD3","8:00",))))))))))))))) -> 0 | AE13: =IF(AB13="MLD5","YES",IF(AB13="MLD13","YES",IF(AB13="MLD15","YES",))) -> 0 | AF13: =IF(AB13="MLD1&8","Riyadh",IF(AB13="MLD7&18","Riyadh",IF(AB13="MLD5&10","Riyadh",IF(AB13="MLD3&4","Hufof",IF(AB13="MLD9&16","Hufof",IF(AB13="MLD17&2","Hufof",IF(AB13="MLD5","Riyadh1",IF(AB13="MLD10","Riyadh1",IF(AB13="MLD13","Riyadh1",IF(AB13="MLD12","Riyadh1",IF(AB13="MLD15","Riyadh1",IF(AB13="MLD14","Riyadh1",IF(AB13="SP-D","Dammam",IF(AB13="DST1","Dammam",IF(AB13="DST2","Dammam",IF(AB13="HST1","Hufof0",IF(AB13="HST2","Hufof0",IF(AB13="DDD1","Dammam",IF(AB13="DDD2","Dammam",IF(AB13="DDD3","Dammam",IF(AB13="Q Path","Dammam",IF(AB13="Off","Dammam")))))))))))))))))))))) -> FALSE | AG13: =IF(AF13="Riyadh","898",IF(AF13="Riyadh1","449",IF(AF13="Dammam","0",IF(AF13="Hufof","280",IF(AF13="Hufof0","0"))))) -> FALSE | AH13: =IFERROR(VLOOKUP(U13,'DAS Tue'!$F$9:$P$50,11,0),"Off") -> Off | AI13: =IF(AH13="MLD1&8","7:40",IF(AH13="MLD3&4","2:40",IF(AH13="MLD7&8","7:40",IF(AH13="MLD5&10","7:40",IF(AH13="MLD9&16","2:40",IF(AH13="MLD17&2","2:40",IF(AH13="MLD5","3:50",IF(AH13="MLD13","3:50",IF(AH13="MLD10","3:50",IF(AH13="MLD12","3:50",IF(AH13="MLD15","3:50",IF(AH13="MLD14","3:50",IF(AH13="SP-D","0",IF(AH13="DST1","0",IF(AH13="HST1","0",IF(AH13="DDD1","0",IF(AH13="DST2","0",IF(AH13="DDD2","0",IF(AH13="HST2","0",IF(AH13="DDD3","0",)))))))))))))))))))) -> 0 | AJ13: =IF(AH13="MLD1","0",IF(AH13="MLD2","0",IF(AH13="MLD3","0",IF(AH13="MLD4","0",IF(AH13="MLD5","0",IF(AH13="MLD6","0",IF(AH13="MLD7","0",IF(AH13="SP-D","0",IF(AH13="DST1","0",IF(AH13="HST1","0",IF(AH13="DDD1","8:00",IF(AH13="DST2","0",IF(AH13="DDD2","8:00",IF(AH13="HST2","0",IF(AH13="DDD3","8:00",))))))))))))))) -> 0 | AK13: =IF(AH13="MLD5","YES",IF(AH13="MLD13","YES",IF(AH13="MLD15","YES",))) -> 0 | AL13: =IF(AH13="MLD1&8","Riyadh",IF(AH13="MLD7&18","Riyadh",IF(AH13="MLD5&10","Riyadh",IF(AH13="MLD3&4","Hufof",IF(AH13="MLD9&16","Hufof",IF(AH13="MLD17&2","Hufof",IF(AH13="MLD5","Riyadh1",IF(AH13="MLD10","Riyadh1",IF(AH13="MLD13","Riyadh1",IF(AH13="MLD12","Riyadh1",IF(AH13="MLD15","Riyadh1",IF(AH13="MLD14","Riyadh1",IF(AH13="SP-D","Dammam",IF(AH13="DST1","Dammam",IF(AH13="DST2","Dammam",IF(AH13="HST1","Hufof0",IF(AH13="HST2","Hufof0",IF(AH13="DDD1","Dammam",IF(AH13="DDD2","Dammam",IF(AH13="DDD3","Dammam",IF(AH13="Q Path","Dammam",IF(AH13="Off","Dammam")))))))))))))))))))))) -> Dammam | AM13: =IF(AL13="Riyadh","898",IF(AL13="Riyadh1","449",IF(AL13="Dammam","0",IF(AL13="Hufof","280",IF(AL13="Hufof0","0"))))) -> 0 | AN13: =IFERROR(VLOOKUP(U13,'DAS Wed'!$F$10:$P$56,11,0),"Off") -> Off | AO13: =IF(AN13="MLD1&8","7:40",IF(AN13="MLD3&4","2:40",IF(AN13="MLD7&8","7:40",IF(AN13="MLD5&10","7:40",IF(AN13="MLD9&16","2:40",IF(AN13="MLD17&2","2:40",IF(AN13="MLD5","3:50",IF(AN13="MLD13","3:50",IF(AN13="MLD10","3:50",IF(AN13="MLD12","3:50",IF(AN13="MLD15","3:50",IF(AN13="MLD14","3:50",IF(AN13="SP-D","0",IF(AN13="DST1","0",IF(AN13="HST1","0",IF(AN13="DDD1","0",IF(AN13="DST2","0",IF(AN13="DDD2","0",IF(AN13="HST2","0",IF(AN13="DDD3","0",)))))))))))))))))))) -> 0 | AP13: =IF(AN13="MLD1","0",IF(AN13="MLD2","0",IF(AN13="MLD3","0",IF(AN13="MLD4","0",IF(AN13="MLD5","0",IF(AN13="MLD6","0",IF(AN13="MLD7","0",IF(AN13="SP-D","0",IF(AN13="DST1","0",IF(AN13="HST1","0",IF(AN13="DDD1","8:00",IF(AN13="DST2","0",IF(AN13="DDD2","8:00",IF(AN13="HST2","0",IF(AN13="DDD3","8:00",))))))))))))))) -> 0 | AQ13: =IF(AN13="MLD5","YES",IF(AN13="MLD13","YES",IF(AN13="MLD15","YES",))) -> 0 | AR13: =IF(AN13="MLD1&8","Riyadh",IF(AN13="MLD7&18","Riyadh",IF(AN13="MLD5&10","Riyadh",IF(AN13="MLD3&4","Hufof",IF(AN13="MLD9&16","Hufof",IF(AN13="MLD17&2","Hufof",IF(AN13="MLD5","Riyadh1",IF(AN13="MLD10","Riyadh1",IF(AN13="MLD13","Riyadh1",IF(AN13="MLD12","Riyadh1",IF(AN13="MLD15","Riyadh1",IF(AN13="MLD14","Riyadh1",IF(AN13="SP-D","Dammam",IF(AN13="DST1","Dammam",IF(AN13="DST2","Dammam",IF(AN13="HST1","Hufof0",IF(AN13="HST2","Hufof0",IF(AN13="DDD1","Dammam",IF(AN13="DDD2","Dammam",IF(AN13="DDD3","Dammam",IF(AN13="Q Path","Dammam",IF(AN13="Off","Dammam")))))))))))))))))))))) -> Dammam | AS13: =IF(AR13="Riyadh","898",IF(AR13="Riyadh1","449",IF(AR13="Dammam","0",IF(AR13="Hufof","280",IF(AR13="Hufof0","0"))))) -> 0 | AT13: =IFERROR(VLOOKUP(U13,'DAS Thu'!$F$35:$P$51,11,0),"Off") -> Off | AU13: =IF(AT13="MLD1&8","7:40",IF(AT13="MLD3&4","2:40",IF(AT13="MLD7&8","7:40",IF(AT13="MLD5&10","7:40",IF(AT13="MLD9&16","2:40",IF(AT13="MLD17&2","2:40",IF(AT13="MLD5","3:50",IF(AT13="MLD13","3:50",IF(AT13="MLD10","3:50",IF(AT13="MLD12","3:50",IF(AT13="MLD15","3:50",IF(AT13="MLD14","3:50",IF(AT13="SP-D","0",IF(AT13="DST1","0",IF(AT13="HST1","0",IF(AT13="DDD1","0",IF(AT13="DST2","0",IF(AT13="DDD2","0",IF(AT13="HST2","0",IF(AT13="DDD3","0",)))))))))))))))))))) -> 0 | AV13: =IF(AT13="MLD1","0",IF(AT13="MLD2","0",IF(AT13="MLD3","0",IF(AT13="MLD4","0",IF(AT13="MLD5","0",IF(AT13="MLD6","0",IF(AT13="MLD7","0",IF(AT13="SP-D","0",IF(AT13="DST1","0",IF(AT13="HST1","0",IF(AT13="DDD1","8:00",IF(AT13="DST2","0",IF(AT13="DDD2","8:00",IF(AT13="HST2","0",IF(AT13="DDD3","8:00",))))))))))))))) -> 0 | AW13: =IF(AT13="MLD5","YES",IF(AT13="MLD13","YES",IF(AT13="MLD15","YES",))) -> 0 | AX13: =IF(AT13="MLD1&8","Riyadh",IF(AT13="MLD7&18","Riyadh",IF(AT13="MLD5&10","Riyadh",IF(AT13="MLD3&4","Hufof",IF(AT13="MLD9&16","Hufof",IF(AT13="MLD17&2","Hufof",IF(AT13="MLD5","Riyadh1",IF(AT13="MLD10","Riyadh1",IF(AT13="MLD13","Riyadh1",IF(AT13="MLD12","Riyadh1",IF(AT13="MLD15","Riyadh1",IF(AT13="MLD14","Riyadh1",IF(AT13="SP-D","Dammam",IF(AT13="DST1","Dammam",IF(AT13="DST2","Dammam",IF(AT13="HST1","Hufof0",IF(AT13="HST2","Hufof0",IF(AT13="DDD1","Dammam",IF(AT13="DDD2","Dammam",IF(AT13="DDD3","Dammam",IF(AT13="Q Path","Dammam",IF(AT13="Off","Dammam")))))))))))))))))))))) -> Dammam | AY13: =IF(AX13="Riyadh","898",IF(AX13="Riyadh1","449",IF(AX13="Dammam","0",IF(AX13="Hufof","280",IF(AX13="Hufof0","0"))))) -> 0 | AZ13: =IFERROR(VLOOKUP(U13,'DAS Fri'!$F$47:$P$55,11,0),"Off") -> Off | BA13: =IF(AZ13="MLD1&8","7:40",IF(AZ13="MLD3&4","2:40",IF(AZ13="MLD7&8","7:40",IF(AZ13="MLD5&10","7:40",IF(AZ13="MLD9&16","2:40",IF(AZ13="MLD17&2","2:40",IF(AZ13="MLD5","3:50",IF(AZ13="MLD13","3:50",IF(AZ13="MLD10","3:50",IF(AZ13="MLD12","3:50",IF(AZ13="MLD15","3:50",IF(AZ13="MLD14","3:50",IF(AZ13="SP-D","0",IF(AZ13="DST1","0",IF(AZ13="HST1","0",IF(AZ13="DDD1","0",IF(AZ13="DST2","0",IF(AZ13="DDD2","0",IF(AZ13="HST2","0",IF(AZ13="DDD3","0",)))))))))))))))))))) -> 0 | BB13: =IF(AZ13="MLD1","0",IF(AZ13="MLD2","0",IF(AZ13="MLD3","0",IF(AZ13="MLD4","0",IF(AZ13="MLD5","0",IF(AZ13="MLD6","0",IF(AZ13="MLD7","0",IF(AZ13="SP-D","0",IF(AZ13="DST1","0",IF(AZ13="HST1","0",IF(AZ13="DDD1","8:00",IF(AZ13="DST2","0",IF(AZ13="DDD2","8:00",IF(AZ13="HST2","0",IF(AZ13="DDD3","8:00",))))))))))))))) -> 0 | BC13: =IF(AZ13="MLD5","YES",IF(AZ13="MLD13","YES",IF(AZ13="MLD15","YES",))) -> 0 | BD13: =IF(AZ13="MLD1&8","Riyadh",IF(AZ13="MLD7&18","Riyadh",IF(AZ13="MLD5&10","Riyadh",IF(AZ13="MLD3&4","Hufof",IF(AZ13="MLD9&16","Hufof",IF(AZ13="MLD17&2","Hufof",IF(AZ13="MLD5","Riyadh1",IF(AZ13="MLD10","Riyadh1",IF(AZ13="MLD13","Riyadh1",IF(AZ13="MLD12","Riyadh1",IF(AZ13="MLD15","Riyadh1",IF(AZ13="MLD14","Riyadh1",IF(AZ13="SP-D","Dammam",IF(AZ13="DST1","Dammam",IF(AZ13="DST2","Dammam",IF(AZ13="HST1","Hufof0",IF(AZ13="HST2","Hufof0",IF(AZ13="DDD1","Dammam",IF(AZ13="DDD2","Dammam",IF(AZ13="DDD3","Dammam",IF(AZ13="Q Path","Dammam",IF(AZ13="Off","Dammam")))))))))))))))))))))) -> Dammam | BE13: =IF(BD13="Riyadh","898",IF(BD13="Riyadh1","449",IF(BD13="Dammam","0",IF(BD13="Hufof","280",IF(BD13="Hufof0","0"))))) -> 0 | BF13: =IFERROR(VLOOKUP(U13,'DAS Sat'!$F$9:$P$63,11,0),"Off") -> MLD21&24 | BG13: =IF(BF13="MLD1&8","7:40",IF(BF13="MLD3&4","2:40",IF(BF13="MLD7&8","7:40",IF(BF13="MLD5&10","7:40",IF(BF13="MLD9&16","2:40",IF(BF13="MLD17&2","2:40",IF(BF13="MLD5","3:50",IF(BF13="MLD13","3:50",IF(BF13="MLD10","3:50",IF(BF13="MLD12","3:50",IF(BF13="MLD15","3:50",IF(BF13="MLD14","3:50",IF(BF13="SP-D","0",IF(BF13="DST1","0",IF(BF13="HST1","0",IF(BF13="DDD1","0",IF(BF13="DST2","0",IF(BF13="DDD2","0",IF(BF13="HST2","0",IF(BF13="DDD3","0",)))))))))))))))))))) -> 0 | BH13: =IF(BF13="MLD1","0",IF(BF13="MLD2","0",IF(BF13="MLD3","0",IF(BF13="MLD4","0",IF(BF13="MLD5","0",IF(BF13="MLD6","0",IF(BF13="MLD7","0",IF(BF13="SP-D","0",IF(BF13="DST1","0",IF(BF13="HST1","0",IF(BF13="DDD1","8:00",IF(BF13="DST2","0",IF(BF13="DDD2","8:00",IF(BF13="HST2","0",IF(BF13="DDD3","8:00",))))))))))))))) -> 0 | BI13: =IF(BF13="MLD5","YES",IF(BF13="MLD13","YES",IF(BF13="MLD15","YES",))) -> 0 | BJ13: =IF(BF13="MLD1&8","Riyadh",IF(BF13="MLD7&18","Riyadh",IF(BF13="MLD5&10","Riyadh",IF(BF13="MLD3&4","Hufof",IF(BF13="MLD9&16","Hufof",IF(BF13="MLD17&2","Hufof",IF(BF13="MLD5","Riyadh1",IF(BF13="MLD10","Riyadh1",IF(BF13="MLD13","Riyadh1",IF(BF13="MLD12","Riyadh1",IF(BF13="MLD15","Riyadh1",IF(BF13="MLD14","Riyadh1",IF(BF13="SP-D","Dammam",IF(BF13="DST1","Dammam",IF(BF13="DST2","Dammam",IF(BF13="HST1","Hufof0",IF(BF13="HST2","Hufof0",IF(BF13="DDD1","Dammam",IF(BF13="DDD2","Dammam",IF(BF13="DDD3","Dammam",IF(BF13="Q Path","Dammam",IF(BF13="Off","Dammam")))))))))))))))))))))) -> FALSE | BK13: =IF(BJ13="Riyadh","898",IF(BJ13="Riyadh1","449",IF(BJ13="Dammam","0",IF(BJ13="Hufof","280",IF(BJ13="Hufof0","0"))))) -> FALSE | BL13: =W13+AC13+AI13+AO13+AU13+BA13+BG13 -> 0 | BM13: 0 | BN13: =X13+AD13+AJ13+AP13+AV13+BB13+BH13 -> 0 | BO13: 0 | BQ13: ='Dvr '!A14 -> Khaled Saleh Al-Zahrani | BR13: #VALUE! | BS13: =IFERROR(VLOOKUP(BQ13,'DAS Sun'!$F$9:$Q$61,12,0),"Off") -> Off | BT13: =IFERROR(VLOOKUP(BQ13,'DAS Sun'!$F$9:$R$61,13,0),"Off") -> Off | BU13: =$BU$4-BT13 -> #VALUE! | BV13: =BS13+BR13 -> #VALUE! | BW13: =IFERROR(VLOOKUP(BQ13,'DAS Mon'!$F$9:$Q$49,12,0),"Off") -> Off | BX13: =IFERROR(VLOOKUP(BQ13,'DAS Mon'!$F$9:$R$49,13,0),"Off") -> Off | BY13: =$BU$4-BX13 -> #VALUE! | BZ13: =BW13+BU13 -> #VALUE! | CA13: =IFERROR(VLOOKUP(BQ13,'DAS Tue'!$F$9:$Q$49,12,0),"Off") -> Off | CB13: =IFERROR(VLOOKUP(BQ13,'DAS Tue'!$F$9:$R$49,13,0),"Off") -> Off | CC13: =$BU$4-CB13 -> #VALUE! | CD13: =CA13+BY13 -> #VALUE! | CE13: =IFERROR(VLOOKUP(BQ13,'DAS Wed'!$F$9:$Q$58,12,0),"Off") -> 0.20833333 | CF13: =IFERROR(VLOOKUP(BQ13,'DAS Wed'!$F$9:$R$58,13,0),"Off") -> 0.54166667 | CG13: =$BU$4-CF13 -> 0.45833333 | CH13: =CE13+CC13 -> #VALUE! | CI13: =IFERROR(VLOOKUP(BQ13,'DAS Thu'!$F$9:$Q$59,12,0),"Off") -> 0.58333333 | CJ13: =IFERROR(VLOOKUP(BQ13,'DAS Thu'!$F$9:$R$59,13,0),"Off") -> 0.91666667 | CK13: =$BU$4-CJ13 -> 0.083333333 | CL13: =CI13+CG13 -> 1.0416667 | CM13: =IFERROR(VLOOKUP(BQ13,'DAS Fri'!$F$9:$Q$63,12,0),"Off") -> 0.59930556 | CN13: =IFERROR(VLOOKUP(BQ13,'DAS Fri'!$F$9:$R$63,13,0),"Off") -> 0.80763889 | CO13: =$BU$4-CN13 -> 0.19236111 | CP13: =CM13+CK13 -> 0.68263889 | CQ13: =IFERROR(VLOOKUP(BQ13,'DAS Sat'!$F$9:$Q$65,12,0),"Off") -> 0.30763889 | CR13: =IFERROR(VLOOKUP(BQ13,'DAS Sat'!$F$9:$R$65,13,0),"Off") -> 0.54166667 | CS13: =$BU$4-CR13 -> 0.45833333 | CT13: =CQ13+CO13 -> 0.5
