Workbook

Sheet Dvr 
A3: Week Commencing Sunday | B3: 45928 | J3: Dammam Drivers
B5: Sunday | F5: Monday | J5: Tuesday | N5: Wednesday | R5: Thursday | V5: Friday | Z5: Saturday
B6: Shift | C6: On | D6: Off | E6: Hours | F6: Shift | G6: On | H6: Off | I6: Hours | J6: Shift | K6: On | L6: Off | M6: Hours | N6: Shift | O6: On | P6: Off | Q6: Hours | R6: Shift | S6: On | T6: Off | U6: Hours | V6: Shift | W6: On | X6: Off | Y6: Hours | Z6: Shift | AA6: On | AB6: Off | AC6: Hours
A7: Zakaria Abdullah Al-Batran | C7: Rest | D7: Day | G7: Rest | H7: Day | J7: SP | K7: 0.15486111 | L7: 0.48819444 | M7: =L7-K7 -> 0.33333333 | N7: DSBY1 | O7: 0.16666667 | P7: 0.57986111 | Q7: =P7-O7 -> 0.41319444 | R7: MLD3 & 10 | S7: 0.23055556 | T7: 0.68819444 | U7: =T7-S7 -> 0.45763889 | V7: SP | W7: 0.25 | X7: 0.58333333 | Y7: =X7-W7 -> 0.33333333 | Z7: SP | AA7: 0.25 | AB7: 0.58333333 | AC7: =AB7-AA7 -> 0.33333333
A8: Ahmed Almadeh | C8: Rest | D8: Day | G8: Rest | H8: Day | K8: Rest | L8: Day | N8: MLD3&10 | O8: 0.23055556 | P8: 0.68819444 | Q8: =P8-O8 -> 0.45763889 | R8: SP | S8: 0.25 | T8: 0.58333333 | U8: =T8-S8 -> 0.33333333 | V8: SP | W8: 0.25 | X8: 0.58333333 | Y8: =X8-W8 -> 0.33333333 | Z8: SP | AA8: 0.25 | AB8: 0.58333333 | AC8: =AB8-AA8 -> 0.33333333
A9: Ali Ahmed Al-Farhan | B9: MLD5&12 | C9: 0.39375 | D9: 0.80902778 | E9: =D9-C9 -> 0.41527778 | G9: Rest | H9: Day | K9: Rest | L9: Day | O9: Rest | P9: Day | R9: SP | S9: 0.39375 | T9: 0.72708333 | U9: =T9-S9 -> 0.33333333 | V9: SP | W9: 0.39375 | X9: 0.72708333 | Y9: =X9-W9 -> 0.33333333 | Z9: SP | AA9: 0.39375 | AB9: 0.72708333 | AC9: =AB9-AA9 -> 0.33333333
A10: Nayef Khaled Al-Sahli | B10: DDD2 | C10: 0.58333333 | D10: 0.91666667 | E10: =D10-C10 -> 0.33333333 | F10: SP | G10: 0.58333333 | H10: 0.91666667 | I10: =H10-G10 -> 0.33333333 | J10: DDD2 | K10: 0.58333333 | L10: 0.91666667 | M10: =L10-K10 -> 0.33333333 | O10: Rest | P10: Day | S10: Rest | T10: Day | V10: SP | W10: 0.58333333 | X10: 0.91666667 | Y10: =X10-W10 -> 0.33333333 | Z10: SP | AA10: 0.58333333 | AB10: 0.91666667 | AC10: =AB10-AA10 -> 0.33333333
A11: Vacancy2 | B11: MLD9&18 | C11: 0.60277778 | D11: 0.99513889 | E11: =D11-C11 -> 0.39236111 | F11: DSBY2 | G11: 0.57986111 | H11: 0.99305556 | I11: =H11-G11 -> 0.41319444 | J11: SP | K11: 0.58333333 | L11: 0.91666667 | M11: =L11-K11 -> 0.33333333 | N11: MLD9&18 | O11: 0.60277778 | P11: 0.99513889 | Q11: =P11-O11 -> 0.39236111 | R11: DSBY2 | S11: 0.57986111 | T11: 0.99305556 | U11: =T11-S11 -> 0.41319444 | W11: Rest | X11: Day | AA11: Rest | AB11: Day
A12: Ali Hassan Almeer | B12: MLD13 | C12: 0.63333333 | D12: 0.84375 | E12: =D12-C12 -> 0.21041667 | F12: MLD14 | G12: 0.68125 | H12: 0.88958333 | I12: =H12-G12 -> 0.20833333 | J12: SP | K12: 0.58333333 | L12: 0.91666667 | M12: =L12-K12 -> 0.33333333 | N12: SP | O12: 0.58333333 | P12: 0.91666667 | Q12: =P12-O12 -> 0.33333333 | S12: Rest | T12: Day | W12: Rest | X12: Day | AA12: Rest | AB12: Day
A13: Mohammed Khaled Al-Muhanna | C13: Rest | D13: Day | F13: SP | G13: 0.58333333 | H13: 0.91666667 | I13: =H13-G13 -> 0.33333333 | J13: MLD9&18 | K13: 0.60277778 | L13: 0.99513889 | M13: =L13-K13 -> 0.39236111 | N13: SP | O13: 0.58333333 | P13: 0.91666667 | Q13: =P13-O13 -> 0.33333333 | R13: SP | S13: 0.58333333 | T13: 0.91666667 | U13: =T13-S13 -> 0.33333333 | W13: Rest | X13: Day | AA13: Rest | AB13: Day
A14: Khaled Saleh Al-Zahrani | C14: Rest | D14: Day | G14: Rest | H14: Day | K14: Rest | L14: Day | N14: SP | O14: 0.20833333 | P14: 0.54166667 | Q14: =P14-O14 -> 0.33333333 | R14: MLD13 | S14: 0.63333333 | T14: 0.84375 | U14: =T14-S14 -> 0.21041667 | V14: MLD8 | W14: 0.36805556 | X14: 0.57638889 | Y14: =X14-W14 -> 0.20833333 | Z14: DSBY1 | AA14: 0.16666667 | AB14: 0.57986111 | AC14: =AB14-AA14 -> 0.41319444
A15: Saeed Ali Hindi | B15: SP | C15: 0.39375 | D15: 0.72708333 | E15: =D15-C15 -> 0.33333333 | F15: SP | G15: 0.39375 | H15: 0.72708333 | I15: =H15-G15 -> 0.33333333 | K15: Rest | L15: Day | O15: Rest | P15: Day | R15: MLD5&12 | S15: 0.39375 | T15: 0.80902778 | U15: =T15-S15 -> 0.41527778 | V15: SP | W15: 0.33333333 | X15: 0.58333333 | Y15: =X15-W15 -> 0.25 | Z15: SP | AA15: 0.20833333 | AB15: 0.54166667 | AC15: =AB15-AA15 -> 0.33333333
A16: Zaki Mohammed Al Darwish | B16: SP | C16: 0.20833333 | D16: 0.54166667 | E16: =D16-C16 -> 0.33333333 | F16: SP | G16: 0.20833333 | H16: 0.54166667 | I16: =H16-G16 -> 0.33333333 | J16: SP | K16: 0.20833333 | L16: 0.54166667 | M16: =L16-K16 -> 0.33333333 | O16: Rest | P16: Day | S16: Rest | T16: Day | V16: MLD13 | W16: 0.63333333 | X16: 0.84375 | Y16: =X16-W16 -> 0.21041667 | Z16: MLD8 | AA16: 0.36805556 | AB16: 0.57638889 | AC16: =AB16-AA16 -> 0.20833333
A17: Attia Saad Al-Hazmi | B17: SP | C17: 0.58333333 | D17: 0.91666667 | E17: =D17-C17 -> 0.33333333 | F17: SP | G17: 0.58333333 | H17: 0.91666667 | I17: =H17-G17 -> 0.33333333 | J17: SP | K17: 0.58333333 | L17: 0.91666667 | M17: =L17-K17 -> 0.33333333 | N17: SP | O17: 0.58333333 | P17: 0.91666667 | Q17: =P17-O17 -> 0.33333333 | S17: Rest | T17: Day | W17: Rest | X17: Day | Z17: SP | AA17: 0.91041667 | AB17: 1.24375 | AC17: =AB17-AA17 -> 0.33333333
A18: Abdulkareem Hamid Al-Ghamdi | B18: SP | C18: 0.91041667 | D18: 1.24375 | E18: =D18-C18 -> 0.33333333 | F18: SP | G18: 0.91041667 | H18: 1.24375 | I18: =H18-G18 -> 0.33333333 | J18: SP | K18: 0.91041667 | L18: 1.24375 | M18: =L18-K18 -> 0.33333333 | N18: SP | O18: 0.91041667 | P18: 1.24375 | Q18: =P18-O18 -> 0.33333333 | R18: SP | S18: 0.91041667 | T18: 1.24375 | U18: =T18-S18 -> 0.33333333 | W18: Rest | X18: Day | AA18: Rest | AB18: Day
A19: Abdullah Abbas Al-Mari | C19: Rest | D19: Day | F19: MLD9&18 | G19: 0.60277778 | H19: 0.99513889 | I19: =H19-G19 -> 0.39236111 | J19: DSBY2 | K19: 0.57986111 | L19: 0.99305556 | M19: =L19-K19 -> 0.41319444 | N19: SP | O19: 0.58333333 | P19: 0.91666667 | Q19: =P19-O19 -> 0.33333333 | R19: MLD9&18 | S19: 0.60277778 | T19: 0.99513889 | U19: =T19-S19 -> 0.39236111 | W19: Rest | X19: Day | AA19: Rest | AB19: Day
A20: Ali Fadel Al-Hamada | C20: Rest | D20: Day | F20: MLD3&10 | G20: 0.23055556 | H20: 0.68819444 | I20: =H20-G20 -> 0.45763889 | J20: SP | K20: 0.20833333 | L20: 0.54166667 | M20: =L20-K20 -> 0.33333333 | N20: SP | O20: 0.20833333 | P20: 0.54166667 | Q20: =P20-O20 -> 0.33333333 | R20: SP | S20: 0.20833333 | T20: 0.54166667 | U20: =T20-S20 -> 0.33333333 | V20: SP | W20: 0.20833333 | X20: 0.54166667 | Y20: =X20-W20 -> 0.33333333 | AA20: Rest | AB20: Day
A21: Hussein Abdullah Al Hamid | C21: Rest | D21: Day | G21: Rest | H21: Day | J21: MLD9&18 | K21: 0.60277778 | L21: 0.99513889 | M21: =L21-K21 -> 0.39236111 | N21: MLD13 | O21: 0.63333333 | P21: 0.84375 | Q21: =P21-O21 -> 0.21041667 | R21: MLD14 | S21: 0.68125 | T21: 0.88958333 | U21: =T21-S21 -> 0.20833333 | V21: DD2 | W21: 0.58333333 | X21: 0.91666667 | Y21: =X21-W21 -> 0.33333333 | Z21: MLD9&18 | AA21: 0.60277778 | AB21: 0.99513889 | AC21: =AB21-AA21 -> 0.39236111
A22: Abdul Rahman Ahmed Al-Asiri | B22: DSBY2 | C22: 0.57986111 | D22: 0.99305556 | E22: =D22-C22 -> 0.41319444 | G22: Rest | H22: Day | K22: Rest | L22: Day | O22: Rest | P22: Day | R22: DD2 | S22: 0.58333333 | T22: 0.91666667 | U22: =T22-S22 -> 0.33333333 | V22: DSBY2 | W22: 0.57986111 | X22: 0.99305556 | Y22: =X22-W22 -> 0.41319444 | Z22: DSBY2 | AA22: 0.57986111 | AB22: 0.99305556 | AC22: =AB22-AA22 -> 0.41319444
A23: Omar Salem Al-Harbi | C23: Rest | D23: Day | G23: Rest | H23: Day | K23: Rest | L23: Day | N23: MLD5&12 | O23: 0.39375 | P23: 0.80902778 | Q23: =P23-O23 -> 0.41527778 | R23: SP | S23: 0.39375 | T23: 0.72708333 | U23: =T23-S23 -> 0.33333333 | V23: SP | W23: 0.39375 | X23: 0.72708333 | Y23: =X23-W23 -> 0.33333333 | Z23: SP | AA23: 0.39375 | AB23: 0.72708333 | AC23: =AB23-AA23 -> 0.33333333
A24: Sadiq Majid Al Zawad | B24: SP | C24: 0.25 | D24: 0.58333333 | E24: =D24-C24 -> 0.33333333 | F24: SP | G24: 0.25 | H24: 0.58333333 | I24: =H24-G24 -> 0.33333333 | J24: SP | K24: 0.25 | L24: 0.58333333 | M24: =L24-K24 -> 0.33333333 | O24: Rest | P24: Day | S24: Rest | T24: Day | V24: DSBY1 | W24: 0.16666667 | X24: 0.57986111 | Y24: =X24-W24 -> 0.41319444 | Z24: SP | AA24: 0.20833333 | AB24: 0.54166667 | AC24: =AB24-AA24 -> 0.33333333
A25: Faisal Abdul Rahman Al Naghmosh | B25: MLD3&10 | C25: 0.23055556 | D25: 0.68819444 | E25: =D25-C25 -> 0.45763889 | F25: SP | G25: 0.23055556 | H25: 0.56388889 | I25: =H25-G25 -> 0.33333333 | J25: DSBY1 | K25: 0.16666667 | L25: 0.57986111 | M25: =L25-K25 -> 0.41319444 | N25: SP | O25: 0.15486111 | P25: 0.48819444 | Q25: =P25-O25 -> 0.33333333 | S25: Rest | T25: Day | W25: Rest | X25: Day | AA25: Rest | AB25: Day
A26: Zaki Ali Al-Hendar | B26: SP | C26: 0.91041667 | D26: 1.24375 | E26: =D26-C26 -> 0.33333333 | F26: SP | G26: 0.91041667 | H26: 1.24375 | I26: =H26-G26 -> 0.33333333 | J26: MLD19&2 | K26: 0.91041667 | L26: 1.3152778 | M26: =L26-K26 -> 0.40486111 | N26: MLD19&2 | O26: 0.91041667 | P26: 1.3152778 | Q26: =P26-O26 -> 0.40486111 | R26: MLD19&2 | S26: 0.91041667 | T26: 1.3152778 | U26: =T26-S26 -> 0.40486111 | W26: Rest | X26: Day | AA26: Rest | AB26: Day
A27: Vacancy1 | C27: Rest | D27: Day | G27: Rest | H27: Day | J27: DD2 | K27: 0.58333333 | L27: 0.91666667 | M27: =L27-K27 -> 0.33333333 | N27: MLD9&18 | O27: 0.60277778 | P27: 0.99513889 | Q27: =P27-O27 -> 0.39236111 | R27: DDD2 | S27: 0.58333333 | T27: 0.91666667 | U27: =T27-S27 -> 0.33333333 | V27: DDD2 | W27: 0.58333333 | X27: 0.91666667 | Y27: =X27-W27 -> 0.33333333 | AA27: Rest | AB27: Day
A28: Ali Mohammed Alhadi | C28: Rest | D28: Day | F28: SP | G28: 0.58333333 | H28: 0.91666667 | I28: =H28-G28 -> 0.33333333 | J28: SP | K28: 0.58333333 | L28: 0.91666667 | M28: =L28-K28 -> 0.33333333 | N28: DSBY2 | O28: 0.57986111 | P28: 0.99305556 | Q28: =P28-O28 -> 0.41319444 | R28: SP | S28: 0.58333333 | T28: 0.91666667 | U28: =T28-S28 -> 0.33333333 | W28: Rest | X28: Day | AA28: Rest | AB28: Day
A29: Qasim Abdullah Al-Muhanna | B29: DSBY1 | C29: 0.16666667 | D29: 0.57986111 | E29: =D29-C29 -> 0.41319444 | F29: DSBY1 | G29: 0.16666667 | H29: 0.57986111 | I29: =H29-G29 -> 0.41319444 | J29: SP | K29: 0.20833333 | L29: 0.54166667 | M29: =L29-K29 -> 0.33333333 | N29: SP | O29: 0.20833333 | P29: 0.54166667 | Q29: =P29-O29 -> 0.33333333 | R29: DSBY1 | S29: 0.16666667 | T29: 0.57986111 | U29: =T29-S29 -> 0.41319444 | W29: Rest | X29: Day | AA29: Rest | AB29: Day
A30: Ahmed Hussein Al snaber | B30: MLD9&18 | C30: 0.60277778 | D30: 0.99513889 | E30: =D30-C30 -> 0.39236111 | F30: SP | G30: 0.58333333 | H30: 0.91666667 | I30: =H30-G30 -> 0.33333333 | J30: SP | K30: 0.58333333 | L30: 0.91666667 | M30: =L30-K30 -> 0.33333333 | N30: DDD2 | O30: 0.58333333 | P30: 0.91666667 | Q30: =P30-O30 -> 0.33333333 | S30: Rest | T30: Day | W30: Rest | X30: Day | Z30: MLD9&18 | AA30: 0.60277778 | AB30: 0.99513889 | AC30: =AB30-AA30 -> 0.39236111
A31: Abdulaziz Mohammed Al-Omani | B31: SP | C31: 0.58333333 | D31: 0.91666667 | E31: =D31-C31 -> 0.33333333 | F31: MLD9&18 | G31: 0.60277778 | H31: 0.99513889 | I31: =H31-G31 -> 0.39236111 | J31: SP | K31: 0.58333333 | L31: 0.91666667 | M31: =L31-K31 -> 0.33333333 | O31: Rest | P31: Day | S31: Rest | T31: Day | V31: SP | W31: 0.15486111 | X31: 0.48819444 | Y31: =X31-W31 -> 0.33333333 | Z31: SP | AA31: 0.15486111 | AB31: 0.48819444 | AC31: =AB31-AA31 -> 0.33333333
A32: Jamaan Ali Al-Zahrani | B32: SP | C32: 0.15486111 | D32: 0.48819444 | E32: =D32-C32 -> 0.33333333 | F32: SP | G32: 0.15486111 | H32: 0.48819444 | I32: =H32-G32 -> 0.33333333 | J32: MLD3&10 | K32: 0.23055556 | L32: 0.68819444 | M32: =L32-K32 -> 0.45763889 | O32: Rest | P32: Day | S32: Rest | T32: Day | V32: SP | W32: 0.91041667 | X32: 1.24375 | Y32: =X32-W32 -> 0.33333333 | Z32: MLD19&2 | AA32: 0.91041667 | AB32: 1.3152778 | AC32: =AB32-AA32 -> 0.40486111
A33: Suleiman Yahya Ghazwani | B33: MLD19&2 | C33: 0.91041667 | D33: 1.3152778 | E33: =D33-C33 -> 0.40486111 | F33: MLD19&2 | G33: 0.91041667 | H33: 1.3152778 | I33: =H33-G33 -> 0.40486111 | K33: Rest | L33: Day | O33: Rest | P33: Day | S33: Rest | T33: Day | V33: SP | W33: 0.58333333 | X33: 0.91666667 | Y33: =X33-W33 -> 0.33333333 | Z33: DDD2 | AA33: 0.58333333 | AB33: 0.91666667 | AC33: =AB33-AA33 -> 0.33333333
B35: Sunday | F35: Monday | J35: Tuesday | N35: Wednesday | R35: Thursday | V35: Friday | Z35: Saturday
B36: Shift | C36: On | D36: Off | E36: Hours | F36: Shift | G36: On | H36: Off | I36: Hours | J36: Shift | K36: On | L36: Off | M36: Hours | N36: Shift | O36: On | P36: Off | Q36: Hours | R36: Shift | S36: On | T36: Off | U36: Hours | V36: Shift | W36: On | X36: Off | Y36: Hours | Z36: Shift | AA36: On | AB36: Off | AC36: Hours
A37: Ali Saad Al-Ruwayjih | C37: Rest | D37: Day | G37: Rest | H37: Day | J37: HSBY 1 | K37: 0.20833333 | L37: 0.60416667 | M37: =L37-K37 -> 0.39583333 | N37: HSBY 1 | O37: 0.20833333 | P37: 0.60416667 | Q37: =P37-O37 -> 0.39583333 | R37: HSBY 1 | S37: 0.20833333 | T37: 0.60416667 | U37: =T37-S37 -> 0.39583333 | V37: HSBY 1 | W37: 0.20833333 | X37: 0.60416667 | Y37: =X37-W37 -> 0.39583333 | Z37: HSBY 1 | AA37: 0.20833333 | AB37: 0.60416667 | AC37: =AB37-AA37 -> 0.39583333
A38: Ahmed Mohammed Al-Mubarak | B38: HSBY 1 | C38: 0.20833333 | D38: 0.60416667 | E38: =D38-C38 -> 0.39583333 | F38: HSBY 1 | G38: 0.20833333 | H38: 0.60416667 | I38: =H38-G38 -> 0.39583333 | K38: Rest | L38: Day | O38: Rest | P38: Day | S38: Rest | T38: Day | V38: MLD11&20 | W38: 0.60277778 | X38: 0.99513889 | Y38: 0.39236111 | Z38: DD2 | AA38: 0.58333333 | AB38: 0.91666667 | AC38: =AB38-AA38 -> 0.33333333
A39: Muhammad Ali Al-Nasser | B39: HSBY 2 | C39: 0.60416667 | D39: 0.99652778 | E39: =D39-C39 -> 0.39236111 | F39: HSBY 2 | G39: 0.60416667 | H39: 0.99652778 | I39: =H39-G39 -> 0.39236111 | J39: HSBY 2 | K39: 0.60416667 | L39: 0.99652778 | M39: =L39-K39 -> 0.39236111 | N39: HSBY 2 | O39: 0.60416667 | P39: 0.99652778 | Q39: =P39-O39 -> 0.39236111 | S39: Rest | T39: Day | W39: Rest | X39: Day | AA39: Rest | AB39: Day
A40: Ahmed Habib Al-Mousa | C40: Rest | D40: Day | G40: Rest | H40: Day | J40: MLD13 | K40: 0.63333333 | L40: 0.84375 | M40: =L40-K40 -> 0.21041667 | N40: MLD14 | O40: 0.68125 | P40: 0.88958333 | Q40: =P40-O40 -> 0.20833333 | R40: HSBY 2 | S40: 0.60416667 | T40: 0.99652778 | U40: =T40-S40 -> 0.39236111 | V40: HSBY 2 | W40: 0.60416667 | X40: 0.99652778 | Y40: =X40-W40 -> 0.39236111 | Z40: HSBY 2 | AA40: 0.60416667 | AB40: 0.99652778 | AC40: =AB40-AA40 -> 0.39236111
A41: Ali Hussain Al-Rashed | C41: Rest | D41: Day | G41: Rest | H41: Day | K41: Rest | L41: Day | O41: Rest | P41: Day | R41: SP | S41: 0.20833333 | T41: 0.54166667 | U41: =T41-S41 -> 0.33333333 | V41: SP | W41: 0.20833333 | X41: 0.54166667 | Y41: =X41-W41 -> 0.33333333 | Z41: SP | AA41: 0.20833333 | AB41: 0.54166667 | AC41: =AB41-AA41 -> 0.33333333
A42: Mohammed Abdulrahman Al-Nwaiser | B42: DDD2 | C42: 0.58333333 | D42: 0.91666667 | E42: =D42-C42 -> 0.33333333 | F42: DDD2 | G42: 0.58333333 | H42: 0.91666667 | I42: =H42-G42 -> 0.33333333 | J42: SP | K42: 0.58333333 | L42: 0.91666667 | M42: =L42-K42 -> 0.33333333 | O42: Rest | P42: Day | S42: Rest | T42: Day | W42: Rest | X42: Day | Z42: MLD13 | AA42: 0.63333333 | AB42: 0.84375 | AC42: =AB42-AA42 -> 0.21041667
A43: Hassan Ali Al-Ghanem | B43: MLD14 | C43: 0.68125 | D43: 0.88958333 | E43: =D43-C43 -> 0.20833333 | F43: DD2 | G43: 0.58333333 | H43: 0.91666667 | I43: =H43-G43 -> 0.33333333 | K43: Rest | L43: Day | O43: Rest | P43: Day | S43: Rest | T43: Day | V43: SP | W43: 0.20833333 | X43: 0.54166667 | Y43: =X43-W43 -> 0.33333333 | Z43: MLD5&12 | AA43: 0.39375 | AB43: 0.80902778 | AC43: =AB43-AA43 -> 0.41527778
A44: Abdullah Fayez Al-Subaie | B44: SP | C44: 0.58333333 | D44: 0.91666667 | E44: =D44-C44 -> 0.33333333 | F44: MLD13 | G44: 0.63333333 | H44: 0.84375 | I44: =H44-G44 -> 0.21041667 | J44: MLD14 | K44: 0.68125 | L44: 0.88958333 | M44: =L44-K44 -> 0.20833333 | N44: DDD2 | O44: 0.58333333 | P44: 0.91666667 | Q44: =P44-O44 -> 0.33333333 | R44: MLD9&18 | S44: 0.60277778 | T44: 0.99513889 | U44: =T44-S44 -> 0.39236111 | W44: Rest | X44: Day | AA44: Rest | AB44: Day
...

Sheet DAS Sun
D2: Daily Alteration Sheet
B4: Sunday | D4: ='Dvr '!B3 -> 45928
B5: Driver | K5: Dammam
B8: Shift ID | C8: On Duty | D8: Off Duty | E8: Hours | F8: Name | J8: Comments
O9: =E9 -> 0 | P9: =B9 -> 0 | Q9: =C9 -> 0 | R9: =D9 -> 0
B10: SP | C10: 0.15486111 | D10: 0.48819444 | E10: =D10-C10 -> 0.33333333 | F10: ='Dvr '!A15 -> Saeed Ali Hindi | O10: =E10 -> 0.33333333 | P10: =B10 -> SP | Q10: =C10 -> 0.15486111 | R10: =D10 -> 0.48819444
O11: =E11 -> 0 | P11: =B11 -> 0 | Q11: =C11 -> 0 | R11: =D11 -> 0
B12: DSBY 1 | C12: 0.16666667 | D12: 0.57986111 | E12: =D12-C12 -> 0.41319444 | F12: ='Dvr '!A29 -> Qasim Abdullah Al-Muhanna | O12: =E12 -> 0.41319444 | P12: =B12 -> DSBY 1 | Q12: =C12 -> 0.16666667 | R12: =D12 -> 0.57986111
O13: =E13 -> 0 | P13: =B13 -> 0 | Q13: =C13 -> 0 | R13: =D13 -> 0
B14: SP | C14: 0.22708333 | D14: 0.54166667 | E14: =D14-C14 -> 0.31458333 | F14: ='Dvr '!A16 -> Zaki Mohammed Al Darwish | O14: =E14 -> 0.31458333 | P14: =B14 -> SP | Q14: =C14 -> 0.22708333 | R14: =D14 -> 0.54166667
O15: =E15 -> 0 | P15: =B15 -> 0 | Q15: =C15 -> 0 | R15: =D15 -> 0
B16: HSBY 1 | C16: 0.20833333 | D16: 0.60416667 | E16: =D16-C16 -> 0.39583333 | F16: ='Dvr '!A38 -> Ahmed Mohammed Al-Mubarak | O16: =E16 -> 0.39583333 | P16: =B16 -> HSBY 1 | Q16: =C16 -> 0.20833333 | R16: =D16 -> 0.60416667
O17: =E17 -> 0 | P17: =B17 -> 0 | Q17: =C17 -> 0 | R17: =D17 -> 0
B18: MLD3&10 | C18: 0.23055556 | D18: 0.68819444 | E18: =D18-C18 -> 0.45763889 | F18: ='Dvr '!A25 -> Faisal Abdul Rahman Al Naghmosh | O18: =E18 -> 0.45763889 | P18: =B18 -> MLD3&10 | Q18: =C18 -> 0.23055556 | R18: =D18 -> 0.68819444
O19: =E19 -> 0 | P19: =B19 -> 0 | Q19: =C19 -> 0 | R19: =D19 -> 0
B20: SP | C20: 0.5 | D20: 0.70833333 | E20: =D20-C20 -> 0.20833333 | F20: ='Dvr '!A24 -> Sadiq Majid Al Zawad | O20: =E20 -> 0.20833333 | P20: =B20 -> SP | Q20: =C20 -> 0.5 | R20: =D20 -> 0.70833333
O21: =E21 -> 0 | P21: =B21 -> 0 | Q21: =C21 -> 0 | R21: =D21 -> 0
B22: DDD1 | C22: 0.25 | D22: 0.58333333 | E22: =D22-C22 -> 0.33333333 | F22: ='Dvr '!A52 -> Saleh Hussein Al-Saleh | O22: =E22 -> 0.33333333 | P22: =B22 -> DDD1 | Q22: =C22 -> 0.25 | R22: =D22 -> 0.58333333
O23: =E23 -> 0 | P23: =B23 -> 0 | Q23: =C23 -> 0 | R23: =D23 -> 0
B24: DDD1 | C24: 0.25 | D24: 0.58333333 | E24: =D24-C24 -> 0.33333333 | F24: ='Dvr '!A54 -> Ahmed Ali Al-Dossary | O24: =E24 -> 0.33333333 | P24: =B24 -> DDD1 | Q24: =C24 -> 0.25 | R24: =D24 -> 0.58333333
O25: =E25 -> 0 | P25: =B25 -> 0 | Q25: =C25 -> 0 | R25: =D25 -> 0
B26: SP | C26: 0.41666667 | D26: 0.625 | E26: =D26-C26 -> 0.20833333 | F26: ='Dvr '!A42 -> Mohammed Abdulrahman Al-Nwaiser | O26: =E26 -> 0.20833333 | P26: =B26 -> SP | Q26: =C26 -> 0.41666667 | R26: =D26 -> 0.625
O27: =E27 -> 0 | P27: =B27 -> 0 | Q27: =C27 -> 0 | R27: =D27 -> 0
B28: MLD5&12 | C28: 0.39375 | D28: 0.80902778 | E28: =D28-C28 -> 0.41527778 | F28: ='Dvr '!A9 -> Ali Ahmed Al-Farhan | O28: =E28 -> 0.41527778 | P28: =B28 -> MLD5&12 | Q28: =C28 -> 0.39375 | R28: =D28 -> 0.80902778
O29: =E29 -> 0 | P29: =B29 -> 0 | Q29: =C29 -> 0 | R29: =D29 -> 0
B30: DSBY 2 | C30: 0.57986111 | D30: 0.99305556 | E30: =D30-C30 -> 0.41319444 | F30: ='Dvr '!A22 -> Abdul Rahman Ahmed Al-Asiri | O30: =E30 -> 0.41319444 | P30: =B30 -> DSBY 2 | Q30: =C30 -> 0.57986111 | R30: =D30 -> 0.99305556
O31: =E31 -> 0 | P31: =B31 -> 0 | Q31: =C31 -> 0 | R31: =D31 -> 0
B32: SP | C32: 0.58333333 | D32: 0.83333333 | E32: =D32-C32 -> 0.25 | F32: ='Dvr '!A32 -> Jamaan Ali Al-Zahrani | O32: =E32 -> 0.25 | P32: =B32 -> SP | Q32: =C32 -> 0.58333333 | R32: =D32 -> 0.83333333
O33: =E33 -> 0 | P33: =B33 -> 0 | Q33: =C33 -> 0 | R33: =D33 -> 0
B34: DDD2 | C34: 0.58333333 | D34: 0.83333333 | E34: =D34-C34 -> 0.25 | F34: ='Dvr '!A10 -> Nayef Khaled Al-Sahli | O34: =E34 -> 0.25 | P34: =B34 -> DDD2 | Q34: =C34 -> 0.58333333 | R34: =D34 -> 0.83333333
O35: =E35 -> 0 | P35: =B35 -> 0 | Q35: =C35 -> 0 | R35: =D35 -> 0
B36: DDD2 | C36: 0.58333333 | D36: 0.91666667 | E36: =D36-C36 -> 0.33333333 | F36: ='Dvr '!A31 -> Abdulaziz Mohammed Al-Omani | O36: =E36 -> 0.33333333 | P36: =B36 -> DDD2 | Q36: =C36 -> 0.58333333 | R36: =D36 -> 0.91666667
O37: =E37 -> 0 | P37: =B37 -> 0 | Q37: =C37 -> 0 | R37: =D37 -> 0
B38: MLD9&18 | C38: 0.60277778 | D38: 0.99513889 | E38: =D38-C38 -> 0.39236111 | F38: ='Dvr '!A30 -> Ahmed Hussein Al snaber | O38: =E38 -> 0.39236111 | P38: =B38 -> MLD9&18 | Q38: =C38 -> 0.60277778 | R38: =D38 -> 0.99513889
O39: =E39 -> 0 | P39: =B39 -> 0 | Q39: =C39 -> 0 | R39: =D39 -> 0
B40: MLD9&18 | C40: 0.60277778 | D40: 0.99513889 | E40: =D40-C40 -> 0.39236111 | F40: ='Dvr '!A17 -> Attia Saad Al-Hazmi | J40: ='Dvr '!A11 -> Vacancy2 | O40: =E40 -> 0.39236111 | P40: =B40 -> MLD9&18 | Q40: =C40 -> 0.60277778 | R40: =D40 -> 0.99513889
O41: =E41 -> 0 | P41: =B41 -> 0 | Q41: =C41 -> 0 | R41: =D41 -> 0
B42: HSBY 2 | C42: 0.60416667 | D42: 0.99652778 | E42: =D42-C42 -> 0.39236111 | F42: ='Dvr '!A44 -> Abdullah Fayez Al-Subaie | J42: Muhammed | O42: =E42 -> 0.39236111 | P42: =B42 -> HSBY 2 | Q42: =C42 -> 0.60416667 | R42: =D42 -> 0.99652778
O43: =E43 -> 0 | P43: =B43 -> 0 | Q43: =C43 -> 0 | R43: =D43 -> 0
B44: MLD13 | C44: 0.63333333 | D44: 0.84375 | E44: =D44-C44 -> 0.21041667 | F44: ='Dvr '!A12 -> Ali Hassan Almeer | O44: =E44 -> 0.21041667 | P44: =B44 -> MLD13 | Q44: =C44 -> 0.63333333 | R44: =D44 -> 0.84375
...

Sheet DAS Mon
D2: Daily Alteration Sheet
B4: Monday | D4: ='DAS Sun'!D4+1 -> 45929
B5: Driver | K5: Dammam
B8: Shift ID | C8: On Duty | D8: Off Duty | E8: Hours | F8: Name | J8: Comments
O9: =E9 -> 0 | P9: =B9 -> 0 | Q9: =C9 -> 0 | R9: =D9 -> 0
B10: SP | C10: 0.15486111 | D10: 0.48819444 | E10: =D10-C10 -> 0.33333333 | F10: ='Dvr '!A42 -> Mohammed Abdulrahman Al-Nwaiser | O10: =E10 -> 0.33333333 | P10: =B10 -> SP | Q10: =C10 -> 0.15486111 | R10: =D10 -> 0.48819444
O11: =E11 -> 0 | P11: =B11 -> 0 | Q11: =C11 -> 0 | R11: =D11 -> 0
B12: DSBY 1 | C12: 0.16666667 | D12: 0.57986111 | E12: =D12-C12 -> 0.41319444 | O12: =E12 -> 0.41319444 | P12: =B12 -> DSBY 1 | Q12: =C12 -> 0.16666667 | R12: =D12 -> 0.57986111
O13: =E13 -> 0 | P13: =B13 -> 0 | Q13: =C13 -> 0 | R13: =D13 -> 0
B14: HSBY 1 | C14: 0.20833333 | D14: 0.60416667 | E14: =D14-C14 -> 0.39583333 | F14: ='Dvr '!A38 -> Ahmed Mohammed Al-Mubarak | O14: =E14 -> 0.39583333 | P14: =B14 -> HSBY 1 | Q14: =C14 -> 0.20833333 | R14: =D14 -> 0.60416667
O15: =E15 -> 0 | P15: =B15 -> 0 | Q15: =C15 -> 0 | R15: =D15 -> 0
B16: MLD3&10 | C16: 0.23055556 | D16: 0.68819444 | E16: =D16-C16 -> 0.45763889 | F16: ='Dvr '!A20 -> Ali Fadel Al-Hamada | O16: =E16 -> 0.45763889 | P16: =B16 -> MLD3&10 | Q16: =C16 -> 0.23055556 | R16: =D16 -> 0.68819444
O17: =E17 -> 0 | P17: =B17 -> 0 | Q17: =C17 -> 0 | R17: =D17 -> 0
B18: DDD1 | C18: 0.25 | D18: 0.58333333 | E18: =D18-C18 -> 0.33333333 | F18: ='Dvr '!A54 -> Ahmed Ali Al-Dossary | O18: =E18 -> 0.33333333 | P18: =B18 -> DDD1 | Q18: =C18 -> 0.25 | R18: =D18 -> 0.58333333
O19: =E19 -> 0 | P19: =B19 -> 0 | Q19: =C19 -> 0 | R19: =D19 -> 0
B20: DDD1 | C20: 0.25 | D20: 0.58333333 | E20: =D20-C20 -> 0.33333333 | F20: ='Dvr '!A52 -> Saleh Hussein Al-Saleh | O20: =E20 -> 0.33333333 | P20: =B20 -> DDD1 | Q20: =C20 -> 0.25 | R20: =D20 -> 0.58333333
O21: =E21 -> 0 | P21: =B21 -> 0 | Q21: =C21 -> 0 | R21: =D21 -> 0
B22: DSBY 2 | C22: 0.57986111 | D22: 0.99305556 | E22: =D22-C22 -> 0.41319444 | F22: ='Dvr '!A15 -> Saeed Ali Hindi | J22: ='Dvr '!A11 -> Vacancy2 | O22: =E22 -> 0.41319444 | P22: =B22 -> DSBY 2 | Q22: =C22 -> 0.57986111 | R22: =D22 -> 0.99305556
O23: =E23 -> 0 | P23: =B23 -> 0 | Q23: =C23 -> 0 | R23: =D23 -> 0
B24: SP | C24: 0.58333333 | D24: 0.91666667 | E24: =D24-C24 -> 0.33333333 | F24: ='Dvr '!A30 -> Ahmed Hussein Al snaber | O24: =E24 -> 0.33333333 | P24: =B24 -> SP | Q24: =C24 -> 0.58333333 | R24: =D24 -> 0.91666667
O25: =E25 -> 0 | P25: =B25 -> 0 | Q25: =C25 -> 0 | R25: =D25 -> 0
B26: DDD2 | C26: 0.58333333 | D26: 0.91666667 | E26: =D26-C26 -> 0.33333333 | F26: ='Dvr '!A43 -> Hassan Ali Al-Ghanem | O26: =E26 -> 0.33333333 | P26: =B26 -> DDD2 | Q26: =C26 -> 0.58333333 | R26: =D26 -> 0.91666667
O27: =E27 -> 0 | P27: =B27 -> 0 | Q27: =C27 -> 0 | R27: =D27 -> 0
B28: DDD2 | C28: 0.58333333 | D28: 0.91666667 | E28: =D28-C28 -> 0.33333333 | F28: ='Dvr '!A17 -> Attia Saad Al-Hazmi | O28: =E28 -> 0.33333333 | P28: =B28 -> DDD2 | Q28: =C28 -> 0.58333333 | R28: =D28 -> 0.91666667
O29: =E29 -> 0 | P29: =B29 -> 0 | Q29: =C29 -> 0 | R29: =D29 -> 0
B30: MLD9&18 | C30: 0.60277778 | D30: 0.99513889 | E30: =D30-C30 -> 0.39236111 | F30: ='Dvr '!A19 -> Abdullah Abbas Al-Mari | O30: =E30 -> 0.39236111 | P30: =B30 -> MLD9&18 | Q30: =C30 -> 0.60277778 | R30: =D30 -> 0.99513889
O31: =E31 -> 0 | P31: =B31 -> 0 | Q31: =C31 -> 0 | R31: =D31 -> 0
B32: MLD9&18 | C32: 0.60277778 | D32: 0.99513889 | E32: =D32-C32 -> 0.39236111 | F32: ='Dvr '!A13 -> Mohammed Khaled Al-Muhanna | O32: =E32 -> 0.39236111 | P32: =B32 -> MLD9&18 | Q32: =C32 -> 0.60277778 | R32: =D32 -> 0.99513889
O33: =E33 -> 0 | P33: =B33 -> 0 | Q33: =C33 -> 0 | R33: =D33 -> 0
B34: HSBY 2 | C34: 0.60416667 | D34: 0.99652778 | E34: =D34-C34 -> 0.39236111 | F34: ='Dvr '!A44 -> Abdullah Fayez Al-Subaie | J34: Muhammed | O34: =E34 -> 0.39236111 | P34: =B34 -> HSBY 2 | Q34: =C34 -> 0.60416667 | R34: =D34 -> 0.99652778
O35: =E35 -> 0 | P35: =B35 -> 0 | Q35: =C35 -> 0 | R35: =D35 -> 0
B36: MLD13 | C36: 0.63333333 | D36: 0.84375 | E36: =D36-C36 -> 0.21041667 | F36: ='Dvr '!A28 -> Ali Mohammed Alhadi | O36: =E36 -> 0.21041667 | P36: =B36 -> MLD13 | Q36: =C36 -> 0.63333333 | R36: =D36 -> 0.84375
O37: =E37 -> 0 | P37: =B37 -> 0 | Q37: =C37 -> 0 | R37: =D37 -> 0
B38: MLD14 | C38: 0.68125 | D38: 0.88958333 | E38: =D38-C38 -> 0.20833333 | F38: ='Dvr '!A12 -> Ali Hassan Almeer | O38: =E38 -> 0.20833333 | P38: =B38 -> MLD14 | Q38: =C38 -> 0.68125 | R38: =D38 -> 0.88958333
O39: =E39 -> 0 | P39: =B39 -> 0 | Q39: =C39 -> 0 | R39: =D39 -> 0
B40: SP | C40: 0.91041667 | D40: 1.24375 | E40: =D40-C40 -> 0.33333333 | F40: ='Dvr '!A26 -> Zaki Ali Al-Hendar | O40: =E40 -> 0.33333333 | P40: =B40 -> SP | Q40: =C40 -> 0.91041667 | R40: =D40 -> 1.24375
O41: =E41 -> 0 | P41: =B41 -> 0 | Q41: =C41 -> 0 | R41: =D41 -> 0
B42: MLD19&2 | C42: 0.91041667 | D42: 1.3152778 | E42: =D42-C42 -> 0.40486111 | F42: ='Dvr '!A33 -> Suleiman Yahya Ghazwani | O42: =E42 -> 0.40486111 | P42: =B42 -> MLD19&2 | Q42: =C42 -> 0.91041667 | R42: =D42 -> 1.3152778
O43: =E43 -> 0 | P43: =B43 -> 0 | Q43: =C43 -> 0 | R43: =D43 -> 0
B44: DDD3 | C44: 0.91666667 | D44: 1.25 | E44: =D44-C44 -> 0.33333333 | F44: ='Dvr '!A49 -> Ismail Khalifa Al- Amal | O44: =E44 -> 0.33333333 | P44: =B44 -> DDD3 | Q44: =C44 -> 0.91666667 | R44: =D44 -> 1.25
...

Sheet DAS Tue
D2: Daily Alteration Sheet
B4: Tuesday | D4: ='DAS Mon'!D4+1 -> 45930
B5: Driver | K5: Dammam
B8: Shift ID | C8: On Duty | D8: Off Duty | E8: Hours | F8: Name | J8: Comments
O9: =E9 -> 0 | P9: =B9 -> 0 | Q9: =C9 -> 0 | R9: =D9 -> 0
B10: SP | C10: 0.15486111 | D10: 0.48819444 | E10: =D10-C10 -> 0.33333333 | F10: ='Dvr '!A7 -> Zakaria Abdullah Al-Batran | O10: =E10 -> 0.33333333 | P10: =B10 -> SP | Q10: =C10 -> 0.15486111 | R10: =D10 -> 0.48819444
O11: =E11 -> 0 | P11: =B11 -> 0 | Q11: =C11 -> 0 | R11: =D11 -> 0
B12: DSBY 1 | C12: 0.20833333 | D12: 0.57986111 | E12: =D12-C12 -> 0.37152778 | F12: ='Dvr '!A20 -> Ali Fadel Al-Hamada | O12: =E12 -> 0.37152778 | P12: =B12 -> DSBY 1 | Q12: =C12 -> 0.20833333 | R12: =D12 -> 0.57986111
O13: =E13 -> 0 | P13: =B13 -> 0 | Q13: =C13 -> 0 | R13: =D13 -> 0
B14: SP | C14: 0.20833333 | D14: 0.54166667 | E14: =D14-C14 -> 0.33333333 | F14: ='Dvr '!A16 -> Zaki Mohammed Al Darwish | O14: =E14 -> 0.33333333 | P14: =B14 -> SP | Q14: =C14 -> 0.20833333 | R14: =D14 -> 0.54166667
O15: =E15 -> 0 | P15: =B15 -> 0 | Q15: =C15 -> 0 | R15: =D15 -> 0
B16: HSBY 1 | C16: 0.20833333 | D16: 0.60416667 | E16: =D16-C16 -> 0.39583333 | F16: ='Dvr '!A37 -> Ali Saad Al-Ruwayjih | O16: =E16 -> 0.39583333 | P16: =B16 -> HSBY 1 | Q16: =C16 -> 0.20833333 | R16: =D16 -> 0.60416667
O17: =E17 -> 0 | P17: =B17 -> 0 | Q17: =C17 -> 0 | R17: =D17 -> 0
B18: MLD3&10 | C18: 0.23055556 | D18: 0.68819444 | E18: =D18-C18 -> 0.45763889 | F18: ='Dvr '!A42 -> Mohammed Abdulrahman Al-Nwaiser | O18: =E18 -> 0.45763889 | P18: =B18 -> MLD3&10 | Q18: =C18 -> 0.23055556 | R18: =D18 -> 0.68819444
O19: =E19 -> 0 | P19: =B19 -> 0 | Q19: =C19 -> 0 | R19: =D19 -> 0
B20: DDD1 | C20: 0.25 | D20: 0.58333333 | E20: =D20-C20 -> 0.33333333 | F20: ='Dvr '!A52 -> Saleh Hussein Al-Saleh | O20: =E20 -> 0.33333333 | P20: =B20 -> DDD1 | Q20: =C20 -> 0.25 | R20: =D20 -> 0.58333333
O21: =E21 -> 0 | P21: =B21 -> 0 | Q21: =C21 -> 0 | R21: =D21 -> 0
B22: DDD1 | C22: 0.25 | D22: 0.58333333 | E22: =D22-C22 -> 0.33333333 | F22: ='Dvr '!A53 -> Hussein Ali Al-Mubarak | O22: =E22 -> 0.33333333 | P22: =B22 -> DDD1 | Q22: =C22 -> 0.25 | R22: =D22 -> 0.58333333
O23: =E23 -> 0 | P23: =B23 -> 0 | Q23: =C23 -> 0 | R23: =D23 -> 0
B24: DSBY 2 | C24: 0.57986111 | D24: 0.99305556 | E24: =D24-C24 -> 0.41319444 | F24: ='Dvr '!A17 -> Attia Saad Al-Hazmi | O24: =E24 -> 0.41319444 | P24: =B24 -> DSBY 2 | Q24: =C24 -> 0.57986111 | R24: =D24 -> 0.99305556
O25: =E25 -> 0 | P25: =B25 -> 0 | Q25: =C25 -> 0 | R25: =D25 -> 0
B26: SP | C26: 0.58333333 | D26: 0.91666667 | E26: =D26-C26 -> 0.33333333 | F26: ='Dvr '!A12 -> Ali Hassan Almeer | O26: =E26 -> 0.33333333 | P26: =B26 -> SP | Q26: =C26 -> 0.58333333 | R26: =D26 -> 0.91666667
B28: DDD2 | C28: 0.58333333 | D28: 0.91666667 | E28: =D28-C28 -> 0.33333333 | F28: ='Dvr '!A19 -> Abdullah Abbas Al-Mari | O28: =E28 -> 0.33333333 | P28: =B28 -> DDD2 | Q28: =C28 -> 0.58333333 | R28: =D28 -> 0.91666667
O29: =E29 -> 0 | P29: =B29 -> 0 | Q29: =C29 -> 0 | R29: =D29 -> 0
B30: DDD2 | C30: 0.58333333 | D30: 0.91666667 | E30: =D30-C30 -> 0.33333333 | F30: ='Dvr '!A30 -> Ahmed Hussein Al snaber | J30: ='Dvr '!A27 -> Vacancy1 | O30: =E30 -> 0.33333333 | P30: =B30 -> DDD2 | Q30: =C30 -> 0.58333333 | R30: =D30 -> 0.91666667
O31: =E31 -> 0 | P31: =B31 -> 0 | Q31: =C31 -> 0 | R31: =D31 -> 0
B32: MLD9&18 | C32: 0.60277778 | D32: 0.99513889 | E32: =D32-C32 -> 0.39236111 | F32: ='Dvr '!A13 -> Mohammed Khaled Al-Muhanna | O32: =E32 -> 0.39236111 | P32: =B32 -> MLD9&18 | Q32: =C32 -> 0.60277778 | R32: =D32 -> 0.99513889
O33: =E33 -> 0 | P33: =B33 -> 0 | Q33: =C33 -> 0 | R33: =D33 -> 0
B34: MLD9&18 | C34: 0.60277778 | D34: 0.99513889 | E34: =D34-C34 -> 0.39236111 | F34: ='Dvr '!A21 -> Hussein Abdullah Al Hamid | O34: =E34 -> 0.39236111 | P34: =B34 -> MLD9&18 | Q34: =C34 -> 0.60277778 | R34: =D34 -> 0.99513889
O35: =E35 -> 0 | P35: =B35 -> 0 | Q35: =C35 -> 0 | R35: =D35 -> 0
B36: HSBY 2 | C36: 0.60416667 | D36: 0.99652778 | E36: =D36-C36 -> 0.39236111 | F36: ='Dvr '!A44 -> Abdullah Fayez Al-Subaie | J36: Muhammed | O36: =E36 -> 0.39236111 | P36: =B36 -> HSBY 2 | Q36: =C36 -> 0.60416667 | R36: =D36 -> 0.99652778
O37: =E37 -> 0 | P37: =B37 -> 0 | Q37: =C37 -> 0 | R37: =D37 -> 0
B38: MLD13 | C38: 0.63333333 | D38: 0.84375 | E38: =D38-C38 -> 0.21041667 | F38: ='Dvr '!A40 -> Ahmed Habib Al-Mousa | O38: =E38 -> 0.21041667 | P38: =B38 -> MLD13 | Q38: =C38 -> 0.63333333 | R38: =D38 -> 0.84375
O39: =E39 -> 0 | P39: =B39 -> 0 | Q39: =C39 -> 0 | R39: =D39 -> 0
B40: MLD14 | C40: 0.68125 | D40: 0.88958333 | E40: =D40-C40 -> 0.20833333 | F40: ='Dvr '!A28 -> Ali Mohammed Alhadi | O40: =E40 -> 0.20833333 | P40: =B40 -> MLD14 | Q40: =C40 -> 0.68125 | R40: =D40 -> 0.88958333
O41: =E41 -> 0 | P41: =B41 -> 0 | Q41: =C41 -> 0 | R41: =D41 -> 0
B42: MLD19&2 | C42: 0.91041667 | D42: 1.3152778 | E42: =D42-C42 -> 0.40486111 | F42: ='Dvr '!A26 -> Zaki Ali Al-Hendar | O42: =E42 -> 0.40486111 | P42: =B42 -> MLD19&2 | Q42: =C42 -> 0.91041667 | R42: =D42 -> 1.3152778
O43: =E43 -> 0 | P43: =B43 -> 0 | Q43: =C43 -> 0 | R43: =D43 -> 0
B44: DDD3 | C44: 0.91666667 | D44: 1.25 | E44: =D44-C44 -> 0.33333333 | F44: ='Dvr '!A49 -> Ismail Khalifa Al- Amal | O44: =E44 -> 0.33333333 | P44: =B44 -> DDD3 | Q44: =C44 -> 0.91666667 | R44: =D44 -> 1.25
O45: =E45 -> 0 | P45: =B45 -> 0 | Q45: =C45 -> 0 | R45: =D45 -> 0
...

Sheet DAS Wed
D2: Daily Alteration Sheet
B4: Wednesday | D4: ='DAS Tue'!D4+1 -> 45931
B5: Driver | K5: Dammam
B8: Shift ID | C8: On Duty | D8: Off Duty | E8: Hours | F8: Name | J8: Comments
O9: =E9 -> 0 | P9: =B9 -> 0 | Q9: =C9 -> 0 | R9: =D9 -> 0
B10: SP | C10: 0.15486111 | D10: 0.48819444 | E10: =D10-C10 -> 0.33333333 | F10: ='Dvr '!A25 -> Faisal Abdul Rahman Al Naghmosh | O10: =E10 -> 0.33333333 | P10: =B10 -> SP | Q10: =C10 -> 0.15486111 | R10: =D10 -> 0.48819444
O11: =E11 -> 0 | P11: =B11 -> 0 | Q11: =C11 -> 0 | R11: =D11 -> 0
B12: DSBY 1 | C12: 0.16666667 | D12: 0.57986111 | E12: =D12-C12 -> 0.41319444 | F12: ='Dvr '!A7 -> Zakaria Abdullah Al-Batran | O12: =E12 -> 0.41319444 | P12: =B12 -> DSBY 1 | Q12: =C12 -> 0.16666667 | R12: =D12 -> 0.57986111
O13: =E13 -> 0 | P13: =B13 -> 0 | Q13: =C13 -> 0 | R13: =D13 -> 0
B14: SP | C14: 0.20833333 | D14: 0.54166667 | E14: =D14-C14 -> 0.33333333 | F14: ='Dvr '!A14 -> Khaled Saleh Al-Zahrani | O14: =E14 -> 0.33333333 | P14: =B14 -> SP | Q14: =C14 -> 0.20833333 | R14: =D14 -> 0.54166667
O15: =E15 -> 0 | P15: =B15 -> 0 | Q15: =C15 -> 0 | R15: =D15 -> 0
B16: SP | C16: 0.20833333 | D16: 0.54166667 | E16: =D16-C16 -> 0.33333333 | F16: ='Dvr '!A29 -> Qasim Abdullah Al-Muhanna | O16: =E16 -> 0.33333333 | P16: =B16 -> SP | Q16: =C16 -> 0.20833333 | R16: =D16 -> 0.54166667
O17: =E17 -> 0 | P17: =B17 -> 0 | Q17: =C17 -> 0 | R17: =D17 -> 0
B18: HSBY 1 | C18: 0.20833333 | D18: 0.60416667 | E18: =D18-C18 -> 0.39583333 | F18: ='Dvr '!A37 -> Ali Saad Al-Ruwayjih | O18: =E18 -> 0.39583333 | P18: =B18 -> HSBY 1 | Q18: =C18 -> 0.20833333 | R18: =D18 -> 0.60416667
O19: =E19 -> 0 | P19: =B19 -> 0 | Q19: =C19 -> 0 | R19: =D19 -> 0
B20: MLD3&10 | C20: 0.23055556 | D20: 0.68819444 | E20: =D20-C20 -> 0.45763889 | F20: ='Dvr '!A8 -> Ahmed Almadeh | O20: =E20 -> 0.45763889 | P20: =B20 -> MLD3&10 | Q20: =C20 -> 0.23055556 | R20: =D20 -> 0.68819444
O21: =E21 -> 0 | P21: =B21 -> 0 | Q21: =C21 -> 0 | R21: =D21 -> 0
B22: DDD1 | C22: 0.25 | D22: 0.58333333 | E22: =D22-C22 -> 0.33333333 | F22: ='Dvr '!A53 -> Hussein Ali Al-Mubarak | O22: =E22 -> 0.33333333 | P22: =B22 -> DDD1 | Q22: =C22 -> 0.25 | R22: =D22 -> 0.58333333
O23: =E23 -> 0 | P23: =B23 -> 0 | Q23: =C23 -> 0 | R23: =D23 -> 0
B24: DDD1 | C24: 0.25 | D24: 0.58333333 | E24: =D24-C24 -> 0.33333333 | F24: ='Dvr '!A52 -> Saleh Hussein Al-Saleh | O24: =E24 -> 0.33333333 | P24: =B24 -> DDD1 | Q24: =C24 -> 0.25 | R24: =D24 -> 0.58333333
O25: =E25 -> 0 | P25: =B25 -> 0 | Q25: =C25 -> 0 | R25: =D25 -> 0
B26: MLD5&12 | C26: 0.39375 | D26: 0.80902778 | E26: =D26-C26 -> 0.41527778 | F26: ='Dvr '!A20 -> Ali Fadel Al-Hamada | J26: Omar | O26: =E26 -> 0.41527778 | P26: =B26 -> MLD5&12 | Q26: =C26 -> 0.39375 | R26: =D26 -> 0.80902778
O27: =E27 -> 0 | P27: =B27 -> 0 | Q27: =C27 -> 0 | R27: =D27 -> 0
B28: DSBY 2 | C28: 0.57986111 | D28: 0.99305556 | E28: =D28-C28 -> 0.41319444 | F28: ='Dvr '!A19 -> Abdullah Abbas Al-Mari | O28: =E28 -> 0.41319444 | P28: =B28 -> DSBY 2 | Q28: =C28 -> 0.57986111 | R28: =D28 -> 0.99305556
O29: =E29 -> 0 | P29: =B29 -> 0 | Q29: =C29 -> 0 | R29: =D29 -> 0
B30: SP | C30: 0.58333333 | D30: 0.91666667 | E30: =D30-C30 -> 0.33333333 | F30: ='Dvr '!A28 -> Ali Mohammed Alhadi | O30: =E30 -> 0.33333333 | P30: =B30 -> SP | Q30: =C30 -> 0.58333333 | R30: =D30 -> 0.91666667
O31: =E31 -> 0 | P31: =B31 -> 0 | Q31: =C31 -> 0 | R31: =D31 -> 0
B32: DDD2 | C32: 0.58333333 | D32: 0.91666667 | E32: =D32-C32 -> 0.33333333 | F32: ='Dvr '!A30 -> Ahmed Hussein Al snaber | O32: =E32 -> 0.33333333 | P32: =B32 -> DDD2 | Q32: =C32 -> 0.58333333 | R32: =D32 -> 0.91666667
O33: =E33 -> 0 | P33: =B33 -> 0 | Q33: =C33 -> 0 | R33: =D33 -> 0
B34: DDD2 | C34: 0.58333333 | D34: 0.91666667 | E34: =D34-C34 -> 0.33333333 | F34: ='Dvr '!A13 -> Mohammed Khaled Al-Muhanna | O34: =E34 -> 0.33333333 | P34: =B34 -> DDD2 | Q34: =C34 -> 0.58333333 | R34: =D34 -> 0.91666667
O35: =E35 -> 0 | P35: =B35 -> 0 | Q35: =C35 -> 0 | R35: =D35 -> 0
B36: MLD9&18 | C36: 0.60277778 | D36: 0.99513889 | E36: =D36-C36 -> 0.39236111 | F36: ='Dvr '!A12 -> Ali Hassan Almeer | J36: ='Dvr '!A11 -> Vacancy2 | O36: =E36 -> 0.39236111 | P36: =B36 -> MLD9&18 | Q36: =C36 -> 0.60277778 | R36: =D36 -> 0.99513889
O37: =E37 -> 0 | P37: =B37 -> 0 | Q37: =C37 -> 0 | R37: =D37 -> 0
B38: MLD9&18 | C38: 0.60277778 | D38: 0.99513889 | E38: =D38-C38 -> 0.39236111 | F38: ='Dvr '!A17 -> Attia Saad Al-Hazmi | J38: ='Dvr '!A27 -> Vacancy1 | O38: =E38 -> 0.39236111 | P38: =B38 -> MLD9&18 | Q38: =C38 -> 0.60277778 | R38: =D38 -> 0.99513889
O39: =E39 -> 0 | P39: =B39 -> 0 | Q39: =C39 -> 0 | R39: =D39 -> 0
B40: HSBY 2 | C40: 0.60416667 | D40: 0.99652778 | E40: =D40-C40 -> 0.39236111 | F40: ='Dvr '!A44 -> Abdullah Fayez Al-Subaie | J40: Muhammed | O40: =E40 -> 0.39236111 | P40: =B40 -> HSBY 2 | Q40: =C40 -> 0.60416667 | R40: =D40 -> 0.99652778
O41: =E41 -> 0 | P41: =B41 -> 0 | Q41: =C41 -> 0 | R41: =D41 -> 0
B42: MLD13 | C42: 0.63333333 | D42: 0.84375 | E42: =D42-C42 -> 0.21041667 | F42: ='Dvr '!A21 -> Hussein Abdullah Al Hamid | O42: =E42 -> 0.21041667 | P42: =B42 -> MLD13 | Q42: =C42 -> 0.63333333 | R42: =D42 -> 0.84375
O43: =E43 -> 0 | P43: =B43 -> 0 | Q43: =C43 -> 0 | R43: =D43 -> 0
B44: MLD14 | C44: 0.68125 | D44: 0.88958333 | E44: =D44-C44 -> 0.20833333 | F44: ='Dvr '!A40 -> Ahmed Habib Al-Mousa | O44: =E44 -> 0.20833333 | P44: =B44 -> MLD14 | Q44: =C44 -> 0.68125 | R44: =D44 -> 0.88958333
...

Sheet DAS Thu
D2: Daily Alteration Sheet
B4: Thursday | D4: ='DAS Wed'!D4+1 -> 45932
B5: Driver | K5: Dammam
B8: Shift ID | C8: On Duty | D8: Off Duty | E8: Hours | F8: Name | J8: Comments
O9: =E9 -> 0 | P9: =B9 -> 0 | Q9: =C9 -> 0 | R9: =D9 -> 0
B10: DSBY 1 | C10: 0.16666667 | D10: 0.57986111 | E10: =D10-C10 -> 0.41319444 | F10: ='Dvr '!A29 -> Qasim Abdullah Al-Muhanna | O10: =E10 -> 0.41319444 | P10: =B10 -> DSBY 1 | Q10: =C10 -> 0.16666667 | R10: =D10 -> 0.57986111
O11: =E11 -> 0 | P11: =B11 -> 0 | Q11: =C11 -> 0 | R11: =D11 -> 0
B12: SP | C12: 0.15486111 | D12: 0.48819444 | E12: =D12-C12 -> 0.33333333 | F12: ='Dvr '!A41 -> Ali Hussain Al-Rashed | O12: =E12 -> 0.33333333 | P12: =B12 -> SP | Q12: =C12 -> 0.15486111 | R12: =D12 -> 0.48819444
O13: =E13 -> 0 | P13: =B13 -> 0 | Q13: =C13 -> 0 | R13: =D13 -> 0
B14: HSBY 1 | C14: 0.20833333 | D14: 0.60416667 | E14: =D14-C14 -> 0.39583333 | F14: ='Dvr '!A37 -> Ali Saad Al-Ruwayjih | O14: =E14 -> 0.39583333 | P14: =B14 -> HSBY 1 | Q14: =C14 -> 0.20833333 | R14: =D14 -> 0.60416667
O15: =E15 -> 0 | P15: =B15 -> 0 | Q15: =C15 -> 0 | R15: =D15 -> 0
B16: MLD3&10 | C16: 0.23055556 | D16: 0.68819444 | E16: =D16-C16 -> 0.45763889 | F16: ='Dvr '!A7 -> Zakaria Abdullah Al-Batran | O16: =E16 -> 0.45763889 | P16: =B16 -> MLD3&10 | Q16: =C16 -> 0.23055556 | R16: =D16 -> 0.68819444
O17: =E17 -> 0 | P17: =B17 -> 0 | Q17: =C17 -> 0 | R17: =D17 -> 0
B18: SP | C18: 0.25 | D18: 0.58333333 | E18: =D18-C18 -> 0.33333333 | F18: ='Dvr '!A8 -> Ahmed Almadeh | O18: =E18 -> 0.33333333 | P18: =B18 -> SP | Q18: =C18 -> 0.25 | R18: =D18 -> 0.58333333
O19: =E19 -> 0 | P19: =B19 -> 0 | Q19: =C19 -> 0 | R19: =D19 -> 0
B20: DDD1 | C20: 0.25 | D20: 0.58333333 | E20: =D20-C20 -> 0.33333333 | F20: ='Dvr '!A52 -> Saleh Hussein Al-Saleh | O20: =E20 -> 0.33333333 | P20: =B20 -> DDD1 | Q20: =C20 -> 0.25 | R20: =D20 -> 0.58333333
O21: =E21 -> 0 | P21: =B21 -> 0 | Q21: =C21 -> 0 | R21: =D21 -> 0
B22: DDD1 | C22: 0.25 | D22: 0.58333333 | E22: =D22-C22 -> 0.33333333 | F22: ='Dvr '!A53 -> Hussein Ali Al-Mubarak | O22: =E22 -> 0.33333333 | P22: =B22 -> DDD1 | Q22: =C22 -> 0.25 | R22: =D22 -> 0.58333333
O23: =E23 -> 0 | P23: =B23 -> 0 | Q23: =C23 -> 0 | R23: =D23 -> 0
B24: SP | C24: 0.39375 | D24: 0.72708333 | E24: =D24-C24 -> 0.33333333 | F24: ='Dvr '!A9 -> Ali Ahmed Al-Farhan | O24: =E24 -> 0.33333333 | P24: =B24 -> SP | Q24: =C24 -> 0.39375 | R24: =D24 -> 0.72708333
O25: =E25 -> 0 | P25: =B25 -> 0 | Q25: =C25 -> 0 | R25: =D25 -> 0
B26: MLD5&12 | C26: 0.39375 | D26: 0.80902778 | E26: =D26-C26 -> 0.41527778 | F26: ='Dvr '!A15 -> Saeed Ali Hindi | O26: =E26 -> 0.41527778 | P26: =B26 -> MLD5&12 | Q26: =C26 -> 0.39375 | R26: =D26 -> 0.80902778
O27: =E27 -> 0 | P27: =B27 -> 0 | Q27: =C27 -> 0 | R27: =D27 -> 0
B28: DSBY 2 | C28: 0.57986111 | D28: 0.99305556 | E28: =D28-C28 -> 0.41319444 | F28: ='Dvr '!A28 -> Ali Mohammed Alhadi | J28: ='Dvr '!A11 -> Vacancy2 | O28: =E28 -> 0.41319444 | P28: =B28 -> DSBY 2 | Q28: =C28 -> 0.57986111 | R28: =D28 -> 0.99305556
O29: =E29 -> 0 | P29: =B29 -> 0 | Q29: =C29 -> 0 | R29: =D29 -> 0
B30: MLD7&16 | C30: 0.47777778 | D30: 0.96527778 | E30: 0.4875 | F30: ='Dvr '!A13 -> Mohammed Khaled Al-Muhanna | O30: =E30 -> 0.4875 | P30: =B30 -> MLD7&16 | Q30: =C30 -> 0.47777778 | R30: =D30 -> 0.96527778
O31: =E31 -> 0 | P31: =B31 -> 0 | Q31: =C31 -> 0 | R31: =D31 -> 0
B32: SP | C32: 0.58333333 | D32: 0.91666667 | E32: 0.4875 | F32: ='Dvr '!A14 -> Khaled Saleh Al-Zahrani | O32: =E32 -> 0.4875 | P32: =B32 -> SP | Q32: =C32 -> 0.58333333 | R32: =D32 -> 0.91666667
O33: =E33 -> 0 | P33: =B33 -> 0 | Q33: =C33 -> 0 | R33: =D33 -> 0
B34: DDD2 | C34: 0.58333333 | D34: 0.91666667 | E34: =D34-C34 -> 0.33333333 | F34: ='Dvr '!A22 -> Abdul Rahman Ahmed Al-Asiri | O34: =E34 -> 0.33333333 | P34: =B34 -> DDD2 | Q34: =C34 -> 0.58333333 | R34: =D34 -> 0.91666667
O35: =E35 -> 0 | P35: =B35 -> 0 | Q35: =C35 -> 0 | R35: =D35 -> 0
B36: DDD2 | C36: 0.58333333 | D36: 0.91666667 | E36: =D36-C36 -> 0.33333333 | F36: ='Dvr '!A20 -> Ali Fadel Al-Hamada | J36: ='Dvr '!A27 -> Vacancy1 | O36: =E36 -> 0.33333333 | P36: =B36 -> DDD2 | Q36: =C36 -> 0.58333333 | R36: =D36 -> 0.91666667
O37: =E37 -> 0 | P37: =B37 -> 0 | Q37: =C37 -> 0 | R37: =D37 -> 0
B38: MLD9&18 | C38: 0.60277778 | D38: 0.99513889 | E38: =D38-C38 -> 0.39236111 | F38: ='Dvr '!A44 -> Abdullah Fayez Al-Subaie | O38: =E38 -> 0.39236111 | P38: =B38 -> MLD9&18 | Q38: =C38 -> 0.60277778 | R38: =D38 -> 0.99513889
O39: =E39 -> 0 | P39: =B39 -> 0 | Q39: =C39 -> 0 | R39: =D39 -> 0
B40: MLD9&18 | C40: 0.60277778 | D40: 0.99513889 | E40: =D40-C40 -> 0.39236111 | F40: ='Dvr '!A19 -> Abdullah Abbas Al-Mari | O40: =E40 -> 0.39236111 | P40: =B40 -> MLD9&18 | Q40: =C40 -> 0.60277778 | R40: =D40 -> 0.99513889
O41: =E41 -> 0 | P41: =B41 -> 0 | Q41: =C41 -> 0 | R41: =D41 -> 0
B42: HSBY 2 | C42: 0.60416667 | D42: 0.99652778 | E42: =D42-C42 -> 0.39236111 | F42: ='Dvr '!A40 -> Ahmed Habib Al-Mousa | O42: =E42 -> 0.39236111 | P42: =B42 -> HSBY 2 | Q42: =C42 -> 0.60416667 | R42: =D42 -> 0.99652778
O43: =E43 -> 0 | P43: =B43 -> 0 | Q43: =C43 -> 0 | R43: =D43 -> 0
B44: MLD14 | C44: 0.68125 | D44: 0.88958333 | E44: =D44-C44 -> 0.20833333 | F44: ='Dvr '!A21 -> Hussein Abdullah Al Hamid | O44: =E44 -> 0.20833333 | P44: =B44 -> MLD14 | Q44: =C44 -> 0.68125 | R44: =D44 -> 0.88958333
...

Sheet DAS Fri
D2: Daily Alteration Sheet
B4: Friday | D4: ='DAS Thu'!D4+1 -> 45933
B5: Driver | K5: Dammam
B8: Shift ID | C8: On Duty | D8: Off Duty | E8: Hours | F8: Name | J8: Comments
O9: =E9 -> 0 | P9: =B9 -> 0 | Q9: =C9 -> 0 | R9: =D9 -> 0
B10: SP | C10: 0.15486111 | D10: 0.48819444 | E10: =D10-C10 -> 0.33333333 | F10: ='Dvr '!A31 -> Abdulaziz Mohammed Al-Omani | O10: =E10 -> 0.33333333 | P10: =B10 -> SP | Q10: =C10 -> 0.15486111 | R10: =D10 -> 0.48819444
O11: =E11 -> 0 | P11: =B11 -> 0 | Q11: =C11 -> 0 | R11: =D11 -> 0
B12: DSBY 1 | C12: 0.16666667 | D12: 0.57986111 | E12: =D12-C12 -> 0.41319444 | F12: ='Dvr '!A24 -> Sadiq Majid Al Zawad | O12: =E12 -> 0.41319444 | P12: =B12 -> DSBY 1 | Q12: =C12 -> 0.16666667 | R12: =D12 -> 0.57986111
O13: =E13 -> 0 | P13: =B13 -> 0 | Q13: =C13 -> 0 | R13: =D13 -> 0
B14: SP-H | C14: 0.20833333 | D14: 0.54166667 | E14: =D14-C14 -> 0.33333333 | F14: ='Dvr '!A43 -> Hassan Ali Al-Ghanem | O14: =E22 -> 0.25347222 | P14: =B22 -> MLD21&24 | Q14: =C22 -> 0.22708333 | R14: =D22 -> 0.48055556
O15: =E15 -> 0 | P15: =B15 -> 0 | Q15: =C15 -> 0 | R15: =D15 -> 0
B16: MLD23&26 | C16: 0.39027778 | D16: 0.59861111 | E16: =D16-C16 -> 0.20833333 | F16: ='Dvr '!A41 -> Ali Hussain Al-Rashed | O16: =#REF! -> #REF! | P16: =#REF! -> #REF! | Q16: =#REF! -> #REF! | R16: =#REF! -> #REF!
O17: =E17 -> 0 | P17: =B17 -> 0 | Q17: =C17 -> 0 | R17: =D17 -> 0
B18: HSBY 1 | C18: 0.20833333 | D18: 0.60416667 | E18: =D18-C18 -> 0.39583333 | F18: ='Dvr '!A37 -> Ali Saad Al-Ruwayjih | O18: =E18 -> 0.39583333 | P18: =B18 -> HSBY 1 | Q18: =C18 -> 0.20833333 | R18: =D18 -> 0.60416667
O19: =E19 -> 0 | P19: =B19 -> 0 | Q19: =C19 -> 0 | R19: =D19 -> 0
B20: MLD25&28 | C20: 0.47986111 | D20: 0.69166667 | E20: =D20-C20 -> 0.21180556 | F20: ='Dvr '!A8 -> Ahmed Almadeh | O20: =#REF! -> #REF! | P20: =#REF! -> #REF! | Q20: =#REF! -> #REF! | R20: =#REF! -> #REF!
O21: =E21 -> 0 | P21: =B21 -> 0 | Q21: =C21 -> 0 | R21: =D21 -> 0
B22: MLD21&24 | C22: 0.22708333 | D22: 0.48055556 | E22: =D22-C22 -> 0.25347222 | F22: ='Dvr '!A7 -> Zakaria Abdullah Al-Batran | O22: =#REF! -> #REF! | P22: =#REF! -> #REF! | Q22: =#REF! -> #REF! | R22: =#REF! -> #REF!
O23: =E23 -> 0 | P23: =B23 -> 0 | Q23: =C23 -> 0 | R23: =D23 -> 0
B24: DDD1 | C24: 0.25 | D24: 0.58333333 | E24: =D24-C24 -> 0.33333333 | F24: ='Dvr '!A51 -> Sami Hussein Al-Nazar | O24: =E24 -> 0.33333333 | P24: =B24 -> DDD1 | Q24: =C24 -> 0.25 | R24: =D24 -> 0.58333333
O25: =E25 -> 0 | P25: =B25 -> 0 | Q25: =C25 -> 0 | R25: =D25 -> 0
B26: DDD1 | C26: 0.25 | D26: 0.58333333 | E26: =D26-C26 -> 0.33333333 | F26: ='Dvr '!A53 -> Hussein Ali Al-Mubarak | O26: =E26 -> 0.33333333 | P26: =B26 -> DDD1 | Q26: =C26 -> 0.25 | R26: =D26 -> 0.58333333
O27: =E27 -> 0 | P27: =B27 -> 0 | Q27: =C27 -> 0 | R27: =D27 -> 0
B28: SP | C28: 0.33333333 | D28: 0.58333333 | E28: =D28-C28 -> 0.25 | F28: ='Dvr '!A15 -> Saeed Ali Hindi | O28: =E28 -> 0.25 | P28: =B28 -> SP | Q28: =C28 -> 0.33333333 | R28: =D28 -> 0.58333333
O29: =E29 -> 0 | P29: =B29 -> 0 | Q29: =C29 -> 0 | R29: =D29 -> 0
B30: MLD27&30 | C30: 0.59930556 | D30: 0.80763889 | E30: =D30-C30 -> 0.20833333 | F30: ='Dvr '!A14 -> Khaled Saleh Al-Zahrani | O30: =E30 -> 0.20833333 | P30: =B30 -> MLD27&30 | Q30: =C30 -> 0.59930556 | R30: =D30 -> 0.80763889
O31: =E31 -> 0 | P31: =B31 -> 0 | Q31: =C31 -> 0 | R31: =D31 -> 0
B32: MLD29&32 | C32: 0.62986111 | D32: 0.88125 | E32: =D32-C32 -> 0.25138889 | F32: ='Dvr '!A9 -> Ali Ahmed Al-Farhan | O32: =E16 -> 0.20833333 | P32: =B16 -> MLD23&26 | Q32: =C16 -> 0.39027778 | R32: =D16 -> 0.59861111
O33: =E33 -> 0 | P33: =B33 -> 0 | Q33: =C33 -> 0 | R33: =D33 -> 0
B34: MLD31&34 | C34: 0.71458333 | D34: 0.96527778 | E34: =D34-C34 -> 0.25069444 | F34: ='Dvr '!A20 -> Ali Fadel Al-Hamada | O34: =E20 -> 0.21180556 | P34: =B20 -> MLD25&28 | Q34: =C20 -> 0.47986111 | R34: =D20 -> 0.69166667
O35: =E35 -> 0 | P35: =B35 -> 0 | Q35: =C35 -> 0 | R35: =D35 -> 0
B36: DSBY 2 | C36: 0.57986111 | D36: 0.99305556 | E36: =D36-C36 -> 0.41319444 | F36: ='Dvr '!A22 -> Abdul Rahman Ahmed Al-Asiri | O36: =E36 -> 0.41319444 | P36: =B36 -> DSBY 2 | Q36: =C36 -> 0.57986111 | R36: =D36 -> 0.99305556
O37: =E37 -> 0 | P37: =B37 -> 0 | Q37: =C37 -> 0 | R37: =D37 -> 0
B38: MLD33&38 | C38: 0.78958333 | D38: 0.99861111 | E38: =D38-C38 -> 0.20902778 | F38: ='Dvr '!A10 -> Nayef Khaled Al-Sahli | O38: =E32 -> 0.25138889 | P38: =B32 -> MLD29&32 | Q38: =C32 -> 0.62986111 | R38: =D32 -> 0.88125
O39: =E39 -> 0 | P39: =B39 -> 0 | Q39: =C39 -> 0 | R39: =D39 -> 0
B40: SP-H | C40: 0.58333333 | D40: 0.91666667 | E40: =D40-C40 -> 0.33333333 | F40: ='Dvr '!A38 -> Ahmed Mohammed Al-Mubarak | O40: =E34 -> 0.25069444 | P40: =B34 -> MLD31&34 | Q40: =C34 -> 0.71458333 | R40: =D34 -> 0.96527778
B42: SP | C42: 0.58333333 | D42: 0.91666667 | E42: =D42-C42 -> 0.33333333 | F42: ='Dvr '!A16 -> Zaki Mohammed Al Darwish
O43: =E43 -> 0 | P43: =B43 -> 0 | Q43: =C43 -> 0 | R43: =D43 -> 0
B44: DDD2 | C44: 0.58333333 | D44: 0.91666667 | E44: =D44-C44 -> 0.33333333 | F44: ='Dvr '!A21 -> Hussein Abdullah Al Hamid | O44: =E44 -> 0.33333333 | P44: =B44 -> DDD2 | Q44: =C44 -> 0.58333333 | R44: =D44 -> 0.91666667
O45: =E45 -> 0 | P45: =B45 -> 0 | Q45: =C45 -> 0 | R45: =D45 -> 0
...

Sheet DAS Sat
D2: Daily Alteration Sheet
B4: Saturday | D4: ='DAS Fri'!D4+1 -> 45934
B5: Driver | K5: Dammam
B8: Shift ID | C8: On Duty | D8: Off Duty | E8: Hours | F8: Name | J8: Comments
O9: =E9 -> 0 | P9: =B9 -> 0 | Q9: =C9 -> 0 | R9: =D9 -> 0
B10: SP | C10: 0.15486111 | D10: 0.48819444 | E10: =D10-C10 -> 0.33333333 | F10: ='Dvr '!A31 -> Abdulaziz Mohammed Al-Omani | O10: =E10 -> 0.33333333 | P10: =B10 -> SP | Q10: =C10 -> 0.15486111 | R10: =D10 -> 0.48819444
O11: =E11 -> 0 | P11: =B11 -> 0 | Q11: =C11 -> 0 | R11: =D11 -> 0
B12: DSBY 1 | C12: 0.16666667 | D12: 0.57986111 | E12: =D12-C12 -> 0.41319444 | F12: ='Dvr '!A24 -> Sadiq Majid Al Zawad | O12: =E12 -> 0.41319444 | P12: =B12 -> DSBY 1 | Q12: =C12 -> 0.16666667 | R12: =D12 -> 0.57986111
O13: =E13 -> 0 | P13: =B13 -> 0 | Q13: =C13 -> 0 | R13: =D13 -> 0
B14: SP-H | C14: 0.20833333 | D14: 0.54166667 | E14: =D14-C14 -> 0.33333333 | F14: ='Dvr '!A43 -> Hassan Ali Al-Ghanem | O14: =E14 -> 0.33333333 | P14: =B14 -> SP-H | Q14: =C14 -> 0.20833333 | R14: =D14 -> 0.54166667
O15: =E15 -> 0 | P15: =B15 -> 0 | Q15: =C15 -> 0 | R15: =D15 -> 0
B16: SP | C16: 0.30763889 | D16: 0.54166667 | E16: =D16-C16 -> 0.23402778 | F16: ='Dvr '!A14 -> Khaled Saleh Al-Zahrani | O16: =E16 -> 0.23402778 | P16: =B16 -> SP | Q16: =C16 -> 0.30763889 | R16: =D16 -> 0.54166667
O17: =E17 -> 0 | P17: =B17 -> 0 | Q17: =C17 -> 0 | R17: =D17 -> 0
B18: MLD21&24 | C18: 0.22708333 | D18: 0.48055556 | E18: =D18-C18 -> 0.25347222 | F18: ='Dvr '!A15 -> Saeed Ali Hindi | O18: =E18 -> 0.25347222 | P18: =B18 -> MLD21&24 | Q18: =C18 -> 0.22708333 | R18: =D18 -> 0.48055556
O19: =E19 -> 0 | P19: =B19 -> 0 | Q19: =C19 -> 0 | R19: =D19 -> 0
B20: SP | C20: 0.39375 | D20: 0.72708333 | E20: =D20-C20 -> 0.33333333 | F20: ='Dvr '!A9 -> Ali Ahmed Al-Farhan | O20: =E20 -> 0.33333333 | P20: =B20 -> SP | Q20: =C20 -> 0.39375 | R20: =D20 -> 0.72708333
O21: =E21 -> 0 | P21: =B21 -> 0 | Q21: =C21 -> 0 | R21: =D21 -> 0
B22: HSBY 1 | C22: 0.20833333 | D22: 0.60416667 | E22: =D22-C22 -> 0.39583333 | F22: ='Dvr '!A37 -> Ali Saad Al-Ruwayjih | O22: =E22 -> 0.39583333 | P22: =B22 -> HSBY 1 | Q22: =C22 -> 0.20833333 | R22: =D22 -> 0.60416667
O23: =E23 -> 0 | P23: =B23 -> 0 | Q23: =C23 -> 0 | R23: =D23 -> 0
B24: SP | C24: 0.25 | D24: 0.58333333 | E24: =D24-C24 -> 0.33333333 | F24: ='Dvr '!A7 -> Zakaria Abdullah Al-Batran | O24: =E24 -> 0.33333333 | P24: =B24 -> SP | Q24: =C24 -> 0.25 | R24: =D24 -> 0.58333333
O25: =E25 -> 0 | P25: =B25 -> 0 | Q25: =C25 -> 0 | R25: =D25 -> 0
B26: SP | C26: 0.25 | D26: 0.58333333 | E26: =D26-C26 -> 0.33333333 | F26: ='Dvr '!A8 -> Ahmed Almadeh | O26: =E26 -> 0.33333333 | P26: =B26 -> SP | Q26: =C26 -> 0.25 | R26: =D26 -> 0.58333333
O27: =E27 -> 0 | P27: =B27 -> 0 | Q27: =C27 -> 0 | R27: =D27 -> 0
B28: DDD1 | C28: 0.25 | D28: 0.58333333 | E28: =D28-C28 -> 0.33333333 | F28: ='Dvr '!A51 -> Sami Hussein Al-Nazar | O28: =E28 -> 0.33333333 | P28: =B28 -> DDD1 | Q28: =C28 -> 0.25 | R28: =D28 -> 0.58333333
O29: =E29 -> 0 | P29: =B29 -> 0 | Q29: =C29 -> 0 | R29: =D29 -> 0
B30: DDD1 | C30: 0.25 | D30: 0.58333333 | E30: =D30-C30 -> 0.33333333 | F30: ='Dvr '!A53 -> Hussein Ali Al-Mubarak | O30: =E30 -> 0.33333333 | P30: =B30 -> DDD1 | Q30: =C30 -> 0.25 | R30: =D30 -> 0.58333333
O31: =E31 -> 0 | P31: =B31 -> 0 | Q31: =C31 -> 0 | R31: =D31 -> 0
B32: MLD25&28 | C32: 0.47986111 | D32: 0.69166667 | E32: =D32-C32 -> 0.21180556 | F32: ='Dvr '!A16 -> Zaki Mohammed Al Darwish | O32: =E32 -> 0.21180556 | P32: =B32 -> MLD25&28 | Q32: =C32 -> 0.47986111 | R32: =D32 -> 0.69166667
O33: =E33 -> 0 | P33: =B33 -> 0 | Q33: =C33 -> 0 | R33: =D33 -> 0
B34: MLD23&26 | C34: 0.39027778 | D34: 0.59861111 | E34: =D34-C34 -> 0.20833333 | F34: ='Dvr '!A41 -> Ali Hussain Al-Rashed | O34: =E34 -> 0.20833333 | P34: =B34 -> MLD23&26 | Q34: =C34 -> 0.39027778 | R34: =D34 -> 0.59861111
O35: =E35 -> 0 | P35: =B35 -> 0 | Q35: =C35 -> 0 | R35: =D35 -> 0
B36: DSBY 2 | C36: 0.57986111 | D36: 0.99305556 | E36: =D36-C36 -> 0.41319444 | F36: ='Dvr '!A22 -> Abdul Rahman Ahmed Al-Asiri | O36: =E36 -> 0.41319444 | P36: =B36 -> DSBY 2 | Q36: =C36 -> 0.57986111 | R36: =D36 -> 0.99305556
O37: =E37 -> 0 | P37: =B37 -> 0 | Q37: =C37 -> 0 | R37: =D37 -> 0
B38: MLD27&30 | C38: 0.59930556 | D38: 0.80763889 | E38: =D38-C38 -> 0.20833333 | F38: ='Dvr '!A42 -> Mohammed Abdulrahman Al-Nwaiser | O38: =E38 -> 0.20833333 | P38: =B38 -> MLD27&30 | Q38: =C38 -> 0.59930556 | R38: =D38 -> 0.80763889
O39: =E39 -> 0 | P39: =B39 -> 0 | Q39: =C39 -> 0 | R39: =D39 -> 0
B40: MLD33&38 | C40: 0.78958333 | D40: 0.99861111 | E40: =D40-C40 -> 0.20902778 | F40: ='Dvr '!A10 -> Nayef Khaled Al-Sahli | O40: =E40 -> 0.20902778 | P40: =B40 -> MLD33&38 | Q40: =C40 -> 0.78958333 | R40: =D40 -> 0.99861111
O41: =E41 -> 0 | P41: =B41 -> 0 | Q41: =C41 -> 0 | R41: =D41 -> 0
B42: DDD2 | C42: 0.58333333 | D42: 0.91666667 | E42: =D42-C42 -> 0.33333333 | F42: ='Dvr '!A38 -> Ahmed Mohammed Al-Mubarak | O42: =E42 -> 0.33333333 | P42: =B42 -> DDD2 | Q42: =C42 -> 0.58333333 | R42: =D42 -> 0.91666667
O43: =E43 -> 0 | P43: =B43 -> 0 | Q43: =C43 -> 0 | R43: =D43 -> 0
B44: DDD2 | C44: 0.58333333 | D44: 0.91666667 | E44: =D44-C44 -> 0.33333333 | F44: ='Dvr '!A33 -> Suleiman Yahya Ghazwani | O44: =E44 -> 0.33333333 | P44: =B44 -> DDD2 | Q44: =C44 -> 0.58333333 | R44: =D44 -> 0.91666667
...

Sheet Tng & Det
A2: Training & Detachments
A6: Dammam | B6: Driver
C9: ='Dvr '!B3 -> 45928 | D9: =C9+1 -> 45929 | E9: =D9+1 -> 45930 | F9: =E9+1 -> 45931 | G9: =F9+1 -> 45932 | H9: =G9+1 -> 45933 | I9: =H9+1 -> 45934
A10: Name | B10: Description | C10: =C9 -> 45928 | D10: =D9 -> 45929 | E10: =E9 -> 45930 | F10: =F9 -> 45931 | G10: =G9 -> 45932 | H10: =H9 -> 45933 | I10: =I9 -> 45934

Sheet Phone#
A2: Contact Numbers
C6: Name | D6: Mobile#
C7: Zamil Ahmed Al-Amiri | D7: 053 789 9912
C8: Ahmed Hussein Al snaber | D8: 053 272 7786
C9: Zaki Ali Al-Hendar | D9: 055 841 9122
C10: Khaled Saleh Al-Zahrani | D10: 054 343 8188
C11: Zakaria Abdullah Al-Batran | D11: 054 074 0667
C12: Zaki Mohammed Al Darwish | D12: 050 480 5743
C13: Suleiman Yahya Ghazwani | D13: 055 620 0830
C14: Salah Abdel Aziz Bou Shlibi | D14: 054 588 8707
C15: Sadiq Majid Al Zawad | D15: 054 120 1764
C16: Abdul Rahman Ahmed Al-Asiri | D16: 053 448 6649
C17: Abdullah Abbas Al-Mari | D17: 050 589 6862
... C48: Hani Ali Al-Rowaimi | D48: 050 492 0925
A50: Operation Train Crew Office Ext: +966 (0) 11 525 0000 Ext:

Sheet Hours
C1: Dutty Hours | V1: Mainline & Depot Hours
C2: ='Dvr '!B3 -> 45928 | E2: =C2+1 -> 45929 | G2: =E2+1 -> 45930 | I2: =G2+1 -> 45931 | K2: =I2+1 -> 45932 | M2: =K2+1 -> 45933 | O2: =M2+1 -> 45934 | V2: ='Dvr '!B3 -> 45928 | AB2: =V2+1 -> 45929 | AH2: =AB2+1 -> 45930 | AN2: =AH2+1 -> 45931 | AT2: =AN2+1 -> 45932 | AZ2: =AT2+1 -> 45933 | BF2: =AZ2+1 -> 45934
C3: Sun | E3: Mon | G3: Tue | I3: Wed | K3: Thu | M3: Fri | O3: Sat | V3: Sunday | AB3: Monday | AH3: Tuesday | AN3: Wednesday | AT3: Thursday | AZ3: Friday | BF3: Saturday | BR3: =BS3-1 -> 45927 | BS3: ='Dvr '!B3 -> 45928 | BW3: =BS3+1 -> 45929 | CA3: =BW3+1 -> 45930 | CE3: =CA3+1 -> 45931 | CI3: =CE3+1 -> 45932 | CM3: =CI3+1 -> 45933 | CQ3: =CM3+1 -> 45934
C4: Actual | D4: BaseRoster | E4: Actual | F4: BaseRoster | G4: Actual | H4: BaseRoster | I4: Actual | J4: BaseRoster | K4: Actual | L4: BaseRoster | M4: Actual | N4: BaseRoster | O4: Actual | P4: BaseRoster | Q4: Actual Hours | R4: BaseRoster Hours | S4: Off | V4: Shift | W4: Mainline | X4: Depot | Y4: Accommodation | Z4: Location | AA4: Km | AB4: Shift | AC4: Mainline | AD4: Depot | AE4: Accommodation | AF4: Location | AG4: Km | AH4: Shift | AI4: Mainline | AJ4: Depot | AK4: Accommodation | AL4: Location | AM4: Km | AN4: Shift | AO4: Mainline | AP4: Depot | AQ4: Accommodation | AR4: Location | AS4: Km | AT4: Shift | AU4: Mainline | AV4: Depot | AW4: Accommodation | AX4: Location | AY4: Km | AZ4: Shift | BA4: Mainline | BB4: Depot | BC4: Accommodation | BD4: Location | BE4: Km | BF4: Shift | BG4: Mainline | BH4: Depot | BI4: Accommodation | BJ4: Location | BK4: Km | BL4: Actual Mainline Hours | BM4: BaseRoster Mainline Hours | BN4: Actual depot Hours | BO4: BaseRoster depot Hours | BR4: Sat | BS4: Sun | BU4: 1 | BW4: Mon | CA4: Tue | CE4: Wed | CI4: Thu | CM4: Fri | CQ4: Sat
